{"text_format":"1","workbook":"xlsx","n_sheets":19,"sheets":["คู่มือการใช้งาน","ข้อมูลพื้นฐาน","หลักสูตร","ข้อมูลนักเรียน","O-Net","ข้อมูลใบรับรอง","เกรด1","เกรด2","เกรด3","เกรด4","เกรด5","เกรด6","รายงานผลการเรียน","สรุปผลสัมฤทธิ์","ใบรับรอง","ปพ.1สำเนา","ปพ.1จริง","ปพ.3หน้าหลัง","ปพ2"],"not_rendered":{"charts":6,"images":13,"macros":1,"external_links":3,"defined_names":47,"comments":8,"pivot_tables":0},"unopened":[],"bounds":{"document_bytes":16777216,"sheet_cells":100000,"rows_first":2000,"rows_last":500,"rows_between":2000,"halvings":0,"cell_chars":16384,"cell_head_chars":4096},"cells_cut":0,"cells_raw":0,"read":"whole","date_system":"1900"}

{"sheet":"คู่มือการใช้งาน","index":0,"n_rows":25,"n_cols":1,"rows_kept":25,"cut":false,"hidden":false,"merged":[[27,0,45,0]]}
[]
["คู่มือการใช้งานโปรแกรมจัดทำเอกสารงานทะเบียน (ประถมศึกษา)"]
["หลักสูตรแกนกลางการศึกษาขั้นพื้นฐาน 2551"]
["ความสามารถของโปรแกรม"]
["1.      กรอกข้อมูลครั้งเดียวสามารถเชื่อมโยงออกเอกสารรายงานต่างๆได้"]
["2.      ออกใบรายงานผลการเรียนรายบุคคล (ส่งผลการเรียนให้ผู้ปกครองหรือแนบสมุดพกนักเรียน)"]
[]
["4.      ออกใบรับรองการศึกษา (กระดาษ A4)"]
["5.      ออกเอกสาร ปพ.1 แบบสำเนา, ปพ.1 แบบจริง (กระดาษ A4 ตามแบบพิมพ์ สกสค.)\n     สามารถออกเอกสารได้ตั้งแต่ ป.1 - ป.6"]
["6.      ออกเอกสาร ปพ.3 รายงานผู้สำเร็จการศึกษา (กระดาษ Legal ตามแบบพิมพ์ สกสค.)"]
["7.      สามารถพิมพ์ 2 หน้าอัตโนมัติสำหรับเครื่องพิมพ์ 2 หน้า"]
["8.      ใช้งานได้กับ Microsoft 2007, 2010"]
["การใช้งานโปรแกรม"]
["1.  ทำการคัดลอกแฟ้มต้นฉบับและตั้งชื่อโดยแยกเป็นห้อง หรือ เรียงต่อกันได้จำนวนไม่เกิน 120 คน แนะนำให้ตั้งชื่อตามปีการศึกษาที่นักเรียนจบ เช่น Year_Room (2554_R1) เพื่อให้ง่ายต่อการค้นหา"]
["2. เปิดแฟ้มที่ต้องการจะป้อนข้อมูล และเปิดการใช้งานมาโคร ทำการกำหนดค่าข้อมูลพื้นฐานสถานศึกษา "]
["ในแผ่นงานข้อมูลพื้นฐาน  "]
["3. กำหนดข้อมูลวิชาที่เรียนในแต่ละปีการศึกษา ในแผ่นงาน "]
[" โดยเรียงลำดับวิชาพื้นฐานก่อนและวิชาเพิ่มเติม จากนั้นกำหนดกิจกรรม "]
["4. กำหนดปีการศึกษาที่เข้าเรียนในชั้นปีที่ 1 และเพิ่มหรือแก้ไขรายละเอียดข้อมูลของนักเรียน "]
["ในแผ่นงาน                         โดยสามารถกรอกข้อมูลได้สูงสุด 120 คน"]
[]
[]
["5.  กรอกข้อมูลสำหรับออกใบรับรองในแผ่นงาน "]
["6.  กรอกข้อมูลผลการเรียนในแต่ละชั้น/ปีการศึกษา ในแผ่นงาน “ผลการเรียน1” – “ผลการเรียน6”"]
["7.  ทำการออกรายงานต่างๆ  จากแผ่นงาน "]

{"sheet":"ข้อมูลพื้นฐาน","index":1,"n_rows":13,"n_cols":52,"rows_kept":13,"cut":false,"hidden":false,"merged":[[13,6,13,12],[8,6,8,12],[9,6,9,12],[10,6,10,12],[11,6,11,12],[12,6,12,12],[7,6,7,12],[2,6,2,12],[2,2,2,3],[3,6,3,12],[4,6,4,12],[5,6,5,12],[6,6,6,12]]}
[]
[null,null,null,null,null,null,null,null,null,null,null,null,null,null,null,null,null,null,null,null,null,null,null,null,null,null,null,null,null,null,null,null,null,null,null,null,null,null,null,null,null,null,null,null,null,null,null,null,null,null,null,"A205210201210199212183194210"]
[null,null,"ข้อมูลพื้นฐานสถานศึกษา",null,null,null,"โปรแกรมจัดทำเอกสารงานทะเบียน (ประถมศึกษา)\nหลักสูตรการศึกษาขั้นพื้นฐาน 2551\nรุ่นปรับถ่วงโอเน็ตจาก สทศ."]
[null,null,"โรงเรียน :","บ้านหนองคา",null,null,"จัดทำและพัฒนาโดย"]
[null,null,"สังกัด :","สำนักงานคณะกรรมการการศึกษาขั้นพื้นฐาน"]
[null,null,"เขตพื้นที่ :","ประถมศึกษาบุรีรัมย์ เขต 2",null,null,"นายสุริยันต์  แก้วชนะ  ตำแหน่ง ครู ค.ศ.2"]
[null,null,"ตำบล","กระสัง",null,null,"โรงเรียนกระสังพิทยาคม  อำเภอกระสัง จังหวัดบุรีรัมย์"]
[null,null,"อำเภอ","กระสัง",null,null,"สำนักงานเขตพื้นที่การศึกษามัธยมศึกษา เขต 32"]
[null,null,"จังหวัด","บุรีรัมย์",null,null,"Update 7 พฤศจิกายน 2557 (1)"]
[null,null,"นายทะเบียน :","นายสุริยันต์  แก้วชนะ",null,null,"สอบถามปัญหาในการใช้หรือข้อเสนอแนะได้ที่"]
[null,null,"ตำแหน่ง :","นายทะเบียน",null,null,"เว็บไซต์ http://krusuriyan.blogspot.com"]
[null,null,"ผู้อำนวยการ :","นายสมชาติ  มีสกุล",null,null,"facebook : www.facebook.com/pp2551excel"]
[null,null,"ตำแหน่ง :","ผู้อำนวยการโรงเรียน",null,null,"สงวนลิขสิทธิ์@2011"]

{"sheet":"หลักสูตร","index":2,"n_rows":55,"n_cols":26,"rows_kept":55,"cut":false,"hidden":false,"merged":[[1,0,1,6],[1,16,1,22],[1,8,1,14],[0,0,0,6],[0,8,0,14],[0,16,0,22],[28,0,28,6],[28,8,28,14],[28,16,28,22],[29,0,29,6],[29,8,29,14],[29,16,29,22]]}
[{"$f":"\"โรงเรียน\" & ข้อมูลพื้นฐาน!D4 & \"   อำเภอ\"  &ข้อมูลพื้นฐาน!D8 & \"   จังหวัด\" &ข้อมูลพื้นฐาน!D9","v":"โรงเรียนบ้านหนองคา   อำเภอกระสัง   จังหวัดบุรีรัมย์"},null,null,null,null,null,null,null,{"$f":"\"โรงเรียน\" & ข้อมูลพื้นฐาน!D4 & \"   อำเภอ\"  &ข้อมูลพื้นฐาน!D8 & \"   จังหวัด\" &ข้อมูลพื้นฐาน!D9","v":"โรงเรียนบ้านหนองคา   อำเภอกระสัง   จังหวัดบุรีรัมย์"},null,null,null,null,null,null,null,{"$f":"\"โรงเรียน\" & ข้อมูลพื้นฐาน!D4 & \"   อำเภอ\"  &ข้อมูลพื้นฐาน!D8 & \"   จังหวัด\" &ข้อมูลพื้นฐาน!D9","v":"โรงเรียนบ้านหนองคา   อำเภอกระสัง   จังหวัดบุรีรัมย์"}]
["โครงสร้างหลักสูตร ระดับชั้นประถมศึกษาปีที่ 1",null,null,null,null,null,null,null,"โครงสร้างหลักสูตร ระดับชั้นประถมศึกษาปีที่ 2",null,null,null,null,null,null,null,"โครงสร้างหลักสูตร ระดับชั้นประถมศึกษาปีที่ 3"]
["ลำดับ","รหัสวิชา","ชื่อวิชา","ประเภท","กลุ่มสาระ","เวลาเรียน/ปี","น้ำหนัก",null,"ลำดับ","รหัสวิชา","ชื่อวิชา","ประเภท","กลุ่มสาระ","เวลาเรียน/ปี","น้ำหนัก",null,"ลำดับ","รหัสวิชา","ชื่อวิชา","ประเภท","กลุ่มสาระ","เวลาเรียน/ปี","น้ำหนัก",null,"ประเภทวิชา","กลุ่มสาระ"]
[1,"ท11101","ภาษาไทย","พื้นฐาน","ภาษาไทย",200,{"$f":"F4/40","v":5},null,1,"ท12101","ภาษาไทย","พื้นฐาน","ภาษาไทย",200,{"$f":"N4/40","v":5},null,1,"ท13101","ภาษาไทย","พื้นฐาน","ภาษาไทย",200,{"$f":"V4/40","v":5},null,"พื้นฐาน","ภาษาไทย"]
[2,"ค11101","คณิตศาสตร์","พื้นฐาน","คณิตศาสตร์",200,{"$f":"F5/40","v":5},null,2,"ค12101","คณิตศาสตร์","พื้นฐาน","คณิตศาสตร์",200,{"$f":"N5/40","v":5},null,2,"ค13101","คณิตศาสตร์","พื้นฐาน","คณิตศาสตร์",200,{"$f":"V5/40","v":5},null,"เพิ่มเติม","คณิตศาสตร์"]
[3,"ว11101","วิทยาศาสตร์","พื้นฐาน","วิทยาศาสตร์",80,2,null,3,"ว12101","วิทยาศาสตร์","พื้นฐาน","วิทยาศาสตร์",80,2,null,3,"ว13101","วิทยาศาสตร์","พื้นฐาน","วิทยาศาสตร์",80,2,null,"มาตรฐานสากล","วิทยาศาสตร์"]
[4,"ส11101","สังคมศึกษา ศาสนาและวัฒนธรรม","พื้นฐาน","สังคมศึกษา ศาสนาและวัฒนธรรม",80,2,null,4,"ส12101","สังคมศึกษา ศาสนาและวัฒนธรรม","พื้นฐาน","สังคมศึกษา ศาสนาและวัฒนธรรม",80,2,null,4,"ส13101","สังคมศึกษา ศาสนาและวัฒนธรรม","พื้นฐาน","สังคมศึกษา ศาสนาและวัฒนธรรม",80,2,null,"กิจกรรม","สังคมศึกษา ศาสนาและวัฒนธรรม"]
[5,"ส11102","ประวัติศาสตร์","พื้นฐาน","สุขศึกษาและพละศึกษา",40,1,null,5,"ส12102","ประวัติศาสตร์","พื้นฐาน","สุขศึกษาและพละศึกษา",40,1,null,5,"ส13102","ประวัติศาสตร์","พื้นฐาน","สุขศึกษาและพละศึกษา",40,1,null,null,"สุขศึกษาและพละศึกษา"]
[6,"พ11101","สุขศึกษาและพลศึกษา","พื้นฐาน","สุขศึกษาและพละศึกษา",80,2,null,6,"พ12101","สุขศึกษาและพลศึกษา","พื้นฐาน","สุขศึกษาและพละศึกษา",80,2,null,6,"พ13101","สุขศึกษาและพลศึกษา","พื้นฐาน","สุขศึกษาและพละศึกษา",80,2,null,null,"ภาษาต่างประเทศ"]
[7,"ศ11101","ศิลปะ","พื้นฐาน","ศิลปะ",80,2,null,7,"ศ12101","ศิลปะ","พื้นฐาน","ศิลปะ",80,2,null,7,"ศ13101","ศิลปะ","พื้นฐาน","ศิลปะ",80,2,null,null,"ศิลปะ"]
[8,"ง11101","การงานอาชีพและเทคโนโลยี","พื้นฐาน","การงานอาชีพและเทคโนโลยี",40,1,null,8,"ง12101","การงานอาชีพและเทคโนโลยี","พื้นฐาน","การงานอาชีพและเทคโนโลยี",40,1,null,8,"ง13101","การงานอาชีพและเทคโนโลยี","พื้นฐาน","การงานอาชีพและเทคโนโลยี",40,1,null,null,"การงานอาชีพและเทคโนโลยี"]
[9,"อ11101","ภาษาต่างประเทศ","พื้นฐาน","ภาษาต่างประเทศ",40,1,null,9,"อ12101","ภาษาต่างประเทศ","พื้นฐาน","ภาษาต่างประเทศ",40,1,null,9,"อ13101","ภาษาต่างประเทศ","พื้นฐาน","ภาษาต่างประเทศ",40,1,null,null,"กิจกรรม"]
[10,"ง11201","คอมพิวเตอร์","เพิ่มเติม","การงานอาชีพและเทคโนโลยี",40,1,null,10,"ง12201","คอมพิวเตอร์","เพิ่มเติม","การงานอาชีพและเทคโนโลยี",40,1,null,10,"ง13201","คอมพิวเตอร์","เพิ่มเติม","การงานอาชีพและเทคโนโลยี",40,1]
[11,"ง11202","งานเกษตร","เพิ่มเติม",null,40,1,null,11,"อ12201","ภาษาอังกฤษพูด","เพิ่มเติม",null,40,1,null,11,"ว่าง",null,"เพิ่มเติม",null,null,0]
[12,"ว่าง",null,"เพิ่มเติม",null,null,0,null,12,"ว่าง",null,"เพิ่มเติม",null,null,0,null,12,"ว่าง",null,"เพิ่มเติม",null,null,0]
[13,null,null,null,null,null,0,null,13,null,null,null,null,null,0,null,13,null,null,null,null,null,0]
[14,null,null,null,null,null,{"$f":"F17/40","v":0},null,14,null,null,null,null,null,{"$f":"N17/40","v":0},null,14,null,null,null,null,null,{"$f":"V17/40","v":0}]
[15,null,null,null,null,null,{"$f":"F18/40","v":0},null,15,null,null,null,null,null,{"$f":"N18/40","v":0},null,15,null,null,null,null,null,{"$f":"V18/40","v":0}]
[16,null,null,null,null,null,{"$f":"F19/40","v":0},null,16,null,null,null,null,null,{"$f":"N19/40","v":0},null,16,null,null,null,null,null,{"$f":"V19/40","v":0}]
[17,null,null,null,null,null,0,null,17,null,null,null,null,null,0,null,17,null,null,null,null,null,0]
[18,null,null,null,null,null,0,null,18,null,null,null,null,null,0,null,18,null,null,null,null,null,0]
[null,null,"กิจกรรมพัฒนาผู้เรียน",null,null,null,null,null,null,null,"กิจกรรมพัฒนาผู้เรียน",null,null,null,null,null,null,null,"กิจกรรมพัฒนาผู้เรียน"]
[16,"ก1","แนะแนว","กิจกรรม","กิจกรรม",40,"-",null,16,"ก1","แนะแนว","กิจกรรม","กิจกรรม",40,"-",null,16,"ก1","แนะแนว","กิจกรรม","กิจกรรม",40,"-"]
[17,"ก2","ลูกเสือ เนตรนารี","กิจกรรม","กิจกรรม",40,"-",null,17,"ก2","ลูกเสือ เนตรนารี","กิจกรรม","กิจกรรม",40,"-",null,17,"ก2","ลูกเสือ เนตรนารี","กิจกรรม","กิจกรรม",40,"-"]
[18,"ก3","ชุมนุม","กิจกรรม","กิจกรรม",30,"-",null,18,"ก3","ชุมนุม","กิจกรรม","กิจกรรม",30,"-",null,18,"ก3","ชุมนุม","กิจกรรม","กิจกรรม",30,"-"]
[19,"ก4","กิจกรรมเพื่อสังคมและสาธารณประโยชน์","กิจกรรม","กิจกรรม",10,"-",null,19,"ก4","กิจกรรมเพื่อสังคมและสาธารณประโยชน์","กิจกรรม","กิจกรรม",10,"-",null,19,"ก4","กิจกรรมเพื่อสังคมและสาธารณประโยชน์","กิจกรรม","กิจกรรม",10,"-"]
[20,null,null,null,null,null,"-",null,20,null,null,null,null,null,"-",null,20,null,null,null,null,null,"-"]
[]
[{"$f":"\"โรงเรียน\" & ข้อมูลพื้นฐาน!D4 & \"   อำเภอ\"  &ข้อมูลพื้นฐาน!D8 & \"   จังหวัด\" &ข้อมูลพื้นฐาน!D9","v":"โรงเรียนบ้านหนองคา   อำเภอกระสัง   จังหวัดบุรีรัมย์"},null,null,null,null,null,null,null,{"$f":"\"โรงเรียน\" & ข้อมูลพื้นฐาน!D4 & \"   อำเภอ\"  &ข้อมูลพื้นฐาน!D8 & \"   จังหวัด\" &ข้อมูลพื้นฐาน!D9","v":"โรงเรียนบ้านหนองคา   อำเภอกระสัง   จังหวัดบุรีรัมย์"},null,null,null,null,null,null,null,{"$f":"\"โรงเรียน\" & ข้อมูลพื้นฐาน!D4 & \"   อำเภอ\"  &ข้อมูลพื้นฐาน!D8 & \"   จังหวัด\" &ข้อมูลพื้นฐาน!D9","v":"โรงเรียนบ้านหนองคา   อำเภอกระสัง   จังหวัดบุรีรัมย์"}]
["โครงสร้างหลักสูตร ระดับชั้นประถมศึกษาปีที่ 4",null,null,null,null,null,null,null,"โครงสร้างหลักสูตร ระดับชั้นประถมศึกษาปีที่ 5",null,null,null,null,null,null,null,"โครงสร้างหลักสูตร ระดับชั้นประถมศึกษาปีที่ 6"]
["ลำดับ","รหัสวิชา","ชื่อวิชา","ประเภท","กลุ่มสาระ","เวลาเรียน/ปี","น้ำหนัก",null,"ลำดับ","รหัสวิชา","ชื่อวิชา","ประเภท","กลุ่มสาระ","เวลาเรียน/ปี","น้ำหนัก",null,"ลำดับ","รหัสวิชา","ชื่อวิชา","ประเภท","กลุ่มสาระ","เวลาเรียน/ปี","น้ำหนัก"]
[1,"ท","ภาษาไทย","พื้นฐาน","ภาษาไทย",160,{"$f":"F32/40","v":4},null,1,"ท","ภาษาไทย","พื้นฐาน","ภาษาไทย",160,{"$f":"N32/40","v":4},null,1,"ท","ภาษาไทย","พื้นฐาน","ภาษาไทย",160,{"$f":"V32/40","v":4}]
[2,"ค14101","คณิตศาสตร์","พื้นฐาน","คณิตศาสตร์",160,{"$f":"F33/40","v":4},null,2,"ค15101","คณิตศาสตร์","พื้นฐาน","คณิตศาสตร์",160,{"$f":"N33/40","v":4},null,2,"ค16101","คณิตศาสตร์","พื้นฐาน","คณิตศาสตร์",160,{"$f":"V33/40","v":4}]
[3,"ว14101","วิทยาศาสตร์","พื้นฐาน","วิทยาศาสตร์",80,2,null,3,"ว15101","วิทยาศาสตร์","พื้นฐาน","วิทยาศาสตร์",80,2,null,3,"ว16101","วิทยาศาสตร์","พื้นฐาน","วิทยาศาสตร์",80,2]
[4,"ส14101","สังคมศึกษา ศาสนาและวัฒนธรรม","พื้นฐาน","สังคมศึกษา ศาสนาและวัฒนธรรม",80,2,null,4,"ส15101","สังคมศึกษา ศาสนาและวัฒนธรรม","พื้นฐาน","สังคมศึกษา ศาสนาและวัฒนธรรม",80,2,null,4,"ส16101","สังคมศึกษา ศาสนาและวัฒนธรรม","พื้นฐาน","สังคมศึกษา ศาสนาและวัฒนธรรม",80,2]
[5,"ส14102","ประวัติศาสตร์","พื้นฐาน","สุขศึกษาและพละศึกษา",40,1,null,5,"ส15102","ประวัติศาสตร์","พื้นฐาน","สุขศึกษาและพละศึกษา",40,1,null,5,"ส16102","ประวัติศาสตร์","พื้นฐาน","สุขศึกษาและพละศึกษา",40,1]
[6,"พ14101","สุขศึกษาและพลศึกษา","พื้นฐาน","สุขศึกษาและพละศึกษา",80,2,null,6,"พ15101","สุขศึกษาและพลศึกษา","พื้นฐาน","สุขศึกษาและพละศึกษา",80,2,null,6,"พ16101","สุขศึกษาและพลศึกษา","พื้นฐาน","สุขศึกษาและพละศึกษา",80,2]
[7,"ศ14101","ศิลปะ","พื้นฐาน","ศิลปะ",80,2,null,7,"ศ15101","ศิลปะ","พื้นฐาน","ศิลปะ",80,2,null,7,"ศ16101","ศิลปะ","พื้นฐาน","ศิลปะ",80,2]
[8,"ง14101","การงานอาชีพและเทคโนโลยี","พื้นฐาน","การงานอาชีพและเทคโนโลยี",80,2,null,8,"ง15101","การงานอาชีพและเทคโนโลยี","พื้นฐาน","การงานอาชีพและเทคโนโลยี",80,2,null,8,"ง16101","การงานอาชีพและเทคโนโลยี","พื้นฐาน","การงานอาชีพและเทคโนโลยี",80,2]
[9,"อ14101","ภาษาต่างประเทศ","พื้นฐาน","ภาษาต่างประเทศ",80,2,null,9,"อ15101","ภาษาต่างประเทศ","พื้นฐาน","ภาษาต่างประเทศ",80,2,null,9,"อ16101","ภาษาต่างประเทศ","พื้นฐาน","ภาษาต่างประเทศ",80,2]
[10,"ง14201","คอมพิวเตอร์","เพิ่มเติม","การงานอาชีพและเทคโนโลยี",40,1,null,10,"ง15201","คอมพิวเตอร์","เพิ่มเติม","การงานอาชีพและเทคโนโลยี",40,1,null,10,"ง16201","คอมพิวเตอร์","เพิ่มเติม","การงานอาชีพและเทคโนโลยี",40,1]
[11,"ล","เลือกเรียน","เพิ่มเติม",null,60,{"$f":"F42/40","v":1.5},null,11,"I15201","การศึกษาค้นค้าด้วยตนเอง","เพิ่มเติม",null,40,1,null,11,"ล","เลือกเรียน","เพิ่มเติม",null,60,1.5]
[12,null,null,null,null,null,0,null,12,"ล",null,"เพิ่มเติม",null,60,1.5,null,12,null,null,null,null,null,0]
[13,null,null,null,null,null,0,null,13,null,null,null,null,null,0,null,13,null,null,null,null,null,0]
[14,null,null,null,null,null,{"$f":"F45/40","v":0},null,14,null,null,null,null,null,{"$f":"N45/40","v":0},null,14,null,null,null,null,null,{"$f":"V45/40","v":0}]
[15,null,null,null,null,null,{"$f":"F46/40","v":0},null,15,null,null,null,null,null,{"$f":"N46/40","v":0},null,15,null,null,null,null,null,{"$f":"V46/40","v":0}]
[16,null,null,null,null,null,{"$f":"F47/40","v":0},null,16,null,null,null,null,null,{"$f":"N47/40","v":0},null,16,null,null,null,null,null,{"$f":"V47/40","v":0}]
[17,null,null,null,null,null,0,null,17,null,null,null,null,null,0,null,17,null,null,null,null,null,0]
[18,null,null,null,null,null,0,null,18,null,null,null,null,null,0,null,18,null,null,null,null,null,0]
[null,null,"กิจกรรมพัฒนาผู้เรียน",null,null,null,null,null,null,null,"กิจกรรมพัฒนาผู้เรียน",null,null,null,null,null,null,null,"กิจกรรมพัฒนาผู้เรียน"]
[16,"ก1","แนะแนว","กิจกรรม","กิจกรรม",40,"-",null,16,"ก1","แนะแนว","กิจกรรม","กิจกรรม",40,"-",null,16,"ก1","แนะแนว","กิจกรรม","กิจกรรม",40,"-"]
[17,"ก2","ลูกเสือ เนตรนารี","กิจกรรม","กิจกรรม",40,"-",null,17,"ก2","ลูกเสือ เนตรนารี","กิจกรรม","กิจกรรม",40,"-",null,17,"ก2","ลูกเสือ เนตรนารี","กิจกรรม","กิจกรรม",40,"-"]
[18,"ก3","ชุมนุม","กิจกรรม","กิจกรรม",30,"-",null,18,"ก3","ชุมนุม","กิจกรรม","กิจกรรม",30,"-",null,18,"ก3","ชุมนุม","กิจกรรม","กิจกรรม",30,"-"]
[19,"ก4","กิจกรรมเพื่อสังคมและสาธารณประโยชน์","กิจกรรม","กิจกรรม",10,"-",null,19,"ก4","กิจกรรมเพื่อสังคมและสาธารณประโยชน์","กิจกรรม","กิจกรรม",10,"-",null,19,"ก4","กิจกรรมเพื่อสังคมและสาธารณประโยชน์","กิจกรรม","กิจกรรม",10,"-"]
[20,null,null,null,null,null,"-",null,20,null,null,null,null,null,"-",null,20,null,null,null,null,null,"-"]

{"sheet":"ข้อมูลนักเรียน","index":3,"n_rows":126,"n_cols":58,"rows_kept":126,"cut":false,"hidden":false,"merged":[[3,7,3,9],[4,16,5,16],[4,31,4,34],[4,27,4,29],[4,35,4,38],[4,18,5,18],[4,30,5,30],[0,34,1,47],[2,39,2,40],[2,42,2,43],[2,45,2,46],[3,36,3,38],[3,0,3,4],[2,0,2,5],[2,12,2,14],[4,0,5,0],[4,1,5,1],[4,3,5,3],[4,12,5,12],[4,4,5,4],[4,2,5,2],[4,10,5,10],[4,6,5,6],[4,5,5,5],[4,7,4,9],[4,13,4,15],[4,11,5,11],[2,7,2,9],[4,48,4,50],[4,51,5,51],[4,47,5,47],[4,17,5,17],[4,24,4,26],[4,20,5,20],[4,19,5,19],[4,23,5,23],[4,21,5,21],[4,39,4,46],[4,22,5,22]]}
[{"$f":"\"โรงเรียน\" & ข้อมูลพื้นฐาน!D4 & \"   อำเภอ\"  &ข้อมูลพื้นฐาน!D8 & \"   จังหวัด\" &ข้อมูลพื้นฐาน!D9","v":"โรงเรียนบ้านหนองคา   อำเภอกระสัง   จังหวัดบุรีรัมย์"},null,null,null,null,null,null,null,null,null,null,null,null,null,null,null,null,null,null,null,null,null,null,null,null,null,null,null,null,null,null,null,null,null,"โอนข้อมูลโอเน็ต\nให้คัดลอกข้อมูลผลคะแนนโอเน็ตที่ได้จากสทศ มาวางที่ชีต O-Net จากนั้นกำหนดคอลัมน์แต่ละกลุ่มสาระให้ตรงกับข้อมูลโอเน็ต"]
[]
["ข้อมูลพื้นฐานนักเรียน",null,null,null,null,null,"ปีที่ 1 ชั้น","ปีที่ 2 ชั้น",null,null,"ปีที่ 3 ชั้น","ปีที่ 1 ชั้น","ปีที่ 2 ชั้น",null,null,null,null,null,null,null,null,null,null,null,null,null,null,null,null,null,null,null,null,null,null,null,null,null,null,"แถวเริ่มต้น",null,"10","แถวสุดท้าย",null,"433","เลขประชาชนคอลัมน์",null,"C",null,null,null,"สัดส่วนโอเน็ต %"]
["เข้าศึกษาชั้นปีที่ 1 ปีการศึกษา :",null,null,null,null,2550,"ประถมศึกษาปีที่ 4","ประถมศึกษาปีที่ 5",null,null,"ประถมศึกษาปีที่ 6",null,null,null,null,null,null,null,null,null,null,null,null,null,null,null,null,null,null,null,null,null,null,null,null,null,"กำหนดคอลัมน์แฟ้มโอเน็ต",null,null,"E","F","G","H","I","J","K","L","U",null,null,null,20]
["ห้อง","เลขที่","เลขประจำตัวนักเรียน","คำนำหน้า","ชื่อ","สกุล","เลข 13 หลัก","วันที่เข้าเรียน",null,null,"โรงเรียนเดิม","จังหวัด","ชั้นสุดท้าย","วัน เดือน ปีเกิด",null,null,"เพศ","สัญชาติ","ศาสนา","บิดา","มารดา","ป.พ.1 ชุดที่","ป.พ.1 เลขที่","ป.พ.2เลขที่","วันที่อนุมัติจบ",null,null,"วันที่อนุมัติออก",null,null,"สาเหตุที่ออก","สรุปผลการประเมิน",null,null,null,"ผลการตัดสิน",null,null,null,"ผลการประเมินระดับชาติ (O-Net)",null,null,null,null,null,null,null,"ผลคะแนนเฉลี่ยจาก สทศ","สรุปผลการเรียน",null,null,"เกรดเฉลี่ย\nถ่วงโอเน็ต","หมายเหตุท้าย ปพ.1"]
[null,null,null,null,null,null,null,"วันที่","เดือน","ปี พ.ศ.",null,null,null,"วันที่","เดือน","ปี พ.ศ.",null,null,null,null,null,null,null,null,"วันที่","เดือน","ปี พ.ศ.","วันที่","เดือน","ปี พ.ศ.",null,"วิชาพื้นฐาน","อ่าน คิดฯ","คุณลักษณะ","กิจกรรม","วิชาพื้นฐาน","อ่าน คิดฯ","คุณลักษณะ","กิจกรรม","ไทย","คณิตฯ","วิทย์ฯ","สังคมฯ","สุข ฯ","ศิลปะ","การงานฯ","อังกฤษ",null,"นก.เรียน","นก.ได้","เกรดเฉลี่ย",null,null,"เพศ","คำนำหน้า","กิจกรรม","อ่าน","เดือน"]
[1,1,"00001","เด็กชาย","สมชาย","สุขสบาย",1111111111111,16,"พฤษภาคม",2550,"-","ราชบุรี","-",10,"มีนาคม",2544,"ชาย","ไทย","พุทธ","นายสมบัติ  สุขสบาย","นางสมสวย  สุขสบาย",null,null,null,25,"มีนาคม",2557,31,"มีนาคม",2557,null,null,null,null,null,null,null,null,null,"39.20","25.60","20.00","30.00","42.50","32.50","50.00","26.00","0.30",67,67,{"$f":"ROUNDDOWN(3.56716417910448,2)","v":3.56},{"$f":"ROUNDDOWN(2.85,2)","v":2.85},"\"โรงเรียนมาตรฐานสากลตามประกาศ สพฐ.\"","ชาย","เด็กชาย",null,null,"มกราคม"]
[1,2,"00002","เด็กหญิง","สมหวัง","ตั้งใจเรียน",2222222222222,16,"พฤษภาคม",2550,"โคกสูง","ราชบุรี","กำลังเรียนชั้นประถมศึกษาปีที่ 4",25,"กุมภาพันธ์",2544,"หญิง","ไทย","พุทธ","นายสมโชค  ตั้งใจเรียน","นางสมหญิง  ตั้งใจเรียน",null,null,null,null,null,null,null,null,null,null,null,null,null,null,null,null,null,null,"60.00","26.40","42.00","54.00","60.00","52.50","56.00","24.00","0.43",67,67,{"$f":"ROUNDDOWN(3.61194029850746,2)","v":3.61},{"$f":"ROUNDDOWN(2.88,2)","v":2.88},null,"หญิง","เด็กหญิง","ผ่าน","ผ่าน","กุมภาพันธ์"]
[null,null,null,null,null,null,null,null,null,null,null,null,null,null,null,null,null,null,null,null,null,null,null,null,null,null,null,null,null,null,null,null,null,null,null,null,null,null,null,null,null,null,null,null,null,null,null,null,67,0,{"$f":"ROUNDDOWN(0,2)","v":0},0,null,null,"นาย",null,"ดี","มีนาคม"]
[null,null,null,null,null,null,null,null,null,null,null,null,null,null,null,null,null,null,null,null,null,null,null,null,null,null,null,null,null,null,null,null,null,null,null,null,null,null,null,null,null,null,null,null,null,null,null,null,67,0,0,0,null,null,"นางสาว",null,"ดีเยี่ยม","เมษายน"]
[null,null,null,null,null,null,null,null,null,null,null,null,null,null,null,null,null,null,null,null,null,null,null,null,null,null,null,null,null,null,null,null,null,null,null,null,null,null,null,null,null,null,null,null,null,null,null,null,67,0,0,0,null,null,"สามเณร",null,null,"พฤษภาคม"]
[null,null,null,null,null,null,null,null,null,null,null,null,null,null,null,null,null,null,null,null,null,null,null,null,null,null,null,null,null,null,null,null,null,null,null,null,null,null,null,null,null,null,null,null,null,null,null,null,67,0,0,0,null,null,"พระ",null,null,"มิถุนายน"]
[null,null,null,null,null,null,null,null,null,null,null,null,null,null,null,null,null,null,null,null,null,null,null,null,null,null,null,null,null,null,null,null,null,null,null,null,null,null,null,null,null,null,null,null,null,null,null,null,67,0,0,0,null,null,null,null,null,"กรกฎาคม"]
[null,null,null,null,null,null,null,null,null,null,null,null,null,null,null,null,null,null,null,null,null,null,null,null,null,null,null,null,null,null,null,null,null,null,null,null,null,null,null,null,null,null,null,null,null,null,null,null,67,0,0,0,null,null,null,null,null,"สิงหาคม"]
[null,null,null,null,null,null,null,null,null,null,null,null,null,null,null,null,null,null,null,null,null,null,null,null,null,null,null,null,null,null,null,null,null,null,null,null,null,null,null,null,null,null,null,null,null,null,null,null,67,0,0,0,null,null,null,null,null,"กันยายน"]
[null,null,null,null,null,null,null,null,null,null,null,null,null,null,null,null,null,null,null,null,null,null,null,null,null,null,null,null,null,null,null,null,null,null,null,null,null,null,null,null,null,null,null,null,null,null,null,null,67,0,0,0,null,null,null,null,null,"ตุลาคม"]
[null,null,null,null,null,null,null,null,null,null,null,null,null,null,null,null,null,null,null,null,null,null,null,null,null,null,null,null,null,null,null,null,null,null,null,null,null,null,null,null,null,null,null,null,null,null,null,null,67,0,0,0,null,null,null,null,null,"พฤศจิกายน"]
[null,null,null,null,null,null,null,null,null,null,null,null,null,null,null,null,null,null,null,null,null,null,null,null,null,null,null,null,null,null,null,null,null,null,null,null,null,null,null,null,null,null,null,null,null,null,null,null,67,0,0,0,null,null,null,null,null,"ธันวาคม"]
[null,null,null,null,null,null,null,null,null,null,null,null,null,null,null,null,null,null,null,null,null,null,null,null,null,null,null,null,null,null,null,null,null,null,null,null,null,null,null,null,null,null,null,null,null,null,null,null,67,0,0,0]
[null,null,null,null,null,null,null,null,null,null,null,null,null,null,null,null,null,null,null,null,null,null,null,null,null,null,null,null,null,null,null,null,null,null,null,null,null,null,null,null,null,null,null,null,null,null,null,null,67,0,0,0]
[null,null,null,null,null,null,null,null,null,null,null,null,null,null,null,null,null,null,null,null,null,null,null,null,null,null,null,null,null,null,null,null,null,null,null,null,null,null,null,null,null,null,null,null,null,null,null,null,67,0,0,0]
[null,null,null,null,null,null,null,null,null,null,null,null,null,null,null,null,null,null,null,null,null,null,null,null,null,null,null,null,null,null,null,null,null,null,null,null,null,null,null,null,null,null,null,null,null,null,null,null,67,0,0,0]
[null,null,null,null,null,null,null,null,null,null,null,null,null,null,null,null,null,null,null,null,null,null,null,null,null,null,null,null,null,null,null,null,null,null,null,null,null,null,null,null,null,null,null,null,null,null,null,null,67,0,0,0]
[null,null,null,null,null,null,null,null,null,null,null,null,null,null,null,null,null,null,null,null,null,null,null,null,null,null,null,null,null,null,null,null,null,null,null,null,null,null,null,null,null,null,null,null,null,null,null,null,67,0,0,0]
[null,null,null,null,null,null,null,null,null,null,null,null,null,null,null,null,null,null,null,null,null,null,null,null,null,null,null,null,null,null,null,null,null,null,null,null,null,null,null,null,null,null,null,null,null,null,null,null,67,0,0,0]
[null,null,null,null,null,null,null,null,null,null,null,null,null,null,null,null,null,null,null,null,null,null,null,null,null,null,null,null,null,null,null,null,null,null,null,null,null,null,null,null,null,null,null,null,null,null,null,null,67,0,0,0]
[null,null,null,null,null,null,null,null,null,null,null,null,null,null,null,null,null,null,null,null,null,null,null,null,null,null,null,null,null,null,null,null,null,null,null,null,null,null,null,null,null,null,null,null,null,null,null,null,67,0,0,0]
[null,null,null,null,null,null,null,null,null,null,null,null,null,null,null,null,null,null,null,null,null,null,null,null,null,null,null,null,null,null,null,null,null,null,null,null,null,null,null,null,null,null,null,null,null,null,null,null,67,0,0,0]
[null,null,null,null,null,null,null,null,null,null,null,null,null,null,null,null,null,null,null,null,null,null,null,null,null,null,null,null,null,null,null,null,null,null,null,null,null,null,null,null,null,null,null,null,null,null,null,null,67,0,{"$f":"ROUNDDOWN(0,2)","v":0},0]
[null,null,null,null,null,null,null,null,null,null,null,null,null,null,null,null,null,null,null,null,null,null,null,null,null,null,null,null,null,null,null,null,null,null,null,null,null,null,null,null,null,null,null,null,null,null,null,null,67,0,0,0]
[null,null,null,null,null,null,null,null,null,null,null,null,null,null,null,null,null,null,null,null,null,null,null,null,null,null,null,null,null,null,null,null,null,null,null,null,null,null,null,null,null,null,null,null,null,null,null,null,67,0,0,0]
[null,null,null,null,null,null,null,null,null,null,null,null,null,null,null,null,null,null,null,null,null,null,null,null,null,null,null,null,null,null,null,null,null,null,null,null,null,null,null,null,null,null,null,null,null,null,null,null,67,0,0,0]
[null,null,null,null,null,null,null,null,null,null,null,null,null,null,null,null,null,null,null,null,null,null,null,null,null,null,null,null,null,null,null,null,null,null,null,null,null,null,null,null,null,null,null,null,null,null,null,null,67,0,0,0]
[null,null,null,null,null,null,null,null,null,null,null,null,null,null,null,null,null,null,null,null,null,null,null,null,null,null,null,null,null,null,null,null,null,null,null,null,null,null,null,null,null,null,null,null,null,null,null,null,67,0,0,0]
[null,null,null,null,null,null,null,null,null,null,null,null,null,null,null,null,null,null,null,null,null,null,null,null,null,null,null,null,null,null,null,null,null,null,null,null,null,null,null,null,null,null,null,null,null,null,null,null,67,0,0,0]
[null,null,null,null,null,null,null,null,null,null,null,null,null,null,null,null,null,null,null,null,null,null,null,null,null,null,null,null,null,null,null,null,null,null,null,null,null,null,null,null,null,null,null,null,null,null,null,null,67,0,0,0]
[null,null,null,null,null,null,null,null,null,null,null,null,null,null,null,null,null,null,null,null,null,null,null,null,null,null,null,null,null,null,null,null,null,null,null,null,null,null,null,null,null,null,null,null,null,null,null,null,67,0,0,0]
[null,null,null,null,null,null,null,null,null,null,null,null,null,null,null,null,null,null,null,null,null,null,null,null,null,null,null,null,null,null,null,null,null,null,null,null,null,null,null,null,null,null,null,null,null,null,null,null,67,0,0,0]
[null,null,null,null,null,null,null,null,null,null,null,null,null,null,null,null,null,null,null,null,null,null,null,null,null,null,null,null,null,null,null,null,null,null,null,null,null,null,null,null,null,null,null,null,null,null,null,null,67,0,0,0]
[null,null,null,null,null,null,null,null,null,null,null,null,null,null,null,null,null,null,null,null,null,null,null,null,null,null,null,null,null,null,null,null,null,null,null,null,null,null,null,null,null,null,null,null,null,null,null,null,67,0,0,0]
[null,null,null,null,null,null,null,null,null,null,null,null,null,null,null,null,null,null,null,null,null,null,null,null,null,null,null,null,null,null,null,null,null,null,null,null,null,null,null,null,null,null,null,null,null,null,null,null,67,0,0,0]
[null,null,null,null,null,null,null,null,null,null,null,null,null,null,null,null,null,null,null,null,null,null,null,null,null,null,null,null,null,null,null,null,null,null,null,null,null,null,null,null,null,null,null,null,null,null,null,null,67,0,0,0]
[null,null,null,null,null,null,null,null,null,null,null,null,null,null,null,null,null,null,null,null,null,null,null,null,null,null,null,null,null,null,null,null,null,null,null,null,null,null,null,null,null,null,null,null,null,null,null,null,67,0,0,0]
[null,null,null,null,null,null,null,null,null,null,null,null,null,null,null,null,null,null,null,null,null,null,null,null,null,null,null,null,null,null,null,null,null,null,null,null,null,null,null,null,null,null,null,null,null,null,null,null,67,0,0,0]
[null,null,null,null,null,null,null,null,null,null,null,null,null,null,null,null,null,null,null,null,null,null,null,null,null,null,null,null,null,null,null,null,null,null,null,null,null,null,null,null,null,null,null,null,null,null,null,null,67,0,0,0]
[null,null,null,null,null,null,null,null,null,null,null,null,null,null,null,null,null,null,null,null,null,null,null,null,null,null,null,null,null,null,null,null,null,null,null,null,null,null,null,null,null,null,null,null,null,null,null,null,67,0,0,0]
[null,null,null,null,null,null,null,null,null,null,null,null,null,null,null,null,null,null,null,null,null,null,null,null,null,null,null,null,null,null,null,null,null,null,null,null,null,null,null,null,null,null,null,null,null,null,null,null,67,0,0,0]
[null,null,null,null,null,null,null,null,null,null,null,null,null,null,null,null,null,null,null,null,null,null,null,null,null,null,null,null,null,null,null,null,null,null,null,null,null,null,null,null,null,null,null,null,null,null,null,null,67,0,0,0]
[null,null,null,null,null,null,null,null,null,null,null,null,null,null,null,null,null,null,null,null,null,null,null,null,null,null,null,null,null,null,null,null,null,null,null,null,null,null,null,null,null,null,null,null,null,null,null,null,67,0,{"$f":"ROUNDDOWN(0,2)","v":0},0]
[null,null,null,null,null,null,null,null,null,null,null,null,null,null,null,null,null,null,null,null,null,null,null,null,null,null,null,null,null,null,null,null,null,null,null,null,null,null,null,null,null,null,null,null,null,null,null,null,67,0,0,0]
[null,null,null,null,null,null,null,null,null,null,null,null,null,null,null,null,null,null,null,null,null,null,null,null,null,null,null,null,null,null,null,null,null,null,null,null,null,null,null,null,null,null,null,null,null,null,null,null,67,0,0,0]
[null,null,null,null,null,null,null,null,null,null,null,null,null,null,null,null,null,null,null,null,null,null,null,null,null,null,null,null,null,null,null,null,null,null,null,null,null,null,null,null,null,null,null,null,null,null,null,null,67,0,0,0]
[null,null,null,null,null,null,null,null,null,null,null,null,null,null,null,null,null,null,null,null,null,null,null,null,null,null,null,null,null,null,null,null,null,null,null,null,null,null,null,null,null,null,null,null,null,null,null,null,67,0,0,0]
[null,null,null,null,null,null,null,null,null,null,null,null,null,null,null,null,null,null,null,null,null,null,null,null,null,null,null,null,null,null,null,null,null,null,null,null,null,null,null,null,null,null,null,null,null,null,null,null,67,0,0,0]
[null,null,null,null,null,null,null,null,null,null,null,null,null,null,null,null,null,null,null,null,null,null,null,null,null,null,null,null,null,null,null,null,null,null,null,null,null,null,null,null,null,null,null,null,null,null,null,null,67,0,0,0]
[null,null,null,null,null,null,null,null,null,null,null,null,null,null,null,null,null,null,null,null,null,null,null,null,null,null,null,null,null,null,null,null,null,null,null,null,null,null,null,null,null,null,null,null,null,null,null,null,67,0,0,0]
[null,null,null,null,null,null,null,null,null,null,null,null,null,null,null,null,null,null,null,null,null,null,null,null,null,null,null,null,null,null,null,null,null,null,null,null,null,null,null,null,null,null,null,null,null,null,null,null,67,0,0,0]
[null,null,null,null,null,null,null,null,null,null,null,null,null,null,null,null,null,null,null,null,null,null,null,null,null,null,null,null,null,null,null,null,null,null,null,null,null,null,null,null,null,null,null,null,null,null,null,null,67,0,0,0]
[null,null,null,null,null,null,null,null,null,null,null,null,null,null,null,null,null,null,null,null,null,null,null,null,null,null,null,null,null,null,null,null,null,null,null,null,null,null,null,null,null,null,null,null,null,null,null,null,67,0,0,0]
[null,null,null,null,null,null,null,null,null,null,null,null,null,null,null,null,null,null,null,null,null,null,null,null,null,null,null,null,null,null,null,null,null,null,null,null,null,null,null,null,null,null,null,null,null,null,null,null,67,0,0,0]
[null,null,null,null,null,null,null,null,null,null,null,null,null,null,null,null,null,null,null,null,null,null,null,null,null,null,null,null,null,null,null,null,null,null,null,null,null,null,null,null,null,null,null,null,null,null,null,null,67,0,0,0]
[null,null,null,null,null,null,null,null,null,null,null,null,null,null,null,null,null,null,null,null,null,null,null,null,null,null,null,null,null,null,null,null,null,null,null,null,null,null,null,null,null,null,null,null,null,null,null,null,67,0,0,0]
[null,null,null,null,null,null,null,null,null,null,null,null,null,null,null,null,null,null,null,null,null,null,null,null,null,null,null,null,null,null,null,null,null,null,null,null,null,null,null,null,null,null,null,null,null,null,null,null,67,0,0,0]
[null,null,null,null,null,null,null,null,null,null,null,null,null,null,null,null,null,null,null,null,null,null,null,null,null,null,null,null,null,null,null,null,null,null,null,null,null,null,null,null,null,null,null,null,null,null,null,null,67,0,0,0]
[null,null,null,null,null,null,null,null,null,null,null,null,null,null,null,null,null,null,null,null,null,null,null,null,null,null,null,null,null,null,null,null,null,null,null,null,null,null,null,null,null,null,null,null,null,null,null,null,67,0,0,0]
[null,null,null,null,null,null,null,null,null,null,null,null,null,null,null,null,null,null,null,null,null,null,null,null,null,null,null,null,null,null,null,null,null,null,null,null,null,null,null,null,null,null,null,null,null,null,null,null,67,0,0,0]
[null,null,null,null,null,null,null,null,null,null,null,null,null,null,null,null,null,null,null,null,null,null,null,null,null,null,null,null,null,null,null,null,null,null,null,null,null,null,null,null,null,null,null,null,null,null,null,null,67,0,0,0]
[null,null,null,null,null,null,null,null,null,null,null,null,null,null,null,null,null,null,null,null,null,null,null,null,null,null,null,null,null,null,null,null,null,null,null,null,null,null,null,null,null,null,null,null,null,null,null,null,67,0,0,0]
[null,null,null,null,null,null,null,null,null,null,null,null,null,null,null,null,null,null,null,null,null,null,null,null,null,null,null,null,null,null,null,null,null,null,null,null,null,null,null,null,null,null,null,null,null,null,null,null,67,0,{"$f":"ROUNDDOWN(0,2)","v":0},0]
[null,null,null,null,null,null,null,null,null,null,null,null,null,null,null,null,null,null,null,null,null,null,null,null,null,null,null,null,null,null,null,null,null,null,null,null,null,null,null,null,null,null,null,null,null,null,null,null,67,0,0,0]
[null,null,null,null,null,null,null,null,null,null,null,null,null,null,null,null,null,null,null,null,null,null,null,null,null,null,null,null,null,null,null,null,null,null,null,null,null,null,null,null,null,null,null,null,null,null,null,null,67,0,0,0]
[null,null,null,null,null,null,null,null,null,null,null,null,null,null,null,null,null,null,null,null,null,null,null,null,null,null,null,null,null,null,null,null,null,null,null,null,null,null,null,null,null,null,null,null,null,null,null,null,67,0,0,0]
[null,null,null,null,null,null,null,null,null,null,null,null,null,null,null,null,null,null,null,null,null,null,null,null,null,null,null,null,null,null,null,null,null,null,null,null,null,null,null,null,null,null,null,null,null,null,null,null,67,0,0,0]
[null,null,null,null,null,null,null,null,null,null,null,null,null,null,null,null,null,null,null,null,null,null,null,null,null,null,null,null,null,null,null,null,null,null,null,null,null,null,null,null,null,null,null,null,null,null,null,null,67,0,0,0]
[null,null,null,null,null,null,null,null,null,null,null,null,null,null,null,null,null,null,null,null,null,null,null,null,null,null,null,null,null,null,null,null,null,null,null,null,null,null,null,null,null,null,null,null,null,null,null,null,67,0,0,0]
[null,null,null,null,null,null,null,null,null,null,null,null,null,null,null,null,null,null,null,null,null,null,null,null,null,null,null,null,null,null,null,null,null,null,null,null,null,null,null,null,null,null,null,null,null,null,null,null,67,0,0,0]
[null,null,null,null,null,null,null,null,null,null,null,null,null,null,null,null,null,null,null,null,null,null,null,null,null,null,null,null,null,null,null,null,null,null,null,null,null,null,null,null,null,null,null,null,null,null,null,null,67,0,0,0]
[null,null,null,null,null,null,null,null,null,null,null,null,null,null,null,null,null,null,null,null,null,null,null,null,null,null,null,null,null,null,null,null,null,null,null,null,null,null,null,null,null,null,null,null,null,null,null,null,67,0,0,0]
[null,null,null,null,null,null,null,null,null,null,null,null,null,null,null,null,null,null,null,null,null,null,null,null,null,null,null,null,null,null,null,null,null,null,null,null,null,null,null,null,null,null,null,null,null,null,null,null,67,0,0,0]
[null,null,null,null,null,null,null,null,null,null,null,null,null,null,null,null,null,null,null,null,null,null,null,null,null,null,null,null,null,null,null,null,null,null,null,null,null,null,null,null,null,null,null,null,null,null,null,null,67,0,0,0]
[null,null,null,null,null,null,null,null,null,null,null,null,null,null,null,null,null,null,null,null,null,null,null,null,null,null,null,null,null,null,null,null,null,null,null,null,null,null,null,null,null,null,null,null,null,null,null,null,67,0,0,0]
[null,null,null,null,null,null,null,null,null,null,null,null,null,null,null,null,null,null,null,null,null,null,null,null,null,null,null,null,null,null,null,null,null,null,null,null,null,null,null,null,null,null,null,null,null,null,null,null,67,0,0,0]
[null,null,null,null,null,null,null,null,null,null,null,null,null,null,null,null,null,null,null,null,null,null,null,null,null,null,null,null,null,null,null,null,null,null,null,null,null,null,null,null,null,null,null,null,null,null,null,null,67,0,0,0]
[null,null,null,null,null,null,null,null,null,null,null,null,null,null,null,null,null,null,null,null,null,null,null,null,null,null,null,null,null,null,null,null,null,null,null,null,null,null,null,null,null,null,null,null,null,null,null,null,67,0,0,0]
[null,null,null,null,null,null,null,null,null,null,null,null,null,null,null,null,null,null,null,null,null,null,null,null,null,null,null,null,null,null,null,null,null,null,null,null,null,null,null,null,null,null,null,null,null,null,null,null,67,0,0,0]
[null,null,null,null,null,null,null,null,null,null,null,null,null,null,null,null,null,null,null,null,null,null,null,null,null,null,null,null,null,null,null,null,null,null,null,null,null,null,null,null,null,null,null,null,null,null,null,null,67,0,0,0]
[null,null,null,null,null,null,null,null,null,null,null,null,null,null,null,null,null,null,null,null,null,null,null,null,null,null,null,null,null,null,null,null,null,null,null,null,null,null,null,null,null,null,null,null,null,null,null,null,67,0,0,0]
[null,null,null,null,null,null,null,null,null,null,null,null,null,null,null,null,null,null,null,null,null,null,null,null,null,null,null,null,null,null,null,null,null,null,null,null,null,null,null,null,null,null,null,null,null,null,null,null,67,0,0,0]
[null,null,null,null,null,null,null,null,null,null,null,null,null,null,null,null,null,null,null,null,null,null,null,null,null,null,null,null,null,null,null,null,null,null,null,null,null,null,null,null,null,null,null,null,null,null,null,null,67,0,{"$f":"ROUNDDOWN(0,2)","v":0},0]
[null,null,null,null,null,null,null,null,null,null,null,null,null,null,null,null,null,null,null,null,null,null,null,null,null,null,null,null,null,null,null,null,null,null,null,null,null,null,null,null,null,null,null,null,null,null,null,null,67,0,0,0]
[null,null,null,null,null,null,null,null,null,null,null,null,null,null,null,null,null,null,null,null,null,null,null,null,null,null,null,null,null,null,null,null,null,null,null,null,null,null,null,null,null,null,null,null,null,null,null,null,67,0,0,0]
[null,null,null,null,null,null,null,null,null,null,null,null,null,null,null,null,null,null,null,null,null,null,null,null,null,null,null,null,null,null,null,null,null,null,null,null,null,null,null,null,null,null,null,null,null,null,null,null,67,0,0,0]
[null,null,null,null,null,null,null,null,null,null,null,null,null,null,null,null,null,null,null,null,null,null,null,null,null,null,null,null,null,null,null,null,null,null,null,null,null,null,null,null,null,null,null,null,null,null,null,null,67,0,0,0]
[null,null,null,null,null,null,null,null,null,null,null,null,null,null,null,null,null,null,null,null,null,null,null,null,null,null,null,null,null,null,null,null,null,null,null,null,null,null,null,null,null,null,null,null,null,null,null,null,67,0,0,0]
[null,null,null,null,null,null,null,null,null,null,null,null,null,null,null,null,null,null,null,null,null,null,null,null,null,null,null,null,null,null,null,null,null,null,null,null,null,null,null,null,null,null,null,null,null,null,null,null,67,0,0,0]
[null,null,null,null,null,null,null,null,null,null,null,null,null,null,null,null,null,null,null,null,null,null,null,null,null,null,null,null,null,null,null,null,null,null,null,null,null,null,null,null,null,null,null,null,null,null,null,null,67,0,0,0]
[null,null,null,null,null,null,null,null,null,null,null,null,null,null,null,null,null,null,null,null,null,null,null,null,null,null,null,null,null,null,null,null,null,null,null,null,null,null,null,null,null,null,null,null,null,null,null,null,67,0,0,0]
[null,null,null,null,null,null,null,null,null,null,null,null,null,null,null,null,null,null,null,null,null,null,null,null,null,null,null,null,null,null,null,null,null,null,null,null,null,null,null,null,null,null,null,null,null,null,null,null,67,0,0,0]
[null,null,null,null,null,null,null,null,null,null,null,null,null,null,null,null,null,null,null,null,null,null,null,null,null,null,null,null,null,null,null,null,null,null,null,null,null,null,null,null,null,null,null,null,null,null,null,null,67,0,0,0]
[null,null,null,null,null,null,null,null,null,null,null,null,null,null,null,null,null,null,null,null,null,null,null,null,null,null,null,null,null,null,null,null,null,null,null,null,null,null,null,null,null,null,null,null,null,null,null,null,67,0,0,0]
[null,null,null,null,null,null,null,null,null,null,null,null,null,null,null,null,null,null,null,null,null,null,null,null,null,null,null,null,null,null,null,null,null,null,null,null,null,null,null,null,null,null,null,null,null,null,null,null,67,0,0,0]
[null,null,null,null,null,null,null,null,null,null,null,null,null,null,null,null,null,null,null,null,null,null,null,null,null,null,null,null,null,null,null,null,null,null,null,null,null,null,null,null,null,null,null,null,null,null,null,null,67,0,0,0]
[null,null,null,null,null,null,null,null,null,null,null,null,null,null,null,null,null,null,null,null,null,null,null,null,null,null,null,null,null,null,null,null,null,null,null,null,null,null,null,null,null,null,null,null,null,null,null,null,67,0,0,0]
[null,null,null,null,null,null,null,null,null,null,null,null,null,null,null,null,null,null,null,null,null,null,null,null,null,null,null,null,null,null,null,null,null,null,null,null,null,null,null,null,null,null,null,null,null,null,null,null,67,0,0,0]
[null,null,null,null,null,null,null,null,null,null,null,null,null,null,null,null,null,null,null,null,null,null,null,null,null,null,null,null,null,null,null,null,null,null,null,null,null,null,null,null,null,null,null,null,null,null,null,null,67,0,0,0]
[null,null,null,null,null,null,null,null,null,null,null,null,null,null,null,null,null,null,null,null,null,null,null,null,null,null,null,null,null,null,null,null,null,null,null,null,null,null,null,null,null,null,null,null,null,null,null,null,67,0,0,0]
[null,null,null,null,null,null,null,null,null,null,null,null,null,null,null,null,null,null,null,null,null,null,null,null,null,null,null,null,null,null,null,null,null,null,null,null,null,null,null,null,null,null,null,null,null,null,null,null,67,0,0,0]
[null,null,null,null,null,null,null,null,null,null,null,null,null,null,null,null,null,null,null,null,null,null,null,null,null,null,null,null,null,null,null,null,null,null,null,null,null,null,null,null,null,null,null,null,null,null,null,null,67,0,0,0]
[null,null,null,null,null,null,null,null,null,null,null,null,null,null,null,null,null,null,null,null,null,null,null,null,null,null,null,null,null,null,null,null,null,null,null,null,null,null,null,null,null,null,null,null,null,null,null,null,67,0,{"$f":"ROUNDDOWN(0,2)","v":0},0]
[null,null,null,null,null,null,null,null,null,null,null,null,null,null,null,null,null,null,null,null,null,null,null,null,null,null,null,null,null,null,null,null,null,null,null,null,null,null,null,null,null,null,null,null,null,null,null,null,67,0,0,0]
[null,null,null,null,null,null,null,null,null,null,null,null,null,null,null,null,null,null,null,null,null,null,null,null,null,null,null,null,null,null,null,null,null,null,null,null,null,null,null,null,null,null,null,null,null,null,null,null,67,0,0,0]
[null,null,null,null,null,null,null,null,null,null,null,null,null,null,null,null,null,null,null,null,null,null,null,null,null,null,null,null,null,null,null,null,null,null,null,null,null,null,null,null,null,null,null,null,null,null,null,null,67,0,0,0]
[null,null,null,null,null,null,null,null,null,null,null,null,null,null,null,null,null,null,null,null,null,null,null,null,null,null,null,null,null,null,null,null,null,null,null,null,null,null,null,null,null,null,null,null,null,null,null,null,67,0,0,0]
[null,null,null,null,null,null,null,null,null,null,null,null,null,null,null,null,null,null,null,null,null,null,null,null,null,null,null,null,null,null,null,null,null,null,null,null,null,null,null,null,null,null,null,null,null,null,null,null,67,0,0,0]
[null,null,null,null,null,null,null,null,null,null,null,null,null,null,null,null,null,null,null,null,null,null,null,null,null,null,null,null,null,null,null,null,null,null,null,null,null,null,null,null,null,null,null,null,null,null,null,null,67,0,0,0]
[null,null,null,null,null,null,null,null,null,null,null,null,null,null,null,null,null,null,null,null,null,null,null,null,null,null,null,null,null,null,null,null,null,null,null,null,null,null,null,null,null,null,null,null,null,null,null,null,67,0,0,0]
[null,null,null,null,null,null,null,null,null,null,null,null,null,null,null,null,null,null,null,null,null,null,null,null,null,null,null,null,null,null,null,null,null,null,null,null,null,null,null,null,null,null,null,null,null,null,null,null,67,0,0,0]
[null,null,null,null,null,null,null,null,null,null,null,null,null,null,null,null,null,null,null,null,null,null,null,null,null,null,null,null,null,null,null,null,null,null,null,null,null,null,null,null,null,null,null,null,null,null,null,null,67,0,0,0]
[null,null,null,null,null,null,null,null,null,null,null,null,null,null,null,null,null,null,null,null,null,null,null,null,null,null,null,null,null,null,null,null,null,null,null,null,null,null,null,null,null,null,null,null,null,null,null,null,67,0,0,0]
[null,null,null,null,null,null,null,null,null,null,null,null,null,null,null,null,null,null,null,null,null,null,null,null,null,null,null,null,null,null,null,null,null,null,null,null,null,null,null,null,null,null,null,null,null,null,null,null,67,0,0,0]
[null,null,null,null,null,null,null,null,null,null,null,null,null,null,null,null,null,null,null,null,null,null,null,null,null,null,null,null,null,null,null,null,null,null,null,null,null,null,null,null,null,null,null,null,null,null,null,null,67,0,0,0]
[null,null,null,null,null,null,null,null,null,null,null,null,null,null,null,null,null,null,null,null,null,null,null,null,null,null,null,null,null,null,null,null,null,null,null,null,null,null,null,null,null,null,null,null,null,null,null,null,67,0,0,0]
[null,null,null,null,null,null,null,null,null,null,null,null,null,null,null,null,null,null,null,null,null,null,null,null,null,null,null,null,null,null,null,null,null,null,null,null,null,null,null,null,null,null,null,null,null,null,null,null,67,0,0,0]
[null,null,null,null,null,null,null,null,null,null,null,null,null,null,null,null,null,null,null,null,null,null,null,null,null,null,null,null,null,null,null,null,null,null,null,null,null,null,null,null,null,null,null,null,null,null,null,null,67,0,0,0]
[null,null,null,null,null,null,null,null,null,null,null,null,null,null,null,null,null,null,null,null,null,null,null,null,null,null,null,null,null,null,null,null,null,null,null,null,null,null,null,null,null,null,null,null,null,null,null,null,67,0,0,0]
[null,null,null,null,null,null,null,null,null,null,null,null,null,null,null,null,null,null,null,null,null,null,null,null,null,null,null,null,null,null,null,null,null,null,null,null,null,null,null,null,null,null,null,null,null,null,null,null,67,0,0,0]

{"sheet":"O-Net","index":4,"n_rows":14,"n_cols":21,"rows_kept":14,"cut":false,"hidden":false,"merged":[[7,20,8,20],[5,0,5,3],[5,4,5,9],[5,10,5,16],[5,17,5,20],[7,0,8,0],[7,1,8,1],[7,2,8,2],[7,3,8,3],[7,4,7,11],[7,12,7,19],[0,0,0,20],[1,0,1,20],[2,0,2,20],[3,0,3,20],[4,0,4,5],[4,6,4,20]]}
[]
["รายงานผลการทดสอบทางการศึกษาระดับชาติขั้นพื้นฐาน (O0.00NET)"]
["มัธยมศึกษาปีที่ 3 ปีการศึกษา 2555"]
["ฉบับที่ 1 0.00 ผลการทดสอบ O0.00NET รายบุคคล"]
["รหัสโรงเรียน  xxxxxxxxx",null,null,null,null,null,"ชื่อโรงเรียน  xxxxxxxxxx"]
["สังกัด  สำนักงานคณะกรรมการการศึกษาขั้นพื้นฐาน",null,null,null,"จังหวัด  xxxxxxxx",null,null,null,null,null,"ขนาดโรงเรียน  ใหญ่พิเศษ",null,null,null,null,null,null,"ที่ตั้งโรงเรียน  ในเมือง"]
[]
["ลำดับ","เลขที่\nนั่งสอบ","เลขประจำตัว\nประชาชน","ชื่อ 0.00 สกุล","คะแนนนักเรียน",null,null,null,null,null,null,null,"ระดับผลการทดสอบ O 0.00 NET",null,null,null,null,null,null,null,"ร้อยละ 20 ผลการทดสอบ O0.00NET"]
[null,null,null,null,91,94,95,92,96,97,98,93,91,94,95,92,96,97,98,93]
[1,"xxxxxx",1111111111111,"สมชาย  สุขสบาย",39.200000000000003,25.6,20,30,42.5,32.5,50,26,1.5,1.5,1,1.5,1.5,1.5,2.5,1.5,0.3]
[2,"xxxxxx",2222222222222,"สมหวัง  ตั้งใจเรียน",60,26.4,42,54,60,52.5,56,24,2.5,1.5,2,2.5,2.5,2.5,2.5,1.5,0.43]
[]
[null,null,"หมายเหตุ : ","กรณีที่พบคะแนนเป็นเครื่องหมาย * หรือ x กรุณาติดต่อ สทศ."]
[null,null,null,"หากพบเครื่องหมาย + จะไม่นำคะแนนมาคิดค่าสถิติ(เด็กพิเศษ)"]

{"sheet":"ข้อมูลใบรับรอง","index":5,"n_rows":126,"n_cols":14,"rows_kept":126,"cut":false,"hidden":false,"merged":[[4,13,5,13],[4,6,5,6],[4,5,5,5],[2,0,3,4],[0,0,1,13],[4,0,5,0],[4,1,5,1],[4,2,5,2],[4,3,5,4],[4,7,4,9],[4,10,5,10],[4,11,5,11],[4,12,5,12]]}
[{"$f":"\"โรงเรียน\" & ข้อมูลพื้นฐาน!D4 & \"   อำเภอ\"  &ข้อมูลพื้นฐาน!D8 & \"   จังหวัด\" &ข้อมูลพื้นฐาน!D9","v":"โรงเรียนบ้านหนองคา   อำเภอกระสัง   จังหวัดบุรีรัมย์"}]
[]
["ข้อมูลใบรับรอง"]
[]
["ห้อง","เลขที่","เลขประจำตัวนักเรียน","ชื่อ - สกุล",null,"เลขบัตรประจำตัวประชาชน","เลขที่เอกสาร","วันที่ออกเอกสาร",null,null,"คำรับรองบรรทัดที่ 1","คำรับรองบรรทัดที่ 2","คำรับรองบรรทัดที่ 3","หมายเหตุ"]
[null,null,null,null,null,null,null,"วันที่","เดือน","ปี"]
[{"$f":"ข้อมูลนักเรียน!A7","v":1},{"$f":"IF(ข้อมูลนักเรียน!B7=0,\"\",ข้อมูลนักเรียน!B7)","v":1},{"$f":"IF(ข้อมูลนักเรียน!C7=0,\"\",ข้อมูลนักเรียน!C7)","v":"00001"},{"$f":"IF(ข้อมูลนักเรียน!C7=0,\"\",ข้อมูลนักเรียน!D7 & ข้อมูลนักเรียน!E7)","v":"เด็กชายสมชาย"},{"$f":"IF(ข้อมูลนักเรียน!C7=0,\"\",ข้อมูลนักเรียน!F7)","v":"สุขสบาย"},{"$f":"IF(ข้อมูลนักเรียน!D7=0,\"\",ข้อมูลนักเรียน!G7)","v":1111111111111},"1/2556","14","มกราคม","2556","กำลังศึกษาอยู่ในระดับชั้นประถมศึกษาปีที่ 6",null,null,"ใบรับรองนี้มีอายุ 120 วัน นับแต่วันที่ออกให้"]
[{"$f":"ข้อมูลนักเรียน!A8","v":1},{"$f":"IF(ข้อมูลนักเรียน!B8=0,\"\",ข้อมูลนักเรียน!B8)","v":2},{"$f":"IF(ข้อมูลนักเรียน!C8=0,\"\",ข้อมูลนักเรียน!C8)","v":"00002"},{"$f":"IF(ข้อมูลนักเรียน!C8=0,\"\",ข้อมูลนักเรียน!D8 & ข้อมูลนักเรียน!E8)","v":"เด็กหญิงสมหวัง"},{"$f":"IF(ข้อมูลนักเรียน!C8=0,\"\",ข้อมูลนักเรียน!F8)","v":"ตั้งใจเรียน"},{"$f":"IF(ข้อมูลนักเรียน!D8=0,\"\",ข้อมูลนักเรียน!G8)","v":2222222222222},"2/2556","15","มกราคม","2556","กำลังศึกษาอยู่ในระดับชั้นประถมศึกษาปีที่ 6","เป็นนักดนตรี","มีระดับผลการเรียนระดับดี","ใบรับรองนี้มีอายุ 120 วัน นับแต่วันที่ออกให้"]
[{"$f":"ข้อมูลนักเรียน!A9","v":0},{"$f":"IF(ข้อมูลนักเรียน!B9=0,\"\",ข้อมูลนักเรียน!B9)","v":""},{"$f":"IF(ข้อมูลนักเรียน!C9=0,\"\",ข้อมูลนักเรียน!C9)","v":""},{"$f":"IF(ข้อมูลนักเรียน!C9=0,\"\",ข้อมูลนักเรียน!D9 & ข้อมูลนักเรียน!E9)","v":""},{"$f":"IF(ข้อมูลนักเรียน!C9=0,\"\",ข้อมูลนักเรียน!F9)","v":""},{"$f":"IF(ข้อมูลนักเรียน!D9=0,\"\",ข้อมูลนักเรียน!G9)","v":""}]
[{"$f":"ข้อมูลนักเรียน!A10","v":0},{"$f":"IF(ข้อมูลนักเรียน!B10=0,\"\",ข้อมูลนักเรียน!B10)","v":""},{"$f":"IF(ข้อมูลนักเรียน!C10=0,\"\",ข้อมูลนักเรียน!C10)","v":""},{"$f":"IF(ข้อมูลนักเรียน!C10=0,\"\",ข้อมูลนักเรียน!D10 & ข้อมูลนักเรียน!E10)","v":""},{"$f":"IF(ข้อมูลนักเรียน!C10=0,\"\",ข้อมูลนักเรียน!F10)","v":""},{"$f":"IF(ข้อมูลนักเรียน!D10=0,\"\",ข้อมูลนักเรียน!G10)","v":""}]
[{"$f":"ข้อมูลนักเรียน!A11","v":0},{"$f":"IF(ข้อมูลนักเรียน!B11=0,\"\",ข้อมูลนักเรียน!B11)","v":""},{"$f":"IF(ข้อมูลนักเรียน!C11=0,\"\",ข้อมูลนักเรียน!C11)","v":""},{"$f":"IF(ข้อมูลนักเรียน!C11=0,\"\",ข้อมูลนักเรียน!D11 & ข้อมูลนักเรียน!E11)","v":""},{"$f":"IF(ข้อมูลนักเรียน!C11=0,\"\",ข้อมูลนักเรียน!F11)","v":""},{"$f":"IF(ข้อมูลนักเรียน!D11=0,\"\",ข้อมูลนักเรียน!G11)","v":""}]
[{"$f":"ข้อมูลนักเรียน!A12","v":0},{"$f":"IF(ข้อมูลนักเรียน!B12=0,\"\",ข้อมูลนักเรียน!B12)","v":""},{"$f":"IF(ข้อมูลนักเรียน!C12=0,\"\",ข้อมูลนักเรียน!C12)","v":""},{"$f":"IF(ข้อมูลนักเรียน!C12=0,\"\",ข้อมูลนักเรียน!D12 & ข้อมูลนักเรียน!E12)","v":""},{"$f":"IF(ข้อมูลนักเรียน!C12=0,\"\",ข้อมูลนักเรียน!F12)","v":""},{"$f":"IF(ข้อมูลนักเรียน!D12=0,\"\",ข้อมูลนักเรียน!G12)","v":""}]
[{"$f":"ข้อมูลนักเรียน!A13","v":0},{"$f":"IF(ข้อมูลนักเรียน!B13=0,\"\",ข้อมูลนักเรียน!B13)","v":""},{"$f":"IF(ข้อมูลนักเรียน!C13=0,\"\",ข้อมูลนักเรียน!C13)","v":""},{"$f":"IF(ข้อมูลนักเรียน!C13=0,\"\",ข้อมูลนักเรียน!D13 & ข้อมูลนักเรียน!E13)","v":""},{"$f":"IF(ข้อมูลนักเรียน!C13=0,\"\",ข้อมูลนักเรียน!F13)","v":""},{"$f":"IF(ข้อมูลนักเรียน!D13=0,\"\",ข้อมูลนักเรียน!G13)","v":""}]
[{"$f":"ข้อมูลนักเรียน!A14","v":0},{"$f":"IF(ข้อมูลนักเรียน!B14=0,\"\",ข้อมูลนักเรียน!B14)","v":""},{"$f":"IF(ข้อมูลนักเรียน!C14=0,\"\",ข้อมูลนักเรียน!C14)","v":""},{"$f":"IF(ข้อมูลนักเรียน!C14=0,\"\",ข้อมูลนักเรียน!D14 & ข้อมูลนักเรียน!E14)","v":""},{"$f":"IF(ข้อมูลนักเรียน!C14=0,\"\",ข้อมูลนักเรียน!F14)","v":""},{"$f":"IF(ข้อมูลนักเรียน!D14=0,\"\",ข้อมูลนักเรียน!G14)","v":""}]
[{"$f":"ข้อมูลนักเรียน!A15","v":0},{"$f":"IF(ข้อมูลนักเรียน!B15=0,\"\",ข้อมูลนักเรียน!B15)","v":""},{"$f":"IF(ข้อมูลนักเรียน!C15=0,\"\",ข้อมูลนักเรียน!C15)","v":""},{"$f":"IF(ข้อมูลนักเรียน!C15=0,\"\",ข้อมูลนักเรียน!D15 & ข้อมูลนักเรียน!E15)","v":""},{"$f":"IF(ข้อมูลนักเรียน!C15=0,\"\",ข้อมูลนักเรียน!F15)","v":""},{"$f":"IF(ข้อมูลนักเรียน!D15=0,\"\",ข้อมูลนักเรียน!G15)","v":""}]
[{"$f":"ข้อมูลนักเรียน!A16","v":0},{"$f":"IF(ข้อมูลนักเรียน!B16=0,\"\",ข้อมูลนักเรียน!B16)","v":""},{"$f":"IF(ข้อมูลนักเรียน!C16=0,\"\",ข้อมูลนักเรียน!C16)","v":""},{"$f":"IF(ข้อมูลนักเรียน!C16=0,\"\",ข้อมูลนักเรียน!D16 & ข้อมูลนักเรียน!E16)","v":""},{"$f":"IF(ข้อมูลนักเรียน!C16=0,\"\",ข้อมูลนักเรียน!F16)","v":""},{"$f":"IF(ข้อมูลนักเรียน!D16=0,\"\",ข้อมูลนักเรียน!G16)","v":""}]
[{"$f":"ข้อมูลนักเรียน!A17","v":0},{"$f":"IF(ข้อมูลนักเรียน!B17=0,\"\",ข้อมูลนักเรียน!B17)","v":""},{"$f":"IF(ข้อมูลนักเรียน!C17=0,\"\",ข้อมูลนักเรียน!C17)","v":""},{"$f":"IF(ข้อมูลนักเรียน!C17=0,\"\",ข้อมูลนักเรียน!D17 & ข้อมูลนักเรียน!E17)","v":""},{"$f":"IF(ข้อมูลนักเรียน!C17=0,\"\",ข้อมูลนักเรียน!F17)","v":""},{"$f":"IF(ข้อมูลนักเรียน!D17=0,\"\",ข้อมูลนักเรียน!G17)","v":""}]
[{"$f":"ข้อมูลนักเรียน!A18","v":0},{"$f":"IF(ข้อมูลนักเรียน!B18=0,\"\",ข้อมูลนักเรียน!B18)","v":""},{"$f":"IF(ข้อมูลนักเรียน!C18=0,\"\",ข้อมูลนักเรียน!C18)","v":""},{"$f":"IF(ข้อมูลนักเรียน!C18=0,\"\",ข้อมูลนักเรียน!D18 & ข้อมูลนักเรียน!E18)","v":""},{"$f":"IF(ข้อมูลนักเรียน!C18=0,\"\",ข้อมูลนักเรียน!F18)","v":""},{"$f":"IF(ข้อมูลนักเรียน!D18=0,\"\",ข้อมูลนักเรียน!G18)","v":""}]
[{"$f":"ข้อมูลนักเรียน!A19","v":0},{"$f":"IF(ข้อมูลนักเรียน!B19=0,\"\",ข้อมูลนักเรียน!B19)","v":""},{"$f":"IF(ข้อมูลนักเรียน!C19=0,\"\",ข้อมูลนักเรียน!C19)","v":""},{"$f":"IF(ข้อมูลนักเรียน!C19=0,\"\",ข้อมูลนักเรียน!D19 & ข้อมูลนักเรียน!E19)","v":""},{"$f":"IF(ข้อมูลนักเรียน!C19=0,\"\",ข้อมูลนักเรียน!F19)","v":""},{"$f":"IF(ข้อมูลนักเรียน!D19=0,\"\",ข้อมูลนักเรียน!G19)","v":""}]
[{"$f":"ข้อมูลนักเรียน!A20","v":0},{"$f":"IF(ข้อมูลนักเรียน!B20=0,\"\",ข้อมูลนักเรียน!B20)","v":""},{"$f":"IF(ข้อมูลนักเรียน!C20=0,\"\",ข้อมูลนักเรียน!C20)","v":""},{"$f":"IF(ข้อมูลนักเรียน!C20=0,\"\",ข้อมูลนักเรียน!D20 & ข้อมูลนักเรียน!E20)","v":""},{"$f":"IF(ข้อมูลนักเรียน!C20=0,\"\",ข้อมูลนักเรียน!F20)","v":""},{"$f":"IF(ข้อมูลนักเรียน!D20=0,\"\",ข้อมูลนักเรียน!G20)","v":""}]
[{"$f":"ข้อมูลนักเรียน!A21","v":0},{"$f":"IF(ข้อมูลนักเรียน!B21=0,\"\",ข้อมูลนักเรียน!B21)","v":""},{"$f":"IF(ข้อมูลนักเรียน!C21=0,\"\",ข้อมูลนักเรียน!C21)","v":""},{"$f":"IF(ข้อมูลนักเรียน!C21=0,\"\",ข้อมูลนักเรียน!D21 & ข้อมูลนักเรียน!E21)","v":""},{"$f":"IF(ข้อมูลนักเรียน!C21=0,\"\",ข้อมูลนักเรียน!F21)","v":""},{"$f":"IF(ข้อมูลนักเรียน!D21=0,\"\",ข้อมูลนักเรียน!G21)","v":""}]
[{"$f":"ข้อมูลนักเรียน!A22","v":0},{"$f":"IF(ข้อมูลนักเรียน!B22=0,\"\",ข้อมูลนักเรียน!B22)","v":""},{"$f":"IF(ข้อมูลนักเรียน!C22=0,\"\",ข้อมูลนักเรียน!C22)","v":""},{"$f":"IF(ข้อมูลนักเรียน!C22=0,\"\",ข้อมูลนักเรียน!D22 & ข้อมูลนักเรียน!E22)","v":""},{"$f":"IF(ข้อมูลนักเรียน!C22=0,\"\",ข้อมูลนักเรียน!F22)","v":""},{"$f":"IF(ข้อมูลนักเรียน!D22=0,\"\",ข้อมูลนักเรียน!G22)","v":""}]
[{"$f":"ข้อมูลนักเรียน!A23","v":0},{"$f":"IF(ข้อมูลนักเรียน!B23=0,\"\",ข้อมูลนักเรียน!B23)","v":""},{"$f":"IF(ข้อมูลนักเรียน!C23=0,\"\",ข้อมูลนักเรียน!C23)","v":""},{"$f":"IF(ข้อมูลนักเรียน!C23=0,\"\",ข้อมูลนักเรียน!D23 & ข้อมูลนักเรียน!E23)","v":""},{"$f":"IF(ข้อมูลนักเรียน!C23=0,\"\",ข้อมูลนักเรียน!F23)","v":""},{"$f":"IF(ข้อมูลนักเรียน!D23=0,\"\",ข้อมูลนักเรียน!G23)","v":""}]
[{"$f":"ข้อมูลนักเรียน!A24","v":0},{"$f":"IF(ข้อมูลนักเรียน!B24=0,\"\",ข้อมูลนักเรียน!B24)","v":""},{"$f":"IF(ข้อมูลนักเรียน!C24=0,\"\",ข้อมูลนักเรียน!C24)","v":""},{"$f":"IF(ข้อมูลนักเรียน!C24=0,\"\",ข้อมูลนักเรียน!D24 & ข้อมูลนักเรียน!E24)","v":""},{"$f":"IF(ข้อมูลนักเรียน!C24=0,\"\",ข้อมูลนักเรียน!F24)","v":""},{"$f":"IF(ข้อมูลนักเรียน!D24=0,\"\",ข้อมูลนักเรียน!G24)","v":""}]
[{"$f":"ข้อมูลนักเรียน!A25","v":0},{"$f":"IF(ข้อมูลนักเรียน!B25=0,\"\",ข้อมูลนักเรียน!B25)","v":""},{"$f":"IF(ข้อมูลนักเรียน!C25=0,\"\",ข้อมูลนักเรียน!C25)","v":""},{"$f":"IF(ข้อมูลนักเรียน!C25=0,\"\",ข้อมูลนักเรียน!D25 & ข้อมูลนักเรียน!E25)","v":""},{"$f":"IF(ข้อมูลนักเรียน!C25=0,\"\",ข้อมูลนักเรียน!F25)","v":""},{"$f":"IF(ข้อมูลนักเรียน!D25=0,\"\",ข้อมูลนักเรียน!G25)","v":""}]
[{"$f":"ข้อมูลนักเรียน!A26","v":0},{"$f":"IF(ข้อมูลนักเรียน!B26=0,\"\",ข้อมูลนักเรียน!B26)","v":""},{"$f":"IF(ข้อมูลนักเรียน!C26=0,\"\",ข้อมูลนักเรียน!C26)","v":""},{"$f":"IF(ข้อมูลนักเรียน!C26=0,\"\",ข้อมูลนักเรียน!D26 & ข้อมูลนักเรียน!E26)","v":""},{"$f":"IF(ข้อมูลนักเรียน!C26=0,\"\",ข้อมูลนักเรียน!F26)","v":""},{"$f":"IF(ข้อมูลนักเรียน!D26=0,\"\",ข้อมูลนักเรียน!G26)","v":""}]
[{"$f":"ข้อมูลนักเรียน!A27","v":0},{"$f":"IF(ข้อมูลนักเรียน!B27=0,\"\",ข้อมูลนักเรียน!B27)","v":""},{"$f":"IF(ข้อมูลนักเรียน!C27=0,\"\",ข้อมูลนักเรียน!C27)","v":""},{"$f":"IF(ข้อมูลนักเรียน!C27=0,\"\",ข้อมูลนักเรียน!D27 & ข้อมูลนักเรียน!E27)","v":""},{"$f":"IF(ข้อมูลนักเรียน!C27=0,\"\",ข้อมูลนักเรียน!F27)","v":""},{"$f":"IF(ข้อมูลนักเรียน!D27=0,\"\",ข้อมูลนักเรียน!G27)","v":""}]
[{"$f":"ข้อมูลนักเรียน!A28","v":0},{"$f":"IF(ข้อมูลนักเรียน!B28=0,\"\",ข้อมูลนักเรียน!B28)","v":""},{"$f":"IF(ข้อมูลนักเรียน!C28=0,\"\",ข้อมูลนักเรียน!C28)","v":""},{"$f":"IF(ข้อมูลนักเรียน!C28=0,\"\",ข้อมูลนักเรียน!D28 & ข้อมูลนักเรียน!E28)","v":""},{"$f":"IF(ข้อมูลนักเรียน!C28=0,\"\",ข้อมูลนักเรียน!F28)","v":""},{"$f":"IF(ข้อมูลนักเรียน!D28=0,\"\",ข้อมูลนักเรียน!G28)","v":""}]
[{"$f":"ข้อมูลนักเรียน!A29","v":0},{"$f":"IF(ข้อมูลนักเรียน!B29=0,\"\",ข้อมูลนักเรียน!B29)","v":""},{"$f":"IF(ข้อมูลนักเรียน!C29=0,\"\",ข้อมูลนักเรียน!C29)","v":""},{"$f":"IF(ข้อมูลนักเรียน!C29=0,\"\",ข้อมูลนักเรียน!D29 & ข้อมูลนักเรียน!E29)","v":""},{"$f":"IF(ข้อมูลนักเรียน!C29=0,\"\",ข้อมูลนักเรียน!F29)","v":""},{"$f":"IF(ข้อมูลนักเรียน!D29=0,\"\",ข้อมูลนักเรียน!G29)","v":""}]
[{"$f":"ข้อมูลนักเรียน!A30","v":0},{"$f":"IF(ข้อมูลนักเรียน!B30=0,\"\",ข้อมูลนักเรียน!B30)","v":""},{"$f":"IF(ข้อมูลนักเรียน!C30=0,\"\",ข้อมูลนักเรียน!C30)","v":""},{"$f":"IF(ข้อมูลนักเรียน!C30=0,\"\",ข้อมูลนักเรียน!D30 & ข้อมูลนักเรียน!E30)","v":""},{"$f":"IF(ข้อมูลนักเรียน!C30=0,\"\",ข้อมูลนักเรียน!F30)","v":""},{"$f":"IF(ข้อมูลนักเรียน!D30=0,\"\",ข้อมูลนักเรียน!G30)","v":""}]
[{"$f":"ข้อมูลนักเรียน!A31","v":0},{"$f":"IF(ข้อมูลนักเรียน!B31=0,\"\",ข้อมูลนักเรียน!B31)","v":""},{"$f":"IF(ข้อมูลนักเรียน!C31=0,\"\",ข้อมูลนักเรียน!C31)","v":""},{"$f":"IF(ข้อมูลนักเรียน!C31=0,\"\",ข้อมูลนักเรียน!D31 & ข้อมูลนักเรียน!E31)","v":""},{"$f":"IF(ข้อมูลนักเรียน!C31=0,\"\",ข้อมูลนักเรียน!F31)","v":""},{"$f":"IF(ข้อมูลนักเรียน!D31=0,\"\",ข้อมูลนักเรียน!G31)","v":""}]
[{"$f":"ข้อมูลนักเรียน!A32","v":0},{"$f":"IF(ข้อมูลนักเรียน!B32=0,\"\",ข้อมูลนักเรียน!B32)","v":""},{"$f":"IF(ข้อมูลนักเรียน!C32=0,\"\",ข้อมูลนักเรียน!C32)","v":""},{"$f":"IF(ข้อมูลนักเรียน!C32=0,\"\",ข้อมูลนักเรียน!D32 & ข้อมูลนักเรียน!E32)","v":""},{"$f":"IF(ข้อมูลนักเรียน!C32=0,\"\",ข้อมูลนักเรียน!F32)","v":""},{"$f":"IF(ข้อมูลนักเรียน!D32=0,\"\",ข้อมูลนักเรียน!G32)","v":""}]
[{"$f":"ข้อมูลนักเรียน!A33","v":0},{"$f":"IF(ข้อมูลนักเรียน!B33=0,\"\",ข้อมูลนักเรียน!B33)","v":""},{"$f":"IF(ข้อมูลนักเรียน!C33=0,\"\",ข้อมูลนักเรียน!C33)","v":""},{"$f":"IF(ข้อมูลนักเรียน!C33=0,\"\",ข้อมูลนักเรียน!D33 & ข้อมูลนักเรียน!E33)","v":""},{"$f":"IF(ข้อมูลนักเรียน!C33=0,\"\",ข้อมูลนักเรียน!F33)","v":""},{"$f":"IF(ข้อมูลนักเรียน!D33=0,\"\",ข้อมูลนักเรียน!G33)","v":""}]
[{"$f":"ข้อมูลนักเรียน!A34","v":0},{"$f":"IF(ข้อมูลนักเรียน!B34=0,\"\",ข้อมูลนักเรียน!B34)","v":""},{"$f":"IF(ข้อมูลนักเรียน!C34=0,\"\",ข้อมูลนักเรียน!C34)","v":""},{"$f":"IF(ข้อมูลนักเรียน!C34=0,\"\",ข้อมูลนักเรียน!D34 & ข้อมูลนักเรียน!E34)","v":""},{"$f":"IF(ข้อมูลนักเรียน!C34=0,\"\",ข้อมูลนักเรียน!F34)","v":""},{"$f":"IF(ข้อมูลนักเรียน!D34=0,\"\",ข้อมูลนักเรียน!G34)","v":""}]
[{"$f":"ข้อมูลนักเรียน!A35","v":0},{"$f":"IF(ข้อมูลนักเรียน!B35=0,\"\",ข้อมูลนักเรียน!B35)","v":""},{"$f":"IF(ข้อมูลนักเรียน!C35=0,\"\",ข้อมูลนักเรียน!C35)","v":""},{"$f":"IF(ข้อมูลนักเรียน!C35=0,\"\",ข้อมูลนักเรียน!D35 & ข้อมูลนักเรียน!E35)","v":""},{"$f":"IF(ข้อมูลนักเรียน!C35=0,\"\",ข้อมูลนักเรียน!F35)","v":""},{"$f":"IF(ข้อมูลนักเรียน!D35=0,\"\",ข้อมูลนักเรียน!G35)","v":""}]
[{"$f":"ข้อมูลนักเรียน!A36","v":0},{"$f":"IF(ข้อมูลนักเรียน!B36=0,\"\",ข้อมูลนักเรียน!B36)","v":""},{"$f":"IF(ข้อมูลนักเรียน!C36=0,\"\",ข้อมูลนักเรียน!C36)","v":""},{"$f":"IF(ข้อมูลนักเรียน!C36=0,\"\",ข้อมูลนักเรียน!D36 & ข้อมูลนักเรียน!E36)","v":""},{"$f":"IF(ข้อมูลนักเรียน!C36=0,\"\",ข้อมูลนักเรียน!F36)","v":""},{"$f":"IF(ข้อมูลนักเรียน!D36=0,\"\",ข้อมูลนักเรียน!G36)","v":""}]
[{"$f":"ข้อมูลนักเรียน!A37","v":0},{"$f":"IF(ข้อมูลนักเรียน!B37=0,\"\",ข้อมูลนักเรียน!B37)","v":""},{"$f":"IF(ข้อมูลนักเรียน!C37=0,\"\",ข้อมูลนักเรียน!C37)","v":""},{"$f":"IF(ข้อมูลนักเรียน!C37=0,\"\",ข้อมูลนักเรียน!D37 & ข้อมูลนักเรียน!E37)","v":""},{"$f":"IF(ข้อมูลนักเรียน!C37=0,\"\",ข้อมูลนักเรียน!F37)","v":""},{"$f":"IF(ข้อมูลนักเรียน!D37=0,\"\",ข้อมูลนักเรียน!G37)","v":""}]
[{"$f":"ข้อมูลนักเรียน!A38","v":0},{"$f":"IF(ข้อมูลนักเรียน!B38=0,\"\",ข้อมูลนักเรียน!B38)","v":""},{"$f":"IF(ข้อมูลนักเรียน!C38=0,\"\",ข้อมูลนักเรียน!C38)","v":""},{"$f":"IF(ข้อมูลนักเรียน!C38=0,\"\",ข้อมูลนักเรียน!D38 & ข้อมูลนักเรียน!E38)","v":""},{"$f":"IF(ข้อมูลนักเรียน!C38=0,\"\",ข้อมูลนักเรียน!F38)","v":""},{"$f":"IF(ข้อมูลนักเรียน!D38=0,\"\",ข้อมูลนักเรียน!G38)","v":""}]
[{"$f":"ข้อมูลนักเรียน!A39","v":0},{"$f":"IF(ข้อมูลนักเรียน!B39=0,\"\",ข้อมูลนักเรียน!B39)","v":""},{"$f":"IF(ข้อมูลนักเรียน!C39=0,\"\",ข้อมูลนักเรียน!C39)","v":""},{"$f":"IF(ข้อมูลนักเรียน!C39=0,\"\",ข้อมูลนักเรียน!D39 & ข้อมูลนักเรียน!E39)","v":""},{"$f":"IF(ข้อมูลนักเรียน!C39=0,\"\",ข้อมูลนักเรียน!F39)","v":""},{"$f":"IF(ข้อมูลนักเรียน!D39=0,\"\",ข้อมูลนักเรียน!G39)","v":""}]
[{"$f":"ข้อมูลนักเรียน!A40","v":0},{"$f":"IF(ข้อมูลนักเรียน!B40=0,\"\",ข้อมูลนักเรียน!B40)","v":""},{"$f":"IF(ข้อมูลนักเรียน!C40=0,\"\",ข้อมูลนักเรียน!C40)","v":""},{"$f":"IF(ข้อมูลนักเรียน!C40=0,\"\",ข้อมูลนักเรียน!D40 & ข้อมูลนักเรียน!E40)","v":""},{"$f":"IF(ข้อมูลนักเรียน!C40=0,\"\",ข้อมูลนักเรียน!F40)","v":""},{"$f":"IF(ข้อมูลนักเรียน!D40=0,\"\",ข้อมูลนักเรียน!G40)","v":""}]
[{"$f":"ข้อมูลนักเรียน!A41","v":0},{"$f":"IF(ข้อมูลนักเรียน!B41=0,\"\",ข้อมูลนักเรียน!B41)","v":""},{"$f":"IF(ข้อมูลนักเรียน!C41=0,\"\",ข้อมูลนักเรียน!C41)","v":""},{"$f":"IF(ข้อมูลนักเรียน!C41=0,\"\",ข้อมูลนักเรียน!D41 & ข้อมูลนักเรียน!E41)","v":""},{"$f":"IF(ข้อมูลนักเรียน!C41=0,\"\",ข้อมูลนักเรียน!F41)","v":""},{"$f":"IF(ข้อมูลนักเรียน!D41=0,\"\",ข้อมูลนักเรียน!G41)","v":""}]
[{"$f":"ข้อมูลนักเรียน!A42","v":0},{"$f":"IF(ข้อมูลนักเรียน!B42=0,\"\",ข้อมูลนักเรียน!B42)","v":""},{"$f":"IF(ข้อมูลนักเรียน!C42=0,\"\",ข้อมูลนักเรียน!C42)","v":""},{"$f":"IF(ข้อมูลนักเรียน!C42=0,\"\",ข้อมูลนักเรียน!D42 & ข้อมูลนักเรียน!E42)","v":""},{"$f":"IF(ข้อมูลนักเรียน!C42=0,\"\",ข้อมูลนักเรียน!F42)","v":""},{"$f":"IF(ข้อมูลนักเรียน!D42=0,\"\",ข้อมูลนักเรียน!G42)","v":""}]
[{"$f":"ข้อมูลนักเรียน!A43","v":0},{"$f":"IF(ข้อมูลนักเรียน!B43=0,\"\",ข้อมูลนักเรียน!B43)","v":""},{"$f":"IF(ข้อมูลนักเรียน!C43=0,\"\",ข้อมูลนักเรียน!C43)","v":""},{"$f":"IF(ข้อมูลนักเรียน!C43=0,\"\",ข้อมูลนักเรียน!D43 & ข้อมูลนักเรียน!E43)","v":""},{"$f":"IF(ข้อมูลนักเรียน!C43=0,\"\",ข้อมูลนักเรียน!F43)","v":""},{"$f":"IF(ข้อมูลนักเรียน!D43=0,\"\",ข้อมูลนักเรียน!G43)","v":""}]
[{"$f":"ข้อมูลนักเรียน!A44","v":0},{"$f":"IF(ข้อมูลนักเรียน!B44=0,\"\",ข้อมูลนักเรียน!B44)","v":""},{"$f":"IF(ข้อมูลนักเรียน!C44=0,\"\",ข้อมูลนักเรียน!C44)","v":""},{"$f":"IF(ข้อมูลนักเรียน!C44=0,\"\",ข้อมูลนักเรียน!D44 & ข้อมูลนักเรียน!E44)","v":""},{"$f":"IF(ข้อมูลนักเรียน!C44=0,\"\",ข้อมูลนักเรียน!F44)","v":""},{"$f":"IF(ข้อมูลนักเรียน!D44=0,\"\",ข้อมูลนักเรียน!G44)","v":""}]
[{"$f":"ข้อมูลนักเรียน!A45","v":0},{"$f":"IF(ข้อมูลนักเรียน!B45=0,\"\",ข้อมูลนักเรียน!B45)","v":""},{"$f":"IF(ข้อมูลนักเรียน!C45=0,\"\",ข้อมูลนักเรียน!C45)","v":""},{"$f":"IF(ข้อมูลนักเรียน!C45=0,\"\",ข้อมูลนักเรียน!D45 & ข้อมูลนักเรียน!E45)","v":""},{"$f":"IF(ข้อมูลนักเรียน!C45=0,\"\",ข้อมูลนักเรียน!F45)","v":""},{"$f":"IF(ข้อมูลนักเรียน!D45=0,\"\",ข้อมูลนักเรียน!G45)","v":""}]
[{"$f":"ข้อมูลนักเรียน!A46","v":0},{"$f":"IF(ข้อมูลนักเรียน!B46=0,\"\",ข้อมูลนักเรียน!B46)","v":""},{"$f":"IF(ข้อมูลนักเรียน!C46=0,\"\",ข้อมูลนักเรียน!C46)","v":""},{"$f":"IF(ข้อมูลนักเรียน!C46=0,\"\",ข้อมูลนักเรียน!D46 & ข้อมูลนักเรียน!E46)","v":""},{"$f":"IF(ข้อมูลนักเรียน!C46=0,\"\",ข้อมูลนักเรียน!F46)","v":""},{"$f":"IF(ข้อมูลนักเรียน!D46=0,\"\",ข้อมูลนักเรียน!G46)","v":""}]
[{"$f":"ข้อมูลนักเรียน!A47","v":0},{"$f":"IF(ข้อมูลนักเรียน!B47=0,\"\",ข้อมูลนักเรียน!B47)","v":""},{"$f":"IF(ข้อมูลนักเรียน!C47=0,\"\",ข้อมูลนักเรียน!C47)","v":""},{"$f":"IF(ข้อมูลนักเรียน!C47=0,\"\",ข้อมูลนักเรียน!D47 & ข้อมูลนักเรียน!E47)","v":""},{"$f":"IF(ข้อมูลนักเรียน!C47=0,\"\",ข้อมูลนักเรียน!F47)","v":""},{"$f":"IF(ข้อมูลนักเรียน!D47=0,\"\",ข้อมูลนักเรียน!G47)","v":""}]
[{"$f":"ข้อมูลนักเรียน!A48","v":0},{"$f":"IF(ข้อมูลนักเรียน!B48=0,\"\",ข้อมูลนักเรียน!B48)","v":""},{"$f":"IF(ข้อมูลนักเรียน!C48=0,\"\",ข้อมูลนักเรียน!C48)","v":""},{"$f":"IF(ข้อมูลนักเรียน!C48=0,\"\",ข้อมูลนักเรียน!D48 & ข้อมูลนักเรียน!E48)","v":""},{"$f":"IF(ข้อมูลนักเรียน!C48=0,\"\",ข้อมูลนักเรียน!F48)","v":""},{"$f":"IF(ข้อมูลนักเรียน!D48=0,\"\",ข้อมูลนักเรียน!G48)","v":""}]
[{"$f":"ข้อมูลนักเรียน!A49","v":0},{"$f":"IF(ข้อมูลนักเรียน!B49=0,\"\",ข้อมูลนักเรียน!B49)","v":""},{"$f":"IF(ข้อมูลนักเรียน!C49=0,\"\",ข้อมูลนักเรียน!C49)","v":""},{"$f":"IF(ข้อมูลนักเรียน!C49=0,\"\",ข้อมูลนักเรียน!D49 & ข้อมูลนักเรียน!E49)","v":""},{"$f":"IF(ข้อมูลนักเรียน!C49=0,\"\",ข้อมูลนักเรียน!F49)","v":""},{"$f":"IF(ข้อมูลนักเรียน!D49=0,\"\",ข้อมูลนักเรียน!G49)","v":""}]
[{"$f":"ข้อมูลนักเรียน!A50","v":0},{"$f":"IF(ข้อมูลนักเรียน!B50=0,\"\",ข้อมูลนักเรียน!B50)","v":""},{"$f":"IF(ข้อมูลนักเรียน!C50=0,\"\",ข้อมูลนักเรียน!C50)","v":""},{"$f":"IF(ข้อมูลนักเรียน!C50=0,\"\",ข้อมูลนักเรียน!D50 & ข้อมูลนักเรียน!E50)","v":""},{"$f":"IF(ข้อมูลนักเรียน!C50=0,\"\",ข้อมูลนักเรียน!F50)","v":""},{"$f":"IF(ข้อมูลนักเรียน!D50=0,\"\",ข้อมูลนักเรียน!G50)","v":""}]
[{"$f":"ข้อมูลนักเรียน!A51","v":0},{"$f":"IF(ข้อมูลนักเรียน!B51=0,\"\",ข้อมูลนักเรียน!B51)","v":""},{"$f":"IF(ข้อมูลนักเรียน!C51=0,\"\",ข้อมูลนักเรียน!C51)","v":""},{"$f":"IF(ข้อมูลนักเรียน!C51=0,\"\",ข้อมูลนักเรียน!D51 & ข้อมูลนักเรียน!E51)","v":""},{"$f":"IF(ข้อมูลนักเรียน!C51=0,\"\",ข้อมูลนักเรียน!F51)","v":""},{"$f":"IF(ข้อมูลนักเรียน!D51=0,\"\",ข้อมูลนักเรียน!G51)","v":""}]
[{"$f":"ข้อมูลนักเรียน!A52","v":0},{"$f":"IF(ข้อมูลนักเรียน!B52=0,\"\",ข้อมูลนักเรียน!B52)","v":""},{"$f":"IF(ข้อมูลนักเรียน!C52=0,\"\",ข้อมูลนักเรียน!C52)","v":""},{"$f":"IF(ข้อมูลนักเรียน!C52=0,\"\",ข้อมูลนักเรียน!D52 & ข้อมูลนักเรียน!E52)","v":""},{"$f":"IF(ข้อมูลนักเรียน!C52=0,\"\",ข้อมูลนักเรียน!F52)","v":""},{"$f":"IF(ข้อมูลนักเรียน!D52=0,\"\",ข้อมูลนักเรียน!G52)","v":""}]
[{"$f":"ข้อมูลนักเรียน!A53","v":0},{"$f":"IF(ข้อมูลนักเรียน!B53=0,\"\",ข้อมูลนักเรียน!B53)","v":""},{"$f":"IF(ข้อมูลนักเรียน!C53=0,\"\",ข้อมูลนักเรียน!C53)","v":""},{"$f":"IF(ข้อมูลนักเรียน!C53=0,\"\",ข้อมูลนักเรียน!D53 & ข้อมูลนักเรียน!E53)","v":""},{"$f":"IF(ข้อมูลนักเรียน!C53=0,\"\",ข้อมูลนักเรียน!F53)","v":""},{"$f":"IF(ข้อมูลนักเรียน!D53=0,\"\",ข้อมูลนักเรียน!G53)","v":""}]
[{"$f":"ข้อมูลนักเรียน!A54","v":0},{"$f":"IF(ข้อมูลนักเรียน!B54=0,\"\",ข้อมูลนักเรียน!B54)","v":""},{"$f":"IF(ข้อมูลนักเรียน!C54=0,\"\",ข้อมูลนักเรียน!C54)","v":""},{"$f":"IF(ข้อมูลนักเรียน!C54=0,\"\",ข้อมูลนักเรียน!D54 & ข้อมูลนักเรียน!E54)","v":""},{"$f":"IF(ข้อมูลนักเรียน!C54=0,\"\",ข้อมูลนักเรียน!F54)","v":""},{"$f":"IF(ข้อมูลนักเรียน!D54=0,\"\",ข้อมูลนักเรียน!G54)","v":""}]
[{"$f":"ข้อมูลนักเรียน!A55","v":0},{"$f":"IF(ข้อมูลนักเรียน!B55=0,\"\",ข้อมูลนักเรียน!B55)","v":""},{"$f":"IF(ข้อมูลนักเรียน!C55=0,\"\",ข้อมูลนักเรียน!C55)","v":""},{"$f":"IF(ข้อมูลนักเรียน!C55=0,\"\",ข้อมูลนักเรียน!D55 & ข้อมูลนักเรียน!E55)","v":""},{"$f":"IF(ข้อมูลนักเรียน!C55=0,\"\",ข้อมูลนักเรียน!F55)","v":""},{"$f":"IF(ข้อมูลนักเรียน!D55=0,\"\",ข้อมูลนักเรียน!G55)","v":""}]
[{"$f":"ข้อมูลนักเรียน!A56","v":0},{"$f":"IF(ข้อมูลนักเรียน!B56=0,\"\",ข้อมูลนักเรียน!B56)","v":""},{"$f":"IF(ข้อมูลนักเรียน!C56=0,\"\",ข้อมูลนักเรียน!C56)","v":""},{"$f":"IF(ข้อมูลนักเรียน!C56=0,\"\",ข้อมูลนักเรียน!D56 & ข้อมูลนักเรียน!E56)","v":""},{"$f":"IF(ข้อมูลนักเรียน!C56=0,\"\",ข้อมูลนักเรียน!F56)","v":""},{"$f":"IF(ข้อมูลนักเรียน!D56=0,\"\",ข้อมูลนักเรียน!G56)","v":""}]
[{"$f":"ข้อมูลนักเรียน!A57","v":0},{"$f":"IF(ข้อมูลนักเรียน!B57=0,\"\",ข้อมูลนักเรียน!B57)","v":""},{"$f":"IF(ข้อมูลนักเรียน!C57=0,\"\",ข้อมูลนักเรียน!C57)","v":""},{"$f":"IF(ข้อมูลนักเรียน!C57=0,\"\",ข้อมูลนักเรียน!D57 & ข้อมูลนักเรียน!E57)","v":""},{"$f":"IF(ข้อมูลนักเรียน!C57=0,\"\",ข้อมูลนักเรียน!F57)","v":""},{"$f":"IF(ข้อมูลนักเรียน!D57=0,\"\",ข้อมูลนักเรียน!G57)","v":""}]
[{"$f":"ข้อมูลนักเรียน!A58","v":0},{"$f":"IF(ข้อมูลนักเรียน!B58=0,\"\",ข้อมูลนักเรียน!B58)","v":""},{"$f":"IF(ข้อมูลนักเรียน!C58=0,\"\",ข้อมูลนักเรียน!C58)","v":""},{"$f":"IF(ข้อมูลนักเรียน!C58=0,\"\",ข้อมูลนักเรียน!D58 & ข้อมูลนักเรียน!E58)","v":""},{"$f":"IF(ข้อมูลนักเรียน!C58=0,\"\",ข้อมูลนักเรียน!F58)","v":""},{"$f":"IF(ข้อมูลนักเรียน!D58=0,\"\",ข้อมูลนักเรียน!G58)","v":""}]
[{"$f":"ข้อมูลนักเรียน!A59","v":0},{"$f":"IF(ข้อมูลนักเรียน!B59=0,\"\",ข้อมูลนักเรียน!B59)","v":""},{"$f":"IF(ข้อมูลนักเรียน!C59=0,\"\",ข้อมูลนักเรียน!C59)","v":""},{"$f":"IF(ข้อมูลนักเรียน!C59=0,\"\",ข้อมูลนักเรียน!D59 & ข้อมูลนักเรียน!E59)","v":""},{"$f":"IF(ข้อมูลนักเรียน!C59=0,\"\",ข้อมูลนักเรียน!F59)","v":""},{"$f":"IF(ข้อมูลนักเรียน!D59=0,\"\",ข้อมูลนักเรียน!G59)","v":""}]
[{"$f":"ข้อมูลนักเรียน!A60","v":0},{"$f":"IF(ข้อมูลนักเรียน!B60=0,\"\",ข้อมูลนักเรียน!B60)","v":""},{"$f":"IF(ข้อมูลนักเรียน!C60=0,\"\",ข้อมูลนักเรียน!C60)","v":""},{"$f":"IF(ข้อมูลนักเรียน!C60=0,\"\",ข้อมูลนักเรียน!D60 & ข้อมูลนักเรียน!E60)","v":""},{"$f":"IF(ข้อมูลนักเรียน!C60=0,\"\",ข้อมูลนักเรียน!F60)","v":""},{"$f":"IF(ข้อมูลนักเรียน!D60=0,\"\",ข้อมูลนักเรียน!G60)","v":""}]
[{"$f":"ข้อมูลนักเรียน!A61","v":0},{"$f":"IF(ข้อมูลนักเรียน!B61=0,\"\",ข้อมูลนักเรียน!B61)","v":""},{"$f":"IF(ข้อมูลนักเรียน!C61=0,\"\",ข้อมูลนักเรียน!C61)","v":""},{"$f":"IF(ข้อมูลนักเรียน!C61=0,\"\",ข้อมูลนักเรียน!D61 & ข้อมูลนักเรียน!E61)","v":""},{"$f":"IF(ข้อมูลนักเรียน!C61=0,\"\",ข้อมูลนักเรียน!F61)","v":""},{"$f":"IF(ข้อมูลนักเรียน!D61=0,\"\",ข้อมูลนักเรียน!G61)","v":""}]
[{"$f":"ข้อมูลนักเรียน!A62","v":0},{"$f":"IF(ข้อมูลนักเรียน!B62=0,\"\",ข้อมูลนักเรียน!B62)","v":""},{"$f":"IF(ข้อมูลนักเรียน!C62=0,\"\",ข้อมูลนักเรียน!C62)","v":""},{"$f":"IF(ข้อมูลนักเรียน!C62=0,\"\",ข้อมูลนักเรียน!D62 & ข้อมูลนักเรียน!E62)","v":""},{"$f":"IF(ข้อมูลนักเรียน!C62=0,\"\",ข้อมูลนักเรียน!F62)","v":""},{"$f":"IF(ข้อมูลนักเรียน!D62=0,\"\",ข้อมูลนักเรียน!G62)","v":""}]
[{"$f":"ข้อมูลนักเรียน!A63","v":0},{"$f":"IF(ข้อมูลนักเรียน!B63=0,\"\",ข้อมูลนักเรียน!B63)","v":""},{"$f":"IF(ข้อมูลนักเรียน!C63=0,\"\",ข้อมูลนักเรียน!C63)","v":""},{"$f":"IF(ข้อมูลนักเรียน!C63=0,\"\",ข้อมูลนักเรียน!D63 & ข้อมูลนักเรียน!E63)","v":""},{"$f":"IF(ข้อมูลนักเรียน!C63=0,\"\",ข้อมูลนักเรียน!F63)","v":""},{"$f":"IF(ข้อมูลนักเรียน!D63=0,\"\",ข้อมูลนักเรียน!G63)","v":""}]
[{"$f":"ข้อมูลนักเรียน!A64","v":0},{"$f":"IF(ข้อมูลนักเรียน!B64=0,\"\",ข้อมูลนักเรียน!B64)","v":""},{"$f":"IF(ข้อมูลนักเรียน!C64=0,\"\",ข้อมูลนักเรียน!C64)","v":""},{"$f":"IF(ข้อมูลนักเรียน!C64=0,\"\",ข้อมูลนักเรียน!D64 & ข้อมูลนักเรียน!E64)","v":""},{"$f":"IF(ข้อมูลนักเรียน!C64=0,\"\",ข้อมูลนักเรียน!F64)","v":""},{"$f":"IF(ข้อมูลนักเรียน!D64=0,\"\",ข้อมูลนักเรียน!G64)","v":""}]
[{"$f":"ข้อมูลนักเรียน!A65","v":0},{"$f":"IF(ข้อมูลนักเรียน!B65=0,\"\",ข้อมูลนักเรียน!B65)","v":""},{"$f":"IF(ข้อมูลนักเรียน!C65=0,\"\",ข้อมูลนักเรียน!C65)","v":""},{"$f":"IF(ข้อมูลนักเรียน!C65=0,\"\",ข้อมูลนักเรียน!D65 & ข้อมูลนักเรียน!E65)","v":""},{"$f":"IF(ข้อมูลนักเรียน!C65=0,\"\",ข้อมูลนักเรียน!F65)","v":""},{"$f":"IF(ข้อมูลนักเรียน!D65=0,\"\",ข้อมูลนักเรียน!G65)","v":""}]
[{"$f":"ข้อมูลนักเรียน!A66","v":0},{"$f":"IF(ข้อมูลนักเรียน!B66=0,\"\",ข้อมูลนักเรียน!B66)","v":""},{"$f":"IF(ข้อมูลนักเรียน!C66=0,\"\",ข้อมูลนักเรียน!C66)","v":""},{"$f":"IF(ข้อมูลนักเรียน!C66=0,\"\",ข้อมูลนักเรียน!D66 & ข้อมูลนักเรียน!E66)","v":""},{"$f":"IF(ข้อมูลนักเรียน!C66=0,\"\",ข้อมูลนักเรียน!F66)","v":""},{"$f":"IF(ข้อมูลนักเรียน!D66=0,\"\",ข้อมูลนักเรียน!G66)","v":""}]
[{"$f":"ข้อมูลนักเรียน!A67","v":0},{"$f":"IF(ข้อมูลนักเรียน!B67=0,\"\",ข้อมูลนักเรียน!B67)","v":""},{"$f":"IF(ข้อมูลนักเรียน!C67=0,\"\",ข้อมูลนักเรียน!C67)","v":""},{"$f":"IF(ข้อมูลนักเรียน!C67=0,\"\",ข้อมูลนักเรียน!D67 & ข้อมูลนักเรียน!E67)","v":""},{"$f":"IF(ข้อมูลนักเรียน!C67=0,\"\",ข้อมูลนักเรียน!F67)","v":""},{"$f":"IF(ข้อมูลนักเรียน!D67=0,\"\",ข้อมูลนักเรียน!G67)","v":""}]
[{"$f":"ข้อมูลนักเรียน!A68","v":0},{"$f":"IF(ข้อมูลนักเรียน!B68=0,\"\",ข้อมูลนักเรียน!B68)","v":""},{"$f":"IF(ข้อมูลนักเรียน!C68=0,\"\",ข้อมูลนักเรียน!C68)","v":""},{"$f":"IF(ข้อมูลนักเรียน!C68=0,\"\",ข้อมูลนักเรียน!D68 & ข้อมูลนักเรียน!E68)","v":""},{"$f":"IF(ข้อมูลนักเรียน!C68=0,\"\",ข้อมูลนักเรียน!F68)","v":""},{"$f":"IF(ข้อมูลนักเรียน!D68=0,\"\",ข้อมูลนักเรียน!G68)","v":""}]
[{"$f":"ข้อมูลนักเรียน!A69","v":0},{"$f":"IF(ข้อมูลนักเรียน!B69=0,\"\",ข้อมูลนักเรียน!B69)","v":""},{"$f":"IF(ข้อมูลนักเรียน!C69=0,\"\",ข้อมูลนักเรียน!C69)","v":""},{"$f":"IF(ข้อมูลนักเรียน!C69=0,\"\",ข้อมูลนักเรียน!D69 & ข้อมูลนักเรียน!E69)","v":""},{"$f":"IF(ข้อมูลนักเรียน!C69=0,\"\",ข้อมูลนักเรียน!F69)","v":""},{"$f":"IF(ข้อมูลนักเรียน!D69=0,\"\",ข้อมูลนักเรียน!G69)","v":""}]
[{"$f":"ข้อมูลนักเรียน!A70","v":0},{"$f":"IF(ข้อมูลนักเรียน!B70=0,\"\",ข้อมูลนักเรียน!B70)","v":""},{"$f":"IF(ข้อมูลนักเรียน!C70=0,\"\",ข้อมูลนักเรียน!C70)","v":""},{"$f":"IF(ข้อมูลนักเรียน!C70=0,\"\",ข้อมูลนักเรียน!D70 & ข้อมูลนักเรียน!E70)","v":""},{"$f":"IF(ข้อมูลนักเรียน!C70=0,\"\",ข้อมูลนักเรียน!F70)","v":""},{"$f":"IF(ข้อมูลนักเรียน!D70=0,\"\",ข้อมูลนักเรียน!G70)","v":""}]
[{"$f":"ข้อมูลนักเรียน!A71","v":0},{"$f":"IF(ข้อมูลนักเรียน!B71=0,\"\",ข้อมูลนักเรียน!B71)","v":""},{"$f":"IF(ข้อมูลนักเรียน!C71=0,\"\",ข้อมูลนักเรียน!C71)","v":""},{"$f":"IF(ข้อมูลนักเรียน!C71=0,\"\",ข้อมูลนักเรียน!D71 & ข้อมูลนักเรียน!E71)","v":""},{"$f":"IF(ข้อมูลนักเรียน!C71=0,\"\",ข้อมูลนักเรียน!F71)","v":""},{"$f":"IF(ข้อมูลนักเรียน!D71=0,\"\",ข้อมูลนักเรียน!G71)","v":""}]
[{"$f":"ข้อมูลนักเรียน!A72","v":0},{"$f":"IF(ข้อมูลนักเรียน!B72=0,\"\",ข้อมูลนักเรียน!B72)","v":""},{"$f":"IF(ข้อมูลนักเรียน!C72=0,\"\",ข้อมูลนักเรียน!C72)","v":""},{"$f":"IF(ข้อมูลนักเรียน!C72=0,\"\",ข้อมูลนักเรียน!D72 & ข้อมูลนักเรียน!E72)","v":""},{"$f":"IF(ข้อมูลนักเรียน!C72=0,\"\",ข้อมูลนักเรียน!F72)","v":""},{"$f":"IF(ข้อมูลนักเรียน!D72=0,\"\",ข้อมูลนักเรียน!G72)","v":""}]
[{"$f":"ข้อมูลนักเรียน!A73","v":0},{"$f":"IF(ข้อมูลนักเรียน!B73=0,\"\",ข้อมูลนักเรียน!B73)","v":""},{"$f":"IF(ข้อมูลนักเรียน!C73=0,\"\",ข้อมูลนักเรียน!C73)","v":""},{"$f":"IF(ข้อมูลนักเรียน!C73=0,\"\",ข้อมูลนักเรียน!D73 & ข้อมูลนักเรียน!E73)","v":""},{"$f":"IF(ข้อมูลนักเรียน!C73=0,\"\",ข้อมูลนักเรียน!F73)","v":""},{"$f":"IF(ข้อมูลนักเรียน!D73=0,\"\",ข้อมูลนักเรียน!G73)","v":""}]
[{"$f":"ข้อมูลนักเรียน!A74","v":0},{"$f":"IF(ข้อมูลนักเรียน!B74=0,\"\",ข้อมูลนักเรียน!B74)","v":""},{"$f":"IF(ข้อมูลนักเรียน!C74=0,\"\",ข้อมูลนักเรียน!C74)","v":""},{"$f":"IF(ข้อมูลนักเรียน!C74=0,\"\",ข้อมูลนักเรียน!D74 & ข้อมูลนักเรียน!E74)","v":""},{"$f":"IF(ข้อมูลนักเรียน!C74=0,\"\",ข้อมูลนักเรียน!F74)","v":""},{"$f":"IF(ข้อมูลนักเรียน!D74=0,\"\",ข้อมูลนักเรียน!G74)","v":""}]
[{"$f":"ข้อมูลนักเรียน!A75","v":0},{"$f":"IF(ข้อมูลนักเรียน!B75=0,\"\",ข้อมูลนักเรียน!B75)","v":""},{"$f":"IF(ข้อมูลนักเรียน!C75=0,\"\",ข้อมูลนักเรียน!C75)","v":""},{"$f":"IF(ข้อมูลนักเรียน!C75=0,\"\",ข้อมูลนักเรียน!D75 & ข้อมูลนักเรียน!E75)","v":""},{"$f":"IF(ข้อมูลนักเรียน!C75=0,\"\",ข้อมูลนักเรียน!F75)","v":""},{"$f":"IF(ข้อมูลนักเรียน!D75=0,\"\",ข้อมูลนักเรียน!G75)","v":""}]
[{"$f":"ข้อมูลนักเรียน!A76","v":0},{"$f":"IF(ข้อมูลนักเรียน!B76=0,\"\",ข้อมูลนักเรียน!B76)","v":""},{"$f":"IF(ข้อมูลนักเรียน!C76=0,\"\",ข้อมูลนักเรียน!C76)","v":""},{"$f":"IF(ข้อมูลนักเรียน!C76=0,\"\",ข้อมูลนักเรียน!D76 & ข้อมูลนักเรียน!E76)","v":""},{"$f":"IF(ข้อมูลนักเรียน!C76=0,\"\",ข้อมูลนักเรียน!F76)","v":""},{"$f":"IF(ข้อมูลนักเรียน!D76=0,\"\",ข้อมูลนักเรียน!G76)","v":""}]
[{"$f":"ข้อมูลนักเรียน!A77","v":0},{"$f":"IF(ข้อมูลนักเรียน!B77=0,\"\",ข้อมูลนักเรียน!B77)","v":""},{"$f":"IF(ข้อมูลนักเรียน!C77=0,\"\",ข้อมูลนักเรียน!C77)","v":""},{"$f":"IF(ข้อมูลนักเรียน!C77=0,\"\",ข้อมูลนักเรียน!D77 & ข้อมูลนักเรียน!E77)","v":""},{"$f":"IF(ข้อมูลนักเรียน!C77=0,\"\",ข้อมูลนักเรียน!F77)","v":""},{"$f":"IF(ข้อมูลนักเรียน!D77=0,\"\",ข้อมูลนักเรียน!G77)","v":""}]
[{"$f":"ข้อมูลนักเรียน!A78","v":0},{"$f":"IF(ข้อมูลนักเรียน!B78=0,\"\",ข้อมูลนักเรียน!B78)","v":""},{"$f":"IF(ข้อมูลนักเรียน!C78=0,\"\",ข้อมูลนักเรียน!C78)","v":""},{"$f":"IF(ข้อมูลนักเรียน!C78=0,\"\",ข้อมูลนักเรียน!D78 & ข้อมูลนักเรียน!E78)","v":""},{"$f":"IF(ข้อมูลนักเรียน!C78=0,\"\",ข้อมูลนักเรียน!F78)","v":""},{"$f":"IF(ข้อมูลนักเรียน!D78=0,\"\",ข้อมูลนักเรียน!G78)","v":""}]
[{"$f":"ข้อมูลนักเรียน!A79","v":0},{"$f":"IF(ข้อมูลนักเรียน!B79=0,\"\",ข้อมูลนักเรียน!B79)","v":""},{"$f":"IF(ข้อมูลนักเรียน!C79=0,\"\",ข้อมูลนักเรียน!C79)","v":""},{"$f":"IF(ข้อมูลนักเรียน!C79=0,\"\",ข้อมูลนักเรียน!D79 & ข้อมูลนักเรียน!E79)","v":""},{"$f":"IF(ข้อมูลนักเรียน!C79=0,\"\",ข้อมูลนักเรียน!F79)","v":""},{"$f":"IF(ข้อมูลนักเรียน!D79=0,\"\",ข้อมูลนักเรียน!G79)","v":""}]
[{"$f":"ข้อมูลนักเรียน!A80","v":0},{"$f":"IF(ข้อมูลนักเรียน!B80=0,\"\",ข้อมูลนักเรียน!B80)","v":""},{"$f":"IF(ข้อมูลนักเรียน!C80=0,\"\",ข้อมูลนักเรียน!C80)","v":""},{"$f":"IF(ข้อมูลนักเรียน!C80=0,\"\",ข้อมูลนักเรียน!D80 & ข้อมูลนักเรียน!E80)","v":""},{"$f":"IF(ข้อมูลนักเรียน!C80=0,\"\",ข้อมูลนักเรียน!F80)","v":""},{"$f":"IF(ข้อมูลนักเรียน!D80=0,\"\",ข้อมูลนักเรียน!G80)","v":""}]
[{"$f":"ข้อมูลนักเรียน!A81","v":0},{"$f":"IF(ข้อมูลนักเรียน!B81=0,\"\",ข้อมูลนักเรียน!B81)","v":""},{"$f":"IF(ข้อมูลนักเรียน!C81=0,\"\",ข้อมูลนักเรียน!C81)","v":""},{"$f":"IF(ข้อมูลนักเรียน!C81=0,\"\",ข้อมูลนักเรียน!D81 & ข้อมูลนักเรียน!E81)","v":""},{"$f":"IF(ข้อมูลนักเรียน!C81=0,\"\",ข้อมูลนักเรียน!F81)","v":""},{"$f":"IF(ข้อมูลนักเรียน!D81=0,\"\",ข้อมูลนักเรียน!G81)","v":""}]
[{"$f":"ข้อมูลนักเรียน!A82","v":0},{"$f":"IF(ข้อมูลนักเรียน!B82=0,\"\",ข้อมูลนักเรียน!B82)","v":""},{"$f":"IF(ข้อมูลนักเรียน!C82=0,\"\",ข้อมูลนักเรียน!C82)","v":""},{"$f":"IF(ข้อมูลนักเรียน!C82=0,\"\",ข้อมูลนักเรียน!D82 & ข้อมูลนักเรียน!E82)","v":""},{"$f":"IF(ข้อมูลนักเรียน!C82=0,\"\",ข้อมูลนักเรียน!F82)","v":""},{"$f":"IF(ข้อมูลนักเรียน!D82=0,\"\",ข้อมูลนักเรียน!G82)","v":""}]
[{"$f":"ข้อมูลนักเรียน!A83","v":0},{"$f":"IF(ข้อมูลนักเรียน!B83=0,\"\",ข้อมูลนักเรียน!B83)","v":""},{"$f":"IF(ข้อมูลนักเรียน!C83=0,\"\",ข้อมูลนักเรียน!C83)","v":""},{"$f":"IF(ข้อมูลนักเรียน!C83=0,\"\",ข้อมูลนักเรียน!D83 & ข้อมูลนักเรียน!E83)","v":""},{"$f":"IF(ข้อมูลนักเรียน!C83=0,\"\",ข้อมูลนักเรียน!F83)","v":""},{"$f":"IF(ข้อมูลนักเรียน!D83=0,\"\",ข้อมูลนักเรียน!G83)","v":""}]
[{"$f":"ข้อมูลนักเรียน!A84","v":0},{"$f":"IF(ข้อมูลนักเรียน!B84=0,\"\",ข้อมูลนักเรียน!B84)","v":""},{"$f":"IF(ข้อมูลนักเรียน!C84=0,\"\",ข้อมูลนักเรียน!C84)","v":""},{"$f":"IF(ข้อมูลนักเรียน!C84=0,\"\",ข้อมูลนักเรียน!D84 & ข้อมูลนักเรียน!E84)","v":""},{"$f":"IF(ข้อมูลนักเรียน!C84=0,\"\",ข้อมูลนักเรียน!F84)","v":""},{"$f":"IF(ข้อมูลนักเรียน!D84=0,\"\",ข้อมูลนักเรียน!G84)","v":""}]
[{"$f":"ข้อมูลนักเรียน!A85","v":0},{"$f":"IF(ข้อมูลนักเรียน!B85=0,\"\",ข้อมูลนักเรียน!B85)","v":""},{"$f":"IF(ข้อมูลนักเรียน!C85=0,\"\",ข้อมูลนักเรียน!C85)","v":""},{"$f":"IF(ข้อมูลนักเรียน!C85=0,\"\",ข้อมูลนักเรียน!D85 & ข้อมูลนักเรียน!E85)","v":""},{"$f":"IF(ข้อมูลนักเรียน!C85=0,\"\",ข้อมูลนักเรียน!F85)","v":""},{"$f":"IF(ข้อมูลนักเรียน!D85=0,\"\",ข้อมูลนักเรียน!G85)","v":""}]
[{"$f":"ข้อมูลนักเรียน!A86","v":0},{"$f":"IF(ข้อมูลนักเรียน!B86=0,\"\",ข้อมูลนักเรียน!B86)","v":""},{"$f":"IF(ข้อมูลนักเรียน!C86=0,\"\",ข้อมูลนักเรียน!C86)","v":""},{"$f":"IF(ข้อมูลนักเรียน!C86=0,\"\",ข้อมูลนักเรียน!D86 & ข้อมูลนักเรียน!E86)","v":""},{"$f":"IF(ข้อมูลนักเรียน!C86=0,\"\",ข้อมูลนักเรียน!F86)","v":""},{"$f":"IF(ข้อมูลนักเรียน!D86=0,\"\",ข้อมูลนักเรียน!G86)","v":""}]
[{"$f":"ข้อมูลนักเรียน!A87","v":0},{"$f":"IF(ข้อมูลนักเรียน!B87=0,\"\",ข้อมูลนักเรียน!B87)","v":""},{"$f":"IF(ข้อมูลนักเรียน!C87=0,\"\",ข้อมูลนักเรียน!C87)","v":""},{"$f":"IF(ข้อมูลนักเรียน!C87=0,\"\",ข้อมูลนักเรียน!D87 & ข้อมูลนักเรียน!E87)","v":""},{"$f":"IF(ข้อมูลนักเรียน!C87=0,\"\",ข้อมูลนักเรียน!F87)","v":""},{"$f":"IF(ข้อมูลนักเรียน!D87=0,\"\",ข้อมูลนักเรียน!G87)","v":""}]
[{"$f":"ข้อมูลนักเรียน!A88","v":0},{"$f":"IF(ข้อมูลนักเรียน!B88=0,\"\",ข้อมูลนักเรียน!B88)","v":""},{"$f":"IF(ข้อมูลนักเรียน!C88=0,\"\",ข้อมูลนักเรียน!C88)","v":""},{"$f":"IF(ข้อมูลนักเรียน!C88=0,\"\",ข้อมูลนักเรียน!D88 & ข้อมูลนักเรียน!E88)","v":""},{"$f":"IF(ข้อมูลนักเรียน!C88=0,\"\",ข้อมูลนักเรียน!F88)","v":""},{"$f":"IF(ข้อมูลนักเรียน!D88=0,\"\",ข้อมูลนักเรียน!G88)","v":""}]
[{"$f":"ข้อมูลนักเรียน!A89","v":0},{"$f":"IF(ข้อมูลนักเรียน!B89=0,\"\",ข้อมูลนักเรียน!B89)","v":""},{"$f":"IF(ข้อมูลนักเรียน!C89=0,\"\",ข้อมูลนักเรียน!C89)","v":""},{"$f":"IF(ข้อมูลนักเรียน!C89=0,\"\",ข้อมูลนักเรียน!D89 & ข้อมูลนักเรียน!E89)","v":""},{"$f":"IF(ข้อมูลนักเรียน!C89=0,\"\",ข้อมูลนักเรียน!F89)","v":""},{"$f":"IF(ข้อมูลนักเรียน!D89=0,\"\",ข้อมูลนักเรียน!G89)","v":""}]
[{"$f":"ข้อมูลนักเรียน!A90","v":0},{"$f":"IF(ข้อมูลนักเรียน!B90=0,\"\",ข้อมูลนักเรียน!B90)","v":""},{"$f":"IF(ข้อมูลนักเรียน!C90=0,\"\",ข้อมูลนักเรียน!C90)","v":""},{"$f":"IF(ข้อมูลนักเรียน!C90=0,\"\",ข้อมูลนักเรียน!D90 & ข้อมูลนักเรียน!E90)","v":""},{"$f":"IF(ข้อมูลนักเรียน!C90=0,\"\",ข้อมูลนักเรียน!F90)","v":""},{"$f":"IF(ข้อมูลนักเรียน!D90=0,\"\",ข้อมูลนักเรียน!G90)","v":""}]
[{"$f":"ข้อมูลนักเรียน!A91","v":0},{"$f":"IF(ข้อมูลนักเรียน!B91=0,\"\",ข้อมูลนักเรียน!B91)","v":""},{"$f":"IF(ข้อมูลนักเรียน!C91=0,\"\",ข้อมูลนักเรียน!C91)","v":""},{"$f":"IF(ข้อมูลนักเรียน!C91=0,\"\",ข้อมูลนักเรียน!D91 & ข้อมูลนักเรียน!E91)","v":""},{"$f":"IF(ข้อมูลนักเรียน!C91=0,\"\",ข้อมูลนักเรียน!F91)","v":""},{"$f":"IF(ข้อมูลนักเรียน!D91=0,\"\",ข้อมูลนักเรียน!G91)","v":""}]
[{"$f":"ข้อมูลนักเรียน!A92","v":0},{"$f":"IF(ข้อมูลนักเรียน!B92=0,\"\",ข้อมูลนักเรียน!B92)","v":""},{"$f":"IF(ข้อมูลนักเรียน!C92=0,\"\",ข้อมูลนักเรียน!C92)","v":""},{"$f":"IF(ข้อมูลนักเรียน!C92=0,\"\",ข้อมูลนักเรียน!D92 & ข้อมูลนักเรียน!E92)","v":""},{"$f":"IF(ข้อมูลนักเรียน!C92=0,\"\",ข้อมูลนักเรียน!F92)","v":""},{"$f":"IF(ข้อมูลนักเรียน!D92=0,\"\",ข้อมูลนักเรียน!G92)","v":""}]
[{"$f":"ข้อมูลนักเรียน!A93","v":0},{"$f":"IF(ข้อมูลนักเรียน!B93=0,\"\",ข้อมูลนักเรียน!B93)","v":""},{"$f":"IF(ข้อมูลนักเรียน!C93=0,\"\",ข้อมูลนักเรียน!C93)","v":""},{"$f":"IF(ข้อมูลนักเรียน!C93=0,\"\",ข้อมูลนักเรียน!D93 & ข้อมูลนักเรียน!E93)","v":""},{"$f":"IF(ข้อมูลนักเรียน!C93=0,\"\",ข้อมูลนักเรียน!F93)","v":""},{"$f":"IF(ข้อมูลนักเรียน!D93=0,\"\",ข้อมูลนักเรียน!G93)","v":""}]
[{"$f":"ข้อมูลนักเรียน!A94","v":0},{"$f":"IF(ข้อมูลนักเรียน!B94=0,\"\",ข้อมูลนักเรียน!B94)","v":""},{"$f":"IF(ข้อมูลนักเรียน!C94=0,\"\",ข้อมูลนักเรียน!C94)","v":""},{"$f":"IF(ข้อมูลนักเรียน!C94=0,\"\",ข้อมูลนักเรียน!D94 & ข้อมูลนักเรียน!E94)","v":""},{"$f":"IF(ข้อมูลนักเรียน!C94=0,\"\",ข้อมูลนักเรียน!F94)","v":""},{"$f":"IF(ข้อมูลนักเรียน!D94=0,\"\",ข้อมูลนักเรียน!G94)","v":""}]
[{"$f":"ข้อมูลนักเรียน!A95","v":0},{"$f":"IF(ข้อมูลนักเรียน!B95=0,\"\",ข้อมูลนักเรียน!B95)","v":""},{"$f":"IF(ข้อมูลนักเรียน!C95=0,\"\",ข้อมูลนักเรียน!C95)","v":""},{"$f":"IF(ข้อมูลนักเรียน!C95=0,\"\",ข้อมูลนักเรียน!D95 & ข้อมูลนักเรียน!E95)","v":""},{"$f":"IF(ข้อมูลนักเรียน!C95=0,\"\",ข้อมูลนักเรียน!F95)","v":""},{"$f":"IF(ข้อมูลนักเรียน!D95=0,\"\",ข้อมูลนักเรียน!G95)","v":""}]
[{"$f":"ข้อมูลนักเรียน!A96","v":0},{"$f":"IF(ข้อมูลนักเรียน!B96=0,\"\",ข้อมูลนักเรียน!B96)","v":""},{"$f":"IF(ข้อมูลนักเรียน!C96=0,\"\",ข้อมูลนักเรียน!C96)","v":""},{"$f":"IF(ข้อมูลนักเรียน!C96=0,\"\",ข้อมูลนักเรียน!D96 & ข้อมูลนักเรียน!E96)","v":""},{"$f":"IF(ข้อมูลนักเรียน!C96=0,\"\",ข้อมูลนักเรียน!F96)","v":""},{"$f":"IF(ข้อมูลนักเรียน!D96=0,\"\",ข้อมูลนักเรียน!G96)","v":""}]
[{"$f":"ข้อมูลนักเรียน!A97","v":0},{"$f":"IF(ข้อมูลนักเรียน!B97=0,\"\",ข้อมูลนักเรียน!B97)","v":""},{"$f":"IF(ข้อมูลนักเรียน!C97=0,\"\",ข้อมูลนักเรียน!C97)","v":""},{"$f":"IF(ข้อมูลนักเรียน!C97=0,\"\",ข้อมูลนักเรียน!D97 & ข้อมูลนักเรียน!E97)","v":""},{"$f":"IF(ข้อมูลนักเรียน!C97=0,\"\",ข้อมูลนักเรียน!F97)","v":""},{"$f":"IF(ข้อมูลนักเรียน!D97=0,\"\",ข้อมูลนักเรียน!G97)","v":""}]
[{"$f":"ข้อมูลนักเรียน!A98","v":0},{"$f":"IF(ข้อมูลนักเรียน!B98=0,\"\",ข้อมูลนักเรียน!B98)","v":""},{"$f":"IF(ข้อมูลนักเรียน!C98=0,\"\",ข้อมูลนักเรียน!C98)","v":""},{"$f":"IF(ข้อมูลนักเรียน!C98=0,\"\",ข้อมูลนักเรียน!D98 & ข้อมูลนักเรียน!E98)","v":""},{"$f":"IF(ข้อมูลนักเรียน!C98=0,\"\",ข้อมูลนักเรียน!F98)","v":""},{"$f":"IF(ข้อมูลนักเรียน!D98=0,\"\",ข้อมูลนักเรียน!G98)","v":""}]
[{"$f":"ข้อมูลนักเรียน!A99","v":0},{"$f":"IF(ข้อมูลนักเรียน!B99=0,\"\",ข้อมูลนักเรียน!B99)","v":""},{"$f":"IF(ข้อมูลนักเรียน!C99=0,\"\",ข้อมูลนักเรียน!C99)","v":""},{"$f":"IF(ข้อมูลนักเรียน!C99=0,\"\",ข้อมูลนักเรียน!D99 & ข้อมูลนักเรียน!E99)","v":""},{"$f":"IF(ข้อมูลนักเรียน!C99=0,\"\",ข้อมูลนักเรียน!F99)","v":""},{"$f":"IF(ข้อมูลนักเรียน!D99=0,\"\",ข้อมูลนักเรียน!G99)","v":""}]
[{"$f":"ข้อมูลนักเรียน!A100","v":0},{"$f":"IF(ข้อมูลนักเรียน!B100=0,\"\",ข้อมูลนักเรียน!B100)","v":""},{"$f":"IF(ข้อมูลนักเรียน!C100=0,\"\",ข้อมูลนักเรียน!C100)","v":""},{"$f":"IF(ข้อมูลนักเรียน!C100=0,\"\",ข้อมูลนักเรียน!D100 & ข้อมูลนักเรียน!E100)","v":""},{"$f":"IF(ข้อมูลนักเรียน!C100=0,\"\",ข้อมูลนักเรียน!F100)","v":""},{"$f":"IF(ข้อมูลนักเรียน!D100=0,\"\",ข้อมูลนักเรียน!G100)","v":""}]
[{"$f":"ข้อมูลนักเรียน!A101","v":0},{"$f":"IF(ข้อมูลนักเรียน!B101=0,\"\",ข้อมูลนักเรียน!B101)","v":""},{"$f":"IF(ข้อมูลนักเรียน!C101=0,\"\",ข้อมูลนักเรียน!C101)","v":""},{"$f":"IF(ข้อมูลนักเรียน!C101=0,\"\",ข้อมูลนักเรียน!D101 & ข้อมูลนักเรียน!E101)","v":""},{"$f":"IF(ข้อมูลนักเรียน!C101=0,\"\",ข้อมูลนักเรียน!F101)","v":""},{"$f":"IF(ข้อมูลนักเรียน!D101=0,\"\",ข้อมูลนักเรียน!G101)","v":""}]
[{"$f":"ข้อมูลนักเรียน!A102","v":0},{"$f":"IF(ข้อมูลนักเรียน!B102=0,\"\",ข้อมูลนักเรียน!B102)","v":""},{"$f":"IF(ข้อมูลนักเรียน!C102=0,\"\",ข้อมูลนักเรียน!C102)","v":""},{"$f":"IF(ข้อมูลนักเรียน!C102=0,\"\",ข้อมูลนักเรียน!D102 & ข้อมูลนักเรียน!E102)","v":""},{"$f":"IF(ข้อมูลนักเรียน!C102=0,\"\",ข้อมูลนักเรียน!F102)","v":""},{"$f":"IF(ข้อมูลนักเรียน!D102=0,\"\",ข้อมูลนักเรียน!G102)","v":""}]
[{"$f":"ข้อมูลนักเรียน!A103","v":0},{"$f":"IF(ข้อมูลนักเรียน!B103=0,\"\",ข้อมูลนักเรียน!B103)","v":""},{"$f":"IF(ข้อมูลนักเรียน!C103=0,\"\",ข้อมูลนักเรียน!C103)","v":""},{"$f":"IF(ข้อมูลนักเรียน!C103=0,\"\",ข้อมูลนักเรียน!D103 & ข้อมูลนักเรียน!E103)","v":""},{"$f":"IF(ข้อมูลนักเรียน!C103=0,\"\",ข้อมูลนักเรียน!F103)","v":""},{"$f":"IF(ข้อมูลนักเรียน!D103=0,\"\",ข้อมูลนักเรียน!G103)","v":""}]
[{"$f":"ข้อมูลนักเรียน!A104","v":0},{"$f":"IF(ข้อมูลนักเรียน!B104=0,\"\",ข้อมูลนักเรียน!B104)","v":""},{"$f":"IF(ข้อมูลนักเรียน!C104=0,\"\",ข้อมูลนักเรียน!C104)","v":""},{"$f":"IF(ข้อมูลนักเรียน!C104=0,\"\",ข้อมูลนักเรียน!D104 & ข้อมูลนักเรียน!E104)","v":""},{"$f":"IF(ข้อมูลนักเรียน!C104=0,\"\",ข้อมูลนักเรียน!F104)","v":""},{"$f":"IF(ข้อมูลนักเรียน!D104=0,\"\",ข้อมูลนักเรียน!G104)","v":""}]
[{"$f":"ข้อมูลนักเรียน!A105","v":0},{"$f":"IF(ข้อมูลนักเรียน!B105=0,\"\",ข้อมูลนักเรียน!B105)","v":""},{"$f":"IF(ข้อมูลนักเรียน!C105=0,\"\",ข้อมูลนักเรียน!C105)","v":""},{"$f":"IF(ข้อมูลนักเรียน!C105=0,\"\",ข้อมูลนักเรียน!D105 & ข้อมูลนักเรียน!E105)","v":""},{"$f":"IF(ข้อมูลนักเรียน!C105=0,\"\",ข้อมูลนักเรียน!F105)","v":""},{"$f":"IF(ข้อมูลนักเรียน!D105=0,\"\",ข้อมูลนักเรียน!G105)","v":""}]
[{"$f":"ข้อมูลนักเรียน!A106","v":0},{"$f":"IF(ข้อมูลนักเรียน!B106=0,\"\",ข้อมูลนักเรียน!B106)","v":""},{"$f":"IF(ข้อมูลนักเรียน!C106=0,\"\",ข้อมูลนักเรียน!C106)","v":""},{"$f":"IF(ข้อมูลนักเรียน!C106=0,\"\",ข้อมูลนักเรียน!D106 & ข้อมูลนักเรียน!E106)","v":""},{"$f":"IF(ข้อมูลนักเรียน!C106=0,\"\",ข้อมูลนักเรียน!F106)","v":""},{"$f":"IF(ข้อมูลนักเรียน!D106=0,\"\",ข้อมูลนักเรียน!G106)","v":""}]
[{"$f":"ข้อมูลนักเรียน!A107","v":0},{"$f":"IF(ข้อมูลนักเรียน!B107=0,\"\",ข้อมูลนักเรียน!B107)","v":""},{"$f":"IF(ข้อมูลนักเรียน!C107=0,\"\",ข้อมูลนักเรียน!C107)","v":""},{"$f":"IF(ข้อมูลนักเรียน!C107=0,\"\",ข้อมูลนักเรียน!D107 & ข้อมูลนักเรียน!E107)","v":""},{"$f":"IF(ข้อมูลนักเรียน!C107=0,\"\",ข้อมูลนักเรียน!F107)","v":""},{"$f":"IF(ข้อมูลนักเรียน!D107=0,\"\",ข้อมูลนักเรียน!G107)","v":""}]
[{"$f":"ข้อมูลนักเรียน!A108","v":0},{"$f":"IF(ข้อมูลนักเรียน!B108=0,\"\",ข้อมูลนักเรียน!B108)","v":""},{"$f":"IF(ข้อมูลนักเรียน!C108=0,\"\",ข้อมูลนักเรียน!C108)","v":""},{"$f":"IF(ข้อมูลนักเรียน!C108=0,\"\",ข้อมูลนักเรียน!D108 & ข้อมูลนักเรียน!E108)","v":""},{"$f":"IF(ข้อมูลนักเรียน!C108=0,\"\",ข้อมูลนักเรียน!F108)","v":""},{"$f":"IF(ข้อมูลนักเรียน!D108=0,\"\",ข้อมูลนักเรียน!G108)","v":""}]
[{"$f":"ข้อมูลนักเรียน!A109","v":0},{"$f":"IF(ข้อมูลนักเรียน!B109=0,\"\",ข้อมูลนักเรียน!B109)","v":""},{"$f":"IF(ข้อมูลนักเรียน!C109=0,\"\",ข้อมูลนักเรียน!C109)","v":""},{"$f":"IF(ข้อมูลนักเรียน!C109=0,\"\",ข้อมูลนักเรียน!D109 & ข้อมูลนักเรียน!E109)","v":""},{"$f":"IF(ข้อมูลนักเรียน!C109=0,\"\",ข้อมูลนักเรียน!F109)","v":""},{"$f":"IF(ข้อมูลนักเรียน!D109=0,\"\",ข้อมูลนักเรียน!G109)","v":""}]
[{"$f":"ข้อมูลนักเรียน!A110","v":0},{"$f":"IF(ข้อมูลนักเรียน!B110=0,\"\",ข้อมูลนักเรียน!B110)","v":""},{"$f":"IF(ข้อมูลนักเรียน!C110=0,\"\",ข้อมูลนักเรียน!C110)","v":""},{"$f":"IF(ข้อมูลนักเรียน!C110=0,\"\",ข้อมูลนักเรียน!D110 & ข้อมูลนักเรียน!E110)","v":""},{"$f":"IF(ข้อมูลนักเรียน!C110=0,\"\",ข้อมูลนักเรียน!F110)","v":""},{"$f":"IF(ข้อมูลนักเรียน!D110=0,\"\",ข้อมูลนักเรียน!G110)","v":""}]
[{"$f":"ข้อมูลนักเรียน!A111","v":0},{"$f":"IF(ข้อมูลนักเรียน!B111=0,\"\",ข้อมูลนักเรียน!B111)","v":""},{"$f":"IF(ข้อมูลนักเรียน!C111=0,\"\",ข้อมูลนักเรียน!C111)","v":""},{"$f":"IF(ข้อมูลนักเรียน!C111=0,\"\",ข้อมูลนักเรียน!D111 & ข้อมูลนักเรียน!E111)","v":""},{"$f":"IF(ข้อมูลนักเรียน!C111=0,\"\",ข้อมูลนักเรียน!F111)","v":""},{"$f":"IF(ข้อมูลนักเรียน!D111=0,\"\",ข้อมูลนักเรียน!G111)","v":""}]
[{"$f":"ข้อมูลนักเรียน!A112","v":0},{"$f":"IF(ข้อมูลนักเรียน!B112=0,\"\",ข้อมูลนักเรียน!B112)","v":""},{"$f":"IF(ข้อมูลนักเรียน!C112=0,\"\",ข้อมูลนักเรียน!C112)","v":""},{"$f":"IF(ข้อมูลนักเรียน!C112=0,\"\",ข้อมูลนักเรียน!D112 & ข้อมูลนักเรียน!E112)","v":""},{"$f":"IF(ข้อมูลนักเรียน!C112=0,\"\",ข้อมูลนักเรียน!F112)","v":""},{"$f":"IF(ข้อมูลนักเรียน!D112=0,\"\",ข้อมูลนักเรียน!G112)","v":""}]
[{"$f":"ข้อมูลนักเรียน!A113","v":0},{"$f":"IF(ข้อมูลนักเรียน!B113=0,\"\",ข้อมูลนักเรียน!B113)","v":""},{"$f":"IF(ข้อมูลนักเรียน!C113=0,\"\",ข้อมูลนักเรียน!C113)","v":""},{"$f":"IF(ข้อมูลนักเรียน!C113=0,\"\",ข้อมูลนักเรียน!D113 & ข้อมูลนักเรียน!E113)","v":""},{"$f":"IF(ข้อมูลนักเรียน!C113=0,\"\",ข้อมูลนักเรียน!F113)","v":""},{"$f":"IF(ข้อมูลนักเรียน!D113=0,\"\",ข้อมูลนักเรียน!G113)","v":""}]
[{"$f":"ข้อมูลนักเรียน!A114","v":0},{"$f":"IF(ข้อมูลนักเรียน!B114=0,\"\",ข้อมูลนักเรียน!B114)","v":""},{"$f":"IF(ข้อมูลนักเรียน!C114=0,\"\",ข้อมูลนักเรียน!C114)","v":""},{"$f":"IF(ข้อมูลนักเรียน!C114=0,\"\",ข้อมูลนักเรียน!D114 & ข้อมูลนักเรียน!E114)","v":""},{"$f":"IF(ข้อมูลนักเรียน!C114=0,\"\",ข้อมูลนักเรียน!F114)","v":""},{"$f":"IF(ข้อมูลนักเรียน!D114=0,\"\",ข้อมูลนักเรียน!G114)","v":""}]
[{"$f":"ข้อมูลนักเรียน!A115","v":0},{"$f":"IF(ข้อมูลนักเรียน!B115=0,\"\",ข้อมูลนักเรียน!B115)","v":""},{"$f":"IF(ข้อมูลนักเรียน!C115=0,\"\",ข้อมูลนักเรียน!C115)","v":""},{"$f":"IF(ข้อมูลนักเรียน!C115=0,\"\",ข้อมูลนักเรียน!D115 & ข้อมูลนักเรียน!E115)","v":""},{"$f":"IF(ข้อมูลนักเรียน!C115=0,\"\",ข้อมูลนักเรียน!F115)","v":""},{"$f":"IF(ข้อมูลนักเรียน!D115=0,\"\",ข้อมูลนักเรียน!G115)","v":""}]
[{"$f":"ข้อมูลนักเรียน!A116","v":0},{"$f":"IF(ข้อมูลนักเรียน!B116=0,\"\",ข้อมูลนักเรียน!B116)","v":""},{"$f":"IF(ข้อมูลนักเรียน!C116=0,\"\",ข้อมูลนักเรียน!C116)","v":""},{"$f":"IF(ข้อมูลนักเรียน!C116=0,\"\",ข้อมูลนักเรียน!D116 & ข้อมูลนักเรียน!E116)","v":""},{"$f":"IF(ข้อมูลนักเรียน!C116=0,\"\",ข้อมูลนักเรียน!F116)","v":""},{"$f":"IF(ข้อมูลนักเรียน!D116=0,\"\",ข้อมูลนักเรียน!G116)","v":""}]
[{"$f":"ข้อมูลนักเรียน!A117","v":0},{"$f":"IF(ข้อมูลนักเรียน!B117=0,\"\",ข้อมูลนักเรียน!B117)","v":""},{"$f":"IF(ข้อมูลนักเรียน!C117=0,\"\",ข้อมูลนักเรียน!C117)","v":""},{"$f":"IF(ข้อมูลนักเรียน!C117=0,\"\",ข้อมูลนักเรียน!D117 & ข้อมูลนักเรียน!E117)","v":""},{"$f":"IF(ข้อมูลนักเรียน!C117=0,\"\",ข้อมูลนักเรียน!F117)","v":""},{"$f":"IF(ข้อมูลนักเรียน!D117=0,\"\",ข้อมูลนักเรียน!G117)","v":""}]
[{"$f":"ข้อมูลนักเรียน!A118","v":0},{"$f":"IF(ข้อมูลนักเรียน!B118=0,\"\",ข้อมูลนักเรียน!B118)","v":""},{"$f":"IF(ข้อมูลนักเรียน!C118=0,\"\",ข้อมูลนักเรียน!C118)","v":""},{"$f":"IF(ข้อมูลนักเรียน!C118=0,\"\",ข้อมูลนักเรียน!D118 & ข้อมูลนักเรียน!E118)","v":""},{"$f":"IF(ข้อมูลนักเรียน!C118=0,\"\",ข้อมูลนักเรียน!F118)","v":""},{"$f":"IF(ข้อมูลนักเรียน!D118=0,\"\",ข้อมูลนักเรียน!G118)","v":""}]
[{"$f":"ข้อมูลนักเรียน!A119","v":0},{"$f":"IF(ข้อมูลนักเรียน!B119=0,\"\",ข้อมูลนักเรียน!B119)","v":""},{"$f":"IF(ข้อมูลนักเรียน!C119=0,\"\",ข้อมูลนักเรียน!C119)","v":""},{"$f":"IF(ข้อมูลนักเรียน!C119=0,\"\",ข้อมูลนักเรียน!D119 & ข้อมูลนักเรียน!E119)","v":""},{"$f":"IF(ข้อมูลนักเรียน!C119=0,\"\",ข้อมูลนักเรียน!F119)","v":""},{"$f":"IF(ข้อมูลนักเรียน!D119=0,\"\",ข้อมูลนักเรียน!G119)","v":""}]
[{"$f":"ข้อมูลนักเรียน!A120","v":0},{"$f":"IF(ข้อมูลนักเรียน!B120=0,\"\",ข้อมูลนักเรียน!B120)","v":""},{"$f":"IF(ข้อมูลนักเรียน!C120=0,\"\",ข้อมูลนักเรียน!C120)","v":""},{"$f":"IF(ข้อมูลนักเรียน!C120=0,\"\",ข้อมูลนักเรียน!D120 & ข้อมูลนักเรียน!E120)","v":""},{"$f":"IF(ข้อมูลนักเรียน!C120=0,\"\",ข้อมูลนักเรียน!F120)","v":""},{"$f":"IF(ข้อมูลนักเรียน!D120=0,\"\",ข้อมูลนักเรียน!G120)","v":""}]
[{"$f":"ข้อมูลนักเรียน!A121","v":0},{"$f":"IF(ข้อมูลนักเรียน!B121=0,\"\",ข้อมูลนักเรียน!B121)","v":""},{"$f":"IF(ข้อมูลนักเรียน!C121=0,\"\",ข้อมูลนักเรียน!C121)","v":""},{"$f":"IF(ข้อมูลนักเรียน!C121=0,\"\",ข้อมูลนักเรียน!D121 & ข้อมูลนักเรียน!E121)","v":""},{"$f":"IF(ข้อมูลนักเรียน!C121=0,\"\",ข้อมูลนักเรียน!F121)","v":""},{"$f":"IF(ข้อมูลนักเรียน!D121=0,\"\",ข้อมูลนักเรียน!G121)","v":""}]
[{"$f":"ข้อมูลนักเรียน!A122","v":0},{"$f":"IF(ข้อมูลนักเรียน!B122=0,\"\",ข้อมูลนักเรียน!B122)","v":""},{"$f":"IF(ข้อมูลนักเรียน!C122=0,\"\",ข้อมูลนักเรียน!C122)","v":""},{"$f":"IF(ข้อมูลนักเรียน!C122=0,\"\",ข้อมูลนักเรียน!D122 & ข้อมูลนักเรียน!E122)","v":""},{"$f":"IF(ข้อมูลนักเรียน!C122=0,\"\",ข้อมูลนักเรียน!F122)","v":""},{"$f":"IF(ข้อมูลนักเรียน!D122=0,\"\",ข้อมูลนักเรียน!G122)","v":""}]
[{"$f":"ข้อมูลนักเรียน!A123","v":0},{"$f":"IF(ข้อมูลนักเรียน!B123=0,\"\",ข้อมูลนักเรียน!B123)","v":""},{"$f":"IF(ข้อมูลนักเรียน!C123=0,\"\",ข้อมูลนักเรียน!C123)","v":""},{"$f":"IF(ข้อมูลนักเรียน!C123=0,\"\",ข้อมูลนักเรียน!D123 & ข้อมูลนักเรียน!E123)","v":""},{"$f":"IF(ข้อมูลนักเรียน!C123=0,\"\",ข้อมูลนักเรียน!F123)","v":""},{"$f":"IF(ข้อมูลนักเรียน!D123=0,\"\",ข้อมูลนักเรียน!G123)","v":""}]
[{"$f":"ข้อมูลนักเรียน!A124","v":0},{"$f":"IF(ข้อมูลนักเรียน!B124=0,\"\",ข้อมูลนักเรียน!B124)","v":""},{"$f":"IF(ข้อมูลนักเรียน!C124=0,\"\",ข้อมูลนักเรียน!C124)","v":""},{"$f":"IF(ข้อมูลนักเรียน!C124=0,\"\",ข้อมูลนักเรียน!D124 & ข้อมูลนักเรียน!E124)","v":""},{"$f":"IF(ข้อมูลนักเรียน!C124=0,\"\",ข้อมูลนักเรียน!F124)","v":""},{"$f":"IF(ข้อมูลนักเรียน!D124=0,\"\",ข้อมูลนักเรียน!G124)","v":""}]
[{"$f":"ข้อมูลนักเรียน!A125","v":0},{"$f":"IF(ข้อมูลนักเรียน!B125=0,\"\",ข้อมูลนักเรียน!B125)","v":""},{"$f":"IF(ข้อมูลนักเรียน!C125=0,\"\",ข้อมูลนักเรียน!C125)","v":""},{"$f":"IF(ข้อมูลนักเรียน!C125=0,\"\",ข้อมูลนักเรียน!D125 & ข้อมูลนักเรียน!E125)","v":""},{"$f":"IF(ข้อมูลนักเรียน!C125=0,\"\",ข้อมูลนักเรียน!F125)","v":""},{"$f":"IF(ข้อมูลนักเรียน!D125=0,\"\",ข้อมูลนักเรียน!G125)","v":""}]
[{"$f":"ข้อมูลนักเรียน!A126","v":0},{"$f":"IF(ข้อมูลนักเรียน!B126=0,\"\",ข้อมูลนักเรียน!B126)","v":""},{"$f":"IF(ข้อมูลนักเรียน!C126=0,\"\",ข้อมูลนักเรียน!C126)","v":""},{"$f":"IF(ข้อมูลนักเรียน!C126=0,\"\",ข้อมูลนักเรียน!D126 & ข้อมูลนักเรียน!E126)","v":""},{"$f":"IF(ข้อมูลนักเรียน!C126=0,\"\",ข้อมูลนักเรียน!F126)","v":""},{"$f":"IF(ข้อมูลนักเรียน!D126=0,\"\",ข้อมูลนักเรียน!G126)","v":""}]

{"sheet":"เกรด1","index":6,"n_rows":139,"n_cols":41,"rows_kept":139,"cut":false,"hidden":false,"merged":[[0,0,0,2],[0,15,0,27],[1,36,4,36],[1,6,2,6],[1,0,5,0],[1,1,5,1],[1,2,5,2],[1,3,5,3],[1,34,5,34]]}
["ปีการศึกษา : ",null,null,{"$f":"ข้อมูลนักเรียน!F4","v":2550},null,null,null,null,null,null,null,null,null,null,null,"ประถมศึกษาปีที่ 1"]
["ห้อง","เลขที่","รหัสนักเรียน","ชื่อ - สกุล",null,null,"วิชา",{"$f":"IF(หลักสูตร!$B$4=0,\"ช่องว่าง\",หลักสูตร!$C$4)","v":"ภาษาไทย"},{"$f":"IF(หลักสูตร!$B$5=0,\"ช่องว่าง\",หลักสูตร!$C$5)","v":"คณิตศาสตร์"},{"$f":"IF(หลักสูตร!$B$6=0,\"ช่องว่าง\",หลักสูตร!$C$6)","v":"วิทยาศาสตร์"},{"$f":"IF(หลักสูตร!$B$7=0,\"ช่องว่าง\",หลักสูตร!$C$7)","v":"สังคมศึกษา ศาสนาและวัฒนธรรม"},{"$f":"IF(หลักสูตร!$B$8=0,\"ช่องว่าง\",หลักสูตร!$C$8)","v":"ประวัติศาสตร์"},{"$f":"IF(หลักสูตร!$B$9=0,\"ช่องว่าง\",หลักสูตร!$C$9)","v":"สุขศึกษาและพลศึกษา"},{"$f":"IF(หลักสูตร!$B$10=0,\"ช่องว่าง\",หลักสูตร!$C$10)","v":"ศิลปะ"},{"$f":"IF(หลักสูตร!$B$11=0,\"ช่องว่าง\",หลักสูตร!$C$11)","v":"การงานอาชีพและเทคโนโลยี"},{"$f":"IF(หลักสูตร!$B$12=0,\"ช่องว่าง\",หลักสูตร!$C$12)","v":"ภาษาต่างประเทศ"},{"$f":"IF(หลักสูตร!$B$13=0,\"ช่องว่าง\",หลักสูตร!$C$13)","v":"คอมพิวเตอร์"},{"$f":"IF(หลักสูตร!$B$14=0,\"ช่องว่าง\",หลักสูตร!$C$14)","v":"งานเกษตร"},{"$f":"IF(หลักสูตร!$B$15=0,\"ช่องว่าง\",หลักสูตร!$C$15)","v":0},{"$f":"IF(หลักสูตร!$B$16=0,\"ช่องว่าง\",หลักสูตร!$C$16)","v":"ช่องว่าง"},{"$f":"IF(หลักสูตร!$B$17=0,\"ช่องว่าง\",หลักสูตร!$C$17)","v":"ช่องว่าง"},{"$f":"IF(หลักสูตร!$B$18=0,\"ช่องว่าง\",หลักสูตร!$C$18)","v":"ช่องว่าง"},{"$f":"IF(หลักสูตร!$B$19=0,\"ช่องว่าง\",หลักสูตร!$C$19)","v":"ช่องว่าง"},{"$f":"IF(หลักสูตร!$B$20=0,\"ช่องว่าง\",หลักสูตร!$C$20)","v":"ช่องว่าง"},{"$f":"IF(หลักสูตร!$B$21=0,\"ช่องว่าง\",หลักสูตร!$C$21)","v":"ช่องว่าง"},{"$f":"IF(หลักสูตร!$B$23=0,\"ช่องว่าง\",หลักสูตร!$C$23)","v":"แนะแนว"},{"$f":"IF(หลักสูตร!$B$24=0,\"ช่องว่าง\",หลักสูตร!$C$24)","v":"ลูกเสือ เนตรนารี"},{"$f":"IF(หลักสูตร!$B$25=0,\"ช่องว่าง\",หลักสูตร!$C$25)","v":"ชุมนุม"},{"$f":"IF(หลักสูตร!$B$26=0,\"ช่องว่าง\",หลักสูตร!$C$26)","v":"กิจกรรมเพื่อสังคมและสาธารณประโยชน์"},{"$f":"IF(หลักสูตร!$B$27=0,\"ช่องว่าง\",หลักสูตร!$C$27)","v":"ช่องว่าง"},"คุณลักษณะ","อ่าน คิดฯ","สรุปกิจกรรม","เกรดเฉลี่ย","ชื่อวิชาเลือก\nรหัสวิชา ตามด้วยชื่อวิชา\nตัวอย่าง  ง31202 เกษตรอินทรีย์","อ่าน คิดฯ","ชื่อชุมนุม"]
[null,null,null,null,null,null,null,{"$f":"IF(หลักสูตร!$B$4=0,\"\",หลักสูตร!$B$4)","v":"ท11101"},{"$f":"IF(หลักสูตร!$B$5=0,\"\",หลักสูตร!$B$5)","v":"ค11101"},{"$f":"IF(หลักสูตร!$B$6=0,\"\",หลักสูตร!$B$6)","v":"ว11101"},{"$f":"IF(หลักสูตร!$B$7=0,\"\",หลักสูตร!$B$7)","v":"ส11101"},{"$f":"IF(หลักสูตร!$B$8=0,\"\",หลักสูตร!$B$8)","v":"ส11102"},{"$f":"IF(หลักสูตร!$B$9=0,\"\",หลักสูตร!$B$9)","v":"พ11101"},{"$f":"IF(หลักสูตร!$B$10=0,\"\",หลักสูตร!$B$10)","v":"ศ11101"},{"$f":"IF(หลักสูตร!$B$11=0,\"\",หลักสูตร!$B$11)","v":"ง11101"},{"$f":"IF(หลักสูตร!$B$12=0,\"\",หลักสูตร!$B$12)","v":"อ11101"},{"$f":"IF(หลักสูตร!$B$13=0,\"\",หลักสูตร!$B$13)","v":"ง11201"},{"$f":"IF(หลักสูตร!$B$14=0,\"\",หลักสูตร!$B$14)","v":"ง11202"},{"$f":"IF(หลักสูตร!$B$15=0,\"\",หลักสูตร!$B$15)","v":"ว่าง"},{"$f":"IF(หลักสูตร!$B$16=0,\"\",หลักสูตร!$B$16)","v":""},{"$f":"IF(หลักสูตร!$B$17=0,\"\",หลักสูตร!$B$17)","v":""},{"$f":"IF(หลักสูตร!$B$18=0,\"\",หลักสูตร!$B$18)","v":""},{"$f":"IF(หลักสูตร!$B$19=0,\"\",หลักสูตร!$B$19)","v":""},{"$f":"IF(หลักสูตร!$B$20=0,\"\",หลักสูตร!$B$20)","v":""},{"$f":"IF(หลักสูตร!$B$21=0,\"\",หลักสูตร!$B$21)","v":""},{"$f":"IF(หลักสูตร!$B$23=0,\"\",หลักสูตร!$B$23)","v":"ก1"},{"$f":"IF(หลักสูตร!$B$24=0,\"\",หลักสูตร!$B$24)","v":"ก2"},{"$f":"IF(หลักสูตร!$B$25=0,\"\",หลักสูตร!$B$25)","v":"ก3"},{"$f":"IF(หลักสูตร!$B$26=0,\"\",หลักสูตร!$B$26)","v":"ก4"},{"$f":"IF(หลักสูตร!$B$27=0,\"\",หลักสูตร!$B$27)","v":""},null,null,null,{"$f":"SUMIF(H5:Y5,\"<>กิจกรรม\",H6:AA6)","v":23}]
[null,null,null,null,null,null,null,{"$f":"IF(หลักสูตร!$F$4=0,\"\",หลักสูตร!$F$4)","v":200},{"$f":"IF(หลักสูตร!$F$5=0,\"\",หลักสูตร!$F$5)","v":200},{"$f":"IF(หลักสูตร!$F$6=0,\"\",หลักสูตร!$F$6)","v":80},{"$f":"IF(หลักสูตร!$F$7=0,\"\",หลักสูตร!$F$7)","v":80},{"$f":"IF(หลักสูตร!$F$8=0,\"\",หลักสูตร!$F$8)","v":40},{"$f":"IF(หลักสูตร!$F$9=0,\"\",หลักสูตร!$F$9)","v":80},{"$f":"IF(หลักสูตร!$F$10=0,\"\",หลักสูตร!$F$10)","v":80},{"$f":"IF(หลักสูตร!$F$11=0,\"\",หลักสูตร!$F$11)","v":40},{"$f":"IF(หลักสูตร!$F$12=0,\"\",หลักสูตร!$F$12)","v":40},{"$f":"IF(หลักสูตร!$F$13=0,\"\",หลักสูตร!$F$13)","v":40},{"$f":"IF(หลักสูตร!$F$14=0,\"\",หลักสูตร!$F$14)","v":40},{"$f":"IF(หลักสูตร!$F$15=0,\"\",หลักสูตร!$F$15)","v":""},{"$f":"IF(หลักสูตร!$F$16=0,\"\",หลักสูตร!$F$16)","v":""},{"$f":"IF(หลักสูตร!$F$17=0,\"\",หลักสูตร!$F$17)","v":""},{"$f":"IF(หลักสูตร!$F$18=0,\"\",หลักสูตร!$F$18)","v":""},{"$f":"IF(หลักสูตร!$F$19=0,\"\",หลักสูตร!$F$19)","v":""},{"$f":"IF(หลักสูตร!$F$20=0,\"\",หลักสูตร!$F$20)","v":""},{"$f":"IF(หลักสูตร!$F$21=0,\"\",หลักสูตร!$F$21)","v":""},{"$f":"IF(หลักสูตร!$F$23=0,\"\",หลักสูตร!$F$23)","v":40},{"$f":"IF(หลักสูตร!$F$24=0,\"\",หลักสูตร!$F$24)","v":40},{"$f":"IF(หลักสูตร!$F$25=0,\"\",หลักสูตร!$F$25)","v":30},{"$f":"IF(หลักสูตร!$F$26=0,\"\",หลักสูตร!$F$26)","v":10},{"$f":"IF(หลักสูตร!$F$27=0,\"\",หลักสูตร!$F$27)","v":""}]
[null,null,null,null,null,null,"ประเภท",{"$f":"IF(หลักสูตร!$D$4=0,\"\",หลักสูตร!$D$4)","v":"พื้นฐาน"},{"$f":"IF(หลักสูตร!$D$5=0,\"\",หลักสูตร!$D$5)","v":"พื้นฐาน"},{"$f":"IF(หลักสูตร!$D$6=0,\"\",หลักสูตร!$D$6)","v":"พื้นฐาน"},{"$f":"IF(หลักสูตร!$D$7=0,\"\",หลักสูตร!$D$7)","v":"พื้นฐาน"},{"$f":"IF(หลักสูตร!$D$8=0,\"\",หลักสูตร!$D$8)","v":"พื้นฐาน"},{"$f":"IF(หลักสูตร!$D$9=0,\"\",หลักสูตร!$D$9)","v":"พื้นฐาน"},{"$f":"IF(หลักสูตร!$D$10=0,\"\",หลักสูตร!$D$10)","v":"พื้นฐาน"},{"$f":"IF(หลักสูตร!$D$11=0,\"\",หลักสูตร!$D$11)","v":"พื้นฐาน"},{"$f":"IF(หลักสูตร!$D$12=0,\"\",หลักสูตร!$D$12)","v":"พื้นฐาน"},{"$f":"IF(หลักสูตร!$D$13=0,\"\",หลักสูตร!$D$13)","v":"เพิ่มเติม"},{"$f":"IF(หลักสูตร!$D$14=0,\"\",หลักสูตร!$D$14)","v":"เพิ่มเติม"},{"$f":"IF(หลักสูตร!$D$15=0,\"\",หลักสูตร!$D$15)","v":"เพิ่มเติม"},{"$f":"IF(หลักสูตร!$D$16=0,\"\",หลักสูตร!$D$16)","v":""},{"$f":"IF(หลักสูตร!$D$17=0,\"\",หลักสูตร!$D$17)","v":""},{"$f":"IF(หลักสูตร!$D$18=0,\"\",หลักสูตร!$D$18)","v":""},{"$f":"IF(หลักสูตร!$D$19=0,\"\",หลักสูตร!$D$19)","v":""},{"$f":"IF(หลักสูตร!$D$20=0,\"\",หลักสูตร!$D$20)","v":""},{"$f":"IF(หลักสูตร!$D$21=0,\"\",หลักสูตร!$D$21)","v":""},{"$f":"IF(หลักสูตร!$D$3=0,\"\",หลักสูตร!$D$23)","v":"กิจกรรม"},{"$f":"IF(หลักสูตร!$D$4=0,\"\",หลักสูตร!$D$24)","v":"กิจกรรม"},{"$f":"IF(หลักสูตร!$D$5=0,\"\",หลักสูตร!$D$25)","v":"กิจกรรม"},{"$f":"IF(หลักสูตร!$D$6=0,\"\",หลักสูตร!$D$26)","v":"กิจกรรม"},{"$f":"IF(หลักสูตร!$D$7=0,\"\",หลักสูตร!$D$27)","v":0}]
[null,null,null,null,null,null,"น้ำหนัก",{"$f":"IF(หลักสูตร!$G$4=0,\"\",หลักสูตร!$G$4)","v":5},{"$f":"IF(หลักสูตร!$G$5=0,\"\",หลักสูตร!$G$5)","v":5},{"$f":"IF(หลักสูตร!$G$6=0,\"\",หลักสูตร!$G$6)","v":2},{"$f":"IF(หลักสูตร!$G$7=0,\"\",หลักสูตร!$G$7)","v":2},{"$f":"IF(หลักสูตร!$G$8=0,\"\",หลักสูตร!$G$8)","v":1},{"$f":"IF(หลักสูตร!$G$9=0,\"\",หลักสูตร!$G$9)","v":2},{"$f":"IF(หลักสูตร!$G$10=0,\"\",หลักสูตร!$G$10)","v":2},{"$f":"IF(หลักสูตร!$G$11=0,\"\",หลักสูตร!$G$11)","v":1},{"$f":"IF(หลักสูตร!$G$12=0,\"\",หลักสูตร!$G$12)","v":1},{"$f":"IF(หลักสูตร!$G$13=0,\"\",หลักสูตร!$G$13)","v":1},{"$f":"IF(หลักสูตร!$G$14=0,\"\",หลักสูตร!$G$14)","v":1},{"$f":"IF(หลักสูตร!$G$15=0,\"\",หลักสูตร!$G$15)","v":""},{"$f":"IF(หลักสูตร!$G$16=0,\"\",หลักสูตร!$G$16)","v":""},{"$f":"IF(หลักสูตร!$G$17=0,\"\",หลักสูตร!$G$17)","v":""},{"$f":"IF(หลักสูตร!$G$18=0,\"\",หลักสูตร!$G$18)","v":""},{"$f":"IF(หลักสูตร!$G$19=0,\"\",หลักสูตร!$G$19)","v":""},{"$f":"IF(หลักสูตร!$G$20=0,\"\",หลักสูตร!$G$20)","v":""},{"$f":"IF(หลักสูตร!$G$21=0,\"\",หลักสูตร!$G$21)","v":""},{"$f":"IF(หลักสูตร!$G$23=0,\"\",หลักสูตร!$G$23)","v":"-"},{"$f":"IF(หลักสูตร!$G$24=0,\"\",หลักสูตร!$G$24)","v":"-"},{"$f":"IF(หลักสูตร!$G$25=0,\"\",หลักสูตร!$G$25)","v":"-"},{"$f":"IF(หลักสูตร!$G$26=0,\"\",หลักสูตร!$G$26)","v":"-"},{"$f":"IF(หลักสูตร!$G$27=0,\"\",หลักสูตร!$G$27)","v":"-"},null,null,null,{"$f":"SUMIF(H5:Y5,\"<>กิจกรรม\",H6:AA6)","v":23}]
[{"$f":"ข้อมูลนักเรียน!A7","v":1},{"$f":"IF(ข้อมูลนักเรียน!B7=0,\"\",ข้อมูลนักเรียน!B7)","v":1},{"$f":"IF(ข้อมูลนักเรียน!C7=0,\"\",ข้อมูลนักเรียน!C7)","v":"00001"},{"$f":"IF(ข้อมูลนักเรียน!C7=0,\"\",ข้อมูลนักเรียน!D7 & ข้อมูลนักเรียน!E7 & \"   \"& ข้อมูลนักเรียน!F7)","v":"เด็กชายสมชาย   สุขสบาย"},{"$f":"IF(ข้อมูลนักเรียน!C7=0,\"\",ข้อมูลนักเรียน!G7)","v":1111111111111},{"$f":"ข้อมูลนักเรียน!B7","v":1},null,1,1,1,2,1,2,3,4,4,1.5,"ผ",null,null,null,null,null,null,null,"ผ","ผ","ผ","ผ",null,1,2,{"$f":"IF(COUNTIFS(Z7:AD7,\"=มผ\") > 0,\"ไม่ผ่าน\",\"ผ่าน\")","v":"ผ่าน"},{"$f":"ROUNDDOWN(2.11363636363636,2)","v":2.11},null,{"$f":"IF(AF7=1,\"ผ่าน\",IF(AF7=2,\"ดี\",IF(AF7=3,\"ดีเยี่ยม\",\"ปรับปรุง\")))","v":"ดี"},"คอมพิวเตอร์",22,"เกรด","อ่าน/คุณ","กิจกรรม"]
[{"$f":"ข้อมูลนักเรียน!A8","v":1},{"$f":"IF(ข้อมูลนักเรียน!B8=0,\"\",ข้อมูลนักเรียน!B8)","v":2},{"$f":"IF(ข้อมูลนักเรียน!C8=0,\"\",ข้อมูลนักเรียน!C8)","v":"00002"},{"$f":"IF(ข้อมูลนักเรียน!C8=0,\"\",ข้อมูลนักเรียน!D8 & ข้อมูลนักเรียน!E8 & \"   \"& ข้อมูลนักเรียน!F8)","v":"เด็กหญิงสมหวัง   ตั้งใจเรียน"},{"$f":"IF(ข้อมูลนักเรียน!C8=0,\"\",ข้อมูลนักเรียน!G8)","v":2222222222222},{"$f":"ข้อมูลนักเรียน!B8","v":2},null,1,4,3.5,4,3,4,3,4,3,1.5,"มผ",null,null,null,null,null,null,null,"ผ","ผ","ผ","ผ",null,2,3,"ผ่าน",{"$f":"ROUNDDOWN(3.43181818181818,2)","v":3.43},null,{"$f":"IF(AF8=1,\"ผ่าน\",IF(AF8=2,\"ดี\",IF(AF8=3,\"ดีเยี่ยม\",\"ปรับปรุง\")))","v":"ดีเยี่ยม"},"วิทยาศาสตร์",22,0,0,"ผ"]
[{"$f":"ข้อมูลนักเรียน!A9","v":0},{"$f":"IF(ข้อมูลนักเรียน!B9=0,\"\",ข้อมูลนักเรียน!B9)","v":""},{"$f":"IF(ข้อมูลนักเรียน!C9=0,\"\",ข้อมูลนักเรียน!C9)","v":""},{"$f":"IF(ข้อมูลนักเรียน!C9=0,\"\",ข้อมูลนักเรียน!D9 & ข้อมูลนักเรียน!E9 & \"   \"& ข้อมูลนักเรียน!F9)","v":""},{"$f":"IF(ข้อมูลนักเรียน!C9=0,\"\",ข้อมูลนักเรียน!G9)","v":""},{"$f":"ข้อมูลนักเรียน!B9","v":0},null,1,2,3,1,2,3,1,1.5,2,3,2,null,null,null,null,null,null,null,"ผ","ผ","ผ","ผ",null,1,2,{"$f":"IF(COUNTIFS(Z9:AD9,\"=มผ\") > 0,\"ไม่ผ่าน\",\"ผ่าน\")","v":"ผ่าน"},{"$f":"ROUNDDOWN(1.80434782608696,2)","v":1.8},null,{"$f":"IF(AF9=1,\"ผ่าน\",IF(AF9=2,\"ดี\",IF(AF9=3,\"ดีเยี่ยม\",\"ปรับปรุง\")))","v":"ดี"},null,23,1,1,"มผ"]
[{"$f":"ข้อมูลนักเรียน!A10","v":0},{"$f":"IF(ข้อมูลนักเรียน!B10=0,\"\",ข้อมูลนักเรียน!B10)","v":""},{"$f":"IF(ข้อมูลนักเรียน!C10=0,\"\",ข้อมูลนักเรียน!C10)","v":""},{"$f":"IF(ข้อมูลนักเรียน!C10=0,\"\",ข้อมูลนักเรียน!D10 & ข้อมูลนักเรียน!E10 & \"   \"& ข้อมูลนักเรียน!F10)","v":""},{"$f":"IF(ข้อมูลนักเรียน!C10=0,\"\",ข้อมูลนักเรียน!G10)","v":""},{"$f":"ข้อมูลนักเรียน!B10","v":0},null,null,null,null,null,null,null,null,null,null,null,null,null,null,null,null,null,null,null,null,null,null,null,null,null,null,"ผ่าน",{"$f":"ROUNDDOWN(0,2)","v":0},null,"ปรับปรุง",null,23,1.5,2]
[{"$f":"ข้อมูลนักเรียน!A11","v":0},{"$f":"IF(ข้อมูลนักเรียน!B11=0,\"\",ข้อมูลนักเรียน!B11)","v":""},{"$f":"IF(ข้อมูลนักเรียน!C11=0,\"\",ข้อมูลนักเรียน!C11)","v":""},{"$f":"IF(ข้อมูลนักเรียน!C11=0,\"\",ข้อมูลนักเรียน!D11 & ข้อมูลนักเรียน!E11 & \"   \"& ข้อมูลนักเรียน!F11)","v":""},{"$f":"IF(ข้อมูลนักเรียน!C11=0,\"\",ข้อมูลนักเรียน!G11)","v":""},{"$f":"ข้อมูลนักเรียน!B11","v":0},null,null,null,null,null,null,null,null,null,null,null,null,null,null,null,null,null,null,null,null,null,null,null,null,null,null,"ผ่าน",0,null,"ปรับปรุง",null,23,2,3]
[{"$f":"ข้อมูลนักเรียน!A12","v":0},{"$f":"IF(ข้อมูลนักเรียน!B12=0,\"\",ข้อมูลนักเรียน!B12)","v":""},{"$f":"IF(ข้อมูลนักเรียน!C12=0,\"\",ข้อมูลนักเรียน!C12)","v":""},{"$f":"IF(ข้อมูลนักเรียน!C12=0,\"\",ข้อมูลนักเรียน!D12 & ข้อมูลนักเรียน!E12 & \"   \"& ข้อมูลนักเรียน!F12)","v":""},{"$f":"IF(ข้อมูลนักเรียน!C12=0,\"\",ข้อมูลนักเรียน!G12)","v":""},{"$f":"ข้อมูลนักเรียน!B12","v":0},null,null,null,null,null,null,null,null,null,null,null,null,null,null,null,null,null,null,null,null,null,null,null,null,null,null,"ผ่าน",0,null,"ปรับปรุง",null,23,2.5]
[{"$f":"ข้อมูลนักเรียน!A13","v":0},{"$f":"IF(ข้อมูลนักเรียน!B13=0,\"\",ข้อมูลนักเรียน!B13)","v":""},{"$f":"IF(ข้อมูลนักเรียน!C13=0,\"\",ข้อมูลนักเรียน!C13)","v":""},{"$f":"IF(ข้อมูลนักเรียน!C13=0,\"\",ข้อมูลนักเรียน!D13 & ข้อมูลนักเรียน!E13 & \"   \"& ข้อมูลนักเรียน!F13)","v":""},{"$f":"IF(ข้อมูลนักเรียน!C13=0,\"\",ข้อมูลนักเรียน!G13)","v":""},{"$f":"ข้อมูลนักเรียน!B13","v":0},null,null,null,null,null,null,null,null,null,null,null,null,null,null,null,null,null,null,null,null,null,null,null,null,null,null,"ผ่าน",0,null,"ปรับปรุง",null,23,3]
[{"$f":"ข้อมูลนักเรียน!A14","v":0},{"$f":"IF(ข้อมูลนักเรียน!B14=0,\"\",ข้อมูลนักเรียน!B14)","v":""},{"$f":"IF(ข้อมูลนักเรียน!C14=0,\"\",ข้อมูลนักเรียน!C14)","v":""},{"$f":"IF(ข้อมูลนักเรียน!C14=0,\"\",ข้อมูลนักเรียน!D14 & ข้อมูลนักเรียน!E14 & \"   \"& ข้อมูลนักเรียน!F14)","v":""},{"$f":"IF(ข้อมูลนักเรียน!C14=0,\"\",ข้อมูลนักเรียน!G14)","v":""},{"$f":"ข้อมูลนักเรียน!B14","v":0},null,null,null,null,null,null,null,null,null,null,null,null,null,null,null,null,null,null,null,null,null,null,null,null,null,null,"ผ่าน",0,null,"ปรับปรุง",null,23,3.5]
[{"$f":"ข้อมูลนักเรียน!A15","v":0},{"$f":"IF(ข้อมูลนักเรียน!B15=0,\"\",ข้อมูลนักเรียน!B15)","v":""},{"$f":"IF(ข้อมูลนักเรียน!C15=0,\"\",ข้อมูลนักเรียน!C15)","v":""},{"$f":"IF(ข้อมูลนักเรียน!C15=0,\"\",ข้อมูลนักเรียน!D15 & ข้อมูลนักเรียน!E15 & \"   \"& ข้อมูลนักเรียน!F15)","v":""},{"$f":"IF(ข้อมูลนักเรียน!C15=0,\"\",ข้อมูลนักเรียน!G15)","v":""},{"$f":"ข้อมูลนักเรียน!B15","v":0},null,null,null,null,null,null,null,null,null,null,null,null,null,null,null,null,null,null,null,null,null,null,null,null,null,null,"ผ่าน",0,null,"ปรับปรุง",null,23,4]
[{"$f":"ข้อมูลนักเรียน!A16","v":0},{"$f":"IF(ข้อมูลนักเรียน!B16=0,\"\",ข้อมูลนักเรียน!B16)","v":""},{"$f":"IF(ข้อมูลนักเรียน!C16=0,\"\",ข้อมูลนักเรียน!C16)","v":""},{"$f":"IF(ข้อมูลนักเรียน!C16=0,\"\",ข้อมูลนักเรียน!D16 & ข้อมูลนักเรียน!E16 & \"   \"& ข้อมูลนักเรียน!F16)","v":""},{"$f":"IF(ข้อมูลนักเรียน!C16=0,\"\",ข้อมูลนักเรียน!G16)","v":""},{"$f":"ข้อมูลนักเรียน!B16","v":0},null,null,null,null,null,null,null,null,null,null,null,null,null,null,null,null,null,null,null,null,null,null,null,null,null,null,"ผ่าน",0,null,"ปรับปรุง",null,23,"ร"]
[{"$f":"ข้อมูลนักเรียน!A17","v":0},{"$f":"IF(ข้อมูลนักเรียน!B17=0,\"\",ข้อมูลนักเรียน!B17)","v":""},{"$f":"IF(ข้อมูลนักเรียน!C17=0,\"\",ข้อมูลนักเรียน!C17)","v":""},{"$f":"IF(ข้อมูลนักเรียน!C17=0,\"\",ข้อมูลนักเรียน!D17 & ข้อมูลนักเรียน!E17 & \"   \"& ข้อมูลนักเรียน!F17)","v":""},{"$f":"IF(ข้อมูลนักเรียน!C17=0,\"\",ข้อมูลนักเรียน!G17)","v":""},{"$f":"ข้อมูลนักเรียน!B17","v":0},null,null,null,null,null,null,null,null,null,null,null,null,null,null,null,null,null,null,null,null,null,null,null,null,null,null,"ผ่าน",0,null,"ปรับปรุง",null,23,"มส"]
[{"$f":"ข้อมูลนักเรียน!A18","v":0},{"$f":"IF(ข้อมูลนักเรียน!B18=0,\"\",ข้อมูลนักเรียน!B18)","v":""},{"$f":"IF(ข้อมูลนักเรียน!C18=0,\"\",ข้อมูลนักเรียน!C18)","v":""},{"$f":"IF(ข้อมูลนักเรียน!C18=0,\"\",ข้อมูลนักเรียน!D18 & ข้อมูลนักเรียน!E18 & \"   \"& ข้อมูลนักเรียน!F18)","v":""},{"$f":"IF(ข้อมูลนักเรียน!C18=0,\"\",ข้อมูลนักเรียน!G18)","v":""},{"$f":"ข้อมูลนักเรียน!B18","v":0},null,null,null,null,null,null,null,null,null,null,null,null,null,null,null,null,null,null,null,null,null,null,null,null,null,null,"ผ่าน",0,null,"ปรับปรุง",null,23,"ผ"]
[{"$f":"ข้อมูลนักเรียน!A19","v":0},{"$f":"IF(ข้อมูลนักเรียน!B19=0,\"\",ข้อมูลนักเรียน!B19)","v":""},{"$f":"IF(ข้อมูลนักเรียน!C19=0,\"\",ข้อมูลนักเรียน!C19)","v":""},{"$f":"IF(ข้อมูลนักเรียน!C19=0,\"\",ข้อมูลนักเรียน!D19 & ข้อมูลนักเรียน!E19 & \"   \"& ข้อมูลนักเรียน!F19)","v":""},{"$f":"IF(ข้อมูลนักเรียน!C19=0,\"\",ข้อมูลนักเรียน!G19)","v":""},{"$f":"ข้อมูลนักเรียน!B19","v":0},null,null,null,null,null,null,null,null,null,null,null,null,null,null,null,null,null,null,null,null,null,null,null,null,null,null,"ผ่าน",0,null,"ปรับปรุง",null,23,"มผ"]
[{"$f":"ข้อมูลนักเรียน!A20","v":0},{"$f":"IF(ข้อมูลนักเรียน!B20=0,\"\",ข้อมูลนักเรียน!B20)","v":""},{"$f":"IF(ข้อมูลนักเรียน!C20=0,\"\",ข้อมูลนักเรียน!C20)","v":""},{"$f":"IF(ข้อมูลนักเรียน!C20=0,\"\",ข้อมูลนักเรียน!D20 & ข้อมูลนักเรียน!E20 & \"   \"& ข้อมูลนักเรียน!F20)","v":""},{"$f":"IF(ข้อมูลนักเรียน!C20=0,\"\",ข้อมูลนักเรียน!G20)","v":""},{"$f":"ข้อมูลนักเรียน!B20","v":0},null,null,null,null,null,null,null,null,null,null,null,null,null,null,null,null,null,null,null,null,null,null,null,null,null,null,"ผ่าน",0,null,"ปรับปรุง",null,23]
[{"$f":"ข้อมูลนักเรียน!A21","v":0},{"$f":"IF(ข้อมูลนักเรียน!B21=0,\"\",ข้อมูลนักเรียน!B21)","v":""},{"$f":"IF(ข้อมูลนักเรียน!C21=0,\"\",ข้อมูลนักเรียน!C21)","v":""},{"$f":"IF(ข้อมูลนักเรียน!C21=0,\"\",ข้อมูลนักเรียน!D21 & ข้อมูลนักเรียน!E21 & \"   \"& ข้อมูลนักเรียน!F21)","v":""},{"$f":"IF(ข้อมูลนักเรียน!C21=0,\"\",ข้อมูลนักเรียน!G21)","v":""},{"$f":"ข้อมูลนักเรียน!B21","v":0},null,null,null,null,null,null,null,null,null,null,null,null,null,null,null,null,null,null,null,null,null,null,null,null,null,null,"ผ่าน",0,null,"ปรับปรุง",null,23]
[{"$f":"ข้อมูลนักเรียน!A22","v":0},{"$f":"IF(ข้อมูลนักเรียน!B22=0,\"\",ข้อมูลนักเรียน!B22)","v":""},{"$f":"IF(ข้อมูลนักเรียน!C22=0,\"\",ข้อมูลนักเรียน!C22)","v":""},{"$f":"IF(ข้อมูลนักเรียน!C22=0,\"\",ข้อมูลนักเรียน!D22 & ข้อมูลนักเรียน!E22 & \"   \"& ข้อมูลนักเรียน!F22)","v":""},{"$f":"IF(ข้อมูลนักเรียน!C22=0,\"\",ข้อมูลนักเรียน!G22)","v":""},{"$f":"ข้อมูลนักเรียน!B22","v":0},null,null,null,null,null,null,null,null,null,null,null,null,null,null,null,null,null,null,null,null,null,null,null,null,null,null,"ผ่าน",0,null,"ปรับปรุง",null,23]
[{"$f":"ข้อมูลนักเรียน!A23","v":0},{"$f":"IF(ข้อมูลนักเรียน!B23=0,\"\",ข้อมูลนักเรียน!B23)","v":""},{"$f":"IF(ข้อมูลนักเรียน!C23=0,\"\",ข้อมูลนักเรียน!C23)","v":""},{"$f":"IF(ข้อมูลนักเรียน!C23=0,\"\",ข้อมูลนักเรียน!D23 & ข้อมูลนักเรียน!E23 & \"   \"& ข้อมูลนักเรียน!F23)","v":""},{"$f":"IF(ข้อมูลนักเรียน!C23=0,\"\",ข้อมูลนักเรียน!G23)","v":""},{"$f":"ข้อมูลนักเรียน!B23","v":0},null,null,null,null,null,null,null,null,null,null,null,null,null,null,null,null,null,null,null,null,null,null,null,null,null,null,"ผ่าน",0,null,"ปรับปรุง",null,23]
[{"$f":"ข้อมูลนักเรียน!A24","v":0},{"$f":"IF(ข้อมูลนักเรียน!B24=0,\"\",ข้อมูลนักเรียน!B24)","v":""},{"$f":"IF(ข้อมูลนักเรียน!C24=0,\"\",ข้อมูลนักเรียน!C24)","v":""},{"$f":"IF(ข้อมูลนักเรียน!C24=0,\"\",ข้อมูลนักเรียน!D24 & ข้อมูลนักเรียน!E24 & \"   \"& ข้อมูลนักเรียน!F24)","v":""},{"$f":"IF(ข้อมูลนักเรียน!C24=0,\"\",ข้อมูลนักเรียน!G24)","v":""},{"$f":"ข้อมูลนักเรียน!B24","v":0},null,null,null,null,null,null,null,null,null,null,null,null,null,null,null,null,null,null,null,null,null,null,null,null,null,null,"ผ่าน",0,null,"ปรับปรุง",null,23]
[{"$f":"ข้อมูลนักเรียน!A25","v":0},{"$f":"IF(ข้อมูลนักเรียน!B25=0,\"\",ข้อมูลนักเรียน!B25)","v":""},{"$f":"IF(ข้อมูลนักเรียน!C25=0,\"\",ข้อมูลนักเรียน!C25)","v":""},{"$f":"IF(ข้อมูลนักเรียน!C25=0,\"\",ข้อมูลนักเรียน!D25 & ข้อมูลนักเรียน!E25 & \"   \"& ข้อมูลนักเรียน!F25)","v":""},{"$f":"IF(ข้อมูลนักเรียน!C25=0,\"\",ข้อมูลนักเรียน!G25)","v":""},{"$f":"ข้อมูลนักเรียน!B25","v":0},null,null,null,null,null,null,null,null,null,null,null,null,null,null,null,null,null,null,null,null,null,null,null,null,null,null,"ผ่าน",0,null,"ปรับปรุง",null,23]
[{"$f":"ข้อมูลนักเรียน!A26","v":0},{"$f":"IF(ข้อมูลนักเรียน!B26=0,\"\",ข้อมูลนักเรียน!B26)","v":""},{"$f":"IF(ข้อมูลนักเรียน!C26=0,\"\",ข้อมูลนักเรียน!C26)","v":""},{"$f":"IF(ข้อมูลนักเรียน!C26=0,\"\",ข้อมูลนักเรียน!D26 & ข้อมูลนักเรียน!E26 & \"   \"& ข้อมูลนักเรียน!F26)","v":""},{"$f":"IF(ข้อมูลนักเรียน!C26=0,\"\",ข้อมูลนักเรียน!G26)","v":""},{"$f":"ข้อมูลนักเรียน!B26","v":0},null,null,null,null,null,null,null,null,null,null,null,null,null,null,null,null,null,null,null,null,null,null,null,null,null,null,"ผ่าน",0,null,"ปรับปรุง",null,23]
[{"$f":"ข้อมูลนักเรียน!A27","v":0},{"$f":"IF(ข้อมูลนักเรียน!B27=0,\"\",ข้อมูลนักเรียน!B27)","v":""},{"$f":"IF(ข้อมูลนักเรียน!C27=0,\"\",ข้อมูลนักเรียน!C27)","v":""},{"$f":"IF(ข้อมูลนักเรียน!C27=0,\"\",ข้อมูลนักเรียน!D27 & ข้อมูลนักเรียน!E27 & \"   \"& ข้อมูลนักเรียน!F27)","v":""},{"$f":"IF(ข้อมูลนักเรียน!C27=0,\"\",ข้อมูลนักเรียน!G27)","v":""},{"$f":"ข้อมูลนักเรียน!B27","v":0},null,null,null,null,null,null,null,null,null,null,null,null,null,null,null,null,null,null,null,null,null,null,null,null,null,null,"ผ่าน",0,null,"ปรับปรุง",null,23]
[{"$f":"ข้อมูลนักเรียน!A28","v":0},{"$f":"IF(ข้อมูลนักเรียน!B28=0,\"\",ข้อมูลนักเรียน!B28)","v":""},{"$f":"IF(ข้อมูลนักเรียน!C28=0,\"\",ข้อมูลนักเรียน!C28)","v":""},{"$f":"IF(ข้อมูลนักเรียน!C28=0,\"\",ข้อมูลนักเรียน!D28 & ข้อมูลนักเรียน!E28 & \"   \"& ข้อมูลนักเรียน!F28)","v":""},{"$f":"IF(ข้อมูลนักเรียน!C28=0,\"\",ข้อมูลนักเรียน!G28)","v":""},{"$f":"ข้อมูลนักเรียน!B28","v":0},null,null,null,null,null,null,null,null,null,null,null,null,null,null,null,null,null,null,null,null,null,null,null,null,null,null,"ผ่าน",0,null,"ปรับปรุง",null,23]
[{"$f":"ข้อมูลนักเรียน!A29","v":0},{"$f":"IF(ข้อมูลนักเรียน!B29=0,\"\",ข้อมูลนักเรียน!B29)","v":""},{"$f":"IF(ข้อมูลนักเรียน!C29=0,\"\",ข้อมูลนักเรียน!C29)","v":""},{"$f":"IF(ข้อมูลนักเรียน!C29=0,\"\",ข้อมูลนักเรียน!D29 & ข้อมูลนักเรียน!E29 & \"   \"& ข้อมูลนักเรียน!F29)","v":""},{"$f":"IF(ข้อมูลนักเรียน!C29=0,\"\",ข้อมูลนักเรียน!G29)","v":""},{"$f":"ข้อมูลนักเรียน!B29","v":0},null,null,null,null,null,null,null,null,null,null,null,null,null,null,null,null,null,null,null,null,null,null,null,null,null,null,"ผ่าน",0,null,"ปรับปรุง",null,23]
[{"$f":"ข้อมูลนักเรียน!A30","v":0},{"$f":"IF(ข้อมูลนักเรียน!B30=0,\"\",ข้อมูลนักเรียน!B30)","v":""},{"$f":"IF(ข้อมูลนักเรียน!C30=0,\"\",ข้อมูลนักเรียน!C30)","v":""},{"$f":"IF(ข้อมูลนักเรียน!C30=0,\"\",ข้อมูลนักเรียน!D30 & ข้อมูลนักเรียน!E30 & \"   \"& ข้อมูลนักเรียน!F30)","v":""},{"$f":"IF(ข้อมูลนักเรียน!C30=0,\"\",ข้อมูลนักเรียน!G30)","v":""},{"$f":"ข้อมูลนักเรียน!B30","v":0},null,null,null,null,null,null,null,null,null,null,null,null,null,null,null,null,null,null,null,null,null,null,null,null,null,null,"ผ่าน",0,null,"ปรับปรุง",null,23]
[{"$f":"ข้อมูลนักเรียน!A31","v":0},{"$f":"IF(ข้อมูลนักเรียน!B31=0,\"\",ข้อมูลนักเรียน!B31)","v":""},{"$f":"IF(ข้อมูลนักเรียน!C31=0,\"\",ข้อมูลนักเรียน!C31)","v":""},{"$f":"IF(ข้อมูลนักเรียน!C31=0,\"\",ข้อมูลนักเรียน!D31 & ข้อมูลนักเรียน!E31 & \"   \"& ข้อมูลนักเรียน!F31)","v":""},{"$f":"IF(ข้อมูลนักเรียน!C31=0,\"\",ข้อมูลนักเรียน!G31)","v":""},{"$f":"ข้อมูลนักเรียน!B31","v":0},null,null,null,null,null,null,null,null,null,null,null,null,null,null,null,null,null,null,null,null,null,null,null,null,null,null,"ผ่าน",0,null,"ปรับปรุง",null,23]
[{"$f":"ข้อมูลนักเรียน!A32","v":0},{"$f":"IF(ข้อมูลนักเรียน!B32=0,\"\",ข้อมูลนักเรียน!B32)","v":""},{"$f":"IF(ข้อมูลนักเรียน!C32=0,\"\",ข้อมูลนักเรียน!C32)","v":""},{"$f":"IF(ข้อมูลนักเรียน!C32=0,\"\",ข้อมูลนักเรียน!D32 & ข้อมูลนักเรียน!E32 & \"   \"& ข้อมูลนักเรียน!F32)","v":""},{"$f":"IF(ข้อมูลนักเรียน!C32=0,\"\",ข้อมูลนักเรียน!G32)","v":""},{"$f":"ข้อมูลนักเรียน!B32","v":0},null,null,null,null,null,null,null,null,null,null,null,null,null,null,null,null,null,null,null,null,null,null,null,null,null,null,"ผ่าน",0,null,"ปรับปรุง",null,23]
[{"$f":"ข้อมูลนักเรียน!A33","v":0},{"$f":"IF(ข้อมูลนักเรียน!B33=0,\"\",ข้อมูลนักเรียน!B33)","v":""},{"$f":"IF(ข้อมูลนักเรียน!C33=0,\"\",ข้อมูลนักเรียน!C33)","v":""},{"$f":"IF(ข้อมูลนักเรียน!C33=0,\"\",ข้อมูลนักเรียน!D33 & ข้อมูลนักเรียน!E33 & \"   \"& ข้อมูลนักเรียน!F33)","v":""},{"$f":"IF(ข้อมูลนักเรียน!C33=0,\"\",ข้อมูลนักเรียน!G33)","v":""},{"$f":"ข้อมูลนักเรียน!B33","v":0},null,null,null,null,null,null,null,null,null,null,null,null,null,null,null,null,null,null,null,null,null,null,null,null,null,null,"ผ่าน",0,null,"ปรับปรุง",null,23]
[{"$f":"ข้อมูลนักเรียน!A34","v":0},{"$f":"IF(ข้อมูลนักเรียน!B34=0,\"\",ข้อมูลนักเรียน!B34)","v":""},{"$f":"IF(ข้อมูลนักเรียน!C34=0,\"\",ข้อมูลนักเรียน!C34)","v":""},{"$f":"IF(ข้อมูลนักเรียน!C34=0,\"\",ข้อมูลนักเรียน!D34 & ข้อมูลนักเรียน!E34 & \"   \"& ข้อมูลนักเรียน!F34)","v":""},{"$f":"IF(ข้อมูลนักเรียน!C34=0,\"\",ข้อมูลนักเรียน!G34)","v":""},{"$f":"ข้อมูลนักเรียน!B34","v":0},null,null,null,null,null,null,null,null,null,null,null,null,null,null,null,null,null,null,null,null,null,null,null,null,null,null,"ผ่าน",0,null,"ปรับปรุง",null,23]
[{"$f":"ข้อมูลนักเรียน!A35","v":0},{"$f":"IF(ข้อมูลนักเรียน!B35=0,\"\",ข้อมูลนักเรียน!B35)","v":""},{"$f":"IF(ข้อมูลนักเรียน!C35=0,\"\",ข้อมูลนักเรียน!C35)","v":""},{"$f":"IF(ข้อมูลนักเรียน!C35=0,\"\",ข้อมูลนักเรียน!D35 & ข้อมูลนักเรียน!E35 & \"   \"& ข้อมูลนักเรียน!F35)","v":""},{"$f":"IF(ข้อมูลนักเรียน!C35=0,\"\",ข้อมูลนักเรียน!G35)","v":""},{"$f":"ข้อมูลนักเรียน!B35","v":0},null,null,null,null,null,null,null,null,null,null,null,null,null,null,null,null,null,null,null,null,null,null,null,null,null,null,"ผ่าน",0,null,"ปรับปรุง",null,23]
[{"$f":"ข้อมูลนักเรียน!A36","v":0},{"$f":"IF(ข้อมูลนักเรียน!B36=0,\"\",ข้อมูลนักเรียน!B36)","v":""},{"$f":"IF(ข้อมูลนักเรียน!C36=0,\"\",ข้อมูลนักเรียน!C36)","v":""},{"$f":"IF(ข้อมูลนักเรียน!C36=0,\"\",ข้อมูลนักเรียน!D36 & ข้อมูลนักเรียน!E36 & \"   \"& ข้อมูลนักเรียน!F36)","v":""},{"$f":"IF(ข้อมูลนักเรียน!C36=0,\"\",ข้อมูลนักเรียน!G36)","v":""},{"$f":"ข้อมูลนักเรียน!B36","v":0},null,null,null,null,null,null,null,null,null,null,null,null,null,null,null,null,null,null,null,null,null,null,null,null,null,null,"ผ่าน",0,null,"ปรับปรุง",null,23]
[{"$f":"ข้อมูลนักเรียน!A37","v":0},{"$f":"IF(ข้อมูลนักเรียน!B37=0,\"\",ข้อมูลนักเรียน!B37)","v":""},{"$f":"IF(ข้อมูลนักเรียน!C37=0,\"\",ข้อมูลนักเรียน!C37)","v":""},{"$f":"IF(ข้อมูลนักเรียน!C37=0,\"\",ข้อมูลนักเรียน!D37 & ข้อมูลนักเรียน!E37 & \"   \"& ข้อมูลนักเรียน!F37)","v":""},{"$f":"IF(ข้อมูลนักเรียน!C37=0,\"\",ข้อมูลนักเรียน!G37)","v":""},{"$f":"ข้อมูลนักเรียน!B37","v":0},null,null,null,null,null,null,null,null,null,null,null,null,null,null,null,null,null,null,null,null,null,null,null,null,null,null,"ผ่าน",0,null,"ปรับปรุง",null,23]
[{"$f":"ข้อมูลนักเรียน!A38","v":0},{"$f":"IF(ข้อมูลนักเรียน!B38=0,\"\",ข้อมูลนักเรียน!B38)","v":""},{"$f":"IF(ข้อมูลนักเรียน!C38=0,\"\",ข้อมูลนักเรียน!C38)","v":""},{"$f":"IF(ข้อมูลนักเรียน!C38=0,\"\",ข้อมูลนักเรียน!D38 & ข้อมูลนักเรียน!E38 & \"   \"& ข้อมูลนักเรียน!F38)","v":""},{"$f":"IF(ข้อมูลนักเรียน!C38=0,\"\",ข้อมูลนักเรียน!G38)","v":""},{"$f":"ข้อมูลนักเรียน!B38","v":0},null,null,null,null,null,null,null,null,null,null,null,null,null,null,null,null,null,null,null,null,null,null,null,null,null,null,"ผ่าน",0,null,"ปรับปรุง",null,23]
[{"$f":"ข้อมูลนักเรียน!A39","v":0},{"$f":"IF(ข้อมูลนักเรียน!B39=0,\"\",ข้อมูลนักเรียน!B39)","v":""},{"$f":"IF(ข้อมูลนักเรียน!C39=0,\"\",ข้อมูลนักเรียน!C39)","v":""},{"$f":"IF(ข้อมูลนักเรียน!C39=0,\"\",ข้อมูลนักเรียน!D39 & ข้อมูลนักเรียน!E39 & \"   \"& ข้อมูลนักเรียน!F39)","v":""},{"$f":"IF(ข้อมูลนักเรียน!C39=0,\"\",ข้อมูลนักเรียน!G39)","v":""},{"$f":"ข้อมูลนักเรียน!B39","v":0},null,null,null,null,null,null,null,null,null,null,null,null,null,null,null,null,null,null,null,null,null,null,null,null,null,null,"ผ่าน",0,null,"ปรับปรุง",null,23]
[{"$f":"ข้อมูลนักเรียน!A40","v":0},{"$f":"IF(ข้อมูลนักเรียน!B40=0,\"\",ข้อมูลนักเรียน!B40)","v":""},{"$f":"IF(ข้อมูลนักเรียน!C40=0,\"\",ข้อมูลนักเรียน!C40)","v":""},{"$f":"IF(ข้อมูลนักเรียน!C40=0,\"\",ข้อมูลนักเรียน!D40 & ข้อมูลนักเรียน!E40 & \"   \"& ข้อมูลนักเรียน!F40)","v":""},{"$f":"IF(ข้อมูลนักเรียน!C40=0,\"\",ข้อมูลนักเรียน!G40)","v":""},{"$f":"ข้อมูลนักเรียน!B40","v":0},null,null,null,null,null,null,null,null,null,null,null,null,null,null,null,null,null,null,null,null,null,null,null,null,null,null,"ผ่าน",0,null,"ปรับปรุง",null,23]
[{"$f":"ข้อมูลนักเรียน!A41","v":0},{"$f":"IF(ข้อมูลนักเรียน!B41=0,\"\",ข้อมูลนักเรียน!B41)","v":""},{"$f":"IF(ข้อมูลนักเรียน!C41=0,\"\",ข้อมูลนักเรียน!C41)","v":""},{"$f":"IF(ข้อมูลนักเรียน!C41=0,\"\",ข้อมูลนักเรียน!D41 & ข้อมูลนักเรียน!E41 & \"   \"& ข้อมูลนักเรียน!F41)","v":""},{"$f":"IF(ข้อมูลนักเรียน!C41=0,\"\",ข้อมูลนักเรียน!G41)","v":""},{"$f":"ข้อมูลนักเรียน!B41","v":0},null,null,null,null,null,null,null,null,null,null,null,null,null,null,null,null,null,null,null,null,null,null,null,null,null,null,"ผ่าน",0,null,"ปรับปรุง",null,23]
[{"$f":"ข้อมูลนักเรียน!A42","v":0},{"$f":"IF(ข้อมูลนักเรียน!B42=0,\"\",ข้อมูลนักเรียน!B42)","v":""},{"$f":"IF(ข้อมูลนักเรียน!C42=0,\"\",ข้อมูลนักเรียน!C42)","v":""},{"$f":"IF(ข้อมูลนักเรียน!C42=0,\"\",ข้อมูลนักเรียน!D42 & ข้อมูลนักเรียน!E42 & \"   \"& ข้อมูลนักเรียน!F42)","v":""},{"$f":"IF(ข้อมูลนักเรียน!C42=0,\"\",ข้อมูลนักเรียน!G42)","v":""},{"$f":"ข้อมูลนักเรียน!B42","v":0},null,null,null,null,null,null,null,null,null,null,null,null,null,null,null,null,null,null,null,null,null,null,null,null,null,null,"ผ่าน",{"$f":"ROUNDDOWN(0,2)","v":0},null,"ปรับปรุง",null,23]
[{"$f":"ข้อมูลนักเรียน!A43","v":0},{"$f":"IF(ข้อมูลนักเรียน!B43=0,\"\",ข้อมูลนักเรียน!B43)","v":""},{"$f":"IF(ข้อมูลนักเรียน!C43=0,\"\",ข้อมูลนักเรียน!C43)","v":""},{"$f":"IF(ข้อมูลนักเรียน!C43=0,\"\",ข้อมูลนักเรียน!D43 & ข้อมูลนักเรียน!E43 & \"   \"& ข้อมูลนักเรียน!F43)","v":""},{"$f":"IF(ข้อมูลนักเรียน!C43=0,\"\",ข้อมูลนักเรียน!G43)","v":""},{"$f":"ข้อมูลนักเรียน!B43","v":0},null,null,null,null,null,null,null,null,null,null,null,null,null,null,null,null,null,null,null,null,null,null,null,null,null,null,"ผ่าน",0,null,"ปรับปรุง",null,23]
[{"$f":"ข้อมูลนักเรียน!A44","v":0},{"$f":"IF(ข้อมูลนักเรียน!B44=0,\"\",ข้อมูลนักเรียน!B44)","v":""},{"$f":"IF(ข้อมูลนักเรียน!C44=0,\"\",ข้อมูลนักเรียน!C44)","v":""},{"$f":"IF(ข้อมูลนักเรียน!C44=0,\"\",ข้อมูลนักเรียน!D44 & ข้อมูลนักเรียน!E44 & \"   \"& ข้อมูลนักเรียน!F44)","v":""},{"$f":"IF(ข้อมูลนักเรียน!C44=0,\"\",ข้อมูลนักเรียน!G44)","v":""},{"$f":"ข้อมูลนักเรียน!B44","v":0},null,null,null,null,null,null,null,null,null,null,null,null,null,null,null,null,null,null,null,null,null,null,null,null,null,null,"ผ่าน",0,null,"ปรับปรุง",null,23]
[{"$f":"ข้อมูลนักเรียน!A45","v":0},{"$f":"IF(ข้อมูลนักเรียน!B45=0,\"\",ข้อมูลนักเรียน!B45)","v":""},{"$f":"IF(ข้อมูลนักเรียน!C45=0,\"\",ข้อมูลนักเรียน!C45)","v":""},{"$f":"IF(ข้อมูลนักเรียน!C45=0,\"\",ข้อมูลนักเรียน!D45 & ข้อมูลนักเรียน!E45 & \"   \"& ข้อมูลนักเรียน!F45)","v":""},{"$f":"IF(ข้อมูลนักเรียน!C45=0,\"\",ข้อมูลนักเรียน!G45)","v":""},{"$f":"ข้อมูลนักเรียน!B45","v":0},null,null,null,null,null,null,null,null,null,null,null,null,null,null,null,null,null,null,null,null,null,null,null,null,null,null,"ผ่าน",0,null,"ปรับปรุง",null,23]
[{"$f":"ข้อมูลนักเรียน!A46","v":0},{"$f":"IF(ข้อมูลนักเรียน!B46=0,\"\",ข้อมูลนักเรียน!B46)","v":""},{"$f":"IF(ข้อมูลนักเรียน!C46=0,\"\",ข้อมูลนักเรียน!C46)","v":""},{"$f":"IF(ข้อมูลนักเรียน!C46=0,\"\",ข้อมูลนักเรียน!D46 & ข้อมูลนักเรียน!E46 & \"   \"& ข้อมูลนักเรียน!F46)","v":""},{"$f":"IF(ข้อมูลนักเรียน!C46=0,\"\",ข้อมูลนักเรียน!G46)","v":""},{"$f":"ข้อมูลนักเรียน!B46","v":0},null,null,null,null,null,null,null,null,null,null,null,null,null,null,null,null,null,null,null,null,null,null,null,null,null,null,"ผ่าน",0,null,"ปรับปรุง",null,23]
[{"$f":"ข้อมูลนักเรียน!A47","v":0},{"$f":"IF(ข้อมูลนักเรียน!B47=0,\"\",ข้อมูลนักเรียน!B47)","v":""},{"$f":"IF(ข้อมูลนักเรียน!C47=0,\"\",ข้อมูลนักเรียน!C47)","v":""},{"$f":"IF(ข้อมูลนักเรียน!C47=0,\"\",ข้อมูลนักเรียน!D47 & ข้อมูลนักเรียน!E47 & \"   \"& ข้อมูลนักเรียน!F47)","v":""},{"$f":"IF(ข้อมูลนักเรียน!C47=0,\"\",ข้อมูลนักเรียน!G47)","v":""},{"$f":"ข้อมูลนักเรียน!B47","v":0},null,null,null,null,null,null,null,null,null,null,null,null,null,null,null,null,null,null,null,null,null,null,null,null,null,null,"ผ่าน",0,null,"ปรับปรุง",null,23]
[{"$f":"ข้อมูลนักเรียน!A48","v":0},{"$f":"IF(ข้อมูลนักเรียน!B48=0,\"\",ข้อมูลนักเรียน!B48)","v":""},{"$f":"IF(ข้อมูลนักเรียน!C48=0,\"\",ข้อมูลนักเรียน!C48)","v":""},{"$f":"IF(ข้อมูลนักเรียน!C48=0,\"\",ข้อมูลนักเรียน!D48 & ข้อมูลนักเรียน!E48 & \"   \"& ข้อมูลนักเรียน!F48)","v":""},{"$f":"IF(ข้อมูลนักเรียน!C48=0,\"\",ข้อมูลนักเรียน!G48)","v":""},{"$f":"ข้อมูลนักเรียน!B48","v":0},null,null,null,null,null,null,null,null,null,null,null,null,null,null,null,null,null,null,null,null,null,null,null,null,null,null,"ผ่าน",0,null,"ปรับปรุง",null,23]
[{"$f":"ข้อมูลนักเรียน!A49","v":0},{"$f":"IF(ข้อมูลนักเรียน!B49=0,\"\",ข้อมูลนักเรียน!B49)","v":""},{"$f":"IF(ข้อมูลนักเรียน!C49=0,\"\",ข้อมูลนักเรียน!C49)","v":""},{"$f":"IF(ข้อมูลนักเรียน!C49=0,\"\",ข้อมูลนักเรียน!D49 & ข้อมูลนักเรียน!E49 & \"   \"& ข้อมูลนักเรียน!F49)","v":""},{"$f":"IF(ข้อมูลนักเรียน!C49=0,\"\",ข้อมูลนักเรียน!G49)","v":""},{"$f":"ข้อมูลนักเรียน!B49","v":0},null,null,null,null,null,null,null,null,null,null,null,null,null,null,null,null,null,null,null,null,null,null,null,null,null,null,"ผ่าน",0,null,"ปรับปรุง",null,23]
[{"$f":"ข้อมูลนักเรียน!A50","v":0},{"$f":"IF(ข้อมูลนักเรียน!B50=0,\"\",ข้อมูลนักเรียน!B50)","v":""},{"$f":"IF(ข้อมูลนักเรียน!C50=0,\"\",ข้อมูลนักเรียน!C50)","v":""},{"$f":"IF(ข้อมูลนักเรียน!C50=0,\"\",ข้อมูลนักเรียน!D50 & ข้อมูลนักเรียน!E50 & \"   \"& ข้อมูลนักเรียน!F50)","v":""},{"$f":"IF(ข้อมูลนักเรียน!C50=0,\"\",ข้อมูลนักเรียน!G50)","v":""},{"$f":"ข้อมูลนักเรียน!B50","v":0},null,null,null,null,null,null,null,null,null,null,null,null,null,null,null,null,null,null,null,null,null,null,null,null,null,null,"ผ่าน",0,null,"ปรับปรุง",null,23]
[{"$f":"ข้อมูลนักเรียน!A51","v":0},{"$f":"IF(ข้อมูลนักเรียน!B51=0,\"\",ข้อมูลนักเรียน!B51)","v":""},{"$f":"IF(ข้อมูลนักเรียน!C51=0,\"\",ข้อมูลนักเรียน!C51)","v":""},{"$f":"IF(ข้อมูลนักเรียน!C51=0,\"\",ข้อมูลนักเรียน!D51 & ข้อมูลนักเรียน!E51 & \"   \"& ข้อมูลนักเรียน!F51)","v":""},{"$f":"IF(ข้อมูลนักเรียน!C51=0,\"\",ข้อมูลนักเรียน!G51)","v":""},{"$f":"ข้อมูลนักเรียน!B51","v":0},null,null,null,null,null,null,null,null,null,null,null,null,null,null,null,null,null,null,null,null,null,null,null,null,null,null,"ผ่าน",0,null,"ปรับปรุง",null,23]
[{"$f":"ข้อมูลนักเรียน!A52","v":0},{"$f":"IF(ข้อมูลนักเรียน!B52=0,\"\",ข้อมูลนักเรียน!B52)","v":""},{"$f":"IF(ข้อมูลนักเรียน!C52=0,\"\",ข้อมูลนักเรียน!C52)","v":""},{"$f":"IF(ข้อมูลนักเรียน!C52=0,\"\",ข้อมูลนักเรียน!D52 & ข้อมูลนักเรียน!E52 & \"   \"& ข้อมูลนักเรียน!F52)","v":""},{"$f":"IF(ข้อมูลนักเรียน!C52=0,\"\",ข้อมูลนักเรียน!G52)","v":""},{"$f":"ข้อมูลนักเรียน!B52","v":0},null,null,null,null,null,null,null,null,null,null,null,null,null,null,null,null,null,null,null,null,null,null,null,null,null,null,"ผ่าน",0,null,"ปรับปรุง",null,23]
[{"$f":"ข้อมูลนักเรียน!A53","v":0},{"$f":"IF(ข้อมูลนักเรียน!B53=0,\"\",ข้อมูลนักเรียน!B53)","v":""},{"$f":"IF(ข้อมูลนักเรียน!C53=0,\"\",ข้อมูลนักเรียน!C53)","v":""},{"$f":"IF(ข้อมูลนักเรียน!C53=0,\"\",ข้อมูลนักเรียน!D53 & ข้อมูลนักเรียน!E53 & \"   \"& ข้อมูลนักเรียน!F53)","v":""},{"$f":"IF(ข้อมูลนักเรียน!C53=0,\"\",ข้อมูลนักเรียน!G53)","v":""},{"$f":"ข้อมูลนักเรียน!B53","v":0},null,null,null,null,null,null,null,null,null,null,null,null,null,null,null,null,null,null,null,null,null,null,null,null,null,null,"ผ่าน",0,null,"ปรับปรุง",null,23]
[{"$f":"ข้อมูลนักเรียน!A54","v":0},{"$f":"IF(ข้อมูลนักเรียน!B54=0,\"\",ข้อมูลนักเรียน!B54)","v":""},{"$f":"IF(ข้อมูลนักเรียน!C54=0,\"\",ข้อมูลนักเรียน!C54)","v":""},{"$f":"IF(ข้อมูลนักเรียน!C54=0,\"\",ข้อมูลนักเรียน!D54 & ข้อมูลนักเรียน!E54 & \"   \"& ข้อมูลนักเรียน!F54)","v":""},{"$f":"IF(ข้อมูลนักเรียน!C54=0,\"\",ข้อมูลนักเรียน!G54)","v":""},{"$f":"ข้อมูลนักเรียน!B54","v":0},null,null,null,null,null,null,null,null,null,null,null,null,null,null,null,null,null,null,null,null,null,null,null,null,null,null,"ผ่าน",0,null,"ปรับปรุง",null,23]
[{"$f":"ข้อมูลนักเรียน!A55","v":0},{"$f":"IF(ข้อมูลนักเรียน!B55=0,\"\",ข้อมูลนักเรียน!B55)","v":""},{"$f":"IF(ข้อมูลนักเรียน!C55=0,\"\",ข้อมูลนักเรียน!C55)","v":""},{"$f":"IF(ข้อมูลนักเรียน!C55=0,\"\",ข้อมูลนักเรียน!D55 & ข้อมูลนักเรียน!E55 & \"   \"& ข้อมูลนักเรียน!F55)","v":""},{"$f":"IF(ข้อมูลนักเรียน!C55=0,\"\",ข้อมูลนักเรียน!G55)","v":""},{"$f":"ข้อมูลนักเรียน!B55","v":0},null,null,null,null,null,null,null,null,null,null,null,null,null,null,null,null,null,null,null,null,null,null,null,null,null,null,"ผ่าน",0,null,"ปรับปรุง",null,23]
[{"$f":"ข้อมูลนักเรียน!A56","v":0},{"$f":"IF(ข้อมูลนักเรียน!B56=0,\"\",ข้อมูลนักเรียน!B56)","v":""},{"$f":"IF(ข้อมูลนักเรียน!C56=0,\"\",ข้อมูลนักเรียน!C56)","v":""},{"$f":"IF(ข้อมูลนักเรียน!C56=0,\"\",ข้อมูลนักเรียน!D56 & ข้อมูลนักเรียน!E56 & \"   \"& ข้อมูลนักเรียน!F56)","v":""},{"$f":"IF(ข้อมูลนักเรียน!C56=0,\"\",ข้อมูลนักเรียน!G56)","v":""},{"$f":"ข้อมูลนักเรียน!B56","v":0},null,null,null,null,null,null,null,null,null,null,null,null,null,null,null,null,null,null,null,null,null,null,null,null,null,null,"ผ่าน",0,null,"ปรับปรุง",null,23]
[{"$f":"ข้อมูลนักเรียน!A57","v":0},{"$f":"IF(ข้อมูลนักเรียน!B57=0,\"\",ข้อมูลนักเรียน!B57)","v":""},{"$f":"IF(ข้อมูลนักเรียน!C57=0,\"\",ข้อมูลนักเรียน!C57)","v":""},{"$f":"IF(ข้อมูลนักเรียน!C57=0,\"\",ข้อมูลนักเรียน!D57 & ข้อมูลนักเรียน!E57 & \"   \"& ข้อมูลนักเรียน!F57)","v":""},{"$f":"IF(ข้อมูลนักเรียน!C57=0,\"\",ข้อมูลนักเรียน!G57)","v":""},{"$f":"ข้อมูลนักเรียน!B57","v":0},null,null,null,null,null,null,null,null,null,null,null,null,null,null,null,null,null,null,null,null,null,null,null,null,null,null,"ผ่าน",0,null,"ปรับปรุง",null,23]
[{"$f":"ข้อมูลนักเรียน!A58","v":0},{"$f":"IF(ข้อมูลนักเรียน!B58=0,\"\",ข้อมูลนักเรียน!B58)","v":""},{"$f":"IF(ข้อมูลนักเรียน!C58=0,\"\",ข้อมูลนักเรียน!C58)","v":""},{"$f":"IF(ข้อมูลนักเรียน!C58=0,\"\",ข้อมูลนักเรียน!D58 & ข้อมูลนักเรียน!E58 & \"   \"& ข้อมูลนักเรียน!F58)","v":""},{"$f":"IF(ข้อมูลนักเรียน!C58=0,\"\",ข้อมูลนักเรียน!G58)","v":""},{"$f":"ข้อมูลนักเรียน!B58","v":0},null,null,null,null,null,null,null,null,null,null,null,null,null,null,null,null,null,null,null,null,null,null,null,null,null,null,"ผ่าน",0,null,"ปรับปรุง",null,23]
[{"$f":"ข้อมูลนักเรียน!A59","v":0},{"$f":"IF(ข้อมูลนักเรียน!B59=0,\"\",ข้อมูลนักเรียน!B59)","v":""},{"$f":"IF(ข้อมูลนักเรียน!C59=0,\"\",ข้อมูลนักเรียน!C59)","v":""},{"$f":"IF(ข้อมูลนักเรียน!C59=0,\"\",ข้อมูลนักเรียน!D59 & ข้อมูลนักเรียน!E59 & \"   \"& ข้อมูลนักเรียน!F59)","v":""},{"$f":"IF(ข้อมูลนักเรียน!C59=0,\"\",ข้อมูลนักเรียน!G59)","v":""},{"$f":"ข้อมูลนักเรียน!B59","v":0},null,null,null,null,null,null,null,null,null,null,null,null,null,null,null,null,null,null,null,null,null,null,null,null,null,null,"ผ่าน",0,null,"ปรับปรุง",null,23]
[{"$f":"ข้อมูลนักเรียน!A60","v":0},{"$f":"IF(ข้อมูลนักเรียน!B60=0,\"\",ข้อมูลนักเรียน!B60)","v":""},{"$f":"IF(ข้อมูลนักเรียน!C60=0,\"\",ข้อมูลนักเรียน!C60)","v":""},{"$f":"IF(ข้อมูลนักเรียน!C60=0,\"\",ข้อมูลนักเรียน!D60 & ข้อมูลนักเรียน!E60 & \"   \"& ข้อมูลนักเรียน!F60)","v":""},{"$f":"IF(ข้อมูลนักเรียน!C60=0,\"\",ข้อมูลนักเรียน!G60)","v":""},{"$f":"ข้อมูลนักเรียน!B60","v":0},null,null,null,null,null,null,null,null,null,null,null,null,null,null,null,null,null,null,null,null,null,null,null,null,null,null,"ผ่าน",0,null,"ปรับปรุง",null,23]
[{"$f":"ข้อมูลนักเรียน!A61","v":0},{"$f":"IF(ข้อมูลนักเรียน!B61=0,\"\",ข้อมูลนักเรียน!B61)","v":""},{"$f":"IF(ข้อมูลนักเรียน!C61=0,\"\",ข้อมูลนักเรียน!C61)","v":""},{"$f":"IF(ข้อมูลนักเรียน!C61=0,\"\",ข้อมูลนักเรียน!D61 & ข้อมูลนักเรียน!E61 & \"   \"& ข้อมูลนักเรียน!F61)","v":""},{"$f":"IF(ข้อมูลนักเรียน!C61=0,\"\",ข้อมูลนักเรียน!G61)","v":""},{"$f":"ข้อมูลนักเรียน!B61","v":0},null,null,null,null,null,null,null,null,null,null,null,null,null,null,null,null,null,null,null,null,null,null,null,null,null,null,"ผ่าน",0,null,"ปรับปรุง",null,23]
[{"$f":"ข้อมูลนักเรียน!A62","v":0},{"$f":"IF(ข้อมูลนักเรียน!B62=0,\"\",ข้อมูลนักเรียน!B62)","v":""},{"$f":"IF(ข้อมูลนักเรียน!C62=0,\"\",ข้อมูลนักเรียน!C62)","v":""},{"$f":"IF(ข้อมูลนักเรียน!C62=0,\"\",ข้อมูลนักเรียน!D62 & ข้อมูลนักเรียน!E62 & \"   \"& ข้อมูลนักเรียน!F62)","v":""},{"$f":"IF(ข้อมูลนักเรียน!C62=0,\"\",ข้อมูลนักเรียน!G62)","v":""},{"$f":"ข้อมูลนักเรียน!B62","v":0},null,null,null,null,null,null,null,null,null,null,null,null,null,null,null,null,null,null,null,null,null,null,null,null,null,null,"ผ่าน",0,null,"ปรับปรุง",null,23]
[{"$f":"ข้อมูลนักเรียน!A63","v":0},{"$f":"IF(ข้อมูลนักเรียน!B63=0,\"\",ข้อมูลนักเรียน!B63)","v":""},{"$f":"IF(ข้อมูลนักเรียน!C63=0,\"\",ข้อมูลนักเรียน!C63)","v":""},{"$f":"IF(ข้อมูลนักเรียน!C63=0,\"\",ข้อมูลนักเรียน!D63 & ข้อมูลนักเรียน!E63 & \"   \"& ข้อมูลนักเรียน!F63)","v":""},{"$f":"IF(ข้อมูลนักเรียน!C63=0,\"\",ข้อมูลนักเรียน!G63)","v":""},{"$f":"ข้อมูลนักเรียน!B63","v":0},null,null,null,null,null,null,null,null,null,null,null,null,null,null,null,null,null,null,null,null,null,null,null,null,null,null,"ผ่าน",0,null,"ปรับปรุง",null,23]
[{"$f":"ข้อมูลนักเรียน!A64","v":0},{"$f":"IF(ข้อมูลนักเรียน!B64=0,\"\",ข้อมูลนักเรียน!B64)","v":""},{"$f":"IF(ข้อมูลนักเรียน!C64=0,\"\",ข้อมูลนักเรียน!C64)","v":""},{"$f":"IF(ข้อมูลนักเรียน!C64=0,\"\",ข้อมูลนักเรียน!D64 & ข้อมูลนักเรียน!E64 & \"   \"& ข้อมูลนักเรียน!F64)","v":""},{"$f":"IF(ข้อมูลนักเรียน!C64=0,\"\",ข้อมูลนักเรียน!G64)","v":""},{"$f":"ข้อมูลนักเรียน!B64","v":0},null,null,null,null,null,null,null,null,null,null,null,null,null,null,null,null,null,null,null,null,null,null,null,null,null,null,"ผ่าน",0,null,"ปรับปรุง",null,23]
[{"$f":"ข้อมูลนักเรียน!A65","v":0},{"$f":"IF(ข้อมูลนักเรียน!B65=0,\"\",ข้อมูลนักเรียน!B65)","v":""},{"$f":"IF(ข้อมูลนักเรียน!C65=0,\"\",ข้อมูลนักเรียน!C65)","v":""},{"$f":"IF(ข้อมูลนักเรียน!C65=0,\"\",ข้อมูลนักเรียน!D65 & ข้อมูลนักเรียน!E65 & \"   \"& ข้อมูลนักเรียน!F65)","v":""},{"$f":"IF(ข้อมูลนักเรียน!C65=0,\"\",ข้อมูลนักเรียน!G65)","v":""},{"$f":"ข้อมูลนักเรียน!B65","v":0},null,null,null,null,null,null,null,null,null,null,null,null,null,null,null,null,null,null,null,null,null,null,null,null,null,null,"ผ่าน",0,null,"ปรับปรุง",null,23]
[{"$f":"ข้อมูลนักเรียน!A66","v":0},{"$f":"IF(ข้อมูลนักเรียน!B66=0,\"\",ข้อมูลนักเรียน!B66)","v":""},{"$f":"IF(ข้อมูลนักเรียน!C66=0,\"\",ข้อมูลนักเรียน!C66)","v":""},{"$f":"IF(ข้อมูลนักเรียน!C66=0,\"\",ข้อมูลนักเรียน!D66 & ข้อมูลนักเรียน!E66 & \"   \"& ข้อมูลนักเรียน!F66)","v":""},{"$f":"IF(ข้อมูลนักเรียน!C66=0,\"\",ข้อมูลนักเรียน!G66)","v":""},{"$f":"ข้อมูลนักเรียน!B66","v":0},null,null,null,null,null,null,null,null,null,null,null,null,null,null,null,null,null,null,null,null,null,null,null,null,null,null,"ผ่าน",0,null,"ปรับปรุง",null,23]
[{"$f":"ข้อมูลนักเรียน!A67","v":0},{"$f":"IF(ข้อมูลนักเรียน!B67=0,\"\",ข้อมูลนักเรียน!B67)","v":""},{"$f":"IF(ข้อมูลนักเรียน!C67=0,\"\",ข้อมูลนักเรียน!C67)","v":""},{"$f":"IF(ข้อมูลนักเรียน!C67=0,\"\",ข้อมูลนักเรียน!D67 & ข้อมูลนักเรียน!E67 & \"   \"& ข้อมูลนักเรียน!F67)","v":""},{"$f":"IF(ข้อมูลนักเรียน!C67=0,\"\",ข้อมูลนักเรียน!G67)","v":""},{"$f":"ข้อมูลนักเรียน!B67","v":0},null,null,null,null,null,null,null,null,null,null,null,null,null,null,null,null,null,null,null,null,null,null,null,null,null,null,"ผ่าน",0,null,"ปรับปรุง",null,23]
[{"$f":"ข้อมูลนักเรียน!A68","v":0},{"$f":"IF(ข้อมูลนักเรียน!B68=0,\"\",ข้อมูลนักเรียน!B68)","v":""},{"$f":"IF(ข้อมูลนักเรียน!C68=0,\"\",ข้อมูลนักเรียน!C68)","v":""},{"$f":"IF(ข้อมูลนักเรียน!C68=0,\"\",ข้อมูลนักเรียน!D68 & ข้อมูลนักเรียน!E68 & \"   \"& ข้อมูลนักเรียน!F68)","v":""},{"$f":"IF(ข้อมูลนักเรียน!C68=0,\"\",ข้อมูลนักเรียน!G68)","v":""},{"$f":"ข้อมูลนักเรียน!B68","v":0},null,null,null,null,null,null,null,null,null,null,null,null,null,null,null,null,null,null,null,null,null,null,null,null,null,null,"ผ่าน",0,null,"ปรับปรุง",null,23]
[{"$f":"ข้อมูลนักเรียน!A69","v":0},{"$f":"IF(ข้อมูลนักเรียน!B69=0,\"\",ข้อมูลนักเรียน!B69)","v":""},{"$f":"IF(ข้อมูลนักเรียน!C69=0,\"\",ข้อมูลนักเรียน!C69)","v":""},{"$f":"IF(ข้อมูลนักเรียน!C69=0,\"\",ข้อมูลนักเรียน!D69 & ข้อมูลนักเรียน!E69 & \"   \"& ข้อมูลนักเรียน!F69)","v":""},{"$f":"IF(ข้อมูลนักเรียน!C69=0,\"\",ข้อมูลนักเรียน!G69)","v":""},{"$f":"ข้อมูลนักเรียน!B69","v":0},null,null,null,null,null,null,null,null,null,null,null,null,null,null,null,null,null,null,null,null,null,null,null,null,null,null,"ผ่าน",0,null,"ปรับปรุง",null,23]
[{"$f":"ข้อมูลนักเรียน!A70","v":0},{"$f":"IF(ข้อมูลนักเรียน!B70=0,\"\",ข้อมูลนักเรียน!B70)","v":""},{"$f":"IF(ข้อมูลนักเรียน!C70=0,\"\",ข้อมูลนักเรียน!C70)","v":""},{"$f":"IF(ข้อมูลนักเรียน!C70=0,\"\",ข้อมูลนักเรียน!D70 & ข้อมูลนักเรียน!E70 & \"   \"& ข้อมูลนักเรียน!F70)","v":""},{"$f":"IF(ข้อมูลนักเรียน!C70=0,\"\",ข้อมูลนักเรียน!G70)","v":""},{"$f":"ข้อมูลนักเรียน!B70","v":0},null,null,null,null,null,null,null,null,null,null,null,null,null,null,null,null,null,null,null,null,null,null,null,null,null,null,"ผ่าน",0,null,"ปรับปรุง",null,23]
[{"$f":"ข้อมูลนักเรียน!A71","v":0},{"$f":"IF(ข้อมูลนักเรียน!B71=0,\"\",ข้อมูลนักเรียน!B71)","v":""},{"$f":"IF(ข้อมูลนักเรียน!C71=0,\"\",ข้อมูลนักเรียน!C71)","v":""},{"$f":"IF(ข้อมูลนักเรียน!C71=0,\"\",ข้อมูลนักเรียน!D71 & ข้อมูลนักเรียน!E71 & \"   \"& ข้อมูลนักเรียน!F71)","v":""},{"$f":"IF(ข้อมูลนักเรียน!C71=0,\"\",ข้อมูลนักเรียน!G71)","v":""},{"$f":"ข้อมูลนักเรียน!B71","v":0},null,null,null,null,null,null,null,null,null,null,null,null,null,null,null,null,null,null,null,null,null,null,null,null,null,null,"ผ่าน",0,null,"ปรับปรุง",null,23]
[{"$f":"ข้อมูลนักเรียน!A72","v":0},{"$f":"IF(ข้อมูลนักเรียน!B72=0,\"\",ข้อมูลนักเรียน!B72)","v":""},{"$f":"IF(ข้อมูลนักเรียน!C72=0,\"\",ข้อมูลนักเรียน!C72)","v":""},{"$f":"IF(ข้อมูลนักเรียน!C72=0,\"\",ข้อมูลนักเรียน!D72 & ข้อมูลนักเรียน!E72 & \"   \"& ข้อมูลนักเรียน!F72)","v":""},{"$f":"IF(ข้อมูลนักเรียน!C72=0,\"\",ข้อมูลนักเรียน!G72)","v":""},{"$f":"ข้อมูลนักเรียน!B72","v":0},null,null,null,null,null,null,null,null,null,null,null,null,null,null,null,null,null,null,null,null,null,null,null,null,null,null,"ผ่าน",0,null,"ปรับปรุง",null,23]
[{"$f":"ข้อมูลนักเรียน!A73","v":0},{"$f":"IF(ข้อมูลนักเรียน!B73=0,\"\",ข้อมูลนักเรียน!B73)","v":""},{"$f":"IF(ข้อมูลนักเรียน!C73=0,\"\",ข้อมูลนักเรียน!C73)","v":""},{"$f":"IF(ข้อมูลนักเรียน!C73=0,\"\",ข้อมูลนักเรียน!D73 & ข้อมูลนักเรียน!E73 & \"   \"& ข้อมูลนักเรียน!F73)","v":""},{"$f":"IF(ข้อมูลนักเรียน!C73=0,\"\",ข้อมูลนักเรียน!G73)","v":""},{"$f":"ข้อมูลนักเรียน!B73","v":0},null,null,null,null,null,null,null,null,null,null,null,null,null,null,null,null,null,null,null,null,null,null,null,null,null,null,{"$f":"IF(COUNTIFS(Z73:AD73,\"=มผ\") > 0,\"ไม่ผ่าน\",\"ผ่าน\")","v":"ผ่าน"},0,null,{"$f":"IF(AF73=1,\"ผ่าน\",IF(AF73=2,\"ดี\",IF(AF73=3,\"ดีเยี่ยม\",\"ปรับปรุง\")))","v":"ปรับปรุง"},null,23]
[{"$f":"ข้อมูลนักเรียน!A74","v":0},{"$f":"IF(ข้อมูลนักเรียน!B74=0,\"\",ข้อมูลนักเรียน!B74)","v":""},{"$f":"IF(ข้อมูลนักเรียน!C74=0,\"\",ข้อมูลนักเรียน!C74)","v":""},{"$f":"IF(ข้อมูลนักเรียน!C74=0,\"\",ข้อมูลนักเรียน!D74 & ข้อมูลนักเรียน!E74 & \"   \"& ข้อมูลนักเรียน!F74)","v":""},{"$f":"IF(ข้อมูลนักเรียน!C74=0,\"\",ข้อมูลนักเรียน!G74)","v":""},{"$f":"ข้อมูลนักเรียน!B74","v":0},null,null,null,null,null,null,null,null,null,null,null,null,null,null,null,null,null,null,null,null,null,null,null,null,null,null,"ผ่าน",{"$f":"ROUNDDOWN(0,2)","v":0},null,"ปรับปรุง",null,23]
[{"$f":"ข้อมูลนักเรียน!A75","v":0},{"$f":"IF(ข้อมูลนักเรียน!B75=0,\"\",ข้อมูลนักเรียน!B75)","v":""},{"$f":"IF(ข้อมูลนักเรียน!C75=0,\"\",ข้อมูลนักเรียน!C75)","v":""},{"$f":"IF(ข้อมูลนักเรียน!C75=0,\"\",ข้อมูลนักเรียน!D75 & ข้อมูลนักเรียน!E75 & \"   \"& ข้อมูลนักเรียน!F75)","v":""},{"$f":"IF(ข้อมูลนักเรียน!C75=0,\"\",ข้อมูลนักเรียน!G75)","v":""},{"$f":"ข้อมูลนักเรียน!B75","v":0},null,null,null,null,null,null,null,null,null,null,null,null,null,null,null,null,null,null,null,null,null,null,null,null,null,null,"ผ่าน",0,null,"ปรับปรุง",null,23]
[{"$f":"ข้อมูลนักเรียน!A76","v":0},{"$f":"IF(ข้อมูลนักเรียน!B76=0,\"\",ข้อมูลนักเรียน!B76)","v":""},{"$f":"IF(ข้อมูลนักเรียน!C76=0,\"\",ข้อมูลนักเรียน!C76)","v":""},{"$f":"IF(ข้อมูลนักเรียน!C76=0,\"\",ข้อมูลนักเรียน!D76 & ข้อมูลนักเรียน!E76 & \"   \"& ข้อมูลนักเรียน!F76)","v":""},{"$f":"IF(ข้อมูลนักเรียน!C76=0,\"\",ข้อมูลนักเรียน!G76)","v":""},{"$f":"ข้อมูลนักเรียน!B76","v":0},null,null,null,null,null,null,null,null,null,null,null,null,null,null,null,null,null,null,null,null,null,null,null,null,null,null,"ผ่าน",0,null,"ปรับปรุง",null,23]
[{"$f":"ข้อมูลนักเรียน!A77","v":0},{"$f":"IF(ข้อมูลนักเรียน!B77=0,\"\",ข้อมูลนักเรียน!B77)","v":""},{"$f":"IF(ข้อมูลนักเรียน!C77=0,\"\",ข้อมูลนักเรียน!C77)","v":""},{"$f":"IF(ข้อมูลนักเรียน!C77=0,\"\",ข้อมูลนักเรียน!D77 & ข้อมูลนักเรียน!E77 & \"   \"& ข้อมูลนักเรียน!F77)","v":""},{"$f":"IF(ข้อมูลนักเรียน!C77=0,\"\",ข้อมูลนักเรียน!G77)","v":""},{"$f":"ข้อมูลนักเรียน!B77","v":0},null,null,null,null,null,null,null,null,null,null,null,null,null,null,null,null,null,null,null,null,null,null,null,null,null,null,"ผ่าน",0,null,"ปรับปรุง",null,23]
[{"$f":"ข้อมูลนักเรียน!A78","v":0},{"$f":"IF(ข้อมูลนักเรียน!B78=0,\"\",ข้อมูลนักเรียน!B78)","v":""},{"$f":"IF(ข้อมูลนักเรียน!C78=0,\"\",ข้อมูลนักเรียน!C78)","v":""},{"$f":"IF(ข้อมูลนักเรียน!C78=0,\"\",ข้อมูลนักเรียน!D78 & ข้อมูลนักเรียน!E78 & \"   \"& ข้อมูลนักเรียน!F78)","v":""},{"$f":"IF(ข้อมูลนักเรียน!C78=0,\"\",ข้อมูลนักเรียน!G78)","v":""},{"$f":"ข้อมูลนักเรียน!B78","v":0},null,null,null,null,null,null,null,null,null,null,null,null,null,null,null,null,null,null,null,null,null,null,null,null,null,null,"ผ่าน",0,null,"ปรับปรุง",null,23]
[{"$f":"ข้อมูลนักเรียน!A79","v":0},{"$f":"IF(ข้อมูลนักเรียน!B79=0,\"\",ข้อมูลนักเรียน!B79)","v":""},{"$f":"IF(ข้อมูลนักเรียน!C79=0,\"\",ข้อมูลนักเรียน!C79)","v":""},{"$f":"IF(ข้อมูลนักเรียน!C79=0,\"\",ข้อมูลนักเรียน!D79 & ข้อมูลนักเรียน!E79 & \"   \"& ข้อมูลนักเรียน!F79)","v":""},{"$f":"IF(ข้อมูลนักเรียน!C79=0,\"\",ข้อมูลนักเรียน!G79)","v":""},{"$f":"ข้อมูลนักเรียน!B79","v":0},null,null,null,null,null,null,null,null,null,null,null,null,null,null,null,null,null,null,null,null,null,null,null,null,null,null,"ผ่าน",0,null,"ปรับปรุง",null,23]
[{"$f":"ข้อมูลนักเรียน!A80","v":0},{"$f":"IF(ข้อมูลนักเรียน!B80=0,\"\",ข้อมูลนักเรียน!B80)","v":""},{"$f":"IF(ข้อมูลนักเรียน!C80=0,\"\",ข้อมูลนักเรียน!C80)","v":""},{"$f":"IF(ข้อมูลนักเรียน!C80=0,\"\",ข้อมูลนักเรียน!D80 & ข้อมูลนักเรียน!E80 & \"   \"& ข้อมูลนักเรียน!F80)","v":""},{"$f":"IF(ข้อมูลนักเรียน!C80=0,\"\",ข้อมูลนักเรียน!G80)","v":""},{"$f":"ข้อมูลนักเรียน!B80","v":0},null,null,null,null,null,null,null,null,null,null,null,null,null,null,null,null,null,null,null,null,null,null,null,null,null,null,"ผ่าน",0,null,"ปรับปรุง",null,23]
[{"$f":"ข้อมูลนักเรียน!A81","v":0},{"$f":"IF(ข้อมูลนักเรียน!B81=0,\"\",ข้อมูลนักเรียน!B81)","v":""},{"$f":"IF(ข้อมูลนักเรียน!C81=0,\"\",ข้อมูลนักเรียน!C81)","v":""},{"$f":"IF(ข้อมูลนักเรียน!C81=0,\"\",ข้อมูลนักเรียน!D81 & ข้อมูลนักเรียน!E81 & \"   \"& ข้อมูลนักเรียน!F81)","v":""},{"$f":"IF(ข้อมูลนักเรียน!C81=0,\"\",ข้อมูลนักเรียน!G81)","v":""},{"$f":"ข้อมูลนักเรียน!B81","v":0},null,null,null,null,null,null,null,null,null,null,null,null,null,null,null,null,null,null,null,null,null,null,null,null,null,null,"ผ่าน",0,null,"ปรับปรุง",null,23]
[{"$f":"ข้อมูลนักเรียน!A82","v":0},{"$f":"IF(ข้อมูลนักเรียน!B82=0,\"\",ข้อมูลนักเรียน!B82)","v":""},{"$f":"IF(ข้อมูลนักเรียน!C82=0,\"\",ข้อมูลนักเรียน!C82)","v":""},{"$f":"IF(ข้อมูลนักเรียน!C82=0,\"\",ข้อมูลนักเรียน!D82 & ข้อมูลนักเรียน!E82 & \"   \"& ข้อมูลนักเรียน!F82)","v":""},{"$f":"IF(ข้อมูลนักเรียน!C82=0,\"\",ข้อมูลนักเรียน!G82)","v":""},{"$f":"ข้อมูลนักเรียน!B82","v":0},null,null,null,null,null,null,null,null,null,null,null,null,null,null,null,null,null,null,null,null,null,null,null,null,null,null,"ผ่าน",0,null,"ปรับปรุง",null,23]
[{"$f":"ข้อมูลนักเรียน!A83","v":0},{"$f":"IF(ข้อมูลนักเรียน!B83=0,\"\",ข้อมูลนักเรียน!B83)","v":""},{"$f":"IF(ข้อมูลนักเรียน!C83=0,\"\",ข้อมูลนักเรียน!C83)","v":""},{"$f":"IF(ข้อมูลนักเรียน!C83=0,\"\",ข้อมูลนักเรียน!D83 & ข้อมูลนักเรียน!E83 & \"   \"& ข้อมูลนักเรียน!F83)","v":""},{"$f":"IF(ข้อมูลนักเรียน!C83=0,\"\",ข้อมูลนักเรียน!G83)","v":""},{"$f":"ข้อมูลนักเรียน!B83","v":0},null,null,null,null,null,null,null,null,null,null,null,null,null,null,null,null,null,null,null,null,null,null,null,null,null,null,"ผ่าน",0,null,"ปรับปรุง",null,23]
[{"$f":"ข้อมูลนักเรียน!A84","v":0},{"$f":"IF(ข้อมูลนักเรียน!B84=0,\"\",ข้อมูลนักเรียน!B84)","v":""},{"$f":"IF(ข้อมูลนักเรียน!C84=0,\"\",ข้อมูลนักเรียน!C84)","v":""},{"$f":"IF(ข้อมูลนักเรียน!C84=0,\"\",ข้อมูลนักเรียน!D84 & ข้อมูลนักเรียน!E84 & \"   \"& ข้อมูลนักเรียน!F84)","v":""},{"$f":"IF(ข้อมูลนักเรียน!C84=0,\"\",ข้อมูลนักเรียน!G84)","v":""},{"$f":"ข้อมูลนักเรียน!B84","v":0},null,null,null,null,null,null,null,null,null,null,null,null,null,null,null,null,null,null,null,null,null,null,null,null,null,null,"ผ่าน",0,null,"ปรับปรุง",null,23]
[{"$f":"ข้อมูลนักเรียน!A85","v":0},{"$f":"IF(ข้อมูลนักเรียน!B85=0,\"\",ข้อมูลนักเรียน!B85)","v":""},{"$f":"IF(ข้อมูลนักเรียน!C85=0,\"\",ข้อมูลนักเรียน!C85)","v":""},{"$f":"IF(ข้อมูลนักเรียน!C85=0,\"\",ข้อมูลนักเรียน!D85 & ข้อมูลนักเรียน!E85 & \"   \"& ข้อมูลนักเรียน!F85)","v":""},{"$f":"IF(ข้อมูลนักเรียน!C85=0,\"\",ข้อมูลนักเรียน!G85)","v":""},{"$f":"ข้อมูลนักเรียน!B85","v":0},null,null,null,null,null,null,null,null,null,null,null,null,null,null,null,null,null,null,null,null,null,null,null,null,null,null,"ผ่าน",0,null,"ปรับปรุง",null,23]
[{"$f":"ข้อมูลนักเรียน!A86","v":0},{"$f":"IF(ข้อมูลนักเรียน!B86=0,\"\",ข้อมูลนักเรียน!B86)","v":""},{"$f":"IF(ข้อมูลนักเรียน!C86=0,\"\",ข้อมูลนักเรียน!C86)","v":""},{"$f":"IF(ข้อมูลนักเรียน!C86=0,\"\",ข้อมูลนักเรียน!D86 & ข้อมูลนักเรียน!E86 & \"   \"& ข้อมูลนักเรียน!F86)","v":""},{"$f":"IF(ข้อมูลนักเรียน!C86=0,\"\",ข้อมูลนักเรียน!G86)","v":""},{"$f":"ข้อมูลนักเรียน!B86","v":0},null,null,null,null,null,null,null,null,null,null,null,null,null,null,null,null,null,null,null,null,null,null,null,null,null,null,"ผ่าน",0,null,"ปรับปรุง",null,23]
[{"$f":"ข้อมูลนักเรียน!A87","v":0},{"$f":"IF(ข้อมูลนักเรียน!B87=0,\"\",ข้อมูลนักเรียน!B87)","v":""},{"$f":"IF(ข้อมูลนักเรียน!C87=0,\"\",ข้อมูลนักเรียน!C87)","v":""},{"$f":"IF(ข้อมูลนักเรียน!C87=0,\"\",ข้อมูลนักเรียน!D87 & ข้อมูลนักเรียน!E87 & \"   \"& ข้อมูลนักเรียน!F87)","v":""},{"$f":"IF(ข้อมูลนักเรียน!C87=0,\"\",ข้อมูลนักเรียน!G87)","v":""},{"$f":"ข้อมูลนักเรียน!B87","v":0},null,null,null,null,null,null,null,null,null,null,null,null,null,null,null,null,null,null,null,null,null,null,null,null,null,null,"ผ่าน",0,null,"ปรับปรุง",null,23]
[{"$f":"ข้อมูลนักเรียน!A88","v":0},{"$f":"IF(ข้อมูลนักเรียน!B88=0,\"\",ข้อมูลนักเรียน!B88)","v":""},{"$f":"IF(ข้อมูลนักเรียน!C88=0,\"\",ข้อมูลนักเรียน!C88)","v":""},{"$f":"IF(ข้อมูลนักเรียน!C88=0,\"\",ข้อมูลนักเรียน!D88 & ข้อมูลนักเรียน!E88 & \"   \"& ข้อมูลนักเรียน!F88)","v":""},{"$f":"IF(ข้อมูลนักเรียน!C88=0,\"\",ข้อมูลนักเรียน!G88)","v":""},{"$f":"ข้อมูลนักเรียน!B88","v":0},null,null,null,null,null,null,null,null,null,null,null,null,null,null,null,null,null,null,null,null,null,null,null,null,null,null,"ผ่าน",0,null,"ปรับปรุง",null,23]
[{"$f":"ข้อมูลนักเรียน!A89","v":0},{"$f":"IF(ข้อมูลนักเรียน!B89=0,\"\",ข้อมูลนักเรียน!B89)","v":""},{"$f":"IF(ข้อมูลนักเรียน!C89=0,\"\",ข้อมูลนักเรียน!C89)","v":""},{"$f":"IF(ข้อมูลนักเรียน!C89=0,\"\",ข้อมูลนักเรียน!D89 & ข้อมูลนักเรียน!E89 & \"   \"& ข้อมูลนักเรียน!F89)","v":""},{"$f":"IF(ข้อมูลนักเรียน!C89=0,\"\",ข้อมูลนักเรียน!G89)","v":""},{"$f":"ข้อมูลนักเรียน!B89","v":0},null,null,null,null,null,null,null,null,null,null,null,null,null,null,null,null,null,null,null,null,null,null,null,null,null,null,"ผ่าน",0,null,"ปรับปรุง",null,23]
[{"$f":"ข้อมูลนักเรียน!A90","v":0},{"$f":"IF(ข้อมูลนักเรียน!B90=0,\"\",ข้อมูลนักเรียน!B90)","v":""},{"$f":"IF(ข้อมูลนักเรียน!C90=0,\"\",ข้อมูลนักเรียน!C90)","v":""},{"$f":"IF(ข้อมูลนักเรียน!C90=0,\"\",ข้อมูลนักเรียน!D90 & ข้อมูลนักเรียน!E90 & \"   \"& ข้อมูลนักเรียน!F90)","v":""},{"$f":"IF(ข้อมูลนักเรียน!C90=0,\"\",ข้อมูลนักเรียน!G90)","v":""},{"$f":"ข้อมูลนักเรียน!B90","v":0},null,null,null,null,null,null,null,null,null,null,null,null,null,null,null,null,null,null,null,null,null,null,null,null,null,null,"ผ่าน",0,null,"ปรับปรุง",null,23]
[{"$f":"ข้อมูลนักเรียน!A91","v":0},{"$f":"IF(ข้อมูลนักเรียน!B91=0,\"\",ข้อมูลนักเรียน!B91)","v":""},{"$f":"IF(ข้อมูลนักเรียน!C91=0,\"\",ข้อมูลนักเรียน!C91)","v":""},{"$f":"IF(ข้อมูลนักเรียน!C91=0,\"\",ข้อมูลนักเรียน!D91 & ข้อมูลนักเรียน!E91 & \"   \"& ข้อมูลนักเรียน!F91)","v":""},{"$f":"IF(ข้อมูลนักเรียน!C91=0,\"\",ข้อมูลนักเรียน!G91)","v":""},{"$f":"ข้อมูลนักเรียน!B91","v":0},null,null,null,null,null,null,null,null,null,null,null,null,null,null,null,null,null,null,null,null,null,null,null,null,null,null,"ผ่าน",0,null,"ปรับปรุง",null,23]
[{"$f":"ข้อมูลนักเรียน!A92","v":0},{"$f":"IF(ข้อมูลนักเรียน!B92=0,\"\",ข้อมูลนักเรียน!B92)","v":""},{"$f":"IF(ข้อมูลนักเรียน!C92=0,\"\",ข้อมูลนักเรียน!C92)","v":""},{"$f":"IF(ข้อมูลนักเรียน!C92=0,\"\",ข้อมูลนักเรียน!D92 & ข้อมูลนักเรียน!E92 & \"   \"& ข้อมูลนักเรียน!F92)","v":""},{"$f":"IF(ข้อมูลนักเรียน!C92=0,\"\",ข้อมูลนักเรียน!G92)","v":""},{"$f":"ข้อมูลนักเรียน!B92","v":0},null,null,null,null,null,null,null,null,null,null,null,null,null,null,null,null,null,null,null,null,null,null,null,null,null,null,"ผ่าน",0,null,"ปรับปรุง",null,23]
[{"$f":"ข้อมูลนักเรียน!A93","v":0},{"$f":"IF(ข้อมูลนักเรียน!B93=0,\"\",ข้อมูลนักเรียน!B93)","v":""},{"$f":"IF(ข้อมูลนักเรียน!C93=0,\"\",ข้อมูลนักเรียน!C93)","v":""},{"$f":"IF(ข้อมูลนักเรียน!C93=0,\"\",ข้อมูลนักเรียน!D93 & ข้อมูลนักเรียน!E93 & \"   \"& ข้อมูลนักเรียน!F93)","v":""},{"$f":"IF(ข้อมูลนักเรียน!C93=0,\"\",ข้อมูลนักเรียน!G93)","v":""},{"$f":"ข้อมูลนักเรียน!B93","v":0},null,null,null,null,null,null,null,null,null,null,null,null,null,null,null,null,null,null,null,null,null,null,null,null,null,null,"ผ่าน",0,null,"ปรับปรุง",null,23]
[{"$f":"ข้อมูลนักเรียน!A94","v":0},{"$f":"IF(ข้อมูลนักเรียน!B94=0,\"\",ข้อมูลนักเรียน!B94)","v":""},{"$f":"IF(ข้อมูลนักเรียน!C94=0,\"\",ข้อมูลนักเรียน!C94)","v":""},{"$f":"IF(ข้อมูลนักเรียน!C94=0,\"\",ข้อมูลนักเรียน!D94 & ข้อมูลนักเรียน!E94 & \"   \"& ข้อมูลนักเรียน!F94)","v":""},{"$f":"IF(ข้อมูลนักเรียน!C94=0,\"\",ข้อมูลนักเรียน!G94)","v":""},{"$f":"ข้อมูลนักเรียน!B94","v":0},null,null,null,null,null,null,null,null,null,null,null,null,null,null,null,null,null,null,null,null,null,null,null,null,null,null,"ผ่าน",0,null,"ปรับปรุง",null,23]
[{"$f":"ข้อมูลนักเรียน!A95","v":0},{"$f":"IF(ข้อมูลนักเรียน!B95=0,\"\",ข้อมูลนักเรียน!B95)","v":""},{"$f":"IF(ข้อมูลนักเรียน!C95=0,\"\",ข้อมูลนักเรียน!C95)","v":""},{"$f":"IF(ข้อมูลนักเรียน!C95=0,\"\",ข้อมูลนักเรียน!D95 & ข้อมูลนักเรียน!E95 & \"   \"& ข้อมูลนักเรียน!F95)","v":""},{"$f":"IF(ข้อมูลนักเรียน!C95=0,\"\",ข้อมูลนักเรียน!G95)","v":""},{"$f":"ข้อมูลนักเรียน!B95","v":0},null,null,null,null,null,null,null,null,null,null,null,null,null,null,null,null,null,null,null,null,null,null,null,null,null,null,"ผ่าน",0,null,"ปรับปรุง",null,23]
[{"$f":"ข้อมูลนักเรียน!A96","v":0},{"$f":"IF(ข้อมูลนักเรียน!B96=0,\"\",ข้อมูลนักเรียน!B96)","v":""},{"$f":"IF(ข้อมูลนักเรียน!C96=0,\"\",ข้อมูลนักเรียน!C96)","v":""},{"$f":"IF(ข้อมูลนักเรียน!C96=0,\"\",ข้อมูลนักเรียน!D96 & ข้อมูลนักเรียน!E96 & \"   \"& ข้อมูลนักเรียน!F96)","v":""},{"$f":"IF(ข้อมูลนักเรียน!C96=0,\"\",ข้อมูลนักเรียน!G96)","v":""},{"$f":"ข้อมูลนักเรียน!B96","v":0},null,null,null,null,null,null,null,null,null,null,null,null,null,null,null,null,null,null,null,null,null,null,null,null,null,null,"ผ่าน",0,null,"ปรับปรุง",null,23]
[{"$f":"ข้อมูลนักเรียน!A97","v":0},{"$f":"IF(ข้อมูลนักเรียน!B97=0,\"\",ข้อมูลนักเรียน!B97)","v":""},{"$f":"IF(ข้อมูลนักเรียน!C97=0,\"\",ข้อมูลนักเรียน!C97)","v":""},{"$f":"IF(ข้อมูลนักเรียน!C97=0,\"\",ข้อมูลนักเรียน!D97 & ข้อมูลนักเรียน!E97 & \"   \"& ข้อมูลนักเรียน!F97)","v":""},{"$f":"IF(ข้อมูลนักเรียน!C97=0,\"\",ข้อมูลนักเรียน!G97)","v":""},{"$f":"ข้อมูลนักเรียน!B97","v":0},null,null,null,null,null,null,null,null,null,null,null,null,null,null,null,null,null,null,null,null,null,null,null,null,null,null,"ผ่าน",0,null,"ปรับปรุง",null,23]
[{"$f":"ข้อมูลนักเรียน!A98","v":0},{"$f":"IF(ข้อมูลนักเรียน!B98=0,\"\",ข้อมูลนักเรียน!B98)","v":""},{"$f":"IF(ข้อมูลนักเรียน!C98=0,\"\",ข้อมูลนักเรียน!C98)","v":""},{"$f":"IF(ข้อมูลนักเรียน!C98=0,\"\",ข้อมูลนักเรียน!D98 & ข้อมูลนักเรียน!E98 & \"   \"& ข้อมูลนักเรียน!F98)","v":""},{"$f":"IF(ข้อมูลนักเรียน!C98=0,\"\",ข้อมูลนักเรียน!G98)","v":""},{"$f":"ข้อมูลนักเรียน!B98","v":0},null,null,null,null,null,null,null,null,null,null,null,null,null,null,null,null,null,null,null,null,null,null,null,null,null,null,"ผ่าน",0,null,"ปรับปรุง",null,23]
[{"$f":"ข้อมูลนักเรียน!A99","v":0},{"$f":"IF(ข้อมูลนักเรียน!B99=0,\"\",ข้อมูลนักเรียน!B99)","v":""},{"$f":"IF(ข้อมูลนักเรียน!C99=0,\"\",ข้อมูลนักเรียน!C99)","v":""},{"$f":"IF(ข้อมูลนักเรียน!C99=0,\"\",ข้อมูลนักเรียน!D99 & ข้อมูลนักเรียน!E99 & \"   \"& ข้อมูลนักเรียน!F99)","v":""},{"$f":"IF(ข้อมูลนักเรียน!C99=0,\"\",ข้อมูลนักเรียน!G99)","v":""},{"$f":"ข้อมูลนักเรียน!B99","v":0},null,null,null,null,null,null,null,null,null,null,null,null,null,null,null,null,null,null,null,null,null,null,null,null,null,null,"ผ่าน",0,null,"ปรับปรุง",null,23]
[{"$f":"ข้อมูลนักเรียน!A100","v":0},{"$f":"IF(ข้อมูลนักเรียน!B100=0,\"\",ข้อมูลนักเรียน!B100)","v":""},{"$f":"IF(ข้อมูลนักเรียน!C100=0,\"\",ข้อมูลนักเรียน!C100)","v":""},{"$f":"IF(ข้อมูลนักเรียน!C100=0,\"\",ข้อมูลนักเรียน!D100 & ข้อมูลนักเรียน!E100 & \"   \"& ข้อมูลนักเรียน!F100)","v":""},{"$f":"IF(ข้อมูลนักเรียน!C100=0,\"\",ข้อมูลนักเรียน!G100)","v":""},{"$f":"ข้อมูลนักเรียน!B100","v":0},null,null,null,null,null,null,null,null,null,null,null,null,null,null,null,null,null,null,null,null,null,null,null,null,null,null,"ผ่าน",0,null,"ปรับปรุง",null,23]
[{"$f":"ข้อมูลนักเรียน!A101","v":0},{"$f":"IF(ข้อมูลนักเรียน!B101=0,\"\",ข้อมูลนักเรียน!B101)","v":""},{"$f":"IF(ข้อมูลนักเรียน!C101=0,\"\",ข้อมูลนักเรียน!C101)","v":""},{"$f":"IF(ข้อมูลนักเรียน!C101=0,\"\",ข้อมูลนักเรียน!D101 & ข้อมูลนักเรียน!E101 & \"   \"& ข้อมูลนักเรียน!F101)","v":""},{"$f":"IF(ข้อมูลนักเรียน!C101=0,\"\",ข้อมูลนักเรียน!G101)","v":""},{"$f":"ข้อมูลนักเรียน!B101","v":0},null,null,null,null,null,null,null,null,null,null,null,null,null,null,null,null,null,null,null,null,null,null,null,null,null,null,"ผ่าน",0,null,"ปรับปรุง",null,23]
[{"$f":"ข้อมูลนักเรียน!A102","v":0},{"$f":"IF(ข้อมูลนักเรียน!B102=0,\"\",ข้อมูลนักเรียน!B102)","v":""},{"$f":"IF(ข้อมูลนักเรียน!C102=0,\"\",ข้อมูลนักเรียน!C102)","v":""},{"$f":"IF(ข้อมูลนักเรียน!C102=0,\"\",ข้อมูลนักเรียน!D102 & ข้อมูลนักเรียน!E102 & \"   \"& ข้อมูลนักเรียน!F102)","v":""},{"$f":"IF(ข้อมูลนักเรียน!C102=0,\"\",ข้อมูลนักเรียน!G102)","v":""},{"$f":"ข้อมูลนักเรียน!B102","v":0},null,null,null,null,null,null,null,null,null,null,null,null,null,null,null,null,null,null,null,null,null,null,null,null,null,null,"ผ่าน",0,null,"ปรับปรุง",null,23]
[{"$f":"ข้อมูลนักเรียน!A103","v":0},{"$f":"IF(ข้อมูลนักเรียน!B103=0,\"\",ข้อมูลนักเรียน!B103)","v":""},{"$f":"IF(ข้อมูลนักเรียน!C103=0,\"\",ข้อมูลนักเรียน!C103)","v":""},{"$f":"IF(ข้อมูลนักเรียน!C103=0,\"\",ข้อมูลนักเรียน!D103 & ข้อมูลนักเรียน!E103 & \"   \"& ข้อมูลนักเรียน!F103)","v":""},{"$f":"IF(ข้อมูลนักเรียน!C103=0,\"\",ข้อมูลนักเรียน!G103)","v":""},{"$f":"ข้อมูลนักเรียน!B103","v":0},null,null,null,null,null,null,null,null,null,null,null,null,null,null,null,null,null,null,null,null,null,null,null,null,null,null,"ผ่าน",0,null,"ปรับปรุง",null,23]
[{"$f":"ข้อมูลนักเรียน!A104","v":0},{"$f":"IF(ข้อมูลนักเรียน!B104=0,\"\",ข้อมูลนักเรียน!B104)","v":""},{"$f":"IF(ข้อมูลนักเรียน!C104=0,\"\",ข้อมูลนักเรียน!C104)","v":""},{"$f":"IF(ข้อมูลนักเรียน!C104=0,\"\",ข้อมูลนักเรียน!D104 & ข้อมูลนักเรียน!E104 & \"   \"& ข้อมูลนักเรียน!F104)","v":""},{"$f":"IF(ข้อมูลนักเรียน!C104=0,\"\",ข้อมูลนักเรียน!G104)","v":""},{"$f":"ข้อมูลนักเรียน!B104","v":0},null,null,null,null,null,null,null,null,null,null,null,null,null,null,null,null,null,null,null,null,null,null,null,null,null,null,"ผ่าน",0,null,"ปรับปรุง",null,23]
[{"$f":"ข้อมูลนักเรียน!A105","v":0},{"$f":"IF(ข้อมูลนักเรียน!B105=0,\"\",ข้อมูลนักเรียน!B105)","v":""},{"$f":"IF(ข้อมูลนักเรียน!C105=0,\"\",ข้อมูลนักเรียน!C105)","v":""},{"$f":"IF(ข้อมูลนักเรียน!C105=0,\"\",ข้อมูลนักเรียน!D105 & ข้อมูลนักเรียน!E105 & \"   \"& ข้อมูลนักเรียน!F105)","v":""},{"$f":"IF(ข้อมูลนักเรียน!C105=0,\"\",ข้อมูลนักเรียน!G105)","v":""},{"$f":"ข้อมูลนักเรียน!B105","v":0},null,null,null,null,null,null,null,null,null,null,null,null,null,null,null,null,null,null,null,null,null,null,null,null,null,null,"ผ่าน",0,null,"ปรับปรุง",null,23]
[{"$f":"ข้อมูลนักเรียน!A106","v":0},{"$f":"IF(ข้อมูลนักเรียน!B106=0,\"\",ข้อมูลนักเรียน!B106)","v":""},{"$f":"IF(ข้อมูลนักเรียน!C106=0,\"\",ข้อมูลนักเรียน!C106)","v":""},{"$f":"IF(ข้อมูลนักเรียน!C106=0,\"\",ข้อมูลนักเรียน!D106 & ข้อมูลนักเรียน!E106 & \"   \"& ข้อมูลนักเรียน!F106)","v":""},{"$f":"IF(ข้อมูลนักเรียน!C106=0,\"\",ข้อมูลนักเรียน!G106)","v":""},{"$f":"ข้อมูลนักเรียน!B106","v":0},null,null,null,null,null,null,null,null,null,null,null,null,null,null,null,null,null,null,null,null,null,null,null,null,null,null,"ผ่าน",{"$f":"ROUNDDOWN(0,2)","v":0},null,"ปรับปรุง",null,23]
[{"$f":"ข้อมูลนักเรียน!A107","v":0},{"$f":"IF(ข้อมูลนักเรียน!B107=0,\"\",ข้อมูลนักเรียน!B107)","v":""},{"$f":"IF(ข้อมูลนักเรียน!C107=0,\"\",ข้อมูลนักเรียน!C107)","v":""},{"$f":"IF(ข้อมูลนักเรียน!C107=0,\"\",ข้อมูลนักเรียน!D107 & ข้อมูลนักเรียน!E107 & \"   \"& ข้อมูลนักเรียน!F107)","v":""},{"$f":"IF(ข้อมูลนักเรียน!C107=0,\"\",ข้อมูลนักเรียน!G107)","v":""},{"$f":"ข้อมูลนักเรียน!B107","v":0},null,null,null,null,null,null,null,null,null,null,null,null,null,null,null,null,null,null,null,null,null,null,null,null,null,null,"ผ่าน",0,null,"ปรับปรุง",null,23]
[{"$f":"ข้อมูลนักเรียน!A108","v":0},{"$f":"IF(ข้อมูลนักเรียน!B108=0,\"\",ข้อมูลนักเรียน!B108)","v":""},{"$f":"IF(ข้อมูลนักเรียน!C108=0,\"\",ข้อมูลนักเรียน!C108)","v":""},{"$f":"IF(ข้อมูลนักเรียน!C108=0,\"\",ข้อมูลนักเรียน!D108 & ข้อมูลนักเรียน!E108 & \"   \"& ข้อมูลนักเรียน!F108)","v":""},{"$f":"IF(ข้อมูลนักเรียน!C108=0,\"\",ข้อมูลนักเรียน!G108)","v":""},{"$f":"ข้อมูลนักเรียน!B108","v":0},null,null,null,null,null,null,null,null,null,null,null,null,null,null,null,null,null,null,null,null,null,null,null,null,null,null,"ผ่าน",0,null,"ปรับปรุง",null,23]
[{"$f":"ข้อมูลนักเรียน!A109","v":0},{"$f":"IF(ข้อมูลนักเรียน!B109=0,\"\",ข้อมูลนักเรียน!B109)","v":""},{"$f":"IF(ข้อมูลนักเรียน!C109=0,\"\",ข้อมูลนักเรียน!C109)","v":""},{"$f":"IF(ข้อมูลนักเรียน!C109=0,\"\",ข้อมูลนักเรียน!D109 & ข้อมูลนักเรียน!E109 & \"   \"& ข้อมูลนักเรียน!F109)","v":""},{"$f":"IF(ข้อมูลนักเรียน!C109=0,\"\",ข้อมูลนักเรียน!G109)","v":""},{"$f":"ข้อมูลนักเรียน!B109","v":0},null,null,null,null,null,null,null,null,null,null,null,null,null,null,null,null,null,null,null,null,null,null,null,null,null,null,"ผ่าน",0,null,"ปรับปรุง",null,23]
[{"$f":"ข้อมูลนักเรียน!A110","v":0},{"$f":"IF(ข้อมูลนักเรียน!B110=0,\"\",ข้อมูลนักเรียน!B110)","v":""},{"$f":"IF(ข้อมูลนักเรียน!C110=0,\"\",ข้อมูลนักเรียน!C110)","v":""},{"$f":"IF(ข้อมูลนักเรียน!C110=0,\"\",ข้อมูลนักเรียน!D110 & ข้อมูลนักเรียน!E110 & \"   \"& ข้อมูลนักเรียน!F110)","v":""},{"$f":"IF(ข้อมูลนักเรียน!C110=0,\"\",ข้อมูลนักเรียน!G110)","v":""},{"$f":"ข้อมูลนักเรียน!B110","v":0},null,null,null,null,null,null,null,null,null,null,null,null,null,null,null,null,null,null,null,null,null,null,null,null,null,null,"ผ่าน",0,null,"ปรับปรุง",null,23]
[{"$f":"ข้อมูลนักเรียน!A111","v":0},{"$f":"IF(ข้อมูลนักเรียน!B111=0,\"\",ข้อมูลนักเรียน!B111)","v":""},{"$f":"IF(ข้อมูลนักเรียน!C111=0,\"\",ข้อมูลนักเรียน!C111)","v":""},{"$f":"IF(ข้อมูลนักเรียน!C111=0,\"\",ข้อมูลนักเรียน!D111 & ข้อมูลนักเรียน!E111 & \"   \"& ข้อมูลนักเรียน!F111)","v":""},{"$f":"IF(ข้อมูลนักเรียน!C111=0,\"\",ข้อมูลนักเรียน!G111)","v":""},{"$f":"ข้อมูลนักเรียน!B111","v":0},null,null,null,null,null,null,null,null,null,null,null,null,null,null,null,null,null,null,null,null,null,null,null,null,null,null,"ผ่าน",0,null,"ปรับปรุง",null,23]
[{"$f":"ข้อมูลนักเรียน!A112","v":0},{"$f":"IF(ข้อมูลนักเรียน!B112=0,\"\",ข้อมูลนักเรียน!B112)","v":""},{"$f":"IF(ข้อมูลนักเรียน!C112=0,\"\",ข้อมูลนักเรียน!C112)","v":""},{"$f":"IF(ข้อมูลนักเรียน!C112=0,\"\",ข้อมูลนักเรียน!D112 & ข้อมูลนักเรียน!E112 & \"   \"& ข้อมูลนักเรียน!F112)","v":""},{"$f":"IF(ข้อมูลนักเรียน!C112=0,\"\",ข้อมูลนักเรียน!G112)","v":""},{"$f":"ข้อมูลนักเรียน!B112","v":0},null,null,null,null,null,null,null,null,null,null,null,null,null,null,null,null,null,null,null,null,null,null,null,null,null,null,"ผ่าน",0,null,"ปรับปรุง",null,23]
[{"$f":"ข้อมูลนักเรียน!A113","v":0},{"$f":"IF(ข้อมูลนักเรียน!B113=0,\"\",ข้อมูลนักเรียน!B113)","v":""},{"$f":"IF(ข้อมูลนักเรียน!C113=0,\"\",ข้อมูลนักเรียน!C113)","v":""},{"$f":"IF(ข้อมูลนักเรียน!C113=0,\"\",ข้อมูลนักเรียน!D113 & ข้อมูลนักเรียน!E113 & \"   \"& ข้อมูลนักเรียน!F113)","v":""},{"$f":"IF(ข้อมูลนักเรียน!C113=0,\"\",ข้อมูลนักเรียน!G113)","v":""},{"$f":"ข้อมูลนักเรียน!B113","v":0},null,null,null,null,null,null,null,null,null,null,null,null,null,null,null,null,null,null,null,null,null,null,null,null,null,null,"ผ่าน",0,null,"ปรับปรุง",null,23]
[{"$f":"ข้อมูลนักเรียน!A114","v":0},{"$f":"IF(ข้อมูลนักเรียน!B114=0,\"\",ข้อมูลนักเรียน!B114)","v":""},{"$f":"IF(ข้อมูลนักเรียน!C114=0,\"\",ข้อมูลนักเรียน!C114)","v":""},{"$f":"IF(ข้อมูลนักเรียน!C114=0,\"\",ข้อมูลนักเรียน!D114 & ข้อมูลนักเรียน!E114 & \"   \"& ข้อมูลนักเรียน!F114)","v":""},{"$f":"IF(ข้อมูลนักเรียน!C114=0,\"\",ข้อมูลนักเรียน!G114)","v":""},{"$f":"ข้อมูลนักเรียน!B114","v":0},null,null,null,null,null,null,null,null,null,null,null,null,null,null,null,null,null,null,null,null,null,null,null,null,null,null,"ผ่าน",0,null,"ปรับปรุง",null,23]
[{"$f":"ข้อมูลนักเรียน!A115","v":0},{"$f":"IF(ข้อมูลนักเรียน!B115=0,\"\",ข้อมูลนักเรียน!B115)","v":""},{"$f":"IF(ข้อมูลนักเรียน!C115=0,\"\",ข้อมูลนักเรียน!C115)","v":""},{"$f":"IF(ข้อมูลนักเรียน!C115=0,\"\",ข้อมูลนักเรียน!D115 & ข้อมูลนักเรียน!E115 & \"   \"& ข้อมูลนักเรียน!F115)","v":""},{"$f":"IF(ข้อมูลนักเรียน!C115=0,\"\",ข้อมูลนักเรียน!G115)","v":""},{"$f":"ข้อมูลนักเรียน!B115","v":0},null,null,null,null,null,null,null,null,null,null,null,null,null,null,null,null,null,null,null,null,null,null,null,null,null,null,"ผ่าน",0,null,"ปรับปรุง",null,23]
[{"$f":"ข้อมูลนักเรียน!A116","v":0},{"$f":"IF(ข้อมูลนักเรียน!B116=0,\"\",ข้อมูลนักเรียน!B116)","v":""},{"$f":"IF(ข้อมูลนักเรียน!C116=0,\"\",ข้อมูลนักเรียน!C116)","v":""},{"$f":"IF(ข้อมูลนักเรียน!C116=0,\"\",ข้อมูลนักเรียน!D116 & ข้อมูลนักเรียน!E116 & \"   \"& ข้อมูลนักเรียน!F116)","v":""},{"$f":"IF(ข้อมูลนักเรียน!C116=0,\"\",ข้อมูลนักเรียน!G116)","v":""},{"$f":"ข้อมูลนักเรียน!B116","v":0},null,null,null,null,null,null,null,null,null,null,null,null,null,null,null,null,null,null,null,null,null,null,null,null,null,null,"ผ่าน",0,null,"ปรับปรุง",null,23]
[{"$f":"ข้อมูลนักเรียน!A117","v":0},{"$f":"IF(ข้อมูลนักเรียน!B117=0,\"\",ข้อมูลนักเรียน!B117)","v":""},{"$f":"IF(ข้อมูลนักเรียน!C117=0,\"\",ข้อมูลนักเรียน!C117)","v":""},{"$f":"IF(ข้อมูลนักเรียน!C117=0,\"\",ข้อมูลนักเรียน!D117 & ข้อมูลนักเรียน!E117 & \"   \"& ข้อมูลนักเรียน!F117)","v":""},{"$f":"IF(ข้อมูลนักเรียน!C117=0,\"\",ข้อมูลนักเรียน!G117)","v":""},{"$f":"ข้อมูลนักเรียน!B117","v":0},null,null,null,null,null,null,null,null,null,null,null,null,null,null,null,null,null,null,null,null,null,null,null,null,null,null,"ผ่าน",0,null,"ปรับปรุง",null,23]
[{"$f":"ข้อมูลนักเรียน!A118","v":0},{"$f":"IF(ข้อมูลนักเรียน!B118=0,\"\",ข้อมูลนักเรียน!B118)","v":""},{"$f":"IF(ข้อมูลนักเรียน!C118=0,\"\",ข้อมูลนักเรียน!C118)","v":""},{"$f":"IF(ข้อมูลนักเรียน!C118=0,\"\",ข้อมูลนักเรียน!D118 & ข้อมูลนักเรียน!E118 & \"   \"& ข้อมูลนักเรียน!F118)","v":""},{"$f":"IF(ข้อมูลนักเรียน!C118=0,\"\",ข้อมูลนักเรียน!G118)","v":""},{"$f":"ข้อมูลนักเรียน!B118","v":0},null,null,null,null,null,null,null,null,null,null,null,null,null,null,null,null,null,null,null,null,null,null,null,null,null,null,"ผ่าน",0,null,"ปรับปรุง",null,23]
[{"$f":"ข้อมูลนักเรียน!A119","v":0},{"$f":"IF(ข้อมูลนักเรียน!B119=0,\"\",ข้อมูลนักเรียน!B119)","v":""},{"$f":"IF(ข้อมูลนักเรียน!C119=0,\"\",ข้อมูลนักเรียน!C119)","v":""},{"$f":"IF(ข้อมูลนักเรียน!C119=0,\"\",ข้อมูลนักเรียน!D119 & ข้อมูลนักเรียน!E119 & \"   \"& ข้อมูลนักเรียน!F119)","v":""},{"$f":"IF(ข้อมูลนักเรียน!C119=0,\"\",ข้อมูลนักเรียน!G119)","v":""},{"$f":"ข้อมูลนักเรียน!B119","v":0},null,null,null,null,null,null,null,null,null,null,null,null,null,null,null,null,null,null,null,null,null,null,null,null,null,null,"ผ่าน",0,null,"ปรับปรุง",null,23]
[{"$f":"ข้อมูลนักเรียน!A120","v":0},{"$f":"IF(ข้อมูลนักเรียน!B120=0,\"\",ข้อมูลนักเรียน!B120)","v":""},{"$f":"IF(ข้อมูลนักเรียน!C120=0,\"\",ข้อมูลนักเรียน!C120)","v":""},{"$f":"IF(ข้อมูลนักเรียน!C120=0,\"\",ข้อมูลนักเรียน!D120 & ข้อมูลนักเรียน!E120 & \"   \"& ข้อมูลนักเรียน!F120)","v":""},{"$f":"IF(ข้อมูลนักเรียน!C120=0,\"\",ข้อมูลนักเรียน!G120)","v":""},{"$f":"ข้อมูลนักเรียน!B120","v":0},null,null,null,null,null,null,null,null,null,null,null,null,null,null,null,null,null,null,null,null,null,null,null,null,null,null,"ผ่าน",0,null,"ปรับปรุง",null,23]
[{"$f":"ข้อมูลนักเรียน!A121","v":0},{"$f":"IF(ข้อมูลนักเรียน!B121=0,\"\",ข้อมูลนักเรียน!B121)","v":""},{"$f":"IF(ข้อมูลนักเรียน!C121=0,\"\",ข้อมูลนักเรียน!C121)","v":""},{"$f":"IF(ข้อมูลนักเรียน!C121=0,\"\",ข้อมูลนักเรียน!D121 & ข้อมูลนักเรียน!E121 & \"   \"& ข้อมูลนักเรียน!F121)","v":""},{"$f":"IF(ข้อมูลนักเรียน!C121=0,\"\",ข้อมูลนักเรียน!G121)","v":""},{"$f":"ข้อมูลนักเรียน!B121","v":0},null,null,null,null,null,null,null,null,null,null,null,null,null,null,null,null,null,null,null,null,null,null,null,null,null,null,"ผ่าน",0,null,"ปรับปรุง",null,23]
[{"$f":"ข้อมูลนักเรียน!A122","v":0},{"$f":"IF(ข้อมูลนักเรียน!B122=0,\"\",ข้อมูลนักเรียน!B122)","v":""},{"$f":"IF(ข้อมูลนักเรียน!C122=0,\"\",ข้อมูลนักเรียน!C122)","v":""},{"$f":"IF(ข้อมูลนักเรียน!C122=0,\"\",ข้อมูลนักเรียน!D122 & ข้อมูลนักเรียน!E122 & \"   \"& ข้อมูลนักเรียน!F122)","v":""},{"$f":"IF(ข้อมูลนักเรียน!C122=0,\"\",ข้อมูลนักเรียน!G122)","v":""},{"$f":"ข้อมูลนักเรียน!B122","v":0},null,null,null,null,null,null,null,null,null,null,null,null,null,null,null,null,null,null,null,null,null,null,null,null,null,null,"ผ่าน",0,null,"ปรับปรุง",null,23]
[{"$f":"ข้อมูลนักเรียน!A123","v":0},{"$f":"IF(ข้อมูลนักเรียน!B123=0,\"\",ข้อมูลนักเรียน!B123)","v":""},{"$f":"IF(ข้อมูลนักเรียน!C123=0,\"\",ข้อมูลนักเรียน!C123)","v":""},{"$f":"IF(ข้อมูลนักเรียน!C123=0,\"\",ข้อมูลนักเรียน!D123 & ข้อมูลนักเรียน!E123 & \"   \"& ข้อมูลนักเรียน!F123)","v":""},{"$f":"IF(ข้อมูลนักเรียน!C123=0,\"\",ข้อมูลนักเรียน!G123)","v":""},{"$f":"ข้อมูลนักเรียน!B123","v":0},null,null,null,null,null,null,null,null,null,null,null,null,null,null,null,null,null,null,null,null,null,null,null,null,null,null,"ผ่าน",0,null,"ปรับปรุง",null,23]
[{"$f":"ข้อมูลนักเรียน!A124","v":0},{"$f":"IF(ข้อมูลนักเรียน!B124=0,\"\",ข้อมูลนักเรียน!B124)","v":""},{"$f":"IF(ข้อมูลนักเรียน!C124=0,\"\",ข้อมูลนักเรียน!C124)","v":""},{"$f":"IF(ข้อมูลนักเรียน!C124=0,\"\",ข้อมูลนักเรียน!D124 & ข้อมูลนักเรียน!E124 & \"   \"& ข้อมูลนักเรียน!F124)","v":""},{"$f":"IF(ข้อมูลนักเรียน!C124=0,\"\",ข้อมูลนักเรียน!G124)","v":""},{"$f":"ข้อมูลนักเรียน!B124","v":0},null,null,null,null,null,null,null,null,null,null,null,null,null,null,null,null,null,null,null,null,null,null,null,null,null,null,"ผ่าน",0,null,"ปรับปรุง",null,23]
[{"$f":"ข้อมูลนักเรียน!A125","v":0},{"$f":"IF(ข้อมูลนักเรียน!B125=0,\"\",ข้อมูลนักเรียน!B125)","v":""},{"$f":"IF(ข้อมูลนักเรียน!C125=0,\"\",ข้อมูลนักเรียน!C125)","v":""},{"$f":"IF(ข้อมูลนักเรียน!C125=0,\"\",ข้อมูลนักเรียน!D125 & ข้อมูลนักเรียน!E125 & \"   \"& ข้อมูลนักเรียน!F125)","v":""},{"$f":"IF(ข้อมูลนักเรียน!C125=0,\"\",ข้อมูลนักเรียน!G125)","v":""},{"$f":"ข้อมูลนักเรียน!B125","v":0},null,null,null,null,null,null,null,null,null,null,null,null,null,null,null,null,null,null,null,null,null,null,null,null,null,null,"ผ่าน",0,null,"ปรับปรุง",null,23]
[{"$f":"ข้อมูลนักเรียน!A126","v":0},{"$f":"IF(ข้อมูลนักเรียน!B126=0,\"\",ข้อมูลนักเรียน!B126)","v":""},{"$f":"IF(ข้อมูลนักเรียน!C126=0,\"\",ข้อมูลนักเรียน!C126)","v":""},{"$f":"IF(ข้อมูลนักเรียน!C126=0,\"\",ข้อมูลนักเรียน!D126 & ข้อมูลนักเรียน!E126 & \"   \"& ข้อมูลนักเรียน!F126)","v":""},{"$f":"IF(ข้อมูลนักเรียน!C126=0,\"\",ข้อมูลนักเรียน!G126)","v":""},{"$f":"ข้อมูลนักเรียน!B126","v":0},null,null,null,null,null,null,null,null,null,null,null,null,null,null,null,null,null,null,null,null,null,null,null,null,null,null,"ผ่าน",0,null,"ปรับปรุง",null,23]
[null,null,null,null,null,null,null,{"$f":"LEFT(H3)","v":"ท"},{"$f":"LEFT(I3)","v":"ค"},"ว","ส","ส","พ","ศ","ง","อ","ง","ง","ว","","","","","",""]
[null,null,null,null,null,null,0,{"$f":"COUNTIF(H$7:H$126,$G128)","v":0},0,0,0,0,0,0,0,0,0,0,0,0,0,0,0,0,0]
[null,null,null,null,null,null,1,{"$f":"COUNTIF(H$7:H$126,$G129)","v":3},1,1,1,1,0,1,0,0,0,0,0,0,{"$f":"COUNTIF(U$7:U$126,$G129)","v":0},0,0,0,0]
[null,null,null,null,null,null,1.5,0,0,0,0,0,0,0,1,0,2,0,0,0,0,0,0,0,0]
[null,null,null,null,null,null,2,0,1,0,1,1,1,0,0,1,0,1,0,0,0,0,0,0,0]
[null,null,null,null,null,null,2.5,0,0,0,0,0,0,0,0,0,0,0,0,0,0,0,0,0,0]
[null,null,null,null,null,null,3,0,0,1,0,1,1,2,0,1,1,0,0,0,0,0,0,0,0]
[null,null,null,null,null,null,3.5,0,0,1,0,0,0,0,0,0,0,0,0,0,0,0,0,0,0]
[null,null,null,null,null,null,4,0,1,0,1,0,1,0,2,1,0,0,0,0,0,0,0,0,0]
[null,null,null,null,null,null,"ร",0,0,0,0,0,0,0,0,0,0,0,0,0,0,0,0,0,0]
[null,null,null,{"$f":"LEFT(Q3,1)","v":"ง"},null,null,"มส",0,0,0,0,0,0,0,0,0,0,0,0,0,0,0,0,0,0]
[null,null,null,null,null,null,"ผ",0,0,0,0,0,0,0,0,0,0,1,0,0,0,0,0,0,0]
[null,null,null,null,null,null,"มผ",0,0,0,0,0,0,0,0,0,0,1,0,0,0,0,0,0,0]

{"sheet":"เกรด2","index":7,"n_rows":139,"n_cols":41,"rows_kept":139,"cut":false,"hidden":false,"merged":[[1,36,4,36],[0,0,0,2],[0,15,0,27],[1,0,5,0],[1,1,5,1],[1,2,5,2],[1,3,5,3],[1,6,2,6],[1,34,5,34]]}
["ปีการศึกษา : ",null,null,{"$f":"ข้อมูลนักเรียน!F4+1","v":2551},null,null,null,null,null,null,null,null,null,null,null,"ประถมศึกษาปีที่ 2"]
["ห้อง","เลขที่","รหัสนักเรียน","ชื่อ - สกุล",null,null,"วิชา",{"$f":"IF(หลักสูตร!$J$4=0,\"ช่องว่าง\",หลักสูตร!$K$4)","v":"ภาษาไทย"},{"$f":"IF(หลักสูตร!$J$5=0,\"ช่องว่าง\",หลักสูตร!$K$5)","v":"คณิตศาสตร์"},{"$f":"IF(หลักสูตร!$J$6=0,\"ช่องว่าง\",หลักสูตร!$K$6)","v":"วิทยาศาสตร์"},{"$f":"IF(หลักสูตร!$J$7=0,\"ช่องว่าง\",หลักสูตร!$K$7)","v":"สังคมศึกษา ศาสนาและวัฒนธรรม"},{"$f":"IF(หลักสูตร!$J$8=0,\"ช่องว่าง\",หลักสูตร!$K$8)","v":"ประวัติศาสตร์"},{"$f":"IF(หลักสูตร!$J$9=0,\"ช่องว่าง\",หลักสูตร!$K$9)","v":"สุขศึกษาและพลศึกษา"},{"$f":"IF(หลักสูตร!$J$10=0,\"ช่องว่าง\",หลักสูตร!$K$10)","v":"ศิลปะ"},{"$f":"IF(หลักสูตร!$J$11=0,\"ช่องว่าง\",หลักสูตร!$K$11)","v":"การงานอาชีพและเทคโนโลยี"},{"$f":"IF(หลักสูตร!$J$12=0,\"ช่องว่าง\",หลักสูตร!$K$12)","v":"ภาษาต่างประเทศ"},{"$f":"IF(หลักสูตร!$J$13=0,\"ช่องว่าง\",หลักสูตร!$K$13)","v":"คอมพิวเตอร์"},{"$f":"IF(หลักสูตร!$J$14=0,\"ช่องว่าง\",หลักสูตร!$K$14)","v":"ภาษาอังกฤษพูด"},{"$f":"IF(หลักสูตร!$J$15=0,\"ช่องว่าง\",หลักสูตร!$K$15)","v":0},{"$f":"IF(หลักสูตร!$J$16=0,\"ช่องว่าง\",หลักสูตร!$K$16)","v":"ช่องว่าง"},{"$f":"IF(หลักสูตร!$J$17=0,\"ช่องว่าง\",หลักสูตร!$K$17)","v":"ช่องว่าง"},{"$f":"IF(หลักสูตร!$J$18=0,\"ช่องว่าง\",หลักสูตร!$K$18)","v":"ช่องว่าง"},{"$f":"IF(หลักสูตร!$J$19=0,\"ช่องว่าง\",หลักสูตร!$K$19)","v":"ช่องว่าง"},{"$f":"IF(หลักสูตร!$J$20=0,\"ช่องว่าง\",หลักสูตร!$K$20)","v":"ช่องว่าง"},{"$f":"IF(หลักสูตร!$J$21=0,\"ช่องว่าง\",หลักสูตร!$K$21)","v":"ช่องว่าง"},{"$f":"IF(หลักสูตร!$J$23=0,\"ช่องว่าง\",หลักสูตร!$K$23)","v":"แนะแนว"},{"$f":"IF(หลักสูตร!$J$24=0,\"ช่องว่าง\",หลักสูตร!$K$24)","v":"ลูกเสือ เนตรนารี"},{"$f":"IF(หลักสูตร!$J$25=0,\"ช่องว่าง\",หลักสูตร!$K$25)","v":"ชุมนุม"},{"$f":"IF(หลักสูตร!$J$26=0,\"ช่องว่าง\",หลักสูตร!$K$26)","v":"กิจกรรมเพื่อสังคมและสาธารณประโยชน์"},{"$f":"IF(หลักสูตร!$J$27=0,\"ช่องว่าง\",หลักสูตร!$K$27)","v":"ช่องว่าง"},"คุณลักษณะ","อ่าน คิดฯ","สรุปกิจกรรม","เกรดเฉลี่ย","ชื่อวิชาเลือก\nรหัสวิชา ตามด้วยชื่อวิชา\nตัวอย่าง  ง31202 เกษตรอินทรีย์","อ่าน คิดฯ","ชื่อชุมนุม"]
[null,null,null,null,null,null,null,{"$f":"IF(หลักสูตร!$J$4=0,\"\",หลักสูตร!$J$4)","v":"ท12101"},{"$f":"IF(หลักสูตร!$J$5=0,\"\",หลักสูตร!$J$5)","v":"ค12101"},{"$f":"IF(หลักสูตร!$J$6=0,\"\",หลักสูตร!$J$6)","v":"ว12101"},{"$f":"IF(หลักสูตร!$J$7=0,\"\",หลักสูตร!$J$7)","v":"ส12101"},{"$f":"IF(หลักสูตร!$J$8=0,\"\",หลักสูตร!$J$8)","v":"ส12102"},{"$f":"IF(หลักสูตร!$J$9=0,\"\",หลักสูตร!$J$9)","v":"พ12101"},{"$f":"IF(หลักสูตร!$J$10=0,\"\",หลักสูตร!$J$10)","v":"ศ12101"},{"$f":"IF(หลักสูตร!$J$11=0,\"\",หลักสูตร!$J$11)","v":"ง12101"},{"$f":"IF(หลักสูตร!$J$12=0,\"\",หลักสูตร!$J$12)","v":"อ12101"},{"$f":"IF(หลักสูตร!$J$13=0,\"\",หลักสูตร!$J$13)","v":"ง12201"},{"$f":"IF(หลักสูตร!$J$14=0,\"\",หลักสูตร!$J$14)","v":"อ12201"},{"$f":"IF(หลักสูตร!$J$15=0,\"\",หลักสูตร!$J$15)","v":"ว่าง"},{"$f":"IF(หลักสูตร!$J$16=0,\"\",หลักสูตร!$J$16)","v":""},{"$f":"IF(หลักสูตร!$J$17=0,\"\",หลักสูตร!$J$17)","v":""},{"$f":"IF(หลักสูตร!$J$18=0,\"\",หลักสูตร!$J$18)","v":""},{"$f":"IF(หลักสูตร!$J$19=0,\"\",หลักสูตร!$J$19)","v":""},{"$f":"IF(หลักสูตร!$J$20=0,\"\",หลักสูตร!$J$20)","v":""},{"$f":"IF(หลักสูตร!$J$21=0,\"\",หลักสูตร!$J$21)","v":""},{"$f":"IF(หลักสูตร!$J$23=0,\"\",หลักสูตร!$J$23)","v":"ก1"},{"$f":"IF(หลักสูตร!$J$24=0,\"\",หลักสูตร!$J$24)","v":"ก2"},{"$f":"IF(หลักสูตร!$J$25=0,\"\",หลักสูตร!$J$25)","v":"ก3"},{"$f":"IF(หลักสูตร!$J$26=0,\"\",หลักสูตร!$J$26)","v":"ก4"},{"$f":"IF(หลักสูตร!$J$27=0,\"\",หลักสูตร!$J$27)","v":""},null,null,null,{"$f":"SUMIF(H5:Y5,\"<>กิจกรรม\",H6:AA6)","v":23}]
[null,null,null,null,null,null,null,{"$f":"IF(หลักสูตร!$N$4=0,\"\",หลักสูตร!$N$4)","v":200},{"$f":"IF(หลักสูตร!$N$5=0,\"\",หลักสูตร!$N$5)","v":200},{"$f":"IF(หลักสูตร!$N$6=0,\"\",หลักสูตร!$N$6)","v":80},{"$f":"IF(หลักสูตร!$N$7=0,\"\",หลักสูตร!$N$7)","v":80},{"$f":"IF(หลักสูตร!$N$8=0,\"\",หลักสูตร!$N$8)","v":40},{"$f":"IF(หลักสูตร!$N$9=0,\"\",หลักสูตร!$N$9)","v":80},{"$f":"IF(หลักสูตร!$N$10=0,\"\",หลักสูตร!$N$10)","v":80},{"$f":"IF(หลักสูตร!$N$11=0,\"\",หลักสูตร!$N$11)","v":40},{"$f":"IF(หลักสูตร!$N$12=0,\"\",หลักสูตร!$N$12)","v":40},{"$f":"IF(หลักสูตร!$N$13=0,\"\",หลักสูตร!$N$13)","v":40},{"$f":"IF(หลักสูตร!$N$14=0,\"\",หลักสูตร!$N$14)","v":40},{"$f":"IF(หลักสูตร!$N$15=0,\"\",หลักสูตร!$N$15)","v":""},{"$f":"IF(หลักสูตร!$N$16=0,\"\",หลักสูตร!$N$16)","v":""},{"$f":"IF(หลักสูตร!$N$17=0,\"\",หลักสูตร!$N$17)","v":""},{"$f":"IF(หลักสูตร!$N$18=0,\"\",หลักสูตร!$N$18)","v":""},{"$f":"IF(หลักสูตร!$N$19=0,\"\",หลักสูตร!$N$19)","v":""},{"$f":"IF(หลักสูตร!$N$20=0,\"\",หลักสูตร!$N$20)","v":""},{"$f":"IF(หลักสูตร!$N$21=0,\"\",หลักสูตร!$N$21)","v":""},{"$f":"IF(หลักสูตร!$N$23=0,\"\",หลักสูตร!$N$23)","v":40},{"$f":"IF(หลักสูตร!$N$24=0,\"\",หลักสูตร!$N$24)","v":40},{"$f":"IF(หลักสูตร!$N$25=0,\"\",หลักสูตร!$N$25)","v":30},{"$f":"IF(หลักสูตร!$N$26=0,\"\",หลักสูตร!$N$26)","v":10},{"$f":"IF(หลักสูตร!$N$27=0,\"\",หลักสูตร!$N$27)","v":""}]
[null,null,null,null,null,null,"ประเภท",{"$f":"IF(หลักสูตร!$L$4=0,\"\",หลักสูตร!$L$4)","v":"พื้นฐาน"},{"$f":"IF(หลักสูตร!$L$5=0,\"\",หลักสูตร!$L$5)","v":"พื้นฐาน"},{"$f":"IF(หลักสูตร!$L$6=0,\"\",หลักสูตร!$L$6)","v":"พื้นฐาน"},{"$f":"IF(หลักสูตร!$L$7=0,\"\",หลักสูตร!$L$7)","v":"พื้นฐาน"},{"$f":"IF(หลักสูตร!$L$8=0,\"\",หลักสูตร!$L$8)","v":"พื้นฐาน"},{"$f":"IF(หลักสูตร!$L$9=0,\"\",หลักสูตร!$L$9)","v":"พื้นฐาน"},{"$f":"IF(หลักสูตร!$L$10=0,\"\",หลักสูตร!$L$10)","v":"พื้นฐาน"},{"$f":"IF(หลักสูตร!$L$11=0,\"\",หลักสูตร!$L$11)","v":"พื้นฐาน"},{"$f":"IF(หลักสูตร!$L$12=0,\"\",หลักสูตร!$L$12)","v":"พื้นฐาน"},{"$f":"IF(หลักสูตร!$L$13=0,\"\",หลักสูตร!$L$13)","v":"เพิ่มเติม"},{"$f":"IF(หลักสูตร!$L$14=0,\"\",หลักสูตร!$L$14)","v":"เพิ่มเติม"},{"$f":"IF(หลักสูตร!$L$15=0,\"\",หลักสูตร!$L$15)","v":"เพิ่มเติม"},{"$f":"IF(หลักสูตร!$L$16=0,\"\",หลักสูตร!$L$16)","v":""},{"$f":"IF(หลักสูตร!$L$17=0,\"\",หลักสูตร!$L$17)","v":""},{"$f":"IF(หลักสูตร!$L$18=0,\"\",หลักสูตร!$L$18)","v":""},{"$f":"IF(หลักสูตร!$L$19=0,\"\",หลักสูตร!$L$19)","v":""},{"$f":"IF(หลักสูตร!$L$20=0,\"\",หลักสูตร!$L$20)","v":""},{"$f":"IF(หลักสูตร!$L$21=0,\"\",หลักสูตร!$L$21)","v":""},{"$f":"IF(หลักสูตร!$L$23=0,\"\",หลักสูตร!$L$23)","v":"กิจกรรม"},{"$f":"IF(หลักสูตร!$L$24=0,\"\",หลักสูตร!$L$24)","v":"กิจกรรม"},{"$f":"IF(หลักสูตร!$L$25=0,\"\",หลักสูตร!$L$25)","v":"กิจกรรม"},{"$f":"IF(หลักสูตร!$L$26=0,\"\",หลักสูตร!$L$26)","v":"กิจกรรม"},{"$f":"IF(หลักสูตร!$L$27=0,\"\",หลักสูตร!$L$27)","v":""}]
[null,null,null,null,null,null,"น้ำหนัก",{"$f":"IF(หลักสูตร!$O$4=0,\"\",หลักสูตร!$O$4)","v":5},{"$f":"IF(หลักสูตร!$O$5=0,\"\",หลักสูตร!$O$5)","v":5},{"$f":"IF(หลักสูตร!$O$6=0,\"\",หลักสูตร!$O$6)","v":2},{"$f":"IF(หลักสูตร!$O$7=0,\"\",หลักสูตร!$O$7)","v":2},{"$f":"IF(หลักสูตร!$O$8=0,\"\",หลักสูตร!$O$8)","v":1},{"$f":"IF(หลักสูตร!$O$9=0,\"\",หลักสูตร!$O$9)","v":2},{"$f":"IF(หลักสูตร!$O$10=0,\"\",หลักสูตร!$O$10)","v":2},{"$f":"IF(หลักสูตร!$O$11=0,\"\",หลักสูตร!$O$11)","v":1},{"$f":"IF(หลักสูตร!$O$12=0,\"\",หลักสูตร!$O$12)","v":1},{"$f":"IF(หลักสูตร!$O$13=0,\"\",หลักสูตร!$O$13)","v":1},{"$f":"IF(หลักสูตร!$O$14=0,\"\",หลักสูตร!$O$14)","v":1},{"$f":"IF(หลักสูตร!$O$15=0,\"\",หลักสูตร!$O$15)","v":""},{"$f":"IF(หลักสูตร!$O$16=0,\"\",หลักสูตร!$O$16)","v":""},{"$f":"IF(หลักสูตร!$O$17=0,\"\",หลักสูตร!$O$17)","v":""},{"$f":"IF(หลักสูตร!$O$18=0,\"\",หลักสูตร!$O$18)","v":""},{"$f":"IF(หลักสูตร!$O$19=0,\"\",หลักสูตร!$O$19)","v":""},{"$f":"IF(หลักสูตร!$O$20=0,\"\",หลักสูตร!$O$20)","v":""},{"$f":"IF(หลักสูตร!$O$21=0,\"\",หลักสูตร!$O$21)","v":""},{"$f":"IF(หลักสูตร!$O$23=0,\"\",หลักสูตร!$O$23)","v":"-"},{"$f":"IF(หลักสูตร!$O$24=0,\"\",หลักสูตร!$O$24)","v":"-"},{"$f":"IF(หลักสูตร!$O$25=0,\"\",หลักสูตร!$O$25)","v":"-"},{"$f":"IF(หลักสูตร!$O$26=0,\"\",หลักสูตร!$O$26)","v":"-"},{"$f":"IF(หลักสูตร!$O$27=0,\"\",หลักสูตร!$O$27)","v":"-"},null,null,null,{"$f":"SUMIF(H5:Y5,\"<>กิจกรรม\",H6:AA6)","v":23}]
[{"$f":"ข้อมูลนักเรียน!A7","v":1},{"$f":"IF(ข้อมูลนักเรียน!B7=0,\"\",ข้อมูลนักเรียน!B7)","v":1},{"$f":"IF(ข้อมูลนักเรียน!C7=0,\"\",ข้อมูลนักเรียน!C7)","v":"00001"},{"$f":"IF(ข้อมูลนักเรียน!C7=0,\"\",ข้อมูลนักเรียน!D7 & ข้อมูลนักเรียน!E7 & \"   \"& ข้อมูลนักเรียน!F7)","v":"เด็กชายสมชาย   สุขสบาย"},{"$f":"IF(ข้อมูลนักเรียน!C7=0,\"\",ข้อมูลนักเรียน!G7)","v":1111111111111},{"$f":"ข้อมูลนักเรียน!B7","v":1},null,1,1,1,2,1,1,1,2,1,1.5,null,null,null,null,null,null,1.5,1.5,"ผ","ผ","มผ","ผ",null,2,3,{"$f":"IF(COUNTIFS(Z7:AD7,\"=มผ\") > 0,\"ไม่ผ่าน\",\"ผ่าน\")","v":"ไม่ผ่าน"},{"$f":"ROUNDDOWN(1.10869565217391,2)","v":1.1000000000000001},null,{"$f":"IF(AF7=1,\"ผ่าน\",IF(AF7=2,\"ดี\",IF(AF7=3,\"ดีเยี่ยม\",\"ปรับปรุง\")))","v":"ดีเยี่ยม"},"คอมพิวเตอร์",23,"เกรด","อ่าน/คุณ","กิจกรรม"]
[{"$f":"ข้อมูลนักเรียน!A8","v":1},{"$f":"IF(ข้อมูลนักเรียน!B8=0,\"\",ข้อมูลนักเรียน!B8)","v":2},{"$f":"IF(ข้อมูลนักเรียน!C8=0,\"\",ข้อมูลนักเรียน!C8)","v":"00002"},{"$f":"IF(ข้อมูลนักเรียน!C8=0,\"\",ข้อมูลนักเรียน!D8 & ข้อมูลนักเรียน!E8 & \"   \"& ข้อมูลนักเรียน!F8)","v":"เด็กหญิงสมหวัง   ตั้งใจเรียน"},{"$f":"IF(ข้อมูลนักเรียน!C8=0,\"\",ข้อมูลนักเรียน!G8)","v":2222222222222},{"$f":"ข้อมูลนักเรียน!B8","v":2},null,2,2,2,2,2,2,2,2,3.5,1.5,null,null,null,null,null,null,1.5,1.5,"ผ","ผ","ผ","ผ",null,2,3,"ผ่าน",{"$f":"ROUNDDOWN(1.95652173913043,2)","v":1.95},null,"ดีเยี่ยม",null,23,0,0,"ผ"]
[{"$f":"ข้อมูลนักเรียน!A9","v":0},{"$f":"IF(ข้อมูลนักเรียน!B9=0,\"\",ข้อมูลนักเรียน!B9)","v":""},{"$f":"IF(ข้อมูลนักเรียน!C9=0,\"\",ข้อมูลนักเรียน!C9)","v":""},{"$f":"IF(ข้อมูลนักเรียน!C9=0,\"\",ข้อมูลนักเรียน!D9 & ข้อมูลนักเรียน!E9 & \"   \"& ข้อมูลนักเรียน!F9)","v":""},{"$f":"IF(ข้อมูลนักเรียน!C9=0,\"\",ข้อมูลนักเรียน!G9)","v":""},{"$f":"ข้อมูลนักเรียน!B9","v":0},null,null,null,null,null,null,null,null,null,null,null,null,null,null,null,null,null,null,null,null,null,null,null,null,null,null,{"$f":"IF(COUNTIFS(Z9:AD9,\"=มผ\") > 0,\"ไม่ผ่าน\",\"ผ่าน\")","v":"ผ่าน"},{"$f":"ROUNDDOWN(0,2)","v":0},null,{"$f":"IF(AF9=1,\"ผ่าน\",IF(AF9=2,\"ดี\",IF(AF9=3,\"ดีเยี่ยม\",\"ปรับปรุง\")))","v":"ปรับปรุง"},null,23,1,1,"มผ"]
[{"$f":"ข้อมูลนักเรียน!A10","v":0},{"$f":"IF(ข้อมูลนักเรียน!B10=0,\"\",ข้อมูลนักเรียน!B10)","v":""},{"$f":"IF(ข้อมูลนักเรียน!C10=0,\"\",ข้อมูลนักเรียน!C10)","v":""},{"$f":"IF(ข้อมูลนักเรียน!C10=0,\"\",ข้อมูลนักเรียน!D10 & ข้อมูลนักเรียน!E10 & \"   \"& ข้อมูลนักเรียน!F10)","v":""},{"$f":"IF(ข้อมูลนักเรียน!C10=0,\"\",ข้อมูลนักเรียน!G10)","v":""},{"$f":"ข้อมูลนักเรียน!B10","v":0},null,null,null,null,null,null,null,null,null,null,null,null,null,null,null,null,null,null,null,null,null,null,null,null,null,null,"ผ่าน",0,null,"ปรับปรุง",null,23,1.5,2]
[{"$f":"ข้อมูลนักเรียน!A11","v":0},{"$f":"IF(ข้อมูลนักเรียน!B11=0,\"\",ข้อมูลนักเรียน!B11)","v":""},{"$f":"IF(ข้อมูลนักเรียน!C11=0,\"\",ข้อมูลนักเรียน!C11)","v":""},{"$f":"IF(ข้อมูลนักเรียน!C11=0,\"\",ข้อมูลนักเรียน!D11 & ข้อมูลนักเรียน!E11 & \"   \"& ข้อมูลนักเรียน!F11)","v":""},{"$f":"IF(ข้อมูลนักเรียน!C11=0,\"\",ข้อมูลนักเรียน!G11)","v":""},{"$f":"ข้อมูลนักเรียน!B11","v":0},null,null,null,null,null,null,null,null,null,null,null,null,null,null,null,null,null,null,null,null,null,null,null,null,null,null,"ผ่าน",0,null,"ปรับปรุง",null,23,2,3]
[{"$f":"ข้อมูลนักเรียน!A12","v":0},{"$f":"IF(ข้อมูลนักเรียน!B12=0,\"\",ข้อมูลนักเรียน!B12)","v":""},{"$f":"IF(ข้อมูลนักเรียน!C12=0,\"\",ข้อมูลนักเรียน!C12)","v":""},{"$f":"IF(ข้อมูลนักเรียน!C12=0,\"\",ข้อมูลนักเรียน!D12 & ข้อมูลนักเรียน!E12 & \"   \"& ข้อมูลนักเรียน!F12)","v":""},{"$f":"IF(ข้อมูลนักเรียน!C12=0,\"\",ข้อมูลนักเรียน!G12)","v":""},{"$f":"ข้อมูลนักเรียน!B12","v":0},null,null,null,null,null,null,null,null,null,null,null,null,null,null,null,null,null,null,null,null,null,null,null,null,null,null,"ผ่าน",0,null,"ปรับปรุง",null,23,2.5]
[{"$f":"ข้อมูลนักเรียน!A13","v":0},{"$f":"IF(ข้อมูลนักเรียน!B13=0,\"\",ข้อมูลนักเรียน!B13)","v":""},{"$f":"IF(ข้อมูลนักเรียน!C13=0,\"\",ข้อมูลนักเรียน!C13)","v":""},{"$f":"IF(ข้อมูลนักเรียน!C13=0,\"\",ข้อมูลนักเรียน!D13 & ข้อมูลนักเรียน!E13 & \"   \"& ข้อมูลนักเรียน!F13)","v":""},{"$f":"IF(ข้อมูลนักเรียน!C13=0,\"\",ข้อมูลนักเรียน!G13)","v":""},{"$f":"ข้อมูลนักเรียน!B13","v":0},null,null,null,null,null,null,null,null,null,null,null,null,null,null,null,null,null,null,null,null,null,null,null,null,null,null,"ผ่าน",0,null,"ปรับปรุง",null,23,3]
[{"$f":"ข้อมูลนักเรียน!A14","v":0},{"$f":"IF(ข้อมูลนักเรียน!B14=0,\"\",ข้อมูลนักเรียน!B14)","v":""},{"$f":"IF(ข้อมูลนักเรียน!C14=0,\"\",ข้อมูลนักเรียน!C14)","v":""},{"$f":"IF(ข้อมูลนักเรียน!C14=0,\"\",ข้อมูลนักเรียน!D14 & ข้อมูลนักเรียน!E14 & \"   \"& ข้อมูลนักเรียน!F14)","v":""},{"$f":"IF(ข้อมูลนักเรียน!C14=0,\"\",ข้อมูลนักเรียน!G14)","v":""},{"$f":"ข้อมูลนักเรียน!B14","v":0},null,null,null,null,null,null,null,null,null,null,null,null,null,null,null,null,null,null,null,null,null,null,null,null,null,null,"ผ่าน",0,null,"ปรับปรุง",null,23,3.5]
[{"$f":"ข้อมูลนักเรียน!A15","v":0},{"$f":"IF(ข้อมูลนักเรียน!B15=0,\"\",ข้อมูลนักเรียน!B15)","v":""},{"$f":"IF(ข้อมูลนักเรียน!C15=0,\"\",ข้อมูลนักเรียน!C15)","v":""},{"$f":"IF(ข้อมูลนักเรียน!C15=0,\"\",ข้อมูลนักเรียน!D15 & ข้อมูลนักเรียน!E15 & \"   \"& ข้อมูลนักเรียน!F15)","v":""},{"$f":"IF(ข้อมูลนักเรียน!C15=0,\"\",ข้อมูลนักเรียน!G15)","v":""},{"$f":"ข้อมูลนักเรียน!B15","v":0},null,null,null,null,null,null,null,null,null,null,null,null,null,null,null,null,null,null,null,null,null,null,null,null,null,null,"ผ่าน",0,null,"ปรับปรุง",null,23,4]
[{"$f":"ข้อมูลนักเรียน!A16","v":0},{"$f":"IF(ข้อมูลนักเรียน!B16=0,\"\",ข้อมูลนักเรียน!B16)","v":""},{"$f":"IF(ข้อมูลนักเรียน!C16=0,\"\",ข้อมูลนักเรียน!C16)","v":""},{"$f":"IF(ข้อมูลนักเรียน!C16=0,\"\",ข้อมูลนักเรียน!D16 & ข้อมูลนักเรียน!E16 & \"   \"& ข้อมูลนักเรียน!F16)","v":""},{"$f":"IF(ข้อมูลนักเรียน!C16=0,\"\",ข้อมูลนักเรียน!G16)","v":""},{"$f":"ข้อมูลนักเรียน!B16","v":0},null,null,null,null,null,null,null,null,null,null,null,null,null,null,null,null,null,null,null,null,null,null,null,null,null,null,"ผ่าน",0,null,"ปรับปรุง",null,23,"ร"]
[{"$f":"ข้อมูลนักเรียน!A17","v":0},{"$f":"IF(ข้อมูลนักเรียน!B17=0,\"\",ข้อมูลนักเรียน!B17)","v":""},{"$f":"IF(ข้อมูลนักเรียน!C17=0,\"\",ข้อมูลนักเรียน!C17)","v":""},{"$f":"IF(ข้อมูลนักเรียน!C17=0,\"\",ข้อมูลนักเรียน!D17 & ข้อมูลนักเรียน!E17 & \"   \"& ข้อมูลนักเรียน!F17)","v":""},{"$f":"IF(ข้อมูลนักเรียน!C17=0,\"\",ข้อมูลนักเรียน!G17)","v":""},{"$f":"ข้อมูลนักเรียน!B17","v":0},null,null,null,null,null,null,null,null,null,null,null,null,null,null,null,null,null,null,null,null,null,null,null,null,null,null,"ผ่าน",0,null,"ปรับปรุง",null,23,"มส"]
[{"$f":"ข้อมูลนักเรียน!A18","v":0},{"$f":"IF(ข้อมูลนักเรียน!B18=0,\"\",ข้อมูลนักเรียน!B18)","v":""},{"$f":"IF(ข้อมูลนักเรียน!C18=0,\"\",ข้อมูลนักเรียน!C18)","v":""},{"$f":"IF(ข้อมูลนักเรียน!C18=0,\"\",ข้อมูลนักเรียน!D18 & ข้อมูลนักเรียน!E18 & \"   \"& ข้อมูลนักเรียน!F18)","v":""},{"$f":"IF(ข้อมูลนักเรียน!C18=0,\"\",ข้อมูลนักเรียน!G18)","v":""},{"$f":"ข้อมูลนักเรียน!B18","v":0},null,null,null,null,null,null,null,null,null,null,null,null,null,null,null,null,null,null,null,null,null,null,null,null,null,null,"ผ่าน",0,null,"ปรับปรุง",null,23,"ผ"]
[{"$f":"ข้อมูลนักเรียน!A19","v":0},{"$f":"IF(ข้อมูลนักเรียน!B19=0,\"\",ข้อมูลนักเรียน!B19)","v":""},{"$f":"IF(ข้อมูลนักเรียน!C19=0,\"\",ข้อมูลนักเรียน!C19)","v":""},{"$f":"IF(ข้อมูลนักเรียน!C19=0,\"\",ข้อมูลนักเรียน!D19 & ข้อมูลนักเรียน!E19 & \"   \"& ข้อมูลนักเรียน!F19)","v":""},{"$f":"IF(ข้อมูลนักเรียน!C19=0,\"\",ข้อมูลนักเรียน!G19)","v":""},{"$f":"ข้อมูลนักเรียน!B19","v":0},null,null,null,null,null,null,null,null,null,null,null,null,null,null,null,null,null,null,null,null,null,null,null,null,null,null,"ผ่าน",0,null,"ปรับปรุง",null,23,"มผ"]
[{"$f":"ข้อมูลนักเรียน!A20","v":0},{"$f":"IF(ข้อมูลนักเรียน!B20=0,\"\",ข้อมูลนักเรียน!B20)","v":""},{"$f":"IF(ข้อมูลนักเรียน!C20=0,\"\",ข้อมูลนักเรียน!C20)","v":""},{"$f":"IF(ข้อมูลนักเรียน!C20=0,\"\",ข้อมูลนักเรียน!D20 & ข้อมูลนักเรียน!E20 & \"   \"& ข้อมูลนักเรียน!F20)","v":""},{"$f":"IF(ข้อมูลนักเรียน!C20=0,\"\",ข้อมูลนักเรียน!G20)","v":""},{"$f":"ข้อมูลนักเรียน!B20","v":0},null,null,null,null,null,null,null,null,null,null,null,null,null,null,null,null,null,null,null,null,null,null,null,null,null,null,"ผ่าน",0,null,"ปรับปรุง",null,23]
[{"$f":"ข้อมูลนักเรียน!A21","v":0},{"$f":"IF(ข้อมูลนักเรียน!B21=0,\"\",ข้อมูลนักเรียน!B21)","v":""},{"$f":"IF(ข้อมูลนักเรียน!C21=0,\"\",ข้อมูลนักเรียน!C21)","v":""},{"$f":"IF(ข้อมูลนักเรียน!C21=0,\"\",ข้อมูลนักเรียน!D21 & ข้อมูลนักเรียน!E21 & \"   \"& ข้อมูลนักเรียน!F21)","v":""},{"$f":"IF(ข้อมูลนักเรียน!C21=0,\"\",ข้อมูลนักเรียน!G21)","v":""},{"$f":"ข้อมูลนักเรียน!B21","v":0},null,null,null,null,null,null,null,null,null,null,null,null,null,null,null,null,null,null,null,null,null,null,null,null,null,null,"ผ่าน",0,null,"ปรับปรุง",null,23]
[{"$f":"ข้อมูลนักเรียน!A22","v":0},{"$f":"IF(ข้อมูลนักเรียน!B22=0,\"\",ข้อมูลนักเรียน!B22)","v":""},{"$f":"IF(ข้อมูลนักเรียน!C22=0,\"\",ข้อมูลนักเรียน!C22)","v":""},{"$f":"IF(ข้อมูลนักเรียน!C22=0,\"\",ข้อมูลนักเรียน!D22 & ข้อมูลนักเรียน!E22 & \"   \"& ข้อมูลนักเรียน!F22)","v":""},{"$f":"IF(ข้อมูลนักเรียน!C22=0,\"\",ข้อมูลนักเรียน!G22)","v":""},{"$f":"ข้อมูลนักเรียน!B22","v":0},null,null,null,null,null,null,null,null,null,null,null,null,null,null,null,null,null,null,null,null,null,null,null,null,null,null,"ผ่าน",0,null,"ปรับปรุง",null,23]
[{"$f":"ข้อมูลนักเรียน!A23","v":0},{"$f":"IF(ข้อมูลนักเรียน!B23=0,\"\",ข้อมูลนักเรียน!B23)","v":""},{"$f":"IF(ข้อมูลนักเรียน!C23=0,\"\",ข้อมูลนักเรียน!C23)","v":""},{"$f":"IF(ข้อมูลนักเรียน!C23=0,\"\",ข้อมูลนักเรียน!D23 & ข้อมูลนักเรียน!E23 & \"   \"& ข้อมูลนักเรียน!F23)","v":""},{"$f":"IF(ข้อมูลนักเรียน!C23=0,\"\",ข้อมูลนักเรียน!G23)","v":""},{"$f":"ข้อมูลนักเรียน!B23","v":0},null,null,null,null,null,null,null,null,null,null,null,null,null,null,null,null,null,null,null,null,null,null,null,null,null,null,"ผ่าน",0,null,"ปรับปรุง",null,23]
[{"$f":"ข้อมูลนักเรียน!A24","v":0},{"$f":"IF(ข้อมูลนักเรียน!B24=0,\"\",ข้อมูลนักเรียน!B24)","v":""},{"$f":"IF(ข้อมูลนักเรียน!C24=0,\"\",ข้อมูลนักเรียน!C24)","v":""},{"$f":"IF(ข้อมูลนักเรียน!C24=0,\"\",ข้อมูลนักเรียน!D24 & ข้อมูลนักเรียน!E24 & \"   \"& ข้อมูลนักเรียน!F24)","v":""},{"$f":"IF(ข้อมูลนักเรียน!C24=0,\"\",ข้อมูลนักเรียน!G24)","v":""},{"$f":"ข้อมูลนักเรียน!B24","v":0},null,null,null,null,null,null,null,null,null,null,null,null,null,null,null,null,null,null,null,null,null,null,null,null,null,null,"ผ่าน",0,null,"ปรับปรุง",null,23]
[{"$f":"ข้อมูลนักเรียน!A25","v":0},{"$f":"IF(ข้อมูลนักเรียน!B25=0,\"\",ข้อมูลนักเรียน!B25)","v":""},{"$f":"IF(ข้อมูลนักเรียน!C25=0,\"\",ข้อมูลนักเรียน!C25)","v":""},{"$f":"IF(ข้อมูลนักเรียน!C25=0,\"\",ข้อมูลนักเรียน!D25 & ข้อมูลนักเรียน!E25 & \"   \"& ข้อมูลนักเรียน!F25)","v":""},{"$f":"IF(ข้อมูลนักเรียน!C25=0,\"\",ข้อมูลนักเรียน!G25)","v":""},{"$f":"ข้อมูลนักเรียน!B25","v":0},null,null,null,null,null,null,null,null,null,null,null,null,null,null,null,null,null,null,null,null,null,null,null,null,null,null,"ผ่าน",0,null,"ปรับปรุง",null,23]
[{"$f":"ข้อมูลนักเรียน!A26","v":0},{"$f":"IF(ข้อมูลนักเรียน!B26=0,\"\",ข้อมูลนักเรียน!B26)","v":""},{"$f":"IF(ข้อมูลนักเรียน!C26=0,\"\",ข้อมูลนักเรียน!C26)","v":""},{"$f":"IF(ข้อมูลนักเรียน!C26=0,\"\",ข้อมูลนักเรียน!D26 & ข้อมูลนักเรียน!E26 & \"   \"& ข้อมูลนักเรียน!F26)","v":""},{"$f":"IF(ข้อมูลนักเรียน!C26=0,\"\",ข้อมูลนักเรียน!G26)","v":""},{"$f":"ข้อมูลนักเรียน!B26","v":0},null,null,null,null,null,null,null,null,null,null,null,null,null,null,null,null,null,null,null,null,null,null,null,null,null,null,"ผ่าน",0,null,"ปรับปรุง",null,23]
[{"$f":"ข้อมูลนักเรียน!A27","v":0},{"$f":"IF(ข้อมูลนักเรียน!B27=0,\"\",ข้อมูลนักเรียน!B27)","v":""},{"$f":"IF(ข้อมูลนักเรียน!C27=0,\"\",ข้อมูลนักเรียน!C27)","v":""},{"$f":"IF(ข้อมูลนักเรียน!C27=0,\"\",ข้อมูลนักเรียน!D27 & ข้อมูลนักเรียน!E27 & \"   \"& ข้อมูลนักเรียน!F27)","v":""},{"$f":"IF(ข้อมูลนักเรียน!C27=0,\"\",ข้อมูลนักเรียน!G27)","v":""},{"$f":"ข้อมูลนักเรียน!B27","v":0},null,null,null,null,null,null,null,null,null,null,null,null,null,null,null,null,null,null,null,null,null,null,null,null,null,null,"ผ่าน",0,null,"ปรับปรุง",null,23]
[{"$f":"ข้อมูลนักเรียน!A28","v":0},{"$f":"IF(ข้อมูลนักเรียน!B28=0,\"\",ข้อมูลนักเรียน!B28)","v":""},{"$f":"IF(ข้อมูลนักเรียน!C28=0,\"\",ข้อมูลนักเรียน!C28)","v":""},{"$f":"IF(ข้อมูลนักเรียน!C28=0,\"\",ข้อมูลนักเรียน!D28 & ข้อมูลนักเรียน!E28 & \"   \"& ข้อมูลนักเรียน!F28)","v":""},{"$f":"IF(ข้อมูลนักเรียน!C28=0,\"\",ข้อมูลนักเรียน!G28)","v":""},{"$f":"ข้อมูลนักเรียน!B28","v":0},null,null,null,null,null,null,null,null,null,null,null,null,null,null,null,null,null,null,null,null,null,null,null,null,null,null,"ผ่าน",0,null,"ปรับปรุง",null,23]
[{"$f":"ข้อมูลนักเรียน!A29","v":0},{"$f":"IF(ข้อมูลนักเรียน!B29=0,\"\",ข้อมูลนักเรียน!B29)","v":""},{"$f":"IF(ข้อมูลนักเรียน!C29=0,\"\",ข้อมูลนักเรียน!C29)","v":""},{"$f":"IF(ข้อมูลนักเรียน!C29=0,\"\",ข้อมูลนักเรียน!D29 & ข้อมูลนักเรียน!E29 & \"   \"& ข้อมูลนักเรียน!F29)","v":""},{"$f":"IF(ข้อมูลนักเรียน!C29=0,\"\",ข้อมูลนักเรียน!G29)","v":""},{"$f":"ข้อมูลนักเรียน!B29","v":0},null,null,null,null,null,null,null,null,null,null,null,null,null,null,null,null,null,null,null,null,null,null,null,null,null,null,"ผ่าน",0,null,"ปรับปรุง",null,23]
[{"$f":"ข้อมูลนักเรียน!A30","v":0},{"$f":"IF(ข้อมูลนักเรียน!B30=0,\"\",ข้อมูลนักเรียน!B30)","v":""},{"$f":"IF(ข้อมูลนักเรียน!C30=0,\"\",ข้อมูลนักเรียน!C30)","v":""},{"$f":"IF(ข้อมูลนักเรียน!C30=0,\"\",ข้อมูลนักเรียน!D30 & ข้อมูลนักเรียน!E30 & \"   \"& ข้อมูลนักเรียน!F30)","v":""},{"$f":"IF(ข้อมูลนักเรียน!C30=0,\"\",ข้อมูลนักเรียน!G30)","v":""},{"$f":"ข้อมูลนักเรียน!B30","v":0},null,null,null,null,null,null,null,null,null,null,null,null,null,null,null,null,null,null,null,null,null,null,null,null,null,null,"ผ่าน",0,null,"ปรับปรุง",null,23]
[{"$f":"ข้อมูลนักเรียน!A31","v":0},{"$f":"IF(ข้อมูลนักเรียน!B31=0,\"\",ข้อมูลนักเรียน!B31)","v":""},{"$f":"IF(ข้อมูลนักเรียน!C31=0,\"\",ข้อมูลนักเรียน!C31)","v":""},{"$f":"IF(ข้อมูลนักเรียน!C31=0,\"\",ข้อมูลนักเรียน!D31 & ข้อมูลนักเรียน!E31 & \"   \"& ข้อมูลนักเรียน!F31)","v":""},{"$f":"IF(ข้อมูลนักเรียน!C31=0,\"\",ข้อมูลนักเรียน!G31)","v":""},{"$f":"ข้อมูลนักเรียน!B31","v":0},null,null,null,null,null,null,null,null,null,null,null,null,null,null,null,null,null,null,null,null,null,null,null,null,null,null,"ผ่าน",0,null,"ปรับปรุง",null,23]
[{"$f":"ข้อมูลนักเรียน!A32","v":0},{"$f":"IF(ข้อมูลนักเรียน!B32=0,\"\",ข้อมูลนักเรียน!B32)","v":""},{"$f":"IF(ข้อมูลนักเรียน!C32=0,\"\",ข้อมูลนักเรียน!C32)","v":""},{"$f":"IF(ข้อมูลนักเรียน!C32=0,\"\",ข้อมูลนักเรียน!D32 & ข้อมูลนักเรียน!E32 & \"   \"& ข้อมูลนักเรียน!F32)","v":""},{"$f":"IF(ข้อมูลนักเรียน!C32=0,\"\",ข้อมูลนักเรียน!G32)","v":""},{"$f":"ข้อมูลนักเรียน!B32","v":0},null,null,null,null,null,null,null,null,null,null,null,null,null,null,null,null,null,null,null,null,null,null,null,null,null,null,"ผ่าน",0,null,"ปรับปรุง",null,23]
[{"$f":"ข้อมูลนักเรียน!A33","v":0},{"$f":"IF(ข้อมูลนักเรียน!B33=0,\"\",ข้อมูลนักเรียน!B33)","v":""},{"$f":"IF(ข้อมูลนักเรียน!C33=0,\"\",ข้อมูลนักเรียน!C33)","v":""},{"$f":"IF(ข้อมูลนักเรียน!C33=0,\"\",ข้อมูลนักเรียน!D33 & ข้อมูลนักเรียน!E33 & \"   \"& ข้อมูลนักเรียน!F33)","v":""},{"$f":"IF(ข้อมูลนักเรียน!C33=0,\"\",ข้อมูลนักเรียน!G33)","v":""},{"$f":"ข้อมูลนักเรียน!B33","v":0},null,null,null,null,null,null,null,null,null,null,null,null,null,null,null,null,null,null,null,null,null,null,null,null,null,null,"ผ่าน",0,null,"ปรับปรุง",null,23]
[{"$f":"ข้อมูลนักเรียน!A34","v":0},{"$f":"IF(ข้อมูลนักเรียน!B34=0,\"\",ข้อมูลนักเรียน!B34)","v":""},{"$f":"IF(ข้อมูลนักเรียน!C34=0,\"\",ข้อมูลนักเรียน!C34)","v":""},{"$f":"IF(ข้อมูลนักเรียน!C34=0,\"\",ข้อมูลนักเรียน!D34 & ข้อมูลนักเรียน!E34 & \"   \"& ข้อมูลนักเรียน!F34)","v":""},{"$f":"IF(ข้อมูลนักเรียน!C34=0,\"\",ข้อมูลนักเรียน!G34)","v":""},{"$f":"ข้อมูลนักเรียน!B34","v":0},null,null,null,null,null,null,null,null,null,null,null,null,null,null,null,null,null,null,null,null,null,null,null,null,null,null,"ผ่าน",0,null,"ปรับปรุง",null,23]
[{"$f":"ข้อมูลนักเรียน!A35","v":0},{"$f":"IF(ข้อมูลนักเรียน!B35=0,\"\",ข้อมูลนักเรียน!B35)","v":""},{"$f":"IF(ข้อมูลนักเรียน!C35=0,\"\",ข้อมูลนักเรียน!C35)","v":""},{"$f":"IF(ข้อมูลนักเรียน!C35=0,\"\",ข้อมูลนักเรียน!D35 & ข้อมูลนักเรียน!E35 & \"   \"& ข้อมูลนักเรียน!F35)","v":""},{"$f":"IF(ข้อมูลนักเรียน!C35=0,\"\",ข้อมูลนักเรียน!G35)","v":""},{"$f":"ข้อมูลนักเรียน!B35","v":0},null,null,null,null,null,null,null,null,null,null,null,null,null,null,null,null,null,null,null,null,null,null,null,null,null,null,"ผ่าน",0,null,"ปรับปรุง",null,23]
[{"$f":"ข้อมูลนักเรียน!A36","v":0},{"$f":"IF(ข้อมูลนักเรียน!B36=0,\"\",ข้อมูลนักเรียน!B36)","v":""},{"$f":"IF(ข้อมูลนักเรียน!C36=0,\"\",ข้อมูลนักเรียน!C36)","v":""},{"$f":"IF(ข้อมูลนักเรียน!C36=0,\"\",ข้อมูลนักเรียน!D36 & ข้อมูลนักเรียน!E36 & \"   \"& ข้อมูลนักเรียน!F36)","v":""},{"$f":"IF(ข้อมูลนักเรียน!C36=0,\"\",ข้อมูลนักเรียน!G36)","v":""},{"$f":"ข้อมูลนักเรียน!B36","v":0},null,null,null,null,null,null,null,null,null,null,null,null,null,null,null,null,null,null,null,null,null,null,null,null,null,null,"ผ่าน",0,null,"ปรับปรุง",null,23]
[{"$f":"ข้อมูลนักเรียน!A37","v":0},{"$f":"IF(ข้อมูลนักเรียน!B37=0,\"\",ข้อมูลนักเรียน!B37)","v":""},{"$f":"IF(ข้อมูลนักเรียน!C37=0,\"\",ข้อมูลนักเรียน!C37)","v":""},{"$f":"IF(ข้อมูลนักเรียน!C37=0,\"\",ข้อมูลนักเรียน!D37 & ข้อมูลนักเรียน!E37 & \"   \"& ข้อมูลนักเรียน!F37)","v":""},{"$f":"IF(ข้อมูลนักเรียน!C37=0,\"\",ข้อมูลนักเรียน!G37)","v":""},{"$f":"ข้อมูลนักเรียน!B37","v":0},null,null,null,null,null,null,null,null,null,null,null,null,null,null,null,null,null,null,null,null,null,null,null,null,null,null,"ผ่าน",0,null,"ปรับปรุง",null,23]
[{"$f":"ข้อมูลนักเรียน!A38","v":0},{"$f":"IF(ข้อมูลนักเรียน!B38=0,\"\",ข้อมูลนักเรียน!B38)","v":""},{"$f":"IF(ข้อมูลนักเรียน!C38=0,\"\",ข้อมูลนักเรียน!C38)","v":""},{"$f":"IF(ข้อมูลนักเรียน!C38=0,\"\",ข้อมูลนักเรียน!D38 & ข้อมูลนักเรียน!E38 & \"   \"& ข้อมูลนักเรียน!F38)","v":""},{"$f":"IF(ข้อมูลนักเรียน!C38=0,\"\",ข้อมูลนักเรียน!G38)","v":""},{"$f":"ข้อมูลนักเรียน!B38","v":0},null,null,null,null,null,null,null,null,null,null,null,null,null,null,null,null,null,null,null,null,null,null,null,null,null,null,"ผ่าน",0,null,"ปรับปรุง",null,23]
[{"$f":"ข้อมูลนักเรียน!A39","v":0},{"$f":"IF(ข้อมูลนักเรียน!B39=0,\"\",ข้อมูลนักเรียน!B39)","v":""},{"$f":"IF(ข้อมูลนักเรียน!C39=0,\"\",ข้อมูลนักเรียน!C39)","v":""},{"$f":"IF(ข้อมูลนักเรียน!C39=0,\"\",ข้อมูลนักเรียน!D39 & ข้อมูลนักเรียน!E39 & \"   \"& ข้อมูลนักเรียน!F39)","v":""},{"$f":"IF(ข้อมูลนักเรียน!C39=0,\"\",ข้อมูลนักเรียน!G39)","v":""},{"$f":"ข้อมูลนักเรียน!B39","v":0},null,null,null,null,null,null,null,null,null,null,null,null,null,null,null,null,null,null,null,null,null,null,null,null,null,null,"ผ่าน",0,null,"ปรับปรุง",null,23]
[{"$f":"ข้อมูลนักเรียน!A40","v":0},{"$f":"IF(ข้อมูลนักเรียน!B40=0,\"\",ข้อมูลนักเรียน!B40)","v":""},{"$f":"IF(ข้อมูลนักเรียน!C40=0,\"\",ข้อมูลนักเรียน!C40)","v":""},{"$f":"IF(ข้อมูลนักเรียน!C40=0,\"\",ข้อมูลนักเรียน!D40 & ข้อมูลนักเรียน!E40 & \"   \"& ข้อมูลนักเรียน!F40)","v":""},{"$f":"IF(ข้อมูลนักเรียน!C40=0,\"\",ข้อมูลนักเรียน!G40)","v":""},{"$f":"ข้อมูลนักเรียน!B40","v":0},null,null,null,null,null,null,null,null,null,null,null,null,null,null,null,null,null,null,null,null,null,null,null,null,null,null,"ผ่าน",0,null,"ปรับปรุง",null,23]
[{"$f":"ข้อมูลนักเรียน!A41","v":0},{"$f":"IF(ข้อมูลนักเรียน!B41=0,\"\",ข้อมูลนักเรียน!B41)","v":""},{"$f":"IF(ข้อมูลนักเรียน!C41=0,\"\",ข้อมูลนักเรียน!C41)","v":""},{"$f":"IF(ข้อมูลนักเรียน!C41=0,\"\",ข้อมูลนักเรียน!D41 & ข้อมูลนักเรียน!E41 & \"   \"& ข้อมูลนักเรียน!F41)","v":""},{"$f":"IF(ข้อมูลนักเรียน!C41=0,\"\",ข้อมูลนักเรียน!G41)","v":""},{"$f":"ข้อมูลนักเรียน!B41","v":0},null,null,null,null,null,null,null,null,null,null,null,null,null,null,null,null,null,null,null,null,null,null,null,null,null,null,"ผ่าน",{"$f":"ROUNDDOWN(0,2)","v":0},null,"ปรับปรุง",null,23]
[{"$f":"ข้อมูลนักเรียน!A42","v":0},{"$f":"IF(ข้อมูลนักเรียน!B42=0,\"\",ข้อมูลนักเรียน!B42)","v":""},{"$f":"IF(ข้อมูลนักเรียน!C42=0,\"\",ข้อมูลนักเรียน!C42)","v":""},{"$f":"IF(ข้อมูลนักเรียน!C42=0,\"\",ข้อมูลนักเรียน!D42 & ข้อมูลนักเรียน!E42 & \"   \"& ข้อมูลนักเรียน!F42)","v":""},{"$f":"IF(ข้อมูลนักเรียน!C42=0,\"\",ข้อมูลนักเรียน!G42)","v":""},{"$f":"ข้อมูลนักเรียน!B42","v":0},null,null,null,null,null,null,null,null,null,null,null,null,null,null,null,null,null,null,null,null,null,null,null,null,null,null,"ผ่าน",0,null,"ปรับปรุง",null,23]
[{"$f":"ข้อมูลนักเรียน!A43","v":0},{"$f":"IF(ข้อมูลนักเรียน!B43=0,\"\",ข้อมูลนักเรียน!B43)","v":""},{"$f":"IF(ข้อมูลนักเรียน!C43=0,\"\",ข้อมูลนักเรียน!C43)","v":""},{"$f":"IF(ข้อมูลนักเรียน!C43=0,\"\",ข้อมูลนักเรียน!D43 & ข้อมูลนักเรียน!E43 & \"   \"& ข้อมูลนักเรียน!F43)","v":""},{"$f":"IF(ข้อมูลนักเรียน!C43=0,\"\",ข้อมูลนักเรียน!G43)","v":""},{"$f":"ข้อมูลนักเรียน!B43","v":0},null,null,null,null,null,null,null,null,null,null,null,null,null,null,null,null,null,null,null,null,null,null,null,null,null,null,"ผ่าน",0,null,"ปรับปรุง",null,23]
[{"$f":"ข้อมูลนักเรียน!A44","v":0},{"$f":"IF(ข้อมูลนักเรียน!B44=0,\"\",ข้อมูลนักเรียน!B44)","v":""},{"$f":"IF(ข้อมูลนักเรียน!C44=0,\"\",ข้อมูลนักเรียน!C44)","v":""},{"$f":"IF(ข้อมูลนักเรียน!C44=0,\"\",ข้อมูลนักเรียน!D44 & ข้อมูลนักเรียน!E44 & \"   \"& ข้อมูลนักเรียน!F44)","v":""},{"$f":"IF(ข้อมูลนักเรียน!C44=0,\"\",ข้อมูลนักเรียน!G44)","v":""},{"$f":"ข้อมูลนักเรียน!B44","v":0},null,null,null,null,null,null,null,null,null,null,null,null,null,null,null,null,null,null,null,null,null,null,null,null,null,null,"ผ่าน",0,null,"ปรับปรุง",null,23]
[{"$f":"ข้อมูลนักเรียน!A45","v":0},{"$f":"IF(ข้อมูลนักเรียน!B45=0,\"\",ข้อมูลนักเรียน!B45)","v":""},{"$f":"IF(ข้อมูลนักเรียน!C45=0,\"\",ข้อมูลนักเรียน!C45)","v":""},{"$f":"IF(ข้อมูลนักเรียน!C45=0,\"\",ข้อมูลนักเรียน!D45 & ข้อมูลนักเรียน!E45 & \"   \"& ข้อมูลนักเรียน!F45)","v":""},{"$f":"IF(ข้อมูลนักเรียน!C45=0,\"\",ข้อมูลนักเรียน!G45)","v":""},{"$f":"ข้อมูลนักเรียน!B45","v":0},null,null,null,null,null,null,null,null,null,null,null,null,null,null,null,null,null,null,null,null,null,null,null,null,null,null,"ผ่าน",0,null,"ปรับปรุง",null,23]
[{"$f":"ข้อมูลนักเรียน!A46","v":0},{"$f":"IF(ข้อมูลนักเรียน!B46=0,\"\",ข้อมูลนักเรียน!B46)","v":""},{"$f":"IF(ข้อมูลนักเรียน!C46=0,\"\",ข้อมูลนักเรียน!C46)","v":""},{"$f":"IF(ข้อมูลนักเรียน!C46=0,\"\",ข้อมูลนักเรียน!D46 & ข้อมูลนักเรียน!E46 & \"   \"& ข้อมูลนักเรียน!F46)","v":""},{"$f":"IF(ข้อมูลนักเรียน!C46=0,\"\",ข้อมูลนักเรียน!G46)","v":""},{"$f":"ข้อมูลนักเรียน!B46","v":0},null,null,null,null,null,null,null,null,null,null,null,null,null,null,null,null,null,null,null,null,null,null,null,null,null,null,"ผ่าน",0,null,"ปรับปรุง",null,23]
[{"$f":"ข้อมูลนักเรียน!A47","v":0},{"$f":"IF(ข้อมูลนักเรียน!B47=0,\"\",ข้อมูลนักเรียน!B47)","v":""},{"$f":"IF(ข้อมูลนักเรียน!C47=0,\"\",ข้อมูลนักเรียน!C47)","v":""},{"$f":"IF(ข้อมูลนักเรียน!C47=0,\"\",ข้อมูลนักเรียน!D47 & ข้อมูลนักเรียน!E47 & \"   \"& ข้อมูลนักเรียน!F47)","v":""},{"$f":"IF(ข้อมูลนักเรียน!C47=0,\"\",ข้อมูลนักเรียน!G47)","v":""},{"$f":"ข้อมูลนักเรียน!B47","v":0},null,null,null,null,null,null,null,null,null,null,null,null,null,null,null,null,null,null,null,null,null,null,null,null,null,null,"ผ่าน",0,null,"ปรับปรุง",null,23]
[{"$f":"ข้อมูลนักเรียน!A48","v":0},{"$f":"IF(ข้อมูลนักเรียน!B48=0,\"\",ข้อมูลนักเรียน!B48)","v":""},{"$f":"IF(ข้อมูลนักเรียน!C48=0,\"\",ข้อมูลนักเรียน!C48)","v":""},{"$f":"IF(ข้อมูลนักเรียน!C48=0,\"\",ข้อมูลนักเรียน!D48 & ข้อมูลนักเรียน!E48 & \"   \"& ข้อมูลนักเรียน!F48)","v":""},{"$f":"IF(ข้อมูลนักเรียน!C48=0,\"\",ข้อมูลนักเรียน!G48)","v":""},{"$f":"ข้อมูลนักเรียน!B48","v":0},null,null,null,null,null,null,null,null,null,null,null,null,null,null,null,null,null,null,null,null,null,null,null,null,null,null,"ผ่าน",0,null,"ปรับปรุง",null,23]
[{"$f":"ข้อมูลนักเรียน!A49","v":0},{"$f":"IF(ข้อมูลนักเรียน!B49=0,\"\",ข้อมูลนักเรียน!B49)","v":""},{"$f":"IF(ข้อมูลนักเรียน!C49=0,\"\",ข้อมูลนักเรียน!C49)","v":""},{"$f":"IF(ข้อมูลนักเรียน!C49=0,\"\",ข้อมูลนักเรียน!D49 & ข้อมูลนักเรียน!E49 & \"   \"& ข้อมูลนักเรียน!F49)","v":""},{"$f":"IF(ข้อมูลนักเรียน!C49=0,\"\",ข้อมูลนักเรียน!G49)","v":""},{"$f":"ข้อมูลนักเรียน!B49","v":0},null,null,null,null,null,null,null,null,null,null,null,null,null,null,null,null,null,null,null,null,null,null,null,null,null,null,"ผ่าน",0,null,"ปรับปรุง",null,23]
[{"$f":"ข้อมูลนักเรียน!A50","v":0},{"$f":"IF(ข้อมูลนักเรียน!B50=0,\"\",ข้อมูลนักเรียน!B50)","v":""},{"$f":"IF(ข้อมูลนักเรียน!C50=0,\"\",ข้อมูลนักเรียน!C50)","v":""},{"$f":"IF(ข้อมูลนักเรียน!C50=0,\"\",ข้อมูลนักเรียน!D50 & ข้อมูลนักเรียน!E50 & \"   \"& ข้อมูลนักเรียน!F50)","v":""},{"$f":"IF(ข้อมูลนักเรียน!C50=0,\"\",ข้อมูลนักเรียน!G50)","v":""},{"$f":"ข้อมูลนักเรียน!B50","v":0},null,null,null,null,null,null,null,null,null,null,null,null,null,null,null,null,null,null,null,null,null,null,null,null,null,null,"ผ่าน",0,null,"ปรับปรุง",null,23]
[{"$f":"ข้อมูลนักเรียน!A51","v":0},{"$f":"IF(ข้อมูลนักเรียน!B51=0,\"\",ข้อมูลนักเรียน!B51)","v":""},{"$f":"IF(ข้อมูลนักเรียน!C51=0,\"\",ข้อมูลนักเรียน!C51)","v":""},{"$f":"IF(ข้อมูลนักเรียน!C51=0,\"\",ข้อมูลนักเรียน!D51 & ข้อมูลนักเรียน!E51 & \"   \"& ข้อมูลนักเรียน!F51)","v":""},{"$f":"IF(ข้อมูลนักเรียน!C51=0,\"\",ข้อมูลนักเรียน!G51)","v":""},{"$f":"ข้อมูลนักเรียน!B51","v":0},null,null,null,null,null,null,null,null,null,null,null,null,null,null,null,null,null,null,null,null,null,null,null,null,null,null,"ผ่าน",0,null,"ปรับปรุง",null,23]
[{"$f":"ข้อมูลนักเรียน!A52","v":0},{"$f":"IF(ข้อมูลนักเรียน!B52=0,\"\",ข้อมูลนักเรียน!B52)","v":""},{"$f":"IF(ข้อมูลนักเรียน!C52=0,\"\",ข้อมูลนักเรียน!C52)","v":""},{"$f":"IF(ข้อมูลนักเรียน!C52=0,\"\",ข้อมูลนักเรียน!D52 & ข้อมูลนักเรียน!E52 & \"   \"& ข้อมูลนักเรียน!F52)","v":""},{"$f":"IF(ข้อมูลนักเรียน!C52=0,\"\",ข้อมูลนักเรียน!G52)","v":""},{"$f":"ข้อมูลนักเรียน!B52","v":0},null,null,null,null,null,null,null,null,null,null,null,null,null,null,null,null,null,null,null,null,null,null,null,null,null,null,"ผ่าน",0,null,"ปรับปรุง",null,23]
[{"$f":"ข้อมูลนักเรียน!A53","v":0},{"$f":"IF(ข้อมูลนักเรียน!B53=0,\"\",ข้อมูลนักเรียน!B53)","v":""},{"$f":"IF(ข้อมูลนักเรียน!C53=0,\"\",ข้อมูลนักเรียน!C53)","v":""},{"$f":"IF(ข้อมูลนักเรียน!C53=0,\"\",ข้อมูลนักเรียน!D53 & ข้อมูลนักเรียน!E53 & \"   \"& ข้อมูลนักเรียน!F53)","v":""},{"$f":"IF(ข้อมูลนักเรียน!C53=0,\"\",ข้อมูลนักเรียน!G53)","v":""},{"$f":"ข้อมูลนักเรียน!B53","v":0},null,null,null,null,null,null,null,null,null,null,null,null,null,null,null,null,null,null,null,null,null,null,null,null,null,null,"ผ่าน",0,null,"ปรับปรุง",null,23]
[{"$f":"ข้อมูลนักเรียน!A54","v":0},{"$f":"IF(ข้อมูลนักเรียน!B54=0,\"\",ข้อมูลนักเรียน!B54)","v":""},{"$f":"IF(ข้อมูลนักเรียน!C54=0,\"\",ข้อมูลนักเรียน!C54)","v":""},{"$f":"IF(ข้อมูลนักเรียน!C54=0,\"\",ข้อมูลนักเรียน!D54 & ข้อมูลนักเรียน!E54 & \"   \"& ข้อมูลนักเรียน!F54)","v":""},{"$f":"IF(ข้อมูลนักเรียน!C54=0,\"\",ข้อมูลนักเรียน!G54)","v":""},{"$f":"ข้อมูลนักเรียน!B54","v":0},null,null,null,null,null,null,null,null,null,null,null,null,null,null,null,null,null,null,null,null,null,null,null,null,null,null,"ผ่าน",0,null,"ปรับปรุง",null,23]
[{"$f":"ข้อมูลนักเรียน!A55","v":0},{"$f":"IF(ข้อมูลนักเรียน!B55=0,\"\",ข้อมูลนักเรียน!B55)","v":""},{"$f":"IF(ข้อมูลนักเรียน!C55=0,\"\",ข้อมูลนักเรียน!C55)","v":""},{"$f":"IF(ข้อมูลนักเรียน!C55=0,\"\",ข้อมูลนักเรียน!D55 & ข้อมูลนักเรียน!E55 & \"   \"& ข้อมูลนักเรียน!F55)","v":""},{"$f":"IF(ข้อมูลนักเรียน!C55=0,\"\",ข้อมูลนักเรียน!G55)","v":""},{"$f":"ข้อมูลนักเรียน!B55","v":0},null,null,null,null,null,null,null,null,null,null,null,null,null,null,null,null,null,null,null,null,null,null,null,null,null,null,"ผ่าน",0,null,"ปรับปรุง",null,23]
[{"$f":"ข้อมูลนักเรียน!A56","v":0},{"$f":"IF(ข้อมูลนักเรียน!B56=0,\"\",ข้อมูลนักเรียน!B56)","v":""},{"$f":"IF(ข้อมูลนักเรียน!C56=0,\"\",ข้อมูลนักเรียน!C56)","v":""},{"$f":"IF(ข้อมูลนักเรียน!C56=0,\"\",ข้อมูลนักเรียน!D56 & ข้อมูลนักเรียน!E56 & \"   \"& ข้อมูลนักเรียน!F56)","v":""},{"$f":"IF(ข้อมูลนักเรียน!C56=0,\"\",ข้อมูลนักเรียน!G56)","v":""},{"$f":"ข้อมูลนักเรียน!B56","v":0},null,null,null,null,null,null,null,null,null,null,null,null,null,null,null,null,null,null,null,null,null,null,null,null,null,null,"ผ่าน",0,null,"ปรับปรุง",null,23]
[{"$f":"ข้อมูลนักเรียน!A57","v":0},{"$f":"IF(ข้อมูลนักเรียน!B57=0,\"\",ข้อมูลนักเรียน!B57)","v":""},{"$f":"IF(ข้อมูลนักเรียน!C57=0,\"\",ข้อมูลนักเรียน!C57)","v":""},{"$f":"IF(ข้อมูลนักเรียน!C57=0,\"\",ข้อมูลนักเรียน!D57 & ข้อมูลนักเรียน!E57 & \"   \"& ข้อมูลนักเรียน!F57)","v":""},{"$f":"IF(ข้อมูลนักเรียน!C57=0,\"\",ข้อมูลนักเรียน!G57)","v":""},{"$f":"ข้อมูลนักเรียน!B57","v":0},null,null,null,null,null,null,null,null,null,null,null,null,null,null,null,null,null,null,null,null,null,null,null,null,null,null,"ผ่าน",0,null,"ปรับปรุง",null,23]
[{"$f":"ข้อมูลนักเรียน!A58","v":0},{"$f":"IF(ข้อมูลนักเรียน!B58=0,\"\",ข้อมูลนักเรียน!B58)","v":""},{"$f":"IF(ข้อมูลนักเรียน!C58=0,\"\",ข้อมูลนักเรียน!C58)","v":""},{"$f":"IF(ข้อมูลนักเรียน!C58=0,\"\",ข้อมูลนักเรียน!D58 & ข้อมูลนักเรียน!E58 & \"   \"& ข้อมูลนักเรียน!F58)","v":""},{"$f":"IF(ข้อมูลนักเรียน!C58=0,\"\",ข้อมูลนักเรียน!G58)","v":""},{"$f":"ข้อมูลนักเรียน!B58","v":0},null,null,null,null,null,null,null,null,null,null,null,null,null,null,null,null,null,null,null,null,null,null,null,null,null,null,"ผ่าน",0,null,"ปรับปรุง",null,23]
[{"$f":"ข้อมูลนักเรียน!A59","v":0},{"$f":"IF(ข้อมูลนักเรียน!B59=0,\"\",ข้อมูลนักเรียน!B59)","v":""},{"$f":"IF(ข้อมูลนักเรียน!C59=0,\"\",ข้อมูลนักเรียน!C59)","v":""},{"$f":"IF(ข้อมูลนักเรียน!C59=0,\"\",ข้อมูลนักเรียน!D59 & ข้อมูลนักเรียน!E59 & \"   \"& ข้อมูลนักเรียน!F59)","v":""},{"$f":"IF(ข้อมูลนักเรียน!C59=0,\"\",ข้อมูลนักเรียน!G59)","v":""},{"$f":"ข้อมูลนักเรียน!B59","v":0},null,null,null,null,null,null,null,null,null,null,null,null,null,null,null,null,null,null,null,null,null,null,null,null,null,null,"ผ่าน",0,null,"ปรับปรุง",null,23]
[{"$f":"ข้อมูลนักเรียน!A60","v":0},{"$f":"IF(ข้อมูลนักเรียน!B60=0,\"\",ข้อมูลนักเรียน!B60)","v":""},{"$f":"IF(ข้อมูลนักเรียน!C60=0,\"\",ข้อมูลนักเรียน!C60)","v":""},{"$f":"IF(ข้อมูลนักเรียน!C60=0,\"\",ข้อมูลนักเรียน!D60 & ข้อมูลนักเรียน!E60 & \"   \"& ข้อมูลนักเรียน!F60)","v":""},{"$f":"IF(ข้อมูลนักเรียน!C60=0,\"\",ข้อมูลนักเรียน!G60)","v":""},{"$f":"ข้อมูลนักเรียน!B60","v":0},null,null,null,null,null,null,null,null,null,null,null,null,null,null,null,null,null,null,null,null,null,null,null,null,null,null,"ผ่าน",0,null,"ปรับปรุง",null,23]
[{"$f":"ข้อมูลนักเรียน!A61","v":0},{"$f":"IF(ข้อมูลนักเรียน!B61=0,\"\",ข้อมูลนักเรียน!B61)","v":""},{"$f":"IF(ข้อมูลนักเรียน!C61=0,\"\",ข้อมูลนักเรียน!C61)","v":""},{"$f":"IF(ข้อมูลนักเรียน!C61=0,\"\",ข้อมูลนักเรียน!D61 & ข้อมูลนักเรียน!E61 & \"   \"& ข้อมูลนักเรียน!F61)","v":""},{"$f":"IF(ข้อมูลนักเรียน!C61=0,\"\",ข้อมูลนักเรียน!G61)","v":""},{"$f":"ข้อมูลนักเรียน!B61","v":0},null,null,null,null,null,null,null,null,null,null,null,null,null,null,null,null,null,null,null,null,null,null,null,null,null,null,"ผ่าน",0,null,"ปรับปรุง",null,23]
[{"$f":"ข้อมูลนักเรียน!A62","v":0},{"$f":"IF(ข้อมูลนักเรียน!B62=0,\"\",ข้อมูลนักเรียน!B62)","v":""},{"$f":"IF(ข้อมูลนักเรียน!C62=0,\"\",ข้อมูลนักเรียน!C62)","v":""},{"$f":"IF(ข้อมูลนักเรียน!C62=0,\"\",ข้อมูลนักเรียน!D62 & ข้อมูลนักเรียน!E62 & \"   \"& ข้อมูลนักเรียน!F62)","v":""},{"$f":"IF(ข้อมูลนักเรียน!C62=0,\"\",ข้อมูลนักเรียน!G62)","v":""},{"$f":"ข้อมูลนักเรียน!B62","v":0},null,null,null,null,null,null,null,null,null,null,null,null,null,null,null,null,null,null,null,null,null,null,null,null,null,null,"ผ่าน",0,null,"ปรับปรุง",null,23]
[{"$f":"ข้อมูลนักเรียน!A63","v":0},{"$f":"IF(ข้อมูลนักเรียน!B63=0,\"\",ข้อมูลนักเรียน!B63)","v":""},{"$f":"IF(ข้อมูลนักเรียน!C63=0,\"\",ข้อมูลนักเรียน!C63)","v":""},{"$f":"IF(ข้อมูลนักเรียน!C63=0,\"\",ข้อมูลนักเรียน!D63 & ข้อมูลนักเรียน!E63 & \"   \"& ข้อมูลนักเรียน!F63)","v":""},{"$f":"IF(ข้อมูลนักเรียน!C63=0,\"\",ข้อมูลนักเรียน!G63)","v":""},{"$f":"ข้อมูลนักเรียน!B63","v":0},null,null,null,null,null,null,null,null,null,null,null,null,null,null,null,null,null,null,null,null,null,null,null,null,null,null,"ผ่าน",0,null,"ปรับปรุง",null,23]
[{"$f":"ข้อมูลนักเรียน!A64","v":0},{"$f":"IF(ข้อมูลนักเรียน!B64=0,\"\",ข้อมูลนักเรียน!B64)","v":""},{"$f":"IF(ข้อมูลนักเรียน!C64=0,\"\",ข้อมูลนักเรียน!C64)","v":""},{"$f":"IF(ข้อมูลนักเรียน!C64=0,\"\",ข้อมูลนักเรียน!D64 & ข้อมูลนักเรียน!E64 & \"   \"& ข้อมูลนักเรียน!F64)","v":""},{"$f":"IF(ข้อมูลนักเรียน!C64=0,\"\",ข้อมูลนักเรียน!G64)","v":""},{"$f":"ข้อมูลนักเรียน!B64","v":0},null,null,null,null,null,null,null,null,null,null,null,null,null,null,null,null,null,null,null,null,null,null,null,null,null,null,"ผ่าน",0,null,"ปรับปรุง",null,23]
[{"$f":"ข้อมูลนักเรียน!A65","v":0},{"$f":"IF(ข้อมูลนักเรียน!B65=0,\"\",ข้อมูลนักเรียน!B65)","v":""},{"$f":"IF(ข้อมูลนักเรียน!C65=0,\"\",ข้อมูลนักเรียน!C65)","v":""},{"$f":"IF(ข้อมูลนักเรียน!C65=0,\"\",ข้อมูลนักเรียน!D65 & ข้อมูลนักเรียน!E65 & \"   \"& ข้อมูลนักเรียน!F65)","v":""},{"$f":"IF(ข้อมูลนักเรียน!C65=0,\"\",ข้อมูลนักเรียน!G65)","v":""},{"$f":"ข้อมูลนักเรียน!B65","v":0},null,null,null,null,null,null,null,null,null,null,null,null,null,null,null,null,null,null,null,null,null,null,null,null,null,null,"ผ่าน",0,null,"ปรับปรุง",null,23]
[{"$f":"ข้อมูลนักเรียน!A66","v":0},{"$f":"IF(ข้อมูลนักเรียน!B66=0,\"\",ข้อมูลนักเรียน!B66)","v":""},{"$f":"IF(ข้อมูลนักเรียน!C66=0,\"\",ข้อมูลนักเรียน!C66)","v":""},{"$f":"IF(ข้อมูลนักเรียน!C66=0,\"\",ข้อมูลนักเรียน!D66 & ข้อมูลนักเรียน!E66 & \"   \"& ข้อมูลนักเรียน!F66)","v":""},{"$f":"IF(ข้อมูลนักเรียน!C66=0,\"\",ข้อมูลนักเรียน!G66)","v":""},{"$f":"ข้อมูลนักเรียน!B66","v":0},null,null,null,null,null,null,null,null,null,null,null,null,null,null,null,null,null,null,null,null,null,null,null,null,null,null,"ผ่าน",0,null,"ปรับปรุง",null,23]
[{"$f":"ข้อมูลนักเรียน!A67","v":0},{"$f":"IF(ข้อมูลนักเรียน!B67=0,\"\",ข้อมูลนักเรียน!B67)","v":""},{"$f":"IF(ข้อมูลนักเรียน!C67=0,\"\",ข้อมูลนักเรียน!C67)","v":""},{"$f":"IF(ข้อมูลนักเรียน!C67=0,\"\",ข้อมูลนักเรียน!D67 & ข้อมูลนักเรียน!E67 & \"   \"& ข้อมูลนักเรียน!F67)","v":""},{"$f":"IF(ข้อมูลนักเรียน!C67=0,\"\",ข้อมูลนักเรียน!G67)","v":""},{"$f":"ข้อมูลนักเรียน!B67","v":0},null,null,null,null,null,null,null,null,null,null,null,null,null,null,null,null,null,null,null,null,null,null,null,null,null,null,"ผ่าน",0,null,"ปรับปรุง",null,23]
[{"$f":"ข้อมูลนักเรียน!A68","v":0},{"$f":"IF(ข้อมูลนักเรียน!B68=0,\"\",ข้อมูลนักเรียน!B68)","v":""},{"$f":"IF(ข้อมูลนักเรียน!C68=0,\"\",ข้อมูลนักเรียน!C68)","v":""},{"$f":"IF(ข้อมูลนักเรียน!C68=0,\"\",ข้อมูลนักเรียน!D68 & ข้อมูลนักเรียน!E68 & \"   \"& ข้อมูลนักเรียน!F68)","v":""},{"$f":"IF(ข้อมูลนักเรียน!C68=0,\"\",ข้อมูลนักเรียน!G68)","v":""},{"$f":"ข้อมูลนักเรียน!B68","v":0},null,null,null,null,null,null,null,null,null,null,null,null,null,null,null,null,null,null,null,null,null,null,null,null,null,null,"ผ่าน",0,null,"ปรับปรุง",null,23]
[{"$f":"ข้อมูลนักเรียน!A69","v":0},{"$f":"IF(ข้อมูลนักเรียน!B69=0,\"\",ข้อมูลนักเรียน!B69)","v":""},{"$f":"IF(ข้อมูลนักเรียน!C69=0,\"\",ข้อมูลนักเรียน!C69)","v":""},{"$f":"IF(ข้อมูลนักเรียน!C69=0,\"\",ข้อมูลนักเรียน!D69 & ข้อมูลนักเรียน!E69 & \"   \"& ข้อมูลนักเรียน!F69)","v":""},{"$f":"IF(ข้อมูลนักเรียน!C69=0,\"\",ข้อมูลนักเรียน!G69)","v":""},{"$f":"ข้อมูลนักเรียน!B69","v":0},null,null,null,null,null,null,null,null,null,null,null,null,null,null,null,null,null,null,null,null,null,null,null,null,null,null,"ผ่าน",0,null,"ปรับปรุง",null,23]
[{"$f":"ข้อมูลนักเรียน!A70","v":0},{"$f":"IF(ข้อมูลนักเรียน!B70=0,\"\",ข้อมูลนักเรียน!B70)","v":""},{"$f":"IF(ข้อมูลนักเรียน!C70=0,\"\",ข้อมูลนักเรียน!C70)","v":""},{"$f":"IF(ข้อมูลนักเรียน!C70=0,\"\",ข้อมูลนักเรียน!D70 & ข้อมูลนักเรียน!E70 & \"   \"& ข้อมูลนักเรียน!F70)","v":""},{"$f":"IF(ข้อมูลนักเรียน!C70=0,\"\",ข้อมูลนักเรียน!G70)","v":""},{"$f":"ข้อมูลนักเรียน!B70","v":0},null,null,null,null,null,null,null,null,null,null,null,null,null,null,null,null,null,null,null,null,null,null,null,null,null,null,"ผ่าน",0,null,"ปรับปรุง",null,23]
[{"$f":"ข้อมูลนักเรียน!A71","v":0},{"$f":"IF(ข้อมูลนักเรียน!B71=0,\"\",ข้อมูลนักเรียน!B71)","v":""},{"$f":"IF(ข้อมูลนักเรียน!C71=0,\"\",ข้อมูลนักเรียน!C71)","v":""},{"$f":"IF(ข้อมูลนักเรียน!C71=0,\"\",ข้อมูลนักเรียน!D71 & ข้อมูลนักเรียน!E71 & \"   \"& ข้อมูลนักเรียน!F71)","v":""},{"$f":"IF(ข้อมูลนักเรียน!C71=0,\"\",ข้อมูลนักเรียน!G71)","v":""},{"$f":"ข้อมูลนักเรียน!B71","v":0},null,null,null,null,null,null,null,null,null,null,null,null,null,null,null,null,null,null,null,null,null,null,null,null,null,null,"ผ่าน",0,null,"ปรับปรุง",null,23]
[{"$f":"ข้อมูลนักเรียน!A72","v":0},{"$f":"IF(ข้อมูลนักเรียน!B72=0,\"\",ข้อมูลนักเรียน!B72)","v":""},{"$f":"IF(ข้อมูลนักเรียน!C72=0,\"\",ข้อมูลนักเรียน!C72)","v":""},{"$f":"IF(ข้อมูลนักเรียน!C72=0,\"\",ข้อมูลนักเรียน!D72 & ข้อมูลนักเรียน!E72 & \"   \"& ข้อมูลนักเรียน!F72)","v":""},{"$f":"IF(ข้อมูลนักเรียน!C72=0,\"\",ข้อมูลนักเรียน!G72)","v":""},{"$f":"ข้อมูลนักเรียน!B72","v":0},null,null,null,null,null,null,null,null,null,null,null,null,null,null,null,null,null,null,null,null,null,null,null,null,null,null,"ผ่าน",0,null,"ปรับปรุง",null,23]
[{"$f":"ข้อมูลนักเรียน!A73","v":0},{"$f":"IF(ข้อมูลนักเรียน!B73=0,\"\",ข้อมูลนักเรียน!B73)","v":""},{"$f":"IF(ข้อมูลนักเรียน!C73=0,\"\",ข้อมูลนักเรียน!C73)","v":""},{"$f":"IF(ข้อมูลนักเรียน!C73=0,\"\",ข้อมูลนักเรียน!D73 & ข้อมูลนักเรียน!E73 & \"   \"& ข้อมูลนักเรียน!F73)","v":""},{"$f":"IF(ข้อมูลนักเรียน!C73=0,\"\",ข้อมูลนักเรียน!G73)","v":""},{"$f":"ข้อมูลนักเรียน!B73","v":0},null,null,null,null,null,null,null,null,null,null,null,null,null,null,null,null,null,null,null,null,null,null,null,null,null,null,{"$f":"IF(COUNTIFS(Z73:AD73,\"=มผ\") > 0,\"ไม่ผ่าน\",\"ผ่าน\")","v":"ผ่าน"},{"$f":"ROUNDDOWN(0,2)","v":0},null,{"$f":"IF(AF73=1,\"ผ่าน\",IF(AF73=2,\"ดี\",IF(AF73=3,\"ดีเยี่ยม\",\"ปรับปรุง\")))","v":"ปรับปรุง"},null,23]
[{"$f":"ข้อมูลนักเรียน!A74","v":0},{"$f":"IF(ข้อมูลนักเรียน!B74=0,\"\",ข้อมูลนักเรียน!B74)","v":""},{"$f":"IF(ข้อมูลนักเรียน!C74=0,\"\",ข้อมูลนักเรียน!C74)","v":""},{"$f":"IF(ข้อมูลนักเรียน!C74=0,\"\",ข้อมูลนักเรียน!D74 & ข้อมูลนักเรียน!E74 & \"   \"& ข้อมูลนักเรียน!F74)","v":""},{"$f":"IF(ข้อมูลนักเรียน!C74=0,\"\",ข้อมูลนักเรียน!G74)","v":""},{"$f":"ข้อมูลนักเรียน!B74","v":0},null,null,null,null,null,null,null,null,null,null,null,null,null,null,null,null,null,null,null,null,null,null,null,null,null,null,"ผ่าน",0,null,"ปรับปรุง",null,23]
[{"$f":"ข้อมูลนักเรียน!A75","v":0},{"$f":"IF(ข้อมูลนักเรียน!B75=0,\"\",ข้อมูลนักเรียน!B75)","v":""},{"$f":"IF(ข้อมูลนักเรียน!C75=0,\"\",ข้อมูลนักเรียน!C75)","v":""},{"$f":"IF(ข้อมูลนักเรียน!C75=0,\"\",ข้อมูลนักเรียน!D75 & ข้อมูลนักเรียน!E75 & \"   \"& ข้อมูลนักเรียน!F75)","v":""},{"$f":"IF(ข้อมูลนักเรียน!C75=0,\"\",ข้อมูลนักเรียน!G75)","v":""},{"$f":"ข้อมูลนักเรียน!B75","v":0},null,null,null,null,null,null,null,null,null,null,null,null,null,null,null,null,null,null,null,null,null,null,null,null,null,null,"ผ่าน",0,null,"ปรับปรุง",null,23]
[{"$f":"ข้อมูลนักเรียน!A76","v":0},{"$f":"IF(ข้อมูลนักเรียน!B76=0,\"\",ข้อมูลนักเรียน!B76)","v":""},{"$f":"IF(ข้อมูลนักเรียน!C76=0,\"\",ข้อมูลนักเรียน!C76)","v":""},{"$f":"IF(ข้อมูลนักเรียน!C76=0,\"\",ข้อมูลนักเรียน!D76 & ข้อมูลนักเรียน!E76 & \"   \"& ข้อมูลนักเรียน!F76)","v":""},{"$f":"IF(ข้อมูลนักเรียน!C76=0,\"\",ข้อมูลนักเรียน!G76)","v":""},{"$f":"ข้อมูลนักเรียน!B76","v":0},null,null,null,null,null,null,null,null,null,null,null,null,null,null,null,null,null,null,null,null,null,null,null,null,null,null,"ผ่าน",0,null,"ปรับปรุง",null,23]
[{"$f":"ข้อมูลนักเรียน!A77","v":0},{"$f":"IF(ข้อมูลนักเรียน!B77=0,\"\",ข้อมูลนักเรียน!B77)","v":""},{"$f":"IF(ข้อมูลนักเรียน!C77=0,\"\",ข้อมูลนักเรียน!C77)","v":""},{"$f":"IF(ข้อมูลนักเรียน!C77=0,\"\",ข้อมูลนักเรียน!D77 & ข้อมูลนักเรียน!E77 & \"   \"& ข้อมูลนักเรียน!F77)","v":""},{"$f":"IF(ข้อมูลนักเรียน!C77=0,\"\",ข้อมูลนักเรียน!G77)","v":""},{"$f":"ข้อมูลนักเรียน!B77","v":0},null,null,null,null,null,null,null,null,null,null,null,null,null,null,null,null,null,null,null,null,null,null,null,null,null,null,"ผ่าน",0,null,"ปรับปรุง",null,23]
[{"$f":"ข้อมูลนักเรียน!A78","v":0},{"$f":"IF(ข้อมูลนักเรียน!B78=0,\"\",ข้อมูลนักเรียน!B78)","v":""},{"$f":"IF(ข้อมูลนักเรียน!C78=0,\"\",ข้อมูลนักเรียน!C78)","v":""},{"$f":"IF(ข้อมูลนักเรียน!C78=0,\"\",ข้อมูลนักเรียน!D78 & ข้อมูลนักเรียน!E78 & \"   \"& ข้อมูลนักเรียน!F78)","v":""},{"$f":"IF(ข้อมูลนักเรียน!C78=0,\"\",ข้อมูลนักเรียน!G78)","v":""},{"$f":"ข้อมูลนักเรียน!B78","v":0},null,null,null,null,null,null,null,null,null,null,null,null,null,null,null,null,null,null,null,null,null,null,null,null,null,null,"ผ่าน",0,null,"ปรับปรุง",null,23]
[{"$f":"ข้อมูลนักเรียน!A79","v":0},{"$f":"IF(ข้อมูลนักเรียน!B79=0,\"\",ข้อมูลนักเรียน!B79)","v":""},{"$f":"IF(ข้อมูลนักเรียน!C79=0,\"\",ข้อมูลนักเรียน!C79)","v":""},{"$f":"IF(ข้อมูลนักเรียน!C79=0,\"\",ข้อมูลนักเรียน!D79 & ข้อมูลนักเรียน!E79 & \"   \"& ข้อมูลนักเรียน!F79)","v":""},{"$f":"IF(ข้อมูลนักเรียน!C79=0,\"\",ข้อมูลนักเรียน!G79)","v":""},{"$f":"ข้อมูลนักเรียน!B79","v":0},null,null,null,null,null,null,null,null,null,null,null,null,null,null,null,null,null,null,null,null,null,null,null,null,null,null,"ผ่าน",0,null,"ปรับปรุง",null,23]
[{"$f":"ข้อมูลนักเรียน!A80","v":0},{"$f":"IF(ข้อมูลนักเรียน!B80=0,\"\",ข้อมูลนักเรียน!B80)","v":""},{"$f":"IF(ข้อมูลนักเรียน!C80=0,\"\",ข้อมูลนักเรียน!C80)","v":""},{"$f":"IF(ข้อมูลนักเรียน!C80=0,\"\",ข้อมูลนักเรียน!D80 & ข้อมูลนักเรียน!E80 & \"   \"& ข้อมูลนักเรียน!F80)","v":""},{"$f":"IF(ข้อมูลนักเรียน!C80=0,\"\",ข้อมูลนักเรียน!G80)","v":""},{"$f":"ข้อมูลนักเรียน!B80","v":0},null,null,null,null,null,null,null,null,null,null,null,null,null,null,null,null,null,null,null,null,null,null,null,null,null,null,"ผ่าน",0,null,"ปรับปรุง",null,23]
[{"$f":"ข้อมูลนักเรียน!A81","v":0},{"$f":"IF(ข้อมูลนักเรียน!B81=0,\"\",ข้อมูลนักเรียน!B81)","v":""},{"$f":"IF(ข้อมูลนักเรียน!C81=0,\"\",ข้อมูลนักเรียน!C81)","v":""},{"$f":"IF(ข้อมูลนักเรียน!C81=0,\"\",ข้อมูลนักเรียน!D81 & ข้อมูลนักเรียน!E81 & \"   \"& ข้อมูลนักเรียน!F81)","v":""},{"$f":"IF(ข้อมูลนักเรียน!C81=0,\"\",ข้อมูลนักเรียน!G81)","v":""},{"$f":"ข้อมูลนักเรียน!B81","v":0},null,null,null,null,null,null,null,null,null,null,null,null,null,null,null,null,null,null,null,null,null,null,null,null,null,null,"ผ่าน",0,null,"ปรับปรุง",null,23]
[{"$f":"ข้อมูลนักเรียน!A82","v":0},{"$f":"IF(ข้อมูลนักเรียน!B82=0,\"\",ข้อมูลนักเรียน!B82)","v":""},{"$f":"IF(ข้อมูลนักเรียน!C82=0,\"\",ข้อมูลนักเรียน!C82)","v":""},{"$f":"IF(ข้อมูลนักเรียน!C82=0,\"\",ข้อมูลนักเรียน!D82 & ข้อมูลนักเรียน!E82 & \"   \"& ข้อมูลนักเรียน!F82)","v":""},{"$f":"IF(ข้อมูลนักเรียน!C82=0,\"\",ข้อมูลนักเรียน!G82)","v":""},{"$f":"ข้อมูลนักเรียน!B82","v":0},null,null,null,null,null,null,null,null,null,null,null,null,null,null,null,null,null,null,null,null,null,null,null,null,null,null,"ผ่าน",0,null,"ปรับปรุง",null,23]
[{"$f":"ข้อมูลนักเรียน!A83","v":0},{"$f":"IF(ข้อมูลนักเรียน!B83=0,\"\",ข้อมูลนักเรียน!B83)","v":""},{"$f":"IF(ข้อมูลนักเรียน!C83=0,\"\",ข้อมูลนักเรียน!C83)","v":""},{"$f":"IF(ข้อมูลนักเรียน!C83=0,\"\",ข้อมูลนักเรียน!D83 & ข้อมูลนักเรียน!E83 & \"   \"& ข้อมูลนักเรียน!F83)","v":""},{"$f":"IF(ข้อมูลนักเรียน!C83=0,\"\",ข้อมูลนักเรียน!G83)","v":""},{"$f":"ข้อมูลนักเรียน!B83","v":0},null,null,null,null,null,null,null,null,null,null,null,null,null,null,null,null,null,null,null,null,null,null,null,null,null,null,"ผ่าน",0,null,"ปรับปรุง",null,23]
[{"$f":"ข้อมูลนักเรียน!A84","v":0},{"$f":"IF(ข้อมูลนักเรียน!B84=0,\"\",ข้อมูลนักเรียน!B84)","v":""},{"$f":"IF(ข้อมูลนักเรียน!C84=0,\"\",ข้อมูลนักเรียน!C84)","v":""},{"$f":"IF(ข้อมูลนักเรียน!C84=0,\"\",ข้อมูลนักเรียน!D84 & ข้อมูลนักเรียน!E84 & \"   \"& ข้อมูลนักเรียน!F84)","v":""},{"$f":"IF(ข้อมูลนักเรียน!C84=0,\"\",ข้อมูลนักเรียน!G84)","v":""},{"$f":"ข้อมูลนักเรียน!B84","v":0},null,null,null,null,null,null,null,null,null,null,null,null,null,null,null,null,null,null,null,null,null,null,null,null,null,null,"ผ่าน",0,null,"ปรับปรุง",null,23]
[{"$f":"ข้อมูลนักเรียน!A85","v":0},{"$f":"IF(ข้อมูลนักเรียน!B85=0,\"\",ข้อมูลนักเรียน!B85)","v":""},{"$f":"IF(ข้อมูลนักเรียน!C85=0,\"\",ข้อมูลนักเรียน!C85)","v":""},{"$f":"IF(ข้อมูลนักเรียน!C85=0,\"\",ข้อมูลนักเรียน!D85 & ข้อมูลนักเรียน!E85 & \"   \"& ข้อมูลนักเรียน!F85)","v":""},{"$f":"IF(ข้อมูลนักเรียน!C85=0,\"\",ข้อมูลนักเรียน!G85)","v":""},{"$f":"ข้อมูลนักเรียน!B85","v":0},null,null,null,null,null,null,null,null,null,null,null,null,null,null,null,null,null,null,null,null,null,null,null,null,null,null,"ผ่าน",0,null,"ปรับปรุง",null,23]
[{"$f":"ข้อมูลนักเรียน!A86","v":0},{"$f":"IF(ข้อมูลนักเรียน!B86=0,\"\",ข้อมูลนักเรียน!B86)","v":""},{"$f":"IF(ข้อมูลนักเรียน!C86=0,\"\",ข้อมูลนักเรียน!C86)","v":""},{"$f":"IF(ข้อมูลนักเรียน!C86=0,\"\",ข้อมูลนักเรียน!D86 & ข้อมูลนักเรียน!E86 & \"   \"& ข้อมูลนักเรียน!F86)","v":""},{"$f":"IF(ข้อมูลนักเรียน!C86=0,\"\",ข้อมูลนักเรียน!G86)","v":""},{"$f":"ข้อมูลนักเรียน!B86","v":0},null,null,null,null,null,null,null,null,null,null,null,null,null,null,null,null,null,null,null,null,null,null,null,null,null,null,"ผ่าน",0,null,"ปรับปรุง",null,23]
[{"$f":"ข้อมูลนักเรียน!A87","v":0},{"$f":"IF(ข้อมูลนักเรียน!B87=0,\"\",ข้อมูลนักเรียน!B87)","v":""},{"$f":"IF(ข้อมูลนักเรียน!C87=0,\"\",ข้อมูลนักเรียน!C87)","v":""},{"$f":"IF(ข้อมูลนักเรียน!C87=0,\"\",ข้อมูลนักเรียน!D87 & ข้อมูลนักเรียน!E87 & \"   \"& ข้อมูลนักเรียน!F87)","v":""},{"$f":"IF(ข้อมูลนักเรียน!C87=0,\"\",ข้อมูลนักเรียน!G87)","v":""},{"$f":"ข้อมูลนักเรียน!B87","v":0},null,null,null,null,null,null,null,null,null,null,null,null,null,null,null,null,null,null,null,null,null,null,null,null,null,null,"ผ่าน",0,null,"ปรับปรุง",null,23]
[{"$f":"ข้อมูลนักเรียน!A88","v":0},{"$f":"IF(ข้อมูลนักเรียน!B88=0,\"\",ข้อมูลนักเรียน!B88)","v":""},{"$f":"IF(ข้อมูลนักเรียน!C88=0,\"\",ข้อมูลนักเรียน!C88)","v":""},{"$f":"IF(ข้อมูลนักเรียน!C88=0,\"\",ข้อมูลนักเรียน!D88 & ข้อมูลนักเรียน!E88 & \"   \"& ข้อมูลนักเรียน!F88)","v":""},{"$f":"IF(ข้อมูลนักเรียน!C88=0,\"\",ข้อมูลนักเรียน!G88)","v":""},{"$f":"ข้อมูลนักเรียน!B88","v":0},null,null,null,null,null,null,null,null,null,null,null,null,null,null,null,null,null,null,null,null,null,null,null,null,null,null,"ผ่าน",0,null,"ปรับปรุง",null,23]
[{"$f":"ข้อมูลนักเรียน!A89","v":0},{"$f":"IF(ข้อมูลนักเรียน!B89=0,\"\",ข้อมูลนักเรียน!B89)","v":""},{"$f":"IF(ข้อมูลนักเรียน!C89=0,\"\",ข้อมูลนักเรียน!C89)","v":""},{"$f":"IF(ข้อมูลนักเรียน!C89=0,\"\",ข้อมูลนักเรียน!D89 & ข้อมูลนักเรียน!E89 & \"   \"& ข้อมูลนักเรียน!F89)","v":""},{"$f":"IF(ข้อมูลนักเรียน!C89=0,\"\",ข้อมูลนักเรียน!G89)","v":""},{"$f":"ข้อมูลนักเรียน!B89","v":0},null,null,null,null,null,null,null,null,null,null,null,null,null,null,null,null,null,null,null,null,null,null,null,null,null,null,"ผ่าน",0,null,"ปรับปรุง",null,23]
[{"$f":"ข้อมูลนักเรียน!A90","v":0},{"$f":"IF(ข้อมูลนักเรียน!B90=0,\"\",ข้อมูลนักเรียน!B90)","v":""},{"$f":"IF(ข้อมูลนักเรียน!C90=0,\"\",ข้อมูลนักเรียน!C90)","v":""},{"$f":"IF(ข้อมูลนักเรียน!C90=0,\"\",ข้อมูลนักเรียน!D90 & ข้อมูลนักเรียน!E90 & \"   \"& ข้อมูลนักเรียน!F90)","v":""},{"$f":"IF(ข้อมูลนักเรียน!C90=0,\"\",ข้อมูลนักเรียน!G90)","v":""},{"$f":"ข้อมูลนักเรียน!B90","v":0},null,null,null,null,null,null,null,null,null,null,null,null,null,null,null,null,null,null,null,null,null,null,null,null,null,null,"ผ่าน",0,null,"ปรับปรุง",null,23]
[{"$f":"ข้อมูลนักเรียน!A91","v":0},{"$f":"IF(ข้อมูลนักเรียน!B91=0,\"\",ข้อมูลนักเรียน!B91)","v":""},{"$f":"IF(ข้อมูลนักเรียน!C91=0,\"\",ข้อมูลนักเรียน!C91)","v":""},{"$f":"IF(ข้อมูลนักเรียน!C91=0,\"\",ข้อมูลนักเรียน!D91 & ข้อมูลนักเรียน!E91 & \"   \"& ข้อมูลนักเรียน!F91)","v":""},{"$f":"IF(ข้อมูลนักเรียน!C91=0,\"\",ข้อมูลนักเรียน!G91)","v":""},{"$f":"ข้อมูลนักเรียน!B91","v":0},null,null,null,null,null,null,null,null,null,null,null,null,null,null,null,null,null,null,null,null,null,null,null,null,null,null,"ผ่าน",0,null,"ปรับปรุง",null,23]
[{"$f":"ข้อมูลนักเรียน!A92","v":0},{"$f":"IF(ข้อมูลนักเรียน!B92=0,\"\",ข้อมูลนักเรียน!B92)","v":""},{"$f":"IF(ข้อมูลนักเรียน!C92=0,\"\",ข้อมูลนักเรียน!C92)","v":""},{"$f":"IF(ข้อมูลนักเรียน!C92=0,\"\",ข้อมูลนักเรียน!D92 & ข้อมูลนักเรียน!E92 & \"   \"& ข้อมูลนักเรียน!F92)","v":""},{"$f":"IF(ข้อมูลนักเรียน!C92=0,\"\",ข้อมูลนักเรียน!G92)","v":""},{"$f":"ข้อมูลนักเรียน!B92","v":0},null,null,null,null,null,null,null,null,null,null,null,null,null,null,null,null,null,null,null,null,null,null,null,null,null,null,"ผ่าน",0,null,"ปรับปรุง",null,23]
[{"$f":"ข้อมูลนักเรียน!A93","v":0},{"$f":"IF(ข้อมูลนักเรียน!B93=0,\"\",ข้อมูลนักเรียน!B93)","v":""},{"$f":"IF(ข้อมูลนักเรียน!C93=0,\"\",ข้อมูลนักเรียน!C93)","v":""},{"$f":"IF(ข้อมูลนักเรียน!C93=0,\"\",ข้อมูลนักเรียน!D93 & ข้อมูลนักเรียน!E93 & \"   \"& ข้อมูลนักเรียน!F93)","v":""},{"$f":"IF(ข้อมูลนักเรียน!C93=0,\"\",ข้อมูลนักเรียน!G93)","v":""},{"$f":"ข้อมูลนักเรียน!B93","v":0},null,null,null,null,null,null,null,null,null,null,null,null,null,null,null,null,null,null,null,null,null,null,null,null,null,null,"ผ่าน",0,null,"ปรับปรุง",null,23]
[{"$f":"ข้อมูลนักเรียน!A94","v":0},{"$f":"IF(ข้อมูลนักเรียน!B94=0,\"\",ข้อมูลนักเรียน!B94)","v":""},{"$f":"IF(ข้อมูลนักเรียน!C94=0,\"\",ข้อมูลนักเรียน!C94)","v":""},{"$f":"IF(ข้อมูลนักเรียน!C94=0,\"\",ข้อมูลนักเรียน!D94 & ข้อมูลนักเรียน!E94 & \"   \"& ข้อมูลนักเรียน!F94)","v":""},{"$f":"IF(ข้อมูลนักเรียน!C94=0,\"\",ข้อมูลนักเรียน!G94)","v":""},{"$f":"ข้อมูลนักเรียน!B94","v":0},null,null,null,null,null,null,null,null,null,null,null,null,null,null,null,null,null,null,null,null,null,null,null,null,null,null,"ผ่าน",0,null,"ปรับปรุง",null,23]
[{"$f":"ข้อมูลนักเรียน!A95","v":0},{"$f":"IF(ข้อมูลนักเรียน!B95=0,\"\",ข้อมูลนักเรียน!B95)","v":""},{"$f":"IF(ข้อมูลนักเรียน!C95=0,\"\",ข้อมูลนักเรียน!C95)","v":""},{"$f":"IF(ข้อมูลนักเรียน!C95=0,\"\",ข้อมูลนักเรียน!D95 & ข้อมูลนักเรียน!E95 & \"   \"& ข้อมูลนักเรียน!F95)","v":""},{"$f":"IF(ข้อมูลนักเรียน!C95=0,\"\",ข้อมูลนักเรียน!G95)","v":""},{"$f":"ข้อมูลนักเรียน!B95","v":0},null,null,null,null,null,null,null,null,null,null,null,null,null,null,null,null,null,null,null,null,null,null,null,null,null,null,"ผ่าน",0,null,"ปรับปรุง",null,23]
[{"$f":"ข้อมูลนักเรียน!A96","v":0},{"$f":"IF(ข้อมูลนักเรียน!B96=0,\"\",ข้อมูลนักเรียน!B96)","v":""},{"$f":"IF(ข้อมูลนักเรียน!C96=0,\"\",ข้อมูลนักเรียน!C96)","v":""},{"$f":"IF(ข้อมูลนักเรียน!C96=0,\"\",ข้อมูลนักเรียน!D96 & ข้อมูลนักเรียน!E96 & \"   \"& ข้อมูลนักเรียน!F96)","v":""},{"$f":"IF(ข้อมูลนักเรียน!C96=0,\"\",ข้อมูลนักเรียน!G96)","v":""},{"$f":"ข้อมูลนักเรียน!B96","v":0},null,null,null,null,null,null,null,null,null,null,null,null,null,null,null,null,null,null,null,null,null,null,null,null,null,null,"ผ่าน",0,null,"ปรับปรุง",null,23]
[{"$f":"ข้อมูลนักเรียน!A97","v":0},{"$f":"IF(ข้อมูลนักเรียน!B97=0,\"\",ข้อมูลนักเรียน!B97)","v":""},{"$f":"IF(ข้อมูลนักเรียน!C97=0,\"\",ข้อมูลนักเรียน!C97)","v":""},{"$f":"IF(ข้อมูลนักเรียน!C97=0,\"\",ข้อมูลนักเรียน!D97 & ข้อมูลนักเรียน!E97 & \"   \"& ข้อมูลนักเรียน!F97)","v":""},{"$f":"IF(ข้อมูลนักเรียน!C97=0,\"\",ข้อมูลนักเรียน!G97)","v":""},{"$f":"ข้อมูลนักเรียน!B97","v":0},null,null,null,null,null,null,null,null,null,null,null,null,null,null,null,null,null,null,null,null,null,null,null,null,null,null,"ผ่าน",0,null,"ปรับปรุง",null,23]
[{"$f":"ข้อมูลนักเรียน!A98","v":0},{"$f":"IF(ข้อมูลนักเรียน!B98=0,\"\",ข้อมูลนักเรียน!B98)","v":""},{"$f":"IF(ข้อมูลนักเรียน!C98=0,\"\",ข้อมูลนักเรียน!C98)","v":""},{"$f":"IF(ข้อมูลนักเรียน!C98=0,\"\",ข้อมูลนักเรียน!D98 & ข้อมูลนักเรียน!E98 & \"   \"& ข้อมูลนักเรียน!F98)","v":""},{"$f":"IF(ข้อมูลนักเรียน!C98=0,\"\",ข้อมูลนักเรียน!G98)","v":""},{"$f":"ข้อมูลนักเรียน!B98","v":0},null,null,null,null,null,null,null,null,null,null,null,null,null,null,null,null,null,null,null,null,null,null,null,null,null,null,"ผ่าน",0,null,"ปรับปรุง",null,23]
[{"$f":"ข้อมูลนักเรียน!A99","v":0},{"$f":"IF(ข้อมูลนักเรียน!B99=0,\"\",ข้อมูลนักเรียน!B99)","v":""},{"$f":"IF(ข้อมูลนักเรียน!C99=0,\"\",ข้อมูลนักเรียน!C99)","v":""},{"$f":"IF(ข้อมูลนักเรียน!C99=0,\"\",ข้อมูลนักเรียน!D99 & ข้อมูลนักเรียน!E99 & \"   \"& ข้อมูลนักเรียน!F99)","v":""},{"$f":"IF(ข้อมูลนักเรียน!C99=0,\"\",ข้อมูลนักเรียน!G99)","v":""},{"$f":"ข้อมูลนักเรียน!B99","v":0},null,null,null,null,null,null,null,null,null,null,null,null,null,null,null,null,null,null,null,null,null,null,null,null,null,null,"ผ่าน",0,null,"ปรับปรุง",null,23]
[{"$f":"ข้อมูลนักเรียน!A100","v":0},{"$f":"IF(ข้อมูลนักเรียน!B100=0,\"\",ข้อมูลนักเรียน!B100)","v":""},{"$f":"IF(ข้อมูลนักเรียน!C100=0,\"\",ข้อมูลนักเรียน!C100)","v":""},{"$f":"IF(ข้อมูลนักเรียน!C100=0,\"\",ข้อมูลนักเรียน!D100 & ข้อมูลนักเรียน!E100 & \"   \"& ข้อมูลนักเรียน!F100)","v":""},{"$f":"IF(ข้อมูลนักเรียน!C100=0,\"\",ข้อมูลนักเรียน!G100)","v":""},{"$f":"ข้อมูลนักเรียน!B100","v":0},null,null,null,null,null,null,null,null,null,null,null,null,null,null,null,null,null,null,null,null,null,null,null,null,null,null,"ผ่าน",0,null,"ปรับปรุง",null,23]
[{"$f":"ข้อมูลนักเรียน!A101","v":0},{"$f":"IF(ข้อมูลนักเรียน!B101=0,\"\",ข้อมูลนักเรียน!B101)","v":""},{"$f":"IF(ข้อมูลนักเรียน!C101=0,\"\",ข้อมูลนักเรียน!C101)","v":""},{"$f":"IF(ข้อมูลนักเรียน!C101=0,\"\",ข้อมูลนักเรียน!D101 & ข้อมูลนักเรียน!E101 & \"   \"& ข้อมูลนักเรียน!F101)","v":""},{"$f":"IF(ข้อมูลนักเรียน!C101=0,\"\",ข้อมูลนักเรียน!G101)","v":""},{"$f":"ข้อมูลนักเรียน!B101","v":0},null,null,null,null,null,null,null,null,null,null,null,null,null,null,null,null,null,null,null,null,null,null,null,null,null,null,"ผ่าน",0,null,"ปรับปรุง",null,23]
[{"$f":"ข้อมูลนักเรียน!A102","v":0},{"$f":"IF(ข้อมูลนักเรียน!B102=0,\"\",ข้อมูลนักเรียน!B102)","v":""},{"$f":"IF(ข้อมูลนักเรียน!C102=0,\"\",ข้อมูลนักเรียน!C102)","v":""},{"$f":"IF(ข้อมูลนักเรียน!C102=0,\"\",ข้อมูลนักเรียน!D102 & ข้อมูลนักเรียน!E102 & \"   \"& ข้อมูลนักเรียน!F102)","v":""},{"$f":"IF(ข้อมูลนักเรียน!C102=0,\"\",ข้อมูลนักเรียน!G102)","v":""},{"$f":"ข้อมูลนักเรียน!B102","v":0},null,null,null,null,null,null,null,null,null,null,null,null,null,null,null,null,null,null,null,null,null,null,null,null,null,null,"ผ่าน",0,null,"ปรับปรุง",null,23]
[{"$f":"ข้อมูลนักเรียน!A103","v":0},{"$f":"IF(ข้อมูลนักเรียน!B103=0,\"\",ข้อมูลนักเรียน!B103)","v":""},{"$f":"IF(ข้อมูลนักเรียน!C103=0,\"\",ข้อมูลนักเรียน!C103)","v":""},{"$f":"IF(ข้อมูลนักเรียน!C103=0,\"\",ข้อมูลนักเรียน!D103 & ข้อมูลนักเรียน!E103 & \"   \"& ข้อมูลนักเรียน!F103)","v":""},{"$f":"IF(ข้อมูลนักเรียน!C103=0,\"\",ข้อมูลนักเรียน!G103)","v":""},{"$f":"ข้อมูลนักเรียน!B103","v":0},null,null,null,null,null,null,null,null,null,null,null,null,null,null,null,null,null,null,null,null,null,null,null,null,null,null,"ผ่าน",0,null,"ปรับปรุง",null,23]
[{"$f":"ข้อมูลนักเรียน!A104","v":0},{"$f":"IF(ข้อมูลนักเรียน!B104=0,\"\",ข้อมูลนักเรียน!B104)","v":""},{"$f":"IF(ข้อมูลนักเรียน!C104=0,\"\",ข้อมูลนักเรียน!C104)","v":""},{"$f":"IF(ข้อมูลนักเรียน!C104=0,\"\",ข้อมูลนักเรียน!D104 & ข้อมูลนักเรียน!E104 & \"   \"& ข้อมูลนักเรียน!F104)","v":""},{"$f":"IF(ข้อมูลนักเรียน!C104=0,\"\",ข้อมูลนักเรียน!G104)","v":""},{"$f":"ข้อมูลนักเรียน!B104","v":0},null,null,null,null,null,null,null,null,null,null,null,null,null,null,null,null,null,null,null,null,null,null,null,null,null,null,"ผ่าน",0,null,"ปรับปรุง",null,23]
[{"$f":"ข้อมูลนักเรียน!A105","v":0},{"$f":"IF(ข้อมูลนักเรียน!B105=0,\"\",ข้อมูลนักเรียน!B105)","v":""},{"$f":"IF(ข้อมูลนักเรียน!C105=0,\"\",ข้อมูลนักเรียน!C105)","v":""},{"$f":"IF(ข้อมูลนักเรียน!C105=0,\"\",ข้อมูลนักเรียน!D105 & ข้อมูลนักเรียน!E105 & \"   \"& ข้อมูลนักเรียน!F105)","v":""},{"$f":"IF(ข้อมูลนักเรียน!C105=0,\"\",ข้อมูลนักเรียน!G105)","v":""},{"$f":"ข้อมูลนักเรียน!B105","v":0},null,null,null,null,null,null,null,null,null,null,null,null,null,null,null,null,null,null,null,null,null,null,null,null,null,null,"ผ่าน",{"$f":"ROUNDDOWN(0,2)","v":0},null,"ปรับปรุง",null,23]
[{"$f":"ข้อมูลนักเรียน!A106","v":0},{"$f":"IF(ข้อมูลนักเรียน!B106=0,\"\",ข้อมูลนักเรียน!B106)","v":""},{"$f":"IF(ข้อมูลนักเรียน!C106=0,\"\",ข้อมูลนักเรียน!C106)","v":""},{"$f":"IF(ข้อมูลนักเรียน!C106=0,\"\",ข้อมูลนักเรียน!D106 & ข้อมูลนักเรียน!E106 & \"   \"& ข้อมูลนักเรียน!F106)","v":""},{"$f":"IF(ข้อมูลนักเรียน!C106=0,\"\",ข้อมูลนักเรียน!G106)","v":""},{"$f":"ข้อมูลนักเรียน!B106","v":0},null,null,null,null,null,null,null,null,null,null,null,null,null,null,null,null,null,null,null,null,null,null,null,null,null,null,"ผ่าน",0,null,"ปรับปรุง",null,23]
[{"$f":"ข้อมูลนักเรียน!A107","v":0},{"$f":"IF(ข้อมูลนักเรียน!B107=0,\"\",ข้อมูลนักเรียน!B107)","v":""},{"$f":"IF(ข้อมูลนักเรียน!C107=0,\"\",ข้อมูลนักเรียน!C107)","v":""},{"$f":"IF(ข้อมูลนักเรียน!C107=0,\"\",ข้อมูลนักเรียน!D107 & ข้อมูลนักเรียน!E107 & \"   \"& ข้อมูลนักเรียน!F107)","v":""},{"$f":"IF(ข้อมูลนักเรียน!C107=0,\"\",ข้อมูลนักเรียน!G107)","v":""},{"$f":"ข้อมูลนักเรียน!B107","v":0},null,null,null,null,null,null,null,null,null,null,null,null,null,null,null,null,null,null,null,null,null,null,null,null,null,null,"ผ่าน",0,null,"ปรับปรุง",null,23]
[{"$f":"ข้อมูลนักเรียน!A108","v":0},{"$f":"IF(ข้อมูลนักเรียน!B108=0,\"\",ข้อมูลนักเรียน!B108)","v":""},{"$f":"IF(ข้อมูลนักเรียน!C108=0,\"\",ข้อมูลนักเรียน!C108)","v":""},{"$f":"IF(ข้อมูลนักเรียน!C108=0,\"\",ข้อมูลนักเรียน!D108 & ข้อมูลนักเรียน!E108 & \"   \"& ข้อมูลนักเรียน!F108)","v":""},{"$f":"IF(ข้อมูลนักเรียน!C108=0,\"\",ข้อมูลนักเรียน!G108)","v":""},{"$f":"ข้อมูลนักเรียน!B108","v":0},null,null,null,null,null,null,null,null,null,null,null,null,null,null,null,null,null,null,null,null,null,null,null,null,null,null,"ผ่าน",0,null,"ปรับปรุง",null,23]
[{"$f":"ข้อมูลนักเรียน!A109","v":0},{"$f":"IF(ข้อมูลนักเรียน!B109=0,\"\",ข้อมูลนักเรียน!B109)","v":""},{"$f":"IF(ข้อมูลนักเรียน!C109=0,\"\",ข้อมูลนักเรียน!C109)","v":""},{"$f":"IF(ข้อมูลนักเรียน!C109=0,\"\",ข้อมูลนักเรียน!D109 & ข้อมูลนักเรียน!E109 & \"   \"& ข้อมูลนักเรียน!F109)","v":""},{"$f":"IF(ข้อมูลนักเรียน!C109=0,\"\",ข้อมูลนักเรียน!G109)","v":""},{"$f":"ข้อมูลนักเรียน!B109","v":0},null,null,null,null,null,null,null,null,null,null,null,null,null,null,null,null,null,null,null,null,null,null,null,null,null,null,"ผ่าน",0,null,"ปรับปรุง",null,23]
[{"$f":"ข้อมูลนักเรียน!A110","v":0},{"$f":"IF(ข้อมูลนักเรียน!B110=0,\"\",ข้อมูลนักเรียน!B110)","v":""},{"$f":"IF(ข้อมูลนักเรียน!C110=0,\"\",ข้อมูลนักเรียน!C110)","v":""},{"$f":"IF(ข้อมูลนักเรียน!C110=0,\"\",ข้อมูลนักเรียน!D110 & ข้อมูลนักเรียน!E110 & \"   \"& ข้อมูลนักเรียน!F110)","v":""},{"$f":"IF(ข้อมูลนักเรียน!C110=0,\"\",ข้อมูลนักเรียน!G110)","v":""},{"$f":"ข้อมูลนักเรียน!B110","v":0},null,null,null,null,null,null,null,null,null,null,null,null,null,null,null,null,null,null,null,null,null,null,null,null,null,null,"ผ่าน",0,null,"ปรับปรุง",null,23]
[{"$f":"ข้อมูลนักเรียน!A111","v":0},{"$f":"IF(ข้อมูลนักเรียน!B111=0,\"\",ข้อมูลนักเรียน!B111)","v":""},{"$f":"IF(ข้อมูลนักเรียน!C111=0,\"\",ข้อมูลนักเรียน!C111)","v":""},{"$f":"IF(ข้อมูลนักเรียน!C111=0,\"\",ข้อมูลนักเรียน!D111 & ข้อมูลนักเรียน!E111 & \"   \"& ข้อมูลนักเรียน!F111)","v":""},{"$f":"IF(ข้อมูลนักเรียน!C111=0,\"\",ข้อมูลนักเรียน!G111)","v":""},{"$f":"ข้อมูลนักเรียน!B111","v":0},null,null,null,null,null,null,null,null,null,null,null,null,null,null,null,null,null,null,null,null,null,null,null,null,null,null,"ผ่าน",0,null,"ปรับปรุง",null,23]
[{"$f":"ข้อมูลนักเรียน!A112","v":0},{"$f":"IF(ข้อมูลนักเรียน!B112=0,\"\",ข้อมูลนักเรียน!B112)","v":""},{"$f":"IF(ข้อมูลนักเรียน!C112=0,\"\",ข้อมูลนักเรียน!C112)","v":""},{"$f":"IF(ข้อมูลนักเรียน!C112=0,\"\",ข้อมูลนักเรียน!D112 & ข้อมูลนักเรียน!E112 & \"   \"& ข้อมูลนักเรียน!F112)","v":""},{"$f":"IF(ข้อมูลนักเรียน!C112=0,\"\",ข้อมูลนักเรียน!G112)","v":""},{"$f":"ข้อมูลนักเรียน!B112","v":0},null,null,null,null,null,null,null,null,null,null,null,null,null,null,null,null,null,null,null,null,null,null,null,null,null,null,"ผ่าน",0,null,"ปรับปรุง",null,23]
[{"$f":"ข้อมูลนักเรียน!A113","v":0},{"$f":"IF(ข้อมูลนักเรียน!B113=0,\"\",ข้อมูลนักเรียน!B113)","v":""},{"$f":"IF(ข้อมูลนักเรียน!C113=0,\"\",ข้อมูลนักเรียน!C113)","v":""},{"$f":"IF(ข้อมูลนักเรียน!C113=0,\"\",ข้อมูลนักเรียน!D113 & ข้อมูลนักเรียน!E113 & \"   \"& ข้อมูลนักเรียน!F113)","v":""},{"$f":"IF(ข้อมูลนักเรียน!C113=0,\"\",ข้อมูลนักเรียน!G113)","v":""},{"$f":"ข้อมูลนักเรียน!B113","v":0},null,null,null,null,null,null,null,null,null,null,null,null,null,null,null,null,null,null,null,null,null,null,null,null,null,null,"ผ่าน",0,null,"ปรับปรุง",null,23]
[{"$f":"ข้อมูลนักเรียน!A114","v":0},{"$f":"IF(ข้อมูลนักเรียน!B114=0,\"\",ข้อมูลนักเรียน!B114)","v":""},{"$f":"IF(ข้อมูลนักเรียน!C114=0,\"\",ข้อมูลนักเรียน!C114)","v":""},{"$f":"IF(ข้อมูลนักเรียน!C114=0,\"\",ข้อมูลนักเรียน!D114 & ข้อมูลนักเรียน!E114 & \"   \"& ข้อมูลนักเรียน!F114)","v":""},{"$f":"IF(ข้อมูลนักเรียน!C114=0,\"\",ข้อมูลนักเรียน!G114)","v":""},{"$f":"ข้อมูลนักเรียน!B114","v":0},null,null,null,null,null,null,null,null,null,null,null,null,null,null,null,null,null,null,null,null,null,null,null,null,null,null,"ผ่าน",0,null,"ปรับปรุง",null,23]
[{"$f":"ข้อมูลนักเรียน!A115","v":0},{"$f":"IF(ข้อมูลนักเรียน!B115=0,\"\",ข้อมูลนักเรียน!B115)","v":""},{"$f":"IF(ข้อมูลนักเรียน!C115=0,\"\",ข้อมูลนักเรียน!C115)","v":""},{"$f":"IF(ข้อมูลนักเรียน!C115=0,\"\",ข้อมูลนักเรียน!D115 & ข้อมูลนักเรียน!E115 & \"   \"& ข้อมูลนักเรียน!F115)","v":""},{"$f":"IF(ข้อมูลนักเรียน!C115=0,\"\",ข้อมูลนักเรียน!G115)","v":""},{"$f":"ข้อมูลนักเรียน!B115","v":0},null,null,null,null,null,null,null,null,null,null,null,null,null,null,null,null,null,null,null,null,null,null,null,null,null,null,"ผ่าน",0,null,"ปรับปรุง",null,23]
[{"$f":"ข้อมูลนักเรียน!A116","v":0},{"$f":"IF(ข้อมูลนักเรียน!B116=0,\"\",ข้อมูลนักเรียน!B116)","v":""},{"$f":"IF(ข้อมูลนักเรียน!C116=0,\"\",ข้อมูลนักเรียน!C116)","v":""},{"$f":"IF(ข้อมูลนักเรียน!C116=0,\"\",ข้อมูลนักเรียน!D116 & ข้อมูลนักเรียน!E116 & \"   \"& ข้อมูลนักเรียน!F116)","v":""},{"$f":"IF(ข้อมูลนักเรียน!C116=0,\"\",ข้อมูลนักเรียน!G116)","v":""},{"$f":"ข้อมูลนักเรียน!B116","v":0},null,null,null,null,null,null,null,null,null,null,null,null,null,null,null,null,null,null,null,null,null,null,null,null,null,null,"ผ่าน",0,null,"ปรับปรุง",null,23]
[{"$f":"ข้อมูลนักเรียน!A117","v":0},{"$f":"IF(ข้อมูลนักเรียน!B117=0,\"\",ข้อมูลนักเรียน!B117)","v":""},{"$f":"IF(ข้อมูลนักเรียน!C117=0,\"\",ข้อมูลนักเรียน!C117)","v":""},{"$f":"IF(ข้อมูลนักเรียน!C117=0,\"\",ข้อมูลนักเรียน!D117 & ข้อมูลนักเรียน!E117 & \"   \"& ข้อมูลนักเรียน!F117)","v":""},{"$f":"IF(ข้อมูลนักเรียน!C117=0,\"\",ข้อมูลนักเรียน!G117)","v":""},{"$f":"ข้อมูลนักเรียน!B117","v":0},null,null,null,null,null,null,null,null,null,null,null,null,null,null,null,null,null,null,null,null,null,null,null,null,null,null,"ผ่าน",0,null,"ปรับปรุง",null,23]
[{"$f":"ข้อมูลนักเรียน!A118","v":0},{"$f":"IF(ข้อมูลนักเรียน!B118=0,\"\",ข้อมูลนักเรียน!B118)","v":""},{"$f":"IF(ข้อมูลนักเรียน!C118=0,\"\",ข้อมูลนักเรียน!C118)","v":""},{"$f":"IF(ข้อมูลนักเรียน!C118=0,\"\",ข้อมูลนักเรียน!D118 & ข้อมูลนักเรียน!E118 & \"   \"& ข้อมูลนักเรียน!F118)","v":""},{"$f":"IF(ข้อมูลนักเรียน!C118=0,\"\",ข้อมูลนักเรียน!G118)","v":""},{"$f":"ข้อมูลนักเรียน!B118","v":0},null,null,null,null,null,null,null,null,null,null,null,null,null,null,null,null,null,null,null,null,null,null,null,null,null,null,"ผ่าน",0,null,"ปรับปรุง",null,23]
[{"$f":"ข้อมูลนักเรียน!A119","v":0},{"$f":"IF(ข้อมูลนักเรียน!B119=0,\"\",ข้อมูลนักเรียน!B119)","v":""},{"$f":"IF(ข้อมูลนักเรียน!C119=0,\"\",ข้อมูลนักเรียน!C119)","v":""},{"$f":"IF(ข้อมูลนักเรียน!C119=0,\"\",ข้อมูลนักเรียน!D119 & ข้อมูลนักเรียน!E119 & \"   \"& ข้อมูลนักเรียน!F119)","v":""},{"$f":"IF(ข้อมูลนักเรียน!C119=0,\"\",ข้อมูลนักเรียน!G119)","v":""},{"$f":"ข้อมูลนักเรียน!B119","v":0},null,null,null,null,null,null,null,null,null,null,null,null,null,null,null,null,null,null,null,null,null,null,null,null,null,null,"ผ่าน",0,null,"ปรับปรุง",null,23]
[{"$f":"ข้อมูลนักเรียน!A120","v":0},{"$f":"IF(ข้อมูลนักเรียน!B120=0,\"\",ข้อมูลนักเรียน!B120)","v":""},{"$f":"IF(ข้อมูลนักเรียน!C120=0,\"\",ข้อมูลนักเรียน!C120)","v":""},{"$f":"IF(ข้อมูลนักเรียน!C120=0,\"\",ข้อมูลนักเรียน!D120 & ข้อมูลนักเรียน!E120 & \"   \"& ข้อมูลนักเรียน!F120)","v":""},{"$f":"IF(ข้อมูลนักเรียน!C120=0,\"\",ข้อมูลนักเรียน!G120)","v":""},{"$f":"ข้อมูลนักเรียน!B120","v":0},null,null,null,null,null,null,null,null,null,null,null,null,null,null,null,null,null,null,null,null,null,null,null,null,null,null,"ผ่าน",0,null,"ปรับปรุง",null,23]
[{"$f":"ข้อมูลนักเรียน!A121","v":0},{"$f":"IF(ข้อมูลนักเรียน!B121=0,\"\",ข้อมูลนักเรียน!B121)","v":""},{"$f":"IF(ข้อมูลนักเรียน!C121=0,\"\",ข้อมูลนักเรียน!C121)","v":""},{"$f":"IF(ข้อมูลนักเรียน!C121=0,\"\",ข้อมูลนักเรียน!D121 & ข้อมูลนักเรียน!E121 & \"   \"& ข้อมูลนักเรียน!F121)","v":""},{"$f":"IF(ข้อมูลนักเรียน!C121=0,\"\",ข้อมูลนักเรียน!G121)","v":""},{"$f":"ข้อมูลนักเรียน!B121","v":0},null,null,null,null,null,null,null,null,null,null,null,null,null,null,null,null,null,null,null,null,null,null,null,null,null,null,"ผ่าน",0,null,"ปรับปรุง",null,23]
[{"$f":"ข้อมูลนักเรียน!A122","v":0},{"$f":"IF(ข้อมูลนักเรียน!B122=0,\"\",ข้อมูลนักเรียน!B122)","v":""},{"$f":"IF(ข้อมูลนักเรียน!C122=0,\"\",ข้อมูลนักเรียน!C122)","v":""},{"$f":"IF(ข้อมูลนักเรียน!C122=0,\"\",ข้อมูลนักเรียน!D122 & ข้อมูลนักเรียน!E122 & \"   \"& ข้อมูลนักเรียน!F122)","v":""},{"$f":"IF(ข้อมูลนักเรียน!C122=0,\"\",ข้อมูลนักเรียน!G122)","v":""},{"$f":"ข้อมูลนักเรียน!B122","v":0},null,null,null,null,null,null,null,null,null,null,null,null,null,null,null,null,null,null,null,null,null,null,null,null,null,null,"ผ่าน",0,null,"ปรับปรุง",null,23]
[{"$f":"ข้อมูลนักเรียน!A123","v":0},{"$f":"IF(ข้อมูลนักเรียน!B123=0,\"\",ข้อมูลนักเรียน!B123)","v":""},{"$f":"IF(ข้อมูลนักเรียน!C123=0,\"\",ข้อมูลนักเรียน!C123)","v":""},{"$f":"IF(ข้อมูลนักเรียน!C123=0,\"\",ข้อมูลนักเรียน!D123 & ข้อมูลนักเรียน!E123 & \"   \"& ข้อมูลนักเรียน!F123)","v":""},{"$f":"IF(ข้อมูลนักเรียน!C123=0,\"\",ข้อมูลนักเรียน!G123)","v":""},{"$f":"ข้อมูลนักเรียน!B123","v":0},null,null,null,null,null,null,null,null,null,null,null,null,null,null,null,null,null,null,null,null,null,null,null,null,null,null,"ผ่าน",0,null,"ปรับปรุง",null,23]
[{"$f":"ข้อมูลนักเรียน!A124","v":0},{"$f":"IF(ข้อมูลนักเรียน!B124=0,\"\",ข้อมูลนักเรียน!B124)","v":""},{"$f":"IF(ข้อมูลนักเรียน!C124=0,\"\",ข้อมูลนักเรียน!C124)","v":""},{"$f":"IF(ข้อมูลนักเรียน!C124=0,\"\",ข้อมูลนักเรียน!D124 & ข้อมูลนักเรียน!E124 & \"   \"& ข้อมูลนักเรียน!F124)","v":""},{"$f":"IF(ข้อมูลนักเรียน!C124=0,\"\",ข้อมูลนักเรียน!G124)","v":""},{"$f":"ข้อมูลนักเรียน!B124","v":0},null,null,null,null,null,null,null,null,null,null,null,null,null,null,null,null,null,null,null,null,null,null,null,null,null,null,"ผ่าน",0,null,"ปรับปรุง",null,23]
[{"$f":"ข้อมูลนักเรียน!A125","v":0},{"$f":"IF(ข้อมูลนักเรียน!B125=0,\"\",ข้อมูลนักเรียน!B125)","v":""},{"$f":"IF(ข้อมูลนักเรียน!C125=0,\"\",ข้อมูลนักเรียน!C125)","v":""},{"$f":"IF(ข้อมูลนักเรียน!C125=0,\"\",ข้อมูลนักเรียน!D125 & ข้อมูลนักเรียน!E125 & \"   \"& ข้อมูลนักเรียน!F125)","v":""},{"$f":"IF(ข้อมูลนักเรียน!C125=0,\"\",ข้อมูลนักเรียน!G125)","v":""},{"$f":"ข้อมูลนักเรียน!B125","v":0},null,null,null,null,null,null,null,null,null,null,null,null,null,null,null,null,null,null,null,null,null,null,null,null,null,null,"ผ่าน",0,null,"ปรับปรุง",null,23]
[{"$f":"ข้อมูลนักเรียน!A126","v":0},{"$f":"IF(ข้อมูลนักเรียน!B126=0,\"\",ข้อมูลนักเรียน!B126)","v":""},{"$f":"IF(ข้อมูลนักเรียน!C126=0,\"\",ข้อมูลนักเรียน!C126)","v":""},{"$f":"IF(ข้อมูลนักเรียน!C126=0,\"\",ข้อมูลนักเรียน!D126 & ข้อมูลนักเรียน!E126 & \"   \"& ข้อมูลนักเรียน!F126)","v":""},{"$f":"IF(ข้อมูลนักเรียน!C126=0,\"\",ข้อมูลนักเรียน!G126)","v":""},{"$f":"ข้อมูลนักเรียน!B126","v":0},null,null,null,null,null,null,null,null,null,null,null,null,null,null,null,null,null,null,null,null,null,null,null,null,null,null,"ผ่าน",0,null,"ปรับปรุง",null,23]
[null,null,null,null,null,null,null,{"$f":"LEFT(H3)","v":"ท"},{"$f":"LEFT(I3)","v":"ค"},"ว","ส","ส","พ","ศ","ง","อ","ง","อ","ว","","","","","",""]
[null,null,null,"เกรด",null,null,0,{"$f":"COUNTIF(H$7:H$126,$G128)","v":0},{"$f":"COUNTIF(I$7:I$126,$G128)","v":0},0,0,0,0,0,0,0,0,0,0,0,{"$f":"COUNTIF(U$7:U$126,$G128)","v":0},0,0,0,0]
[null,null,null,null,null,null,1,1,1,1,0,1,1,1,0,1,0,0,0,0,0,0,0,0,0]
[null,null,null,null,null,null,1.5,0,0,0,0,0,0,0,0,0,2,0,0,0,0,0,0,2,2]
[null,null,null,null,null,null,2,1,1,1,2,1,1,1,2,0,0,0,0,0,0,0,0,0,0]
[null,null,null,null,null,null,2.5,0,0,0,0,0,0,0,0,0,0,0,0,0,0,0,0,0,0]
[null,null,null,null,null,null,3,0,0,0,0,0,0,0,0,0,0,0,0,0,0,0,0,0,0]
[null,null,null,null,null,null,3.5,0,0,0,0,0,0,0,0,1,0,0,0,0,0,0,0,0,0]
[null,null,null,null,null,null,4,0,0,0,0,0,0,0,0,0,0,0,0,0,0,0,0,0,0]
[null,null,null,null,null,null,"ร",0,0,0,0,0,0,0,0,0,0,0,0,0,0,0,0,0,0]
[null,null,null,null,null,null,"มส",0,0,0,0,0,0,0,0,0,0,0,0,0,0,0,0,0,0]
[null,null,null,null,null,null,"ผ",0,0,0,0,0,0,0,0,0,0,0,0,0,0,0,0,0,0]
[null,null,null,null,null,null,"มผ",0,0,0,0,0,0,0,0,0,0,0,0,0,0,0,0,0,0]

{"sheet":"เกรด3","index":8,"n_rows":139,"n_cols":41,"rows_kept":139,"cut":false,"hidden":false,"merged":[[1,36,4,36],[0,0,0,2],[0,15,0,27],[1,0,5,0],[1,1,5,1],[1,2,5,2],[1,3,5,3],[1,6,2,6],[1,34,5,34]]}
["ปีการศึกษา : ",null,null,{"$f":"ข้อมูลนักเรียน!F4+2","v":2552},null,null,null,null,null,null,null,null,null,null,null,"ประถมศึกษาปีที่ 3"]
["ห้อง","เลขที่","รหัสนักเรียน","ชื่อ - สกุล",null,null,"วิชา",{"$f":"IF(หลักสูตร!$R$4=0,\"ช่องว่าง\",หลักสูตร!$S$4)","v":"ภาษาไทย"},{"$f":"IF(หลักสูตร!$R$5=0,\"ช่องว่าง\",หลักสูตร!$S$5)","v":"คณิตศาสตร์"},{"$f":"IF(หลักสูตร!$R$6=0,\"ช่องว่าง\",หลักสูตร!$S$6)","v":"วิทยาศาสตร์"},{"$f":"IF(หลักสูตร!$R$7=0,\"ช่องว่าง\",หลักสูตร!$S$7)","v":"สังคมศึกษา ศาสนาและวัฒนธรรม"},{"$f":"IF(หลักสูตร!$R$8=0,\"ช่องว่าง\",หลักสูตร!$S$8)","v":"ประวัติศาสตร์"},{"$f":"IF(หลักสูตร!$R$9=0,\"ช่องว่าง\",หลักสูตร!$S$9)","v":"สุขศึกษาและพลศึกษา"},{"$f":"IF(หลักสูตร!$R$10=0,\"ช่องว่าง\",หลักสูตร!$S$10)","v":"ศิลปะ"},{"$f":"IF(หลักสูตร!$R$11=0,\"ช่องว่าง\",หลักสูตร!$S$11)","v":"การงานอาชีพและเทคโนโลยี"},{"$f":"IF(หลักสูตร!$R$12=0,\"ช่องว่าง\",หลักสูตร!$S$12)","v":"ภาษาต่างประเทศ"},{"$f":"IF(หลักสูตร!$R$13=0,\"ช่องว่าง\",หลักสูตร!$S$13)","v":"คอมพิวเตอร์"},{"$f":"IF(หลักสูตร!$R$14=0,\"ช่องว่าง\",หลักสูตร!$S$14)","v":0},{"$f":"IF(หลักสูตร!$R$15=0,\"ช่องว่าง\",หลักสูตร!$S$15)","v":0},{"$f":"IF(หลักสูตร!$R$16=0,\"ช่องว่าง\",หลักสูตร!$S$16)","v":"ช่องว่าง"},{"$f":"IF(หลักสูตร!$R$17=0,\"ช่องว่าง\",หลักสูตร!$S$17)","v":"ช่องว่าง"},{"$f":"IF(หลักสูตร!$R$18=0,\"ช่องว่าง\",หลักสูตร!$S$18)","v":"ช่องว่าง"},{"$f":"IF(หลักสูตร!$R$19=0,\"ช่องว่าง\",หลักสูตร!$S$19)","v":"ช่องว่าง"},{"$f":"IF(หลักสูตร!$R$20=0,\"ช่องว่าง\",หลักสูตร!$S$20)","v":"ช่องว่าง"},{"$f":"IF(หลักสูตร!$R$21=0,\"ช่องว่าง\",หลักสูตร!$S$21)","v":"ช่องว่าง"},{"$f":"IF(หลักสูตร!$R$23=0,\"ช่องว่าง\",หลักสูตร!$S$23)","v":"แนะแนว"},{"$f":"IF(หลักสูตร!$R$24=0,\"ช่องว่าง\",หลักสูตร!$S$24)","v":"ลูกเสือ เนตรนารี"},{"$f":"IF(หลักสูตร!$R$25=0,\"ช่องว่าง\",หลักสูตร!$S$25)","v":"ชุมนุม"},{"$f":"IF(หลักสูตร!$R$26=0,\"ช่องว่าง\",หลักสูตร!$S$26)","v":"กิจกรรมเพื่อสังคมและสาธารณประโยชน์"},{"$f":"IF(หลักสูตร!$R$27=0,\"ช่องว่าง\",หลักสูตร!$S$27)","v":"ช่องว่าง"},"คุณลักษณะ","อ่าน คิดฯ","สรุปกิจกรรม","เกรดเฉลี่ย","ชื่อวิชาเลือก\nรหัสวิชา ตามด้วยชื่อวิชา\nตัวอย่าง  ง31202 เกษตรอินทรีย์","อ่าน คิดฯ","ชื่อชุมนุม"]
[null,null,null,null,null,null,null,{"$f":"IF(หลักสูตร!$R$4=0,\"\",หลักสูตร!$R$4)","v":"ท13101"},{"$f":"IF(หลักสูตร!$R$5=0,\"\",หลักสูตร!$R$5)","v":"ค13101"},{"$f":"IF(หลักสูตร!$R$6=0,\"\",หลักสูตร!$R$6)","v":"ว13101"},{"$f":"IF(หลักสูตร!$R$7=0,\"\",หลักสูตร!$R$7)","v":"ส13101"},{"$f":"IF(หลักสูตร!$R$8=0,\"\",หลักสูตร!$R$8)","v":"ส13102"},{"$f":"IF(หลักสูตร!$R$9=0,\"\",หลักสูตร!$R$9)","v":"พ13101"},{"$f":"IF(หลักสูตร!$R$10=0,\"\",หลักสูตร!$R$10)","v":"ศ13101"},{"$f":"IF(หลักสูตร!$R$11=0,\"\",หลักสูตร!$R$11)","v":"ง13101"},{"$f":"IF(หลักสูตร!$R$12=0,\"\",หลักสูตร!$R$12)","v":"อ13101"},{"$f":"IF(หลักสูตร!$R$13=0,\"\",หลักสูตร!$R$13)","v":"ง13201"},{"$f":"IF(หลักสูตร!$R$14=0,\"\",หลักสูตร!$R$14)","v":"ว่าง"},{"$f":"IF(หลักสูตร!$R$15=0,\"\",หลักสูตร!$R$15)","v":"ว่าง"},{"$f":"IF(หลักสูตร!$R$16=0,\"\",หลักสูตร!$R$16)","v":""},{"$f":"IF(หลักสูตร!$R$17=0,\"\",หลักสูตร!$R$17)","v":""},{"$f":"IF(หลักสูตร!$R$18=0,\"\",หลักสูตร!$R$18)","v":""},{"$f":"IF(หลักสูตร!$R$19=0,\"\",หลักสูตร!$R$19)","v":""},{"$f":"IF(หลักสูตร!$R$20=0,\"\",หลักสูตร!$R$20)","v":""},{"$f":"IF(หลักสูตร!$R$21=0,\"\",หลักสูตร!$R$21)","v":""},{"$f":"IF(หลักสูตร!$R$23=0,\"\",หลักสูตร!$R$23)","v":"ก1"},{"$f":"IF(หลักสูตร!$R$24=0,\"\",หลักสูตร!$R$24)","v":"ก2"},{"$f":"IF(หลักสูตร!$R$25=0,\"\",หลักสูตร!$R$25)","v":"ก3"},{"$f":"IF(หลักสูตร!$R$26=0,\"\",หลักสูตร!$R$26)","v":"ก4"},{"$f":"IF(หลักสูตร!$R$27=0,\"\",หลักสูตร!$R$27)","v":""},null,null,null,{"$f":"SUMIF(H5:Y5,\"<>กิจกรรม\",H6:AA6)","v":22}]
[null,null,null,null,null,null,null,{"$f":"IF(หลักสูตร!$V$4=0,\"\",หลักสูตร!$V$4)","v":200},{"$f":"IF(หลักสูตร!$V$5=0,\"\",หลักสูตร!$V$5)","v":200},{"$f":"IF(หลักสูตร!$V$6=0,\"\",หลักสูตร!$V$6)","v":80},{"$f":"IF(หลักสูตร!$V$7=0,\"\",หลักสูตร!$V$7)","v":80},{"$f":"IF(หลักสูตร!$V$8=0,\"\",หลักสูตร!$V$8)","v":40},{"$f":"IF(หลักสูตร!$V$9=0,\"\",หลักสูตร!$V$9)","v":80},{"$f":"IF(หลักสูตร!$V$10=0,\"\",หลักสูตร!$V$10)","v":80},{"$f":"IF(หลักสูตร!$V$11=0,\"\",หลักสูตร!$V$11)","v":40},{"$f":"IF(หลักสูตร!$V$12=0,\"\",หลักสูตร!$V$12)","v":40},{"$f":"IF(หลักสูตร!$V$13=0,\"\",หลักสูตร!$V$13)","v":40},{"$f":"IF(หลักสูตร!$V$14=0,\"\",หลักสูตร!$V$14)","v":""},{"$f":"IF(หลักสูตร!$V$15=0,\"\",หลักสูตร!$V$15)","v":""},{"$f":"IF(หลักสูตร!$V$16=0,\"\",หลักสูตร!$V$16)","v":""},{"$f":"IF(หลักสูตร!$V$17=0,\"\",หลักสูตร!$V$17)","v":""},{"$f":"IF(หลักสูตร!$V$18=0,\"\",หลักสูตร!$V$18)","v":""},{"$f":"IF(หลักสูตร!$V$19=0,\"\",หลักสูตร!$V$19)","v":""},{"$f":"IF(หลักสูตร!$V$20=0,\"\",หลักสูตร!$V$20)","v":""},{"$f":"IF(หลักสูตร!$V$21=0,\"\",หลักสูตร!$V$21)","v":""},{"$f":"IF(หลักสูตร!$V$23=0,\"\",หลักสูตร!$V$23)","v":40},{"$f":"IF(หลักสูตร!$V$24=0,\"\",หลักสูตร!$V$24)","v":40},{"$f":"IF(หลักสูตร!$V$25=0,\"\",หลักสูตร!$V$25)","v":30},{"$f":"IF(หลักสูตร!$V$26=0,\"\",หลักสูตร!$V$26)","v":10},{"$f":"IF(หลักสูตร!$V$27=0,\"\",หลักสูตร!$V$27)","v":""}]
[null,null,null,null,null,null,"ประเภท",{"$f":"IF(หลักสูตร!$T$4=0,\"\",หลักสูตร!$T$4)","v":"พื้นฐาน"},{"$f":"IF(หลักสูตร!$T$5=0,\"\",หลักสูตร!$T$5)","v":"พื้นฐาน"},{"$f":"IF(หลักสูตร!$T$6=0,\"\",หลักสูตร!$T$6)","v":"พื้นฐาน"},{"$f":"IF(หลักสูตร!$T$7=0,\"\",หลักสูตร!$T$7)","v":"พื้นฐาน"},{"$f":"IF(หลักสูตร!$T$8=0,\"\",หลักสูตร!$T$8)","v":"พื้นฐาน"},{"$f":"IF(หลักสูตร!$T$9=0,\"\",หลักสูตร!$T$9)","v":"พื้นฐาน"},{"$f":"IF(หลักสูตร!$T$10=0,\"\",หลักสูตร!$T$10)","v":"พื้นฐาน"},{"$f":"IF(หลักสูตร!$T$11=0,\"\",หลักสูตร!$T$11)","v":"พื้นฐาน"},{"$f":"IF(หลักสูตร!$T$12=0,\"\",หลักสูตร!$T$12)","v":"พื้นฐาน"},{"$f":"IF(หลักสูตร!$T$13=0,\"\",หลักสูตร!$T$13)","v":"เพิ่มเติม"},{"$f":"IF(หลักสูตร!$T$14=0,\"\",หลักสูตร!$T$14)","v":"เพิ่มเติม"},{"$f":"IF(หลักสูตร!$T$15=0,\"\",หลักสูตร!$T$15)","v":"เพิ่มเติม"},{"$f":"IF(หลักสูตร!$T$16=0,\"\",หลักสูตร!$T$16)","v":""},{"$f":"IF(หลักสูตร!$T$17=0,\"\",หลักสูตร!$T$17)","v":""},{"$f":"IF(หลักสูตร!$T$18=0,\"\",หลักสูตร!$T$18)","v":""},{"$f":"IF(หลักสูตร!$T$19=0,\"\",หลักสูตร!$T$19)","v":""},{"$f":"IF(หลักสูตร!$T$20=0,\"\",หลักสูตร!$T$20)","v":""},{"$f":"IF(หลักสูตร!$T$21=0,\"\",หลักสูตร!$T$21)","v":""},{"$f":"IF(หลักสูตร!$T$23=0,\"\",หลักสูตร!$T$23)","v":"กิจกรรม"},{"$f":"IF(หลักสูตร!$T$24=0,\"\",หลักสูตร!$T$24)","v":"กิจกรรม"},{"$f":"IF(หลักสูตร!$T$25=0,\"\",หลักสูตร!$T$25)","v":"กิจกรรม"},{"$f":"IF(หลักสูตร!$T$26=0,\"\",หลักสูตร!$T$26)","v":"กิจกรรม"},{"$f":"IF(หลักสูตร!$T$27=0,\"\",หลักสูตร!$T$27)","v":""}]
[null,null,null,null,null,null,"น้ำหนัก",{"$f":"IF(หลักสูตร!$W$4=0,\"\",หลักสูตร!$W$4)","v":5},{"$f":"IF(หลักสูตร!$W$5=0,\"\",หลักสูตร!$W$5)","v":5},{"$f":"IF(หลักสูตร!$W$6=0,\"\",หลักสูตร!$W$6)","v":2},{"$f":"IF(หลักสูตร!$W$7=0,\"\",หลักสูตร!$W$7)","v":2},{"$f":"IF(หลักสูตร!$W$8=0,\"\",หลักสูตร!$W$8)","v":1},{"$f":"IF(หลักสูตร!$W$9=0,\"\",หลักสูตร!$W$9)","v":2},{"$f":"IF(หลักสูตร!$W$10=0,\"\",หลักสูตร!$W$10)","v":2},{"$f":"IF(หลักสูตร!$W$11=0,\"\",หลักสูตร!$W$11)","v":1},{"$f":"IF(หลักสูตร!$W$12=0,\"\",หลักสูตร!$W$12)","v":1},{"$f":"IF(หลักสูตร!$W$13=0,\"\",หลักสูตร!$W$13)","v":1},{"$f":"IF(หลักสูตร!$W$14=0,\"\",หลักสูตร!$W$14)","v":""},{"$f":"IF(หลักสูตร!$W$15=0,\"\",หลักสูตร!$W$15)","v":""},{"$f":"IF(หลักสูตร!$W$16=0,\"\",หลักสูตร!$W$16)","v":""},{"$f":"IF(หลักสูตร!$W$17=0,\"\",หลักสูตร!$W$17)","v":""},{"$f":"IF(หลักสูตร!$W$18=0,\"\",หลักสูตร!$W$18)","v":""},{"$f":"IF(หลักสูตร!$W$19=0,\"\",หลักสูตร!$W$19)","v":""},{"$f":"IF(หลักสูตร!$W$20=0,\"\",หลักสูตร!$W$20)","v":""},{"$f":"IF(หลักสูตร!$W$21=0,\"\",หลักสูตร!$W$21)","v":""},{"$f":"IF(หลักสูตร!$W$23=0,\"\",หลักสูตร!$W$23)","v":"-"},{"$f":"IF(หลักสูตร!$W$24=0,\"\",หลักสูตร!$W$24)","v":"-"},{"$f":"IF(หลักสูตร!$W$25=0,\"\",หลักสูตร!$W$25)","v":"-"},{"$f":"IF(หลักสูตร!$W$26=0,\"\",หลักสูตร!$W$26)","v":"-"},{"$f":"IF(หลักสูตร!$W$27=0,\"\",หลักสูตร!$W$27)","v":"-"},null,null,null,{"$f":"SUMIF(H5:Y5,\"<>กิจกรรม\",H6:AA6)","v":22}]
[{"$f":"ข้อมูลนักเรียน!A7","v":1},{"$f":"IF(ข้อมูลนักเรียน!B7=0,\"\",ข้อมูลนักเรียน!B7)","v":1},{"$f":"IF(ข้อมูลนักเรียน!C7=0,\"\",ข้อมูลนักเรียน!C7)","v":"00001"},{"$f":"IF(ข้อมูลนักเรียน!C7=0,\"\",ข้อมูลนักเรียน!D7 & ข้อมูลนักเรียน!E7 & \"   \"& ข้อมูลนักเรียน!F7)","v":"เด็กชายสมชาย   สุขสบาย"},{"$f":"IF(ข้อมูลนักเรียน!C7=0,\"\",ข้อมูลนักเรียน!G7)","v":1111111111111},{"$f":"ข้อมูลนักเรียน!B7","v":1},null,1,1,1,1,2,3,1,2,3,1.5,null,null,null,null,null,null,1.5,1.5,"ผ","ผ","ผ","ผ",null,3,3,{"$f":"IF(COUNTIFS(Z7:AD7,\"=มผ\") > 0,\"ไม่ผ่าน\",\"ผ่าน\")","v":"ผ่าน"},{"$f":"ROUNDDOWN(1.79545454545455,2)","v":1.79},null,{"$f":"IF(AF7=1,\"ผ่าน\",IF(AF7=2,\"ดี\",IF(AF7=3,\"ดีเยี่ยม\",\"ปรับปรุง\")))","v":"ดีเยี่ยม"},"คอมพิวเตอร์",22,"เกรด","อ่าน/คุณ","กิจกรรม"]
[{"$f":"ข้อมูลนักเรียน!A8","v":1},{"$f":"IF(ข้อมูลนักเรียน!B8=0,\"\",ข้อมูลนักเรียน!B8)","v":2},{"$f":"IF(ข้อมูลนักเรียน!C8=0,\"\",ข้อมูลนักเรียน!C8)","v":"00002"},{"$f":"IF(ข้อมูลนักเรียน!C8=0,\"\",ข้อมูลนักเรียน!D8 & ข้อมูลนักเรียน!E8 & \"   \"& ข้อมูลนักเรียน!F8)","v":"เด็กหญิงสมหวัง   ตั้งใจเรียน"},{"$f":"IF(ข้อมูลนักเรียน!C8=0,\"\",ข้อมูลนักเรียน!G8)","v":2222222222222},{"$f":"ข้อมูลนักเรียน!B8","v":2},null,1,2,3,4,1,2,3,4,1.5,1.5,null,null,null,null,null,null,1.5,1.5,"ผ","ผ","ผ","ผ",null,2,3,"ผ่าน",{"$f":"ROUNDDOWN(2.13636363636364,2)","v":2.13},null,"ดีเยี่ยม",null,22,0,0,"ผ"]
[{"$f":"ข้อมูลนักเรียน!A9","v":0},{"$f":"IF(ข้อมูลนักเรียน!B9=0,\"\",ข้อมูลนักเรียน!B9)","v":""},{"$f":"IF(ข้อมูลนักเรียน!C9=0,\"\",ข้อมูลนักเรียน!C9)","v":""},{"$f":"IF(ข้อมูลนักเรียน!C9=0,\"\",ข้อมูลนักเรียน!D9 & ข้อมูลนักเรียน!E9 & \"   \"& ข้อมูลนักเรียน!F9)","v":""},{"$f":"IF(ข้อมูลนักเรียน!C9=0,\"\",ข้อมูลนักเรียน!G9)","v":""},{"$f":"ข้อมูลนักเรียน!B9","v":0},null,null,null,null,null,null,null,null,null,null,null,null,null,null,null,null,null,null,null,null,null,null,null,null,null,null,{"$f":"IF(COUNTIFS(Z9:AD9,\"=มผ\") > 0,\"ไม่ผ่าน\",\"ผ่าน\")","v":"ผ่าน"},{"$f":"ROUNDDOWN(0,2)","v":0},null,{"$f":"IF(AF9=1,\"ผ่าน\",IF(AF9=2,\"ดี\",IF(AF9=3,\"ดีเยี่ยม\",\"ปรับปรุง\")))","v":"ปรับปรุง"},null,22,1,1,"มผ"]
[{"$f":"ข้อมูลนักเรียน!A10","v":0},{"$f":"IF(ข้อมูลนักเรียน!B10=0,\"\",ข้อมูลนักเรียน!B10)","v":""},{"$f":"IF(ข้อมูลนักเรียน!C10=0,\"\",ข้อมูลนักเรียน!C10)","v":""},{"$f":"IF(ข้อมูลนักเรียน!C10=0,\"\",ข้อมูลนักเรียน!D10 & ข้อมูลนักเรียน!E10 & \"   \"& ข้อมูลนักเรียน!F10)","v":""},{"$f":"IF(ข้อมูลนักเรียน!C10=0,\"\",ข้อมูลนักเรียน!G10)","v":""},{"$f":"ข้อมูลนักเรียน!B10","v":0},null,null,null,null,null,null,null,null,null,null,null,null,null,null,null,null,null,null,null,null,null,null,null,null,null,null,"ผ่าน",0,null,"ปรับปรุง",null,22,1.5,2]
[{"$f":"ข้อมูลนักเรียน!A11","v":0},{"$f":"IF(ข้อมูลนักเรียน!B11=0,\"\",ข้อมูลนักเรียน!B11)","v":""},{"$f":"IF(ข้อมูลนักเรียน!C11=0,\"\",ข้อมูลนักเรียน!C11)","v":""},{"$f":"IF(ข้อมูลนักเรียน!C11=0,\"\",ข้อมูลนักเรียน!D11 & ข้อมูลนักเรียน!E11 & \"   \"& ข้อมูลนักเรียน!F11)","v":""},{"$f":"IF(ข้อมูลนักเรียน!C11=0,\"\",ข้อมูลนักเรียน!G11)","v":""},{"$f":"ข้อมูลนักเรียน!B11","v":0},null,null,null,null,null,null,null,null,null,null,null,null,null,null,null,null,null,null,null,null,null,null,null,null,null,null,"ผ่าน",0,null,"ปรับปรุง",null,22,2,3]
[{"$f":"ข้อมูลนักเรียน!A12","v":0},{"$f":"IF(ข้อมูลนักเรียน!B12=0,\"\",ข้อมูลนักเรียน!B12)","v":""},{"$f":"IF(ข้อมูลนักเรียน!C12=0,\"\",ข้อมูลนักเรียน!C12)","v":""},{"$f":"IF(ข้อมูลนักเรียน!C12=0,\"\",ข้อมูลนักเรียน!D12 & ข้อมูลนักเรียน!E12 & \"   \"& ข้อมูลนักเรียน!F12)","v":""},{"$f":"IF(ข้อมูลนักเรียน!C12=0,\"\",ข้อมูลนักเรียน!G12)","v":""},{"$f":"ข้อมูลนักเรียน!B12","v":0},null,null,null,null,null,null,null,null,null,null,null,null,null,null,null,null,null,null,null,null,null,null,null,null,null,null,"ผ่าน",0,null,"ปรับปรุง",null,22,2.5]
[{"$f":"ข้อมูลนักเรียน!A13","v":0},{"$f":"IF(ข้อมูลนักเรียน!B13=0,\"\",ข้อมูลนักเรียน!B13)","v":""},{"$f":"IF(ข้อมูลนักเรียน!C13=0,\"\",ข้อมูลนักเรียน!C13)","v":""},{"$f":"IF(ข้อมูลนักเรียน!C13=0,\"\",ข้อมูลนักเรียน!D13 & ข้อมูลนักเรียน!E13 & \"   \"& ข้อมูลนักเรียน!F13)","v":""},{"$f":"IF(ข้อมูลนักเรียน!C13=0,\"\",ข้อมูลนักเรียน!G13)","v":""},{"$f":"ข้อมูลนักเรียน!B13","v":0},null,null,null,null,null,null,null,null,null,null,null,null,null,null,null,null,null,null,null,null,null,null,null,null,null,null,"ผ่าน",0,null,"ปรับปรุง",null,22,3]
[{"$f":"ข้อมูลนักเรียน!A14","v":0},{"$f":"IF(ข้อมูลนักเรียน!B14=0,\"\",ข้อมูลนักเรียน!B14)","v":""},{"$f":"IF(ข้อมูลนักเรียน!C14=0,\"\",ข้อมูลนักเรียน!C14)","v":""},{"$f":"IF(ข้อมูลนักเรียน!C14=0,\"\",ข้อมูลนักเรียน!D14 & ข้อมูลนักเรียน!E14 & \"   \"& ข้อมูลนักเรียน!F14)","v":""},{"$f":"IF(ข้อมูลนักเรียน!C14=0,\"\",ข้อมูลนักเรียน!G14)","v":""},{"$f":"ข้อมูลนักเรียน!B14","v":0},null,null,null,null,null,null,null,null,null,null,null,null,null,null,null,null,null,null,null,null,null,null,null,null,null,null,"ผ่าน",0,null,"ปรับปรุง",null,22,3.5]
[{"$f":"ข้อมูลนักเรียน!A15","v":0},{"$f":"IF(ข้อมูลนักเรียน!B15=0,\"\",ข้อมูลนักเรียน!B15)","v":""},{"$f":"IF(ข้อมูลนักเรียน!C15=0,\"\",ข้อมูลนักเรียน!C15)","v":""},{"$f":"IF(ข้อมูลนักเรียน!C15=0,\"\",ข้อมูลนักเรียน!D15 & ข้อมูลนักเรียน!E15 & \"   \"& ข้อมูลนักเรียน!F15)","v":""},{"$f":"IF(ข้อมูลนักเรียน!C15=0,\"\",ข้อมูลนักเรียน!G15)","v":""},{"$f":"ข้อมูลนักเรียน!B15","v":0},null,null,null,null,null,null,null,null,null,null,null,null,null,null,null,null,null,null,null,null,null,null,null,null,null,null,"ผ่าน",0,null,"ปรับปรุง",null,22,4]
[{"$f":"ข้อมูลนักเรียน!A16","v":0},{"$f":"IF(ข้อมูลนักเรียน!B16=0,\"\",ข้อมูลนักเรียน!B16)","v":""},{"$f":"IF(ข้อมูลนักเรียน!C16=0,\"\",ข้อมูลนักเรียน!C16)","v":""},{"$f":"IF(ข้อมูลนักเรียน!C16=0,\"\",ข้อมูลนักเรียน!D16 & ข้อมูลนักเรียน!E16 & \"   \"& ข้อมูลนักเรียน!F16)","v":""},{"$f":"IF(ข้อมูลนักเรียน!C16=0,\"\",ข้อมูลนักเรียน!G16)","v":""},{"$f":"ข้อมูลนักเรียน!B16","v":0},null,null,null,null,null,null,null,null,null,null,null,null,null,null,null,null,null,null,null,null,null,null,null,null,null,null,"ผ่าน",0,null,"ปรับปรุง",null,22,"ร"]
[{"$f":"ข้อมูลนักเรียน!A17","v":0},{"$f":"IF(ข้อมูลนักเรียน!B17=0,\"\",ข้อมูลนักเรียน!B17)","v":""},{"$f":"IF(ข้อมูลนักเรียน!C17=0,\"\",ข้อมูลนักเรียน!C17)","v":""},{"$f":"IF(ข้อมูลนักเรียน!C17=0,\"\",ข้อมูลนักเรียน!D17 & ข้อมูลนักเรียน!E17 & \"   \"& ข้อมูลนักเรียน!F17)","v":""},{"$f":"IF(ข้อมูลนักเรียน!C17=0,\"\",ข้อมูลนักเรียน!G17)","v":""},{"$f":"ข้อมูลนักเรียน!B17","v":0},null,null,null,null,null,null,null,null,null,null,null,null,null,null,null,null,null,null,null,null,null,null,null,null,null,null,"ผ่าน",0,null,"ปรับปรุง",null,22,"มส"]
[{"$f":"ข้อมูลนักเรียน!A18","v":0},{"$f":"IF(ข้อมูลนักเรียน!B18=0,\"\",ข้อมูลนักเรียน!B18)","v":""},{"$f":"IF(ข้อมูลนักเรียน!C18=0,\"\",ข้อมูลนักเรียน!C18)","v":""},{"$f":"IF(ข้อมูลนักเรียน!C18=0,\"\",ข้อมูลนักเรียน!D18 & ข้อมูลนักเรียน!E18 & \"   \"& ข้อมูลนักเรียน!F18)","v":""},{"$f":"IF(ข้อมูลนักเรียน!C18=0,\"\",ข้อมูลนักเรียน!G18)","v":""},{"$f":"ข้อมูลนักเรียน!B18","v":0},null,null,null,null,null,null,null,null,null,null,null,null,null,null,null,null,null,null,null,null,null,null,null,null,null,null,"ผ่าน",0,null,"ปรับปรุง",null,22,"ผ"]
[{"$f":"ข้อมูลนักเรียน!A19","v":0},{"$f":"IF(ข้อมูลนักเรียน!B19=0,\"\",ข้อมูลนักเรียน!B19)","v":""},{"$f":"IF(ข้อมูลนักเรียน!C19=0,\"\",ข้อมูลนักเรียน!C19)","v":""},{"$f":"IF(ข้อมูลนักเรียน!C19=0,\"\",ข้อมูลนักเรียน!D19 & ข้อมูลนักเรียน!E19 & \"   \"& ข้อมูลนักเรียน!F19)","v":""},{"$f":"IF(ข้อมูลนักเรียน!C19=0,\"\",ข้อมูลนักเรียน!G19)","v":""},{"$f":"ข้อมูลนักเรียน!B19","v":0},null,null,null,null,null,null,null,null,null,null,null,null,null,null,null,null,null,null,null,null,null,null,null,null,null,null,"ผ่าน",0,null,"ปรับปรุง",null,22,"มผ"]
[{"$f":"ข้อมูลนักเรียน!A20","v":0},{"$f":"IF(ข้อมูลนักเรียน!B20=0,\"\",ข้อมูลนักเรียน!B20)","v":""},{"$f":"IF(ข้อมูลนักเรียน!C20=0,\"\",ข้อมูลนักเรียน!C20)","v":""},{"$f":"IF(ข้อมูลนักเรียน!C20=0,\"\",ข้อมูลนักเรียน!D20 & ข้อมูลนักเรียน!E20 & \"   \"& ข้อมูลนักเรียน!F20)","v":""},{"$f":"IF(ข้อมูลนักเรียน!C20=0,\"\",ข้อมูลนักเรียน!G20)","v":""},{"$f":"ข้อมูลนักเรียน!B20","v":0},null,null,null,null,null,null,null,null,null,null,null,null,null,null,null,null,null,null,null,null,null,null,null,null,null,null,"ผ่าน",0,null,"ปรับปรุง",null,22]
[{"$f":"ข้อมูลนักเรียน!A21","v":0},{"$f":"IF(ข้อมูลนักเรียน!B21=0,\"\",ข้อมูลนักเรียน!B21)","v":""},{"$f":"IF(ข้อมูลนักเรียน!C21=0,\"\",ข้อมูลนักเรียน!C21)","v":""},{"$f":"IF(ข้อมูลนักเรียน!C21=0,\"\",ข้อมูลนักเรียน!D21 & ข้อมูลนักเรียน!E21 & \"   \"& ข้อมูลนักเรียน!F21)","v":""},{"$f":"IF(ข้อมูลนักเรียน!C21=0,\"\",ข้อมูลนักเรียน!G21)","v":""},{"$f":"ข้อมูลนักเรียน!B21","v":0},null,null,null,null,null,null,null,null,null,null,null,null,null,null,null,null,null,null,null,null,null,null,null,null,null,null,"ผ่าน",0,null,"ปรับปรุง",null,22]
[{"$f":"ข้อมูลนักเรียน!A22","v":0},{"$f":"IF(ข้อมูลนักเรียน!B22=0,\"\",ข้อมูลนักเรียน!B22)","v":""},{"$f":"IF(ข้อมูลนักเรียน!C22=0,\"\",ข้อมูลนักเรียน!C22)","v":""},{"$f":"IF(ข้อมูลนักเรียน!C22=0,\"\",ข้อมูลนักเรียน!D22 & ข้อมูลนักเรียน!E22 & \"   \"& ข้อมูลนักเรียน!F22)","v":""},{"$f":"IF(ข้อมูลนักเรียน!C22=0,\"\",ข้อมูลนักเรียน!G22)","v":""},{"$f":"ข้อมูลนักเรียน!B22","v":0},null,null,null,null,null,null,null,null,null,null,null,null,null,null,null,null,null,null,null,null,null,null,null,null,null,null,"ผ่าน",0,null,"ปรับปรุง",null,22]
[{"$f":"ข้อมูลนักเรียน!A23","v":0},{"$f":"IF(ข้อมูลนักเรียน!B23=0,\"\",ข้อมูลนักเรียน!B23)","v":""},{"$f":"IF(ข้อมูลนักเรียน!C23=0,\"\",ข้อมูลนักเรียน!C23)","v":""},{"$f":"IF(ข้อมูลนักเรียน!C23=0,\"\",ข้อมูลนักเรียน!D23 & ข้อมูลนักเรียน!E23 & \"   \"& ข้อมูลนักเรียน!F23)","v":""},{"$f":"IF(ข้อมูลนักเรียน!C23=0,\"\",ข้อมูลนักเรียน!G23)","v":""},{"$f":"ข้อมูลนักเรียน!B23","v":0},null,null,null,null,null,null,null,null,null,null,null,null,null,null,null,null,null,null,null,null,null,null,null,null,null,null,"ผ่าน",0,null,"ปรับปรุง",null,22]
[{"$f":"ข้อมูลนักเรียน!A24","v":0},{"$f":"IF(ข้อมูลนักเรียน!B24=0,\"\",ข้อมูลนักเรียน!B24)","v":""},{"$f":"IF(ข้อมูลนักเรียน!C24=0,\"\",ข้อมูลนักเรียน!C24)","v":""},{"$f":"IF(ข้อมูลนักเรียน!C24=0,\"\",ข้อมูลนักเรียน!D24 & ข้อมูลนักเรียน!E24 & \"   \"& ข้อมูลนักเรียน!F24)","v":""},{"$f":"IF(ข้อมูลนักเรียน!C24=0,\"\",ข้อมูลนักเรียน!G24)","v":""},{"$f":"ข้อมูลนักเรียน!B24","v":0},null,null,null,null,null,null,null,null,null,null,null,null,null,null,null,null,null,null,null,null,null,null,null,null,null,null,"ผ่าน",0,null,"ปรับปรุง",null,22]
[{"$f":"ข้อมูลนักเรียน!A25","v":0},{"$f":"IF(ข้อมูลนักเรียน!B25=0,\"\",ข้อมูลนักเรียน!B25)","v":""},{"$f":"IF(ข้อมูลนักเรียน!C25=0,\"\",ข้อมูลนักเรียน!C25)","v":""},{"$f":"IF(ข้อมูลนักเรียน!C25=0,\"\",ข้อมูลนักเรียน!D25 & ข้อมูลนักเรียน!E25 & \"   \"& ข้อมูลนักเรียน!F25)","v":""},{"$f":"IF(ข้อมูลนักเรียน!C25=0,\"\",ข้อมูลนักเรียน!G25)","v":""},{"$f":"ข้อมูลนักเรียน!B25","v":0},null,null,null,null,null,null,null,null,null,null,null,null,null,null,null,null,null,null,null,null,null,null,null,null,null,null,"ผ่าน",0,null,"ปรับปรุง",null,22]
[{"$f":"ข้อมูลนักเรียน!A26","v":0},{"$f":"IF(ข้อมูลนักเรียน!B26=0,\"\",ข้อมูลนักเรียน!B26)","v":""},{"$f":"IF(ข้อมูลนักเรียน!C26=0,\"\",ข้อมูลนักเรียน!C26)","v":""},{"$f":"IF(ข้อมูลนักเรียน!C26=0,\"\",ข้อมูลนักเรียน!D26 & ข้อมูลนักเรียน!E26 & \"   \"& ข้อมูลนักเรียน!F26)","v":""},{"$f":"IF(ข้อมูลนักเรียน!C26=0,\"\",ข้อมูลนักเรียน!G26)","v":""},{"$f":"ข้อมูลนักเรียน!B26","v":0},null,null,null,null,null,null,null,null,null,null,null,null,null,null,null,null,null,null,null,null,null,null,null,null,null,null,"ผ่าน",0,null,"ปรับปรุง",null,22]
[{"$f":"ข้อมูลนักเรียน!A27","v":0},{"$f":"IF(ข้อมูลนักเรียน!B27=0,\"\",ข้อมูลนักเรียน!B27)","v":""},{"$f":"IF(ข้อมูลนักเรียน!C27=0,\"\",ข้อมูลนักเรียน!C27)","v":""},{"$f":"IF(ข้อมูลนักเรียน!C27=0,\"\",ข้อมูลนักเรียน!D27 & ข้อมูลนักเรียน!E27 & \"   \"& ข้อมูลนักเรียน!F27)","v":""},{"$f":"IF(ข้อมูลนักเรียน!C27=0,\"\",ข้อมูลนักเรียน!G27)","v":""},{"$f":"ข้อมูลนักเรียน!B27","v":0},null,null,null,null,null,null,null,null,null,null,null,null,null,null,null,null,null,null,null,null,null,null,null,null,null,null,"ผ่าน",0,null,"ปรับปรุง",null,22]
[{"$f":"ข้อมูลนักเรียน!A28","v":0},{"$f":"IF(ข้อมูลนักเรียน!B28=0,\"\",ข้อมูลนักเรียน!B28)","v":""},{"$f":"IF(ข้อมูลนักเรียน!C28=0,\"\",ข้อมูลนักเรียน!C28)","v":""},{"$f":"IF(ข้อมูลนักเรียน!C28=0,\"\",ข้อมูลนักเรียน!D28 & ข้อมูลนักเรียน!E28 & \"   \"& ข้อมูลนักเรียน!F28)","v":""},{"$f":"IF(ข้อมูลนักเรียน!C28=0,\"\",ข้อมูลนักเรียน!G28)","v":""},{"$f":"ข้อมูลนักเรียน!B28","v":0},null,null,null,null,null,null,null,null,null,null,null,null,null,null,null,null,null,null,null,null,null,null,null,null,null,null,"ผ่าน",0,null,"ปรับปรุง",null,22]
[{"$f":"ข้อมูลนักเรียน!A29","v":0},{"$f":"IF(ข้อมูลนักเรียน!B29=0,\"\",ข้อมูลนักเรียน!B29)","v":""},{"$f":"IF(ข้อมูลนักเรียน!C29=0,\"\",ข้อมูลนักเรียน!C29)","v":""},{"$f":"IF(ข้อมูลนักเรียน!C29=0,\"\",ข้อมูลนักเรียน!D29 & ข้อมูลนักเรียน!E29 & \"   \"& ข้อมูลนักเรียน!F29)","v":""},{"$f":"IF(ข้อมูลนักเรียน!C29=0,\"\",ข้อมูลนักเรียน!G29)","v":""},{"$f":"ข้อมูลนักเรียน!B29","v":0},null,null,null,null,null,null,null,null,null,null,null,null,null,null,null,null,null,null,null,null,null,null,null,null,null,null,"ผ่าน",0,null,"ปรับปรุง",null,22]
[{"$f":"ข้อมูลนักเรียน!A30","v":0},{"$f":"IF(ข้อมูลนักเรียน!B30=0,\"\",ข้อมูลนักเรียน!B30)","v":""},{"$f":"IF(ข้อมูลนักเรียน!C30=0,\"\",ข้อมูลนักเรียน!C30)","v":""},{"$f":"IF(ข้อมูลนักเรียน!C30=0,\"\",ข้อมูลนักเรียน!D30 & ข้อมูลนักเรียน!E30 & \"   \"& ข้อมูลนักเรียน!F30)","v":""},{"$f":"IF(ข้อมูลนักเรียน!C30=0,\"\",ข้อมูลนักเรียน!G30)","v":""},{"$f":"ข้อมูลนักเรียน!B30","v":0},null,null,null,null,null,null,null,null,null,null,null,null,null,null,null,null,null,null,null,null,null,null,null,null,null,null,"ผ่าน",0,null,"ปรับปรุง",null,22]
[{"$f":"ข้อมูลนักเรียน!A31","v":0},{"$f":"IF(ข้อมูลนักเรียน!B31=0,\"\",ข้อมูลนักเรียน!B31)","v":""},{"$f":"IF(ข้อมูลนักเรียน!C31=0,\"\",ข้อมูลนักเรียน!C31)","v":""},{"$f":"IF(ข้อมูลนักเรียน!C31=0,\"\",ข้อมูลนักเรียน!D31 & ข้อมูลนักเรียน!E31 & \"   \"& ข้อมูลนักเรียน!F31)","v":""},{"$f":"IF(ข้อมูลนักเรียน!C31=0,\"\",ข้อมูลนักเรียน!G31)","v":""},{"$f":"ข้อมูลนักเรียน!B31","v":0},null,null,null,null,null,null,null,null,null,null,null,null,null,null,null,null,null,null,null,null,null,null,null,null,null,null,"ผ่าน",0,null,"ปรับปรุง",null,22]
[{"$f":"ข้อมูลนักเรียน!A32","v":0},{"$f":"IF(ข้อมูลนักเรียน!B32=0,\"\",ข้อมูลนักเรียน!B32)","v":""},{"$f":"IF(ข้อมูลนักเรียน!C32=0,\"\",ข้อมูลนักเรียน!C32)","v":""},{"$f":"IF(ข้อมูลนักเรียน!C32=0,\"\",ข้อมูลนักเรียน!D32 & ข้อมูลนักเรียน!E32 & \"   \"& ข้อมูลนักเรียน!F32)","v":""},{"$f":"IF(ข้อมูลนักเรียน!C32=0,\"\",ข้อมูลนักเรียน!G32)","v":""},{"$f":"ข้อมูลนักเรียน!B32","v":0},null,null,null,null,null,null,null,null,null,null,null,null,null,null,null,null,null,null,null,null,null,null,null,null,null,null,"ผ่าน",0,null,"ปรับปรุง",null,22]
[{"$f":"ข้อมูลนักเรียน!A33","v":0},{"$f":"IF(ข้อมูลนักเรียน!B33=0,\"\",ข้อมูลนักเรียน!B33)","v":""},{"$f":"IF(ข้อมูลนักเรียน!C33=0,\"\",ข้อมูลนักเรียน!C33)","v":""},{"$f":"IF(ข้อมูลนักเรียน!C33=0,\"\",ข้อมูลนักเรียน!D33 & ข้อมูลนักเรียน!E33 & \"   \"& ข้อมูลนักเรียน!F33)","v":""},{"$f":"IF(ข้อมูลนักเรียน!C33=0,\"\",ข้อมูลนักเรียน!G33)","v":""},{"$f":"ข้อมูลนักเรียน!B33","v":0},null,null,null,null,null,null,null,null,null,null,null,null,null,null,null,null,null,null,null,null,null,null,null,null,null,null,"ผ่าน",0,null,"ปรับปรุง",null,22]
[{"$f":"ข้อมูลนักเรียน!A34","v":0},{"$f":"IF(ข้อมูลนักเรียน!B34=0,\"\",ข้อมูลนักเรียน!B34)","v":""},{"$f":"IF(ข้อมูลนักเรียน!C34=0,\"\",ข้อมูลนักเรียน!C34)","v":""},{"$f":"IF(ข้อมูลนักเรียน!C34=0,\"\",ข้อมูลนักเรียน!D34 & ข้อมูลนักเรียน!E34 & \"   \"& ข้อมูลนักเรียน!F34)","v":""},{"$f":"IF(ข้อมูลนักเรียน!C34=0,\"\",ข้อมูลนักเรียน!G34)","v":""},{"$f":"ข้อมูลนักเรียน!B34","v":0},null,null,null,null,null,null,null,null,null,null,null,null,null,null,null,null,null,null,null,null,null,null,null,null,null,null,"ผ่าน",0,null,"ปรับปรุง",null,22]
[{"$f":"ข้อมูลนักเรียน!A35","v":0},{"$f":"IF(ข้อมูลนักเรียน!B35=0,\"\",ข้อมูลนักเรียน!B35)","v":""},{"$f":"IF(ข้อมูลนักเรียน!C35=0,\"\",ข้อมูลนักเรียน!C35)","v":""},{"$f":"IF(ข้อมูลนักเรียน!C35=0,\"\",ข้อมูลนักเรียน!D35 & ข้อมูลนักเรียน!E35 & \"   \"& ข้อมูลนักเรียน!F35)","v":""},{"$f":"IF(ข้อมูลนักเรียน!C35=0,\"\",ข้อมูลนักเรียน!G35)","v":""},{"$f":"ข้อมูลนักเรียน!B35","v":0},null,null,null,null,null,null,null,null,null,null,null,null,null,null,null,null,null,null,null,null,null,null,null,null,null,null,"ผ่าน",0,null,"ปรับปรุง",null,22]
[{"$f":"ข้อมูลนักเรียน!A36","v":0},{"$f":"IF(ข้อมูลนักเรียน!B36=0,\"\",ข้อมูลนักเรียน!B36)","v":""},{"$f":"IF(ข้อมูลนักเรียน!C36=0,\"\",ข้อมูลนักเรียน!C36)","v":""},{"$f":"IF(ข้อมูลนักเรียน!C36=0,\"\",ข้อมูลนักเรียน!D36 & ข้อมูลนักเรียน!E36 & \"   \"& ข้อมูลนักเรียน!F36)","v":""},{"$f":"IF(ข้อมูลนักเรียน!C36=0,\"\",ข้อมูลนักเรียน!G36)","v":""},{"$f":"ข้อมูลนักเรียน!B36","v":0},null,null,null,null,null,null,null,null,null,null,null,null,null,null,null,null,null,null,null,null,null,null,null,null,null,null,"ผ่าน",0,null,"ปรับปรุง",null,22]
[{"$f":"ข้อมูลนักเรียน!A37","v":0},{"$f":"IF(ข้อมูลนักเรียน!B37=0,\"\",ข้อมูลนักเรียน!B37)","v":""},{"$f":"IF(ข้อมูลนักเรียน!C37=0,\"\",ข้อมูลนักเรียน!C37)","v":""},{"$f":"IF(ข้อมูลนักเรียน!C37=0,\"\",ข้อมูลนักเรียน!D37 & ข้อมูลนักเรียน!E37 & \"   \"& ข้อมูลนักเรียน!F37)","v":""},{"$f":"IF(ข้อมูลนักเรียน!C37=0,\"\",ข้อมูลนักเรียน!G37)","v":""},{"$f":"ข้อมูลนักเรียน!B37","v":0},null,null,null,null,null,null,null,null,null,null,null,null,null,null,null,null,null,null,null,null,null,null,null,null,null,null,"ผ่าน",0,null,"ปรับปรุง",null,22]
[{"$f":"ข้อมูลนักเรียน!A38","v":0},{"$f":"IF(ข้อมูลนักเรียน!B38=0,\"\",ข้อมูลนักเรียน!B38)","v":""},{"$f":"IF(ข้อมูลนักเรียน!C38=0,\"\",ข้อมูลนักเรียน!C38)","v":""},{"$f":"IF(ข้อมูลนักเรียน!C38=0,\"\",ข้อมูลนักเรียน!D38 & ข้อมูลนักเรียน!E38 & \"   \"& ข้อมูลนักเรียน!F38)","v":""},{"$f":"IF(ข้อมูลนักเรียน!C38=0,\"\",ข้อมูลนักเรียน!G38)","v":""},{"$f":"ข้อมูลนักเรียน!B38","v":0},null,null,null,null,null,null,null,null,null,null,null,null,null,null,null,null,null,null,null,null,null,null,null,null,null,null,"ผ่าน",0,null,"ปรับปรุง",null,22]
[{"$f":"ข้อมูลนักเรียน!A39","v":0},{"$f":"IF(ข้อมูลนักเรียน!B39=0,\"\",ข้อมูลนักเรียน!B39)","v":""},{"$f":"IF(ข้อมูลนักเรียน!C39=0,\"\",ข้อมูลนักเรียน!C39)","v":""},{"$f":"IF(ข้อมูลนักเรียน!C39=0,\"\",ข้อมูลนักเรียน!D39 & ข้อมูลนักเรียน!E39 & \"   \"& ข้อมูลนักเรียน!F39)","v":""},{"$f":"IF(ข้อมูลนักเรียน!C39=0,\"\",ข้อมูลนักเรียน!G39)","v":""},{"$f":"ข้อมูลนักเรียน!B39","v":0},null,null,null,null,null,null,null,null,null,null,null,null,null,null,null,null,null,null,null,null,null,null,null,null,null,null,"ผ่าน",0,null,"ปรับปรุง",null,22]
[{"$f":"ข้อมูลนักเรียน!A40","v":0},{"$f":"IF(ข้อมูลนักเรียน!B40=0,\"\",ข้อมูลนักเรียน!B40)","v":""},{"$f":"IF(ข้อมูลนักเรียน!C40=0,\"\",ข้อมูลนักเรียน!C40)","v":""},{"$f":"IF(ข้อมูลนักเรียน!C40=0,\"\",ข้อมูลนักเรียน!D40 & ข้อมูลนักเรียน!E40 & \"   \"& ข้อมูลนักเรียน!F40)","v":""},{"$f":"IF(ข้อมูลนักเรียน!C40=0,\"\",ข้อมูลนักเรียน!G40)","v":""},{"$f":"ข้อมูลนักเรียน!B40","v":0},null,null,null,null,null,null,null,null,null,null,null,null,null,null,null,null,null,null,null,null,null,null,null,null,null,null,"ผ่าน",0,null,"ปรับปรุง",null,22]
[{"$f":"ข้อมูลนักเรียน!A41","v":0},{"$f":"IF(ข้อมูลนักเรียน!B41=0,\"\",ข้อมูลนักเรียน!B41)","v":""},{"$f":"IF(ข้อมูลนักเรียน!C41=0,\"\",ข้อมูลนักเรียน!C41)","v":""},{"$f":"IF(ข้อมูลนักเรียน!C41=0,\"\",ข้อมูลนักเรียน!D41 & ข้อมูลนักเรียน!E41 & \"   \"& ข้อมูลนักเรียน!F41)","v":""},{"$f":"IF(ข้อมูลนักเรียน!C41=0,\"\",ข้อมูลนักเรียน!G41)","v":""},{"$f":"ข้อมูลนักเรียน!B41","v":0},null,null,null,null,null,null,null,null,null,null,null,null,null,null,null,null,null,null,null,null,null,null,null,null,null,null,"ผ่าน",{"$f":"ROUNDDOWN(0,2)","v":0},null,"ปรับปรุง",null,22]
[{"$f":"ข้อมูลนักเรียน!A42","v":0},{"$f":"IF(ข้อมูลนักเรียน!B42=0,\"\",ข้อมูลนักเรียน!B42)","v":""},{"$f":"IF(ข้อมูลนักเรียน!C42=0,\"\",ข้อมูลนักเรียน!C42)","v":""},{"$f":"IF(ข้อมูลนักเรียน!C42=0,\"\",ข้อมูลนักเรียน!D42 & ข้อมูลนักเรียน!E42 & \"   \"& ข้อมูลนักเรียน!F42)","v":""},{"$f":"IF(ข้อมูลนักเรียน!C42=0,\"\",ข้อมูลนักเรียน!G42)","v":""},{"$f":"ข้อมูลนักเรียน!B42","v":0},null,null,null,null,null,null,null,null,null,null,null,null,null,null,null,null,null,null,null,null,null,null,null,null,null,null,"ผ่าน",0,null,"ปรับปรุง",null,22]
[{"$f":"ข้อมูลนักเรียน!A43","v":0},{"$f":"IF(ข้อมูลนักเรียน!B43=0,\"\",ข้อมูลนักเรียน!B43)","v":""},{"$f":"IF(ข้อมูลนักเรียน!C43=0,\"\",ข้อมูลนักเรียน!C43)","v":""},{"$f":"IF(ข้อมูลนักเรียน!C43=0,\"\",ข้อมูลนักเรียน!D43 & ข้อมูลนักเรียน!E43 & \"   \"& ข้อมูลนักเรียน!F43)","v":""},{"$f":"IF(ข้อมูลนักเรียน!C43=0,\"\",ข้อมูลนักเรียน!G43)","v":""},{"$f":"ข้อมูลนักเรียน!B43","v":0},null,null,null,null,null,null,null,null,null,null,null,null,null,null,null,null,null,null,null,null,null,null,null,null,null,null,"ผ่าน",0,null,"ปรับปรุง",null,22]
[{"$f":"ข้อมูลนักเรียน!A44","v":0},{"$f":"IF(ข้อมูลนักเรียน!B44=0,\"\",ข้อมูลนักเรียน!B44)","v":""},{"$f":"IF(ข้อมูลนักเรียน!C44=0,\"\",ข้อมูลนักเรียน!C44)","v":""},{"$f":"IF(ข้อมูลนักเรียน!C44=0,\"\",ข้อมูลนักเรียน!D44 & ข้อมูลนักเรียน!E44 & \"   \"& ข้อมูลนักเรียน!F44)","v":""},{"$f":"IF(ข้อมูลนักเรียน!C44=0,\"\",ข้อมูลนักเรียน!G44)","v":""},{"$f":"ข้อมูลนักเรียน!B44","v":0},null,null,null,null,null,null,null,null,null,null,null,null,null,null,null,null,null,null,null,null,null,null,null,null,null,null,"ผ่าน",0,null,"ปรับปรุง",null,22]
[{"$f":"ข้อมูลนักเรียน!A45","v":0},{"$f":"IF(ข้อมูลนักเรียน!B45=0,\"\",ข้อมูลนักเรียน!B45)","v":""},{"$f":"IF(ข้อมูลนักเรียน!C45=0,\"\",ข้อมูลนักเรียน!C45)","v":""},{"$f":"IF(ข้อมูลนักเรียน!C45=0,\"\",ข้อมูลนักเรียน!D45 & ข้อมูลนักเรียน!E45 & \"   \"& ข้อมูลนักเรียน!F45)","v":""},{"$f":"IF(ข้อมูลนักเรียน!C45=0,\"\",ข้อมูลนักเรียน!G45)","v":""},{"$f":"ข้อมูลนักเรียน!B45","v":0},null,null,null,null,null,null,null,null,null,null,null,null,null,null,null,null,null,null,null,null,null,null,null,null,null,null,"ผ่าน",0,null,"ปรับปรุง",null,22]
[{"$f":"ข้อมูลนักเรียน!A46","v":0},{"$f":"IF(ข้อมูลนักเรียน!B46=0,\"\",ข้อมูลนักเรียน!B46)","v":""},{"$f":"IF(ข้อมูลนักเรียน!C46=0,\"\",ข้อมูลนักเรียน!C46)","v":""},{"$f":"IF(ข้อมูลนักเรียน!C46=0,\"\",ข้อมูลนักเรียน!D46 & ข้อมูลนักเรียน!E46 & \"   \"& ข้อมูลนักเรียน!F46)","v":""},{"$f":"IF(ข้อมูลนักเรียน!C46=0,\"\",ข้อมูลนักเรียน!G46)","v":""},{"$f":"ข้อมูลนักเรียน!B46","v":0},null,null,null,null,null,null,null,null,null,null,null,null,null,null,null,null,null,null,null,null,null,null,null,null,null,null,"ผ่าน",0,null,"ปรับปรุง",null,22]
[{"$f":"ข้อมูลนักเรียน!A47","v":0},{"$f":"IF(ข้อมูลนักเรียน!B47=0,\"\",ข้อมูลนักเรียน!B47)","v":""},{"$f":"IF(ข้อมูลนักเรียน!C47=0,\"\",ข้อมูลนักเรียน!C47)","v":""},{"$f":"IF(ข้อมูลนักเรียน!C47=0,\"\",ข้อมูลนักเรียน!D47 & ข้อมูลนักเรียน!E47 & \"   \"& ข้อมูลนักเรียน!F47)","v":""},{"$f":"IF(ข้อมูลนักเรียน!C47=0,\"\",ข้อมูลนักเรียน!G47)","v":""},{"$f":"ข้อมูลนักเรียน!B47","v":0},null,null,null,null,null,null,null,null,null,null,null,null,null,null,null,null,null,null,null,null,null,null,null,null,null,null,"ผ่าน",0,null,"ปรับปรุง",null,22]
[{"$f":"ข้อมูลนักเรียน!A48","v":0},{"$f":"IF(ข้อมูลนักเรียน!B48=0,\"\",ข้อมูลนักเรียน!B48)","v":""},{"$f":"IF(ข้อมูลนักเรียน!C48=0,\"\",ข้อมูลนักเรียน!C48)","v":""},{"$f":"IF(ข้อมูลนักเรียน!C48=0,\"\",ข้อมูลนักเรียน!D48 & ข้อมูลนักเรียน!E48 & \"   \"& ข้อมูลนักเรียน!F48)","v":""},{"$f":"IF(ข้อมูลนักเรียน!C48=0,\"\",ข้อมูลนักเรียน!G48)","v":""},{"$f":"ข้อมูลนักเรียน!B48","v":0},null,null,null,null,null,null,null,null,null,null,null,null,null,null,null,null,null,null,null,null,null,null,null,null,null,null,"ผ่าน",0,null,"ปรับปรุง",null,22]
[{"$f":"ข้อมูลนักเรียน!A49","v":0},{"$f":"IF(ข้อมูลนักเรียน!B49=0,\"\",ข้อมูลนักเรียน!B49)","v":""},{"$f":"IF(ข้อมูลนักเรียน!C49=0,\"\",ข้อมูลนักเรียน!C49)","v":""},{"$f":"IF(ข้อมูลนักเรียน!C49=0,\"\",ข้อมูลนักเรียน!D49 & ข้อมูลนักเรียน!E49 & \"   \"& ข้อมูลนักเรียน!F49)","v":""},{"$f":"IF(ข้อมูลนักเรียน!C49=0,\"\",ข้อมูลนักเรียน!G49)","v":""},{"$f":"ข้อมูลนักเรียน!B49","v":0},null,null,null,null,null,null,null,null,null,null,null,null,null,null,null,null,null,null,null,null,null,null,null,null,null,null,"ผ่าน",0,null,"ปรับปรุง",null,22]
[{"$f":"ข้อมูลนักเรียน!A50","v":0},{"$f":"IF(ข้อมูลนักเรียน!B50=0,\"\",ข้อมูลนักเรียน!B50)","v":""},{"$f":"IF(ข้อมูลนักเรียน!C50=0,\"\",ข้อมูลนักเรียน!C50)","v":""},{"$f":"IF(ข้อมูลนักเรียน!C50=0,\"\",ข้อมูลนักเรียน!D50 & ข้อมูลนักเรียน!E50 & \"   \"& ข้อมูลนักเรียน!F50)","v":""},{"$f":"IF(ข้อมูลนักเรียน!C50=0,\"\",ข้อมูลนักเรียน!G50)","v":""},{"$f":"ข้อมูลนักเรียน!B50","v":0},null,null,null,null,null,null,null,null,null,null,null,null,null,null,null,null,null,null,null,null,null,null,null,null,null,null,"ผ่าน",0,null,"ปรับปรุง",null,22]
[{"$f":"ข้อมูลนักเรียน!A51","v":0},{"$f":"IF(ข้อมูลนักเรียน!B51=0,\"\",ข้อมูลนักเรียน!B51)","v":""},{"$f":"IF(ข้อมูลนักเรียน!C51=0,\"\",ข้อมูลนักเรียน!C51)","v":""},{"$f":"IF(ข้อมูลนักเรียน!C51=0,\"\",ข้อมูลนักเรียน!D51 & ข้อมูลนักเรียน!E51 & \"   \"& ข้อมูลนักเรียน!F51)","v":""},{"$f":"IF(ข้อมูลนักเรียน!C51=0,\"\",ข้อมูลนักเรียน!G51)","v":""},{"$f":"ข้อมูลนักเรียน!B51","v":0},null,null,null,null,null,null,null,null,null,null,null,null,null,null,null,null,null,null,null,null,null,null,null,null,null,null,"ผ่าน",0,null,"ปรับปรุง",null,22]
[{"$f":"ข้อมูลนักเรียน!A52","v":0},{"$f":"IF(ข้อมูลนักเรียน!B52=0,\"\",ข้อมูลนักเรียน!B52)","v":""},{"$f":"IF(ข้อมูลนักเรียน!C52=0,\"\",ข้อมูลนักเรียน!C52)","v":""},{"$f":"IF(ข้อมูลนักเรียน!C52=0,\"\",ข้อมูลนักเรียน!D52 & ข้อมูลนักเรียน!E52 & \"   \"& ข้อมูลนักเรียน!F52)","v":""},{"$f":"IF(ข้อมูลนักเรียน!C52=0,\"\",ข้อมูลนักเรียน!G52)","v":""},{"$f":"ข้อมูลนักเรียน!B52","v":0},null,null,null,null,null,null,null,null,null,null,null,null,null,null,null,null,null,null,null,null,null,null,null,null,null,null,"ผ่าน",0,null,"ปรับปรุง",null,22]
[{"$f":"ข้อมูลนักเรียน!A53","v":0},{"$f":"IF(ข้อมูลนักเรียน!B53=0,\"\",ข้อมูลนักเรียน!B53)","v":""},{"$f":"IF(ข้อมูลนักเรียน!C53=0,\"\",ข้อมูลนักเรียน!C53)","v":""},{"$f":"IF(ข้อมูลนักเรียน!C53=0,\"\",ข้อมูลนักเรียน!D53 & ข้อมูลนักเรียน!E53 & \"   \"& ข้อมูลนักเรียน!F53)","v":""},{"$f":"IF(ข้อมูลนักเรียน!C53=0,\"\",ข้อมูลนักเรียน!G53)","v":""},{"$f":"ข้อมูลนักเรียน!B53","v":0},null,null,null,null,null,null,null,null,null,null,null,null,null,null,null,null,null,null,null,null,null,null,null,null,null,null,"ผ่าน",0,null,"ปรับปรุง",null,22]
[{"$f":"ข้อมูลนักเรียน!A54","v":0},{"$f":"IF(ข้อมูลนักเรียน!B54=0,\"\",ข้อมูลนักเรียน!B54)","v":""},{"$f":"IF(ข้อมูลนักเรียน!C54=0,\"\",ข้อมูลนักเรียน!C54)","v":""},{"$f":"IF(ข้อมูลนักเรียน!C54=0,\"\",ข้อมูลนักเรียน!D54 & ข้อมูลนักเรียน!E54 & \"   \"& ข้อมูลนักเรียน!F54)","v":""},{"$f":"IF(ข้อมูลนักเรียน!C54=0,\"\",ข้อมูลนักเรียน!G54)","v":""},{"$f":"ข้อมูลนักเรียน!B54","v":0},null,null,null,null,null,null,null,null,null,null,null,null,null,null,null,null,null,null,null,null,null,null,null,null,null,null,"ผ่าน",0,null,"ปรับปรุง",null,22]
[{"$f":"ข้อมูลนักเรียน!A55","v":0},{"$f":"IF(ข้อมูลนักเรียน!B55=0,\"\",ข้อมูลนักเรียน!B55)","v":""},{"$f":"IF(ข้อมูลนักเรียน!C55=0,\"\",ข้อมูลนักเรียน!C55)","v":""},{"$f":"IF(ข้อมูลนักเรียน!C55=0,\"\",ข้อมูลนักเรียน!D55 & ข้อมูลนักเรียน!E55 & \"   \"& ข้อมูลนักเรียน!F55)","v":""},{"$f":"IF(ข้อมูลนักเรียน!C55=0,\"\",ข้อมูลนักเรียน!G55)","v":""},{"$f":"ข้อมูลนักเรียน!B55","v":0},null,null,null,null,null,null,null,null,null,null,null,null,null,null,null,null,null,null,null,null,null,null,null,null,null,null,"ผ่าน",0,null,"ปรับปรุง",null,22]
[{"$f":"ข้อมูลนักเรียน!A56","v":0},{"$f":"IF(ข้อมูลนักเรียน!B56=0,\"\",ข้อมูลนักเรียน!B56)","v":""},{"$f":"IF(ข้อมูลนักเรียน!C56=0,\"\",ข้อมูลนักเรียน!C56)","v":""},{"$f":"IF(ข้อมูลนักเรียน!C56=0,\"\",ข้อมูลนักเรียน!D56 & ข้อมูลนักเรียน!E56 & \"   \"& ข้อมูลนักเรียน!F56)","v":""},{"$f":"IF(ข้อมูลนักเรียน!C56=0,\"\",ข้อมูลนักเรียน!G56)","v":""},{"$f":"ข้อมูลนักเรียน!B56","v":0},null,null,null,null,null,null,null,null,null,null,null,null,null,null,null,null,null,null,null,null,null,null,null,null,null,null,"ผ่าน",0,null,"ปรับปรุง",null,22]
[{"$f":"ข้อมูลนักเรียน!A57","v":0},{"$f":"IF(ข้อมูลนักเรียน!B57=0,\"\",ข้อมูลนักเรียน!B57)","v":""},{"$f":"IF(ข้อมูลนักเรียน!C57=0,\"\",ข้อมูลนักเรียน!C57)","v":""},{"$f":"IF(ข้อมูลนักเรียน!C57=0,\"\",ข้อมูลนักเรียน!D57 & ข้อมูลนักเรียน!E57 & \"   \"& ข้อมูลนักเรียน!F57)","v":""},{"$f":"IF(ข้อมูลนักเรียน!C57=0,\"\",ข้อมูลนักเรียน!G57)","v":""},{"$f":"ข้อมูลนักเรียน!B57","v":0},null,null,null,null,null,null,null,null,null,null,null,null,null,null,null,null,null,null,null,null,null,null,null,null,null,null,"ผ่าน",0,null,"ปรับปรุง",null,22]
[{"$f":"ข้อมูลนักเรียน!A58","v":0},{"$f":"IF(ข้อมูลนักเรียน!B58=0,\"\",ข้อมูลนักเรียน!B58)","v":""},{"$f":"IF(ข้อมูลนักเรียน!C58=0,\"\",ข้อมูลนักเรียน!C58)","v":""},{"$f":"IF(ข้อมูลนักเรียน!C58=0,\"\",ข้อมูลนักเรียน!D58 & ข้อมูลนักเรียน!E58 & \"   \"& ข้อมูลนักเรียน!F58)","v":""},{"$f":"IF(ข้อมูลนักเรียน!C58=0,\"\",ข้อมูลนักเรียน!G58)","v":""},{"$f":"ข้อมูลนักเรียน!B58","v":0},null,null,null,null,null,null,null,null,null,null,null,null,null,null,null,null,null,null,null,null,null,null,null,null,null,null,"ผ่าน",0,null,"ปรับปรุง",null,22]
[{"$f":"ข้อมูลนักเรียน!A59","v":0},{"$f":"IF(ข้อมูลนักเรียน!B59=0,\"\",ข้อมูลนักเรียน!B59)","v":""},{"$f":"IF(ข้อมูลนักเรียน!C59=0,\"\",ข้อมูลนักเรียน!C59)","v":""},{"$f":"IF(ข้อมูลนักเรียน!C59=0,\"\",ข้อมูลนักเรียน!D59 & ข้อมูลนักเรียน!E59 & \"   \"& ข้อมูลนักเรียน!F59)","v":""},{"$f":"IF(ข้อมูลนักเรียน!C59=0,\"\",ข้อมูลนักเรียน!G59)","v":""},{"$f":"ข้อมูลนักเรียน!B59","v":0},null,null,null,null,null,null,null,null,null,null,null,null,null,null,null,null,null,null,null,null,null,null,null,null,null,null,"ผ่าน",0,null,"ปรับปรุง",null,22]
[{"$f":"ข้อมูลนักเรียน!A60","v":0},{"$f":"IF(ข้อมูลนักเรียน!B60=0,\"\",ข้อมูลนักเรียน!B60)","v":""},{"$f":"IF(ข้อมูลนักเรียน!C60=0,\"\",ข้อมูลนักเรียน!C60)","v":""},{"$f":"IF(ข้อมูลนักเรียน!C60=0,\"\",ข้อมูลนักเรียน!D60 & ข้อมูลนักเรียน!E60 & \"   \"& ข้อมูลนักเรียน!F60)","v":""},{"$f":"IF(ข้อมูลนักเรียน!C60=0,\"\",ข้อมูลนักเรียน!G60)","v":""},{"$f":"ข้อมูลนักเรียน!B60","v":0},null,null,null,null,null,null,null,null,null,null,null,null,null,null,null,null,null,null,null,null,null,null,null,null,null,null,"ผ่าน",0,null,"ปรับปรุง",null,22]
[{"$f":"ข้อมูลนักเรียน!A61","v":0},{"$f":"IF(ข้อมูลนักเรียน!B61=0,\"\",ข้อมูลนักเรียน!B61)","v":""},{"$f":"IF(ข้อมูลนักเรียน!C61=0,\"\",ข้อมูลนักเรียน!C61)","v":""},{"$f":"IF(ข้อมูลนักเรียน!C61=0,\"\",ข้อมูลนักเรียน!D61 & ข้อมูลนักเรียน!E61 & \"   \"& ข้อมูลนักเรียน!F61)","v":""},{"$f":"IF(ข้อมูลนักเรียน!C61=0,\"\",ข้อมูลนักเรียน!G61)","v":""},{"$f":"ข้อมูลนักเรียน!B61","v":0},null,null,null,null,null,null,null,null,null,null,null,null,null,null,null,null,null,null,null,null,null,null,null,null,null,null,"ผ่าน",0,null,"ปรับปรุง",null,22]
[{"$f":"ข้อมูลนักเรียน!A62","v":0},{"$f":"IF(ข้อมูลนักเรียน!B62=0,\"\",ข้อมูลนักเรียน!B62)","v":""},{"$f":"IF(ข้อมูลนักเรียน!C62=0,\"\",ข้อมูลนักเรียน!C62)","v":""},{"$f":"IF(ข้อมูลนักเรียน!C62=0,\"\",ข้อมูลนักเรียน!D62 & ข้อมูลนักเรียน!E62 & \"   \"& ข้อมูลนักเรียน!F62)","v":""},{"$f":"IF(ข้อมูลนักเรียน!C62=0,\"\",ข้อมูลนักเรียน!G62)","v":""},{"$f":"ข้อมูลนักเรียน!B62","v":0},null,null,null,null,null,null,null,null,null,null,null,null,null,null,null,null,null,null,null,null,null,null,null,null,null,null,"ผ่าน",0,null,"ปรับปรุง",null,22]
[{"$f":"ข้อมูลนักเรียน!A63","v":0},{"$f":"IF(ข้อมูลนักเรียน!B63=0,\"\",ข้อมูลนักเรียน!B63)","v":""},{"$f":"IF(ข้อมูลนักเรียน!C63=0,\"\",ข้อมูลนักเรียน!C63)","v":""},{"$f":"IF(ข้อมูลนักเรียน!C63=0,\"\",ข้อมูลนักเรียน!D63 & ข้อมูลนักเรียน!E63 & \"   \"& ข้อมูลนักเรียน!F63)","v":""},{"$f":"IF(ข้อมูลนักเรียน!C63=0,\"\",ข้อมูลนักเรียน!G63)","v":""},{"$f":"ข้อมูลนักเรียน!B63","v":0},null,null,null,null,null,null,null,null,null,null,null,null,null,null,null,null,null,null,null,null,null,null,null,null,null,null,"ผ่าน",0,null,"ปรับปรุง",null,22]
[{"$f":"ข้อมูลนักเรียน!A64","v":0},{"$f":"IF(ข้อมูลนักเรียน!B64=0,\"\",ข้อมูลนักเรียน!B64)","v":""},{"$f":"IF(ข้อมูลนักเรียน!C64=0,\"\",ข้อมูลนักเรียน!C64)","v":""},{"$f":"IF(ข้อมูลนักเรียน!C64=0,\"\",ข้อมูลนักเรียน!D64 & ข้อมูลนักเรียน!E64 & \"   \"& ข้อมูลนักเรียน!F64)","v":""},{"$f":"IF(ข้อมูลนักเรียน!C64=0,\"\",ข้อมูลนักเรียน!G64)","v":""},{"$f":"ข้อมูลนักเรียน!B64","v":0},null,null,null,null,null,null,null,null,null,null,null,null,null,null,null,null,null,null,null,null,null,null,null,null,null,null,"ผ่าน",0,null,"ปรับปรุง",null,22]
[{"$f":"ข้อมูลนักเรียน!A65","v":0},{"$f":"IF(ข้อมูลนักเรียน!B65=0,\"\",ข้อมูลนักเรียน!B65)","v":""},{"$f":"IF(ข้อมูลนักเรียน!C65=0,\"\",ข้อมูลนักเรียน!C65)","v":""},{"$f":"IF(ข้อมูลนักเรียน!C65=0,\"\",ข้อมูลนักเรียน!D65 & ข้อมูลนักเรียน!E65 & \"   \"& ข้อมูลนักเรียน!F65)","v":""},{"$f":"IF(ข้อมูลนักเรียน!C65=0,\"\",ข้อมูลนักเรียน!G65)","v":""},{"$f":"ข้อมูลนักเรียน!B65","v":0},null,null,null,null,null,null,null,null,null,null,null,null,null,null,null,null,null,null,null,null,null,null,null,null,null,null,"ผ่าน",0,null,"ปรับปรุง",null,22]
[{"$f":"ข้อมูลนักเรียน!A66","v":0},{"$f":"IF(ข้อมูลนักเรียน!B66=0,\"\",ข้อมูลนักเรียน!B66)","v":""},{"$f":"IF(ข้อมูลนักเรียน!C66=0,\"\",ข้อมูลนักเรียน!C66)","v":""},{"$f":"IF(ข้อมูลนักเรียน!C66=0,\"\",ข้อมูลนักเรียน!D66 & ข้อมูลนักเรียน!E66 & \"   \"& ข้อมูลนักเรียน!F66)","v":""},{"$f":"IF(ข้อมูลนักเรียน!C66=0,\"\",ข้อมูลนักเรียน!G66)","v":""},{"$f":"ข้อมูลนักเรียน!B66","v":0},null,null,null,null,null,null,null,null,null,null,null,null,null,null,null,null,null,null,null,null,null,null,null,null,null,null,"ผ่าน",0,null,"ปรับปรุง",null,22]
[{"$f":"ข้อมูลนักเรียน!A67","v":0},{"$f":"IF(ข้อมูลนักเรียน!B67=0,\"\",ข้อมูลนักเรียน!B67)","v":""},{"$f":"IF(ข้อมูลนักเรียน!C67=0,\"\",ข้อมูลนักเรียน!C67)","v":""},{"$f":"IF(ข้อมูลนักเรียน!C67=0,\"\",ข้อมูลนักเรียน!D67 & ข้อมูลนักเรียน!E67 & \"   \"& ข้อมูลนักเรียน!F67)","v":""},{"$f":"IF(ข้อมูลนักเรียน!C67=0,\"\",ข้อมูลนักเรียน!G67)","v":""},{"$f":"ข้อมูลนักเรียน!B67","v":0},null,null,null,null,null,null,null,null,null,null,null,null,null,null,null,null,null,null,null,null,null,null,null,null,null,null,"ผ่าน",0,null,"ปรับปรุง",null,22]
[{"$f":"ข้อมูลนักเรียน!A68","v":0},{"$f":"IF(ข้อมูลนักเรียน!B68=0,\"\",ข้อมูลนักเรียน!B68)","v":""},{"$f":"IF(ข้อมูลนักเรียน!C68=0,\"\",ข้อมูลนักเรียน!C68)","v":""},{"$f":"IF(ข้อมูลนักเรียน!C68=0,\"\",ข้อมูลนักเรียน!D68 & ข้อมูลนักเรียน!E68 & \"   \"& ข้อมูลนักเรียน!F68)","v":""},{"$f":"IF(ข้อมูลนักเรียน!C68=0,\"\",ข้อมูลนักเรียน!G68)","v":""},{"$f":"ข้อมูลนักเรียน!B68","v":0},null,null,null,null,null,null,null,null,null,null,null,null,null,null,null,null,null,null,null,null,null,null,null,null,null,null,"ผ่าน",0,null,"ปรับปรุง",null,22]
[{"$f":"ข้อมูลนักเรียน!A69","v":0},{"$f":"IF(ข้อมูลนักเรียน!B69=0,\"\",ข้อมูลนักเรียน!B69)","v":""},{"$f":"IF(ข้อมูลนักเรียน!C69=0,\"\",ข้อมูลนักเรียน!C69)","v":""},{"$f":"IF(ข้อมูลนักเรียน!C69=0,\"\",ข้อมูลนักเรียน!D69 & ข้อมูลนักเรียน!E69 & \"   \"& ข้อมูลนักเรียน!F69)","v":""},{"$f":"IF(ข้อมูลนักเรียน!C69=0,\"\",ข้อมูลนักเรียน!G69)","v":""},{"$f":"ข้อมูลนักเรียน!B69","v":0},null,null,null,null,null,null,null,null,null,null,null,null,null,null,null,null,null,null,null,null,null,null,null,null,null,null,"ผ่าน",0,null,"ปรับปรุง",null,22]
[{"$f":"ข้อมูลนักเรียน!A70","v":0},{"$f":"IF(ข้อมูลนักเรียน!B70=0,\"\",ข้อมูลนักเรียน!B70)","v":""},{"$f":"IF(ข้อมูลนักเรียน!C70=0,\"\",ข้อมูลนักเรียน!C70)","v":""},{"$f":"IF(ข้อมูลนักเรียน!C70=0,\"\",ข้อมูลนักเรียน!D70 & ข้อมูลนักเรียน!E70 & \"   \"& ข้อมูลนักเรียน!F70)","v":""},{"$f":"IF(ข้อมูลนักเรียน!C70=0,\"\",ข้อมูลนักเรียน!G70)","v":""},{"$f":"ข้อมูลนักเรียน!B70","v":0},null,null,null,null,null,null,null,null,null,null,null,null,null,null,null,null,null,null,null,null,null,null,null,null,null,null,"ผ่าน",0,null,"ปรับปรุง",null,22]
[{"$f":"ข้อมูลนักเรียน!A71","v":0},{"$f":"IF(ข้อมูลนักเรียน!B71=0,\"\",ข้อมูลนักเรียน!B71)","v":""},{"$f":"IF(ข้อมูลนักเรียน!C71=0,\"\",ข้อมูลนักเรียน!C71)","v":""},{"$f":"IF(ข้อมูลนักเรียน!C71=0,\"\",ข้อมูลนักเรียน!D71 & ข้อมูลนักเรียน!E71 & \"   \"& ข้อมูลนักเรียน!F71)","v":""},{"$f":"IF(ข้อมูลนักเรียน!C71=0,\"\",ข้อมูลนักเรียน!G71)","v":""},{"$f":"ข้อมูลนักเรียน!B71","v":0},null,null,null,null,null,null,null,null,null,null,null,null,null,null,null,null,null,null,null,null,null,null,null,null,null,null,"ผ่าน",0,null,"ปรับปรุง",null,22]
[{"$f":"ข้อมูลนักเรียน!A72","v":0},{"$f":"IF(ข้อมูลนักเรียน!B72=0,\"\",ข้อมูลนักเรียน!B72)","v":""},{"$f":"IF(ข้อมูลนักเรียน!C72=0,\"\",ข้อมูลนักเรียน!C72)","v":""},{"$f":"IF(ข้อมูลนักเรียน!C72=0,\"\",ข้อมูลนักเรียน!D72 & ข้อมูลนักเรียน!E72 & \"   \"& ข้อมูลนักเรียน!F72)","v":""},{"$f":"IF(ข้อมูลนักเรียน!C72=0,\"\",ข้อมูลนักเรียน!G72)","v":""},{"$f":"ข้อมูลนักเรียน!B72","v":0},null,null,null,null,null,null,null,null,null,null,null,null,null,null,null,null,null,null,null,null,null,null,null,null,null,null,"ผ่าน",0,null,"ปรับปรุง",null,22]
[{"$f":"ข้อมูลนักเรียน!A73","v":0},{"$f":"IF(ข้อมูลนักเรียน!B73=0,\"\",ข้อมูลนักเรียน!B73)","v":""},{"$f":"IF(ข้อมูลนักเรียน!C73=0,\"\",ข้อมูลนักเรียน!C73)","v":""},{"$f":"IF(ข้อมูลนักเรียน!C73=0,\"\",ข้อมูลนักเรียน!D73 & ข้อมูลนักเรียน!E73 & \"   \"& ข้อมูลนักเรียน!F73)","v":""},{"$f":"IF(ข้อมูลนักเรียน!C73=0,\"\",ข้อมูลนักเรียน!G73)","v":""},{"$f":"ข้อมูลนักเรียน!B73","v":0},null,null,null,null,null,null,null,null,null,null,null,null,null,null,null,null,null,null,null,null,null,null,null,null,null,null,{"$f":"IF(COUNTIFS(Z73:AD73,\"=มผ\") > 0,\"ไม่ผ่าน\",\"ผ่าน\")","v":"ผ่าน"},{"$f":"ROUNDDOWN(0,2)","v":0},null,{"$f":"IF(AF73=1,\"ผ่าน\",IF(AF73=2,\"ดี\",IF(AF73=3,\"ดีเยี่ยม\",\"ปรับปรุง\")))","v":"ปรับปรุง"},null,22]
[{"$f":"ข้อมูลนักเรียน!A74","v":0},{"$f":"IF(ข้อมูลนักเรียน!B74=0,\"\",ข้อมูลนักเรียน!B74)","v":""},{"$f":"IF(ข้อมูลนักเรียน!C74=0,\"\",ข้อมูลนักเรียน!C74)","v":""},{"$f":"IF(ข้อมูลนักเรียน!C74=0,\"\",ข้อมูลนักเรียน!D74 & ข้อมูลนักเรียน!E74 & \"   \"& ข้อมูลนักเรียน!F74)","v":""},{"$f":"IF(ข้อมูลนักเรียน!C74=0,\"\",ข้อมูลนักเรียน!G74)","v":""},{"$f":"ข้อมูลนักเรียน!B74","v":0},null,null,null,null,null,null,null,null,null,null,null,null,null,null,null,null,null,null,null,null,null,null,null,null,null,null,"ผ่าน",0,null,"ปรับปรุง",null,22]
[{"$f":"ข้อมูลนักเรียน!A75","v":0},{"$f":"IF(ข้อมูลนักเรียน!B75=0,\"\",ข้อมูลนักเรียน!B75)","v":""},{"$f":"IF(ข้อมูลนักเรียน!C75=0,\"\",ข้อมูลนักเรียน!C75)","v":""},{"$f":"IF(ข้อมูลนักเรียน!C75=0,\"\",ข้อมูลนักเรียน!D75 & ข้อมูลนักเรียน!E75 & \"   \"& ข้อมูลนักเรียน!F75)","v":""},{"$f":"IF(ข้อมูลนักเรียน!C75=0,\"\",ข้อมูลนักเรียน!G75)","v":""},{"$f":"ข้อมูลนักเรียน!B75","v":0},null,null,null,null,null,null,null,null,null,null,null,null,null,null,null,null,null,null,null,null,null,null,null,null,null,null,"ผ่าน",0,null,"ปรับปรุง",null,22]
[{"$f":"ข้อมูลนักเรียน!A76","v":0},{"$f":"IF(ข้อมูลนักเรียน!B76=0,\"\",ข้อมูลนักเรียน!B76)","v":""},{"$f":"IF(ข้อมูลนักเรียน!C76=0,\"\",ข้อมูลนักเรียน!C76)","v":""},{"$f":"IF(ข้อมูลนักเรียน!C76=0,\"\",ข้อมูลนักเรียน!D76 & ข้อมูลนักเรียน!E76 & \"   \"& ข้อมูลนักเรียน!F76)","v":""},{"$f":"IF(ข้อมูลนักเรียน!C76=0,\"\",ข้อมูลนักเรียน!G76)","v":""},{"$f":"ข้อมูลนักเรียน!B76","v":0},null,null,null,null,null,null,null,null,null,null,null,null,null,null,null,null,null,null,null,null,null,null,null,null,null,null,"ผ่าน",0,null,"ปรับปรุง",null,22]
[{"$f":"ข้อมูลนักเรียน!A77","v":0},{"$f":"IF(ข้อมูลนักเรียน!B77=0,\"\",ข้อมูลนักเรียน!B77)","v":""},{"$f":"IF(ข้อมูลนักเรียน!C77=0,\"\",ข้อมูลนักเรียน!C77)","v":""},{"$f":"IF(ข้อมูลนักเรียน!C77=0,\"\",ข้อมูลนักเรียน!D77 & ข้อมูลนักเรียน!E77 & \"   \"& ข้อมูลนักเรียน!F77)","v":""},{"$f":"IF(ข้อมูลนักเรียน!C77=0,\"\",ข้อมูลนักเรียน!G77)","v":""},{"$f":"ข้อมูลนักเรียน!B77","v":0},null,null,null,null,null,null,null,null,null,null,null,null,null,null,null,null,null,null,null,null,null,null,null,null,null,null,"ผ่าน",0,null,"ปรับปรุง",null,22]
[{"$f":"ข้อมูลนักเรียน!A78","v":0},{"$f":"IF(ข้อมูลนักเรียน!B78=0,\"\",ข้อมูลนักเรียน!B78)","v":""},{"$f":"IF(ข้อมูลนักเรียน!C78=0,\"\",ข้อมูลนักเรียน!C78)","v":""},{"$f":"IF(ข้อมูลนักเรียน!C78=0,\"\",ข้อมูลนักเรียน!D78 & ข้อมูลนักเรียน!E78 & \"   \"& ข้อมูลนักเรียน!F78)","v":""},{"$f":"IF(ข้อมูลนักเรียน!C78=0,\"\",ข้อมูลนักเรียน!G78)","v":""},{"$f":"ข้อมูลนักเรียน!B78","v":0},null,null,null,null,null,null,null,null,null,null,null,null,null,null,null,null,null,null,null,null,null,null,null,null,null,null,"ผ่าน",0,null,"ปรับปรุง",null,22]
[{"$f":"ข้อมูลนักเรียน!A79","v":0},{"$f":"IF(ข้อมูลนักเรียน!B79=0,\"\",ข้อมูลนักเรียน!B79)","v":""},{"$f":"IF(ข้อมูลนักเรียน!C79=0,\"\",ข้อมูลนักเรียน!C79)","v":""},{"$f":"IF(ข้อมูลนักเรียน!C79=0,\"\",ข้อมูลนักเรียน!D79 & ข้อมูลนักเรียน!E79 & \"   \"& ข้อมูลนักเรียน!F79)","v":""},{"$f":"IF(ข้อมูลนักเรียน!C79=0,\"\",ข้อมูลนักเรียน!G79)","v":""},{"$f":"ข้อมูลนักเรียน!B79","v":0},null,null,null,null,null,null,null,null,null,null,null,null,null,null,null,null,null,null,null,null,null,null,null,null,null,null,"ผ่าน",0,null,"ปรับปรุง",null,22]
[{"$f":"ข้อมูลนักเรียน!A80","v":0},{"$f":"IF(ข้อมูลนักเรียน!B80=0,\"\",ข้อมูลนักเรียน!B80)","v":""},{"$f":"IF(ข้อมูลนักเรียน!C80=0,\"\",ข้อมูลนักเรียน!C80)","v":""},{"$f":"IF(ข้อมูลนักเรียน!C80=0,\"\",ข้อมูลนักเรียน!D80 & ข้อมูลนักเรียน!E80 & \"   \"& ข้อมูลนักเรียน!F80)","v":""},{"$f":"IF(ข้อมูลนักเรียน!C80=0,\"\",ข้อมูลนักเรียน!G80)","v":""},{"$f":"ข้อมูลนักเรียน!B80","v":0},null,null,null,null,null,null,null,null,null,null,null,null,null,null,null,null,null,null,null,null,null,null,null,null,null,null,"ผ่าน",0,null,"ปรับปรุง",null,22]
[{"$f":"ข้อมูลนักเรียน!A81","v":0},{"$f":"IF(ข้อมูลนักเรียน!B81=0,\"\",ข้อมูลนักเรียน!B81)","v":""},{"$f":"IF(ข้อมูลนักเรียน!C81=0,\"\",ข้อมูลนักเรียน!C81)","v":""},{"$f":"IF(ข้อมูลนักเรียน!C81=0,\"\",ข้อมูลนักเรียน!D81 & ข้อมูลนักเรียน!E81 & \"   \"& ข้อมูลนักเรียน!F81)","v":""},{"$f":"IF(ข้อมูลนักเรียน!C81=0,\"\",ข้อมูลนักเรียน!G81)","v":""},{"$f":"ข้อมูลนักเรียน!B81","v":0},null,null,null,null,null,null,null,null,null,null,null,null,null,null,null,null,null,null,null,null,null,null,null,null,null,null,"ผ่าน",0,null,"ปรับปรุง",null,22]
[{"$f":"ข้อมูลนักเรียน!A82","v":0},{"$f":"IF(ข้อมูลนักเรียน!B82=0,\"\",ข้อมูลนักเรียน!B82)","v":""},{"$f":"IF(ข้อมูลนักเรียน!C82=0,\"\",ข้อมูลนักเรียน!C82)","v":""},{"$f":"IF(ข้อมูลนักเรียน!C82=0,\"\",ข้อมูลนักเรียน!D82 & ข้อมูลนักเรียน!E82 & \"   \"& ข้อมูลนักเรียน!F82)","v":""},{"$f":"IF(ข้อมูลนักเรียน!C82=0,\"\",ข้อมูลนักเรียน!G82)","v":""},{"$f":"ข้อมูลนักเรียน!B82","v":0},null,null,null,null,null,null,null,null,null,null,null,null,null,null,null,null,null,null,null,null,null,null,null,null,null,null,"ผ่าน",0,null,"ปรับปรุง",null,22]
[{"$f":"ข้อมูลนักเรียน!A83","v":0},{"$f":"IF(ข้อมูลนักเรียน!B83=0,\"\",ข้อมูลนักเรียน!B83)","v":""},{"$f":"IF(ข้อมูลนักเรียน!C83=0,\"\",ข้อมูลนักเรียน!C83)","v":""},{"$f":"IF(ข้อมูลนักเรียน!C83=0,\"\",ข้อมูลนักเรียน!D83 & ข้อมูลนักเรียน!E83 & \"   \"& ข้อมูลนักเรียน!F83)","v":""},{"$f":"IF(ข้อมูลนักเรียน!C83=0,\"\",ข้อมูลนักเรียน!G83)","v":""},{"$f":"ข้อมูลนักเรียน!B83","v":0},null,null,null,null,null,null,null,null,null,null,null,null,null,null,null,null,null,null,null,null,null,null,null,null,null,null,"ผ่าน",0,null,"ปรับปรุง",null,22]
[{"$f":"ข้อมูลนักเรียน!A84","v":0},{"$f":"IF(ข้อมูลนักเรียน!B84=0,\"\",ข้อมูลนักเรียน!B84)","v":""},{"$f":"IF(ข้อมูลนักเรียน!C84=0,\"\",ข้อมูลนักเรียน!C84)","v":""},{"$f":"IF(ข้อมูลนักเรียน!C84=0,\"\",ข้อมูลนักเรียน!D84 & ข้อมูลนักเรียน!E84 & \"   \"& ข้อมูลนักเรียน!F84)","v":""},{"$f":"IF(ข้อมูลนักเรียน!C84=0,\"\",ข้อมูลนักเรียน!G84)","v":""},{"$f":"ข้อมูลนักเรียน!B84","v":0},null,null,null,null,null,null,null,null,null,null,null,null,null,null,null,null,null,null,null,null,null,null,null,null,null,null,"ผ่าน",0,null,"ปรับปรุง",null,22]
[{"$f":"ข้อมูลนักเรียน!A85","v":0},{"$f":"IF(ข้อมูลนักเรียน!B85=0,\"\",ข้อมูลนักเรียน!B85)","v":""},{"$f":"IF(ข้อมูลนักเรียน!C85=0,\"\",ข้อมูลนักเรียน!C85)","v":""},{"$f":"IF(ข้อมูลนักเรียน!C85=0,\"\",ข้อมูลนักเรียน!D85 & ข้อมูลนักเรียน!E85 & \"   \"& ข้อมูลนักเรียน!F85)","v":""},{"$f":"IF(ข้อมูลนักเรียน!C85=0,\"\",ข้อมูลนักเรียน!G85)","v":""},{"$f":"ข้อมูลนักเรียน!B85","v":0},null,null,null,null,null,null,null,null,null,null,null,null,null,null,null,null,null,null,null,null,null,null,null,null,null,null,"ผ่าน",0,null,"ปรับปรุง",null,22]
[{"$f":"ข้อมูลนักเรียน!A86","v":0},{"$f":"IF(ข้อมูลนักเรียน!B86=0,\"\",ข้อมูลนักเรียน!B86)","v":""},{"$f":"IF(ข้อมูลนักเรียน!C86=0,\"\",ข้อมูลนักเรียน!C86)","v":""},{"$f":"IF(ข้อมูลนักเรียน!C86=0,\"\",ข้อมูลนักเรียน!D86 & ข้อมูลนักเรียน!E86 & \"   \"& ข้อมูลนักเรียน!F86)","v":""},{"$f":"IF(ข้อมูลนักเรียน!C86=0,\"\",ข้อมูลนักเรียน!G86)","v":""},{"$f":"ข้อมูลนักเรียน!B86","v":0},null,null,null,null,null,null,null,null,null,null,null,null,null,null,null,null,null,null,null,null,null,null,null,null,null,null,"ผ่าน",0,null,"ปรับปรุง",null,22]
[{"$f":"ข้อมูลนักเรียน!A87","v":0},{"$f":"IF(ข้อมูลนักเรียน!B87=0,\"\",ข้อมูลนักเรียน!B87)","v":""},{"$f":"IF(ข้อมูลนักเรียน!C87=0,\"\",ข้อมูลนักเรียน!C87)","v":""},{"$f":"IF(ข้อมูลนักเรียน!C87=0,\"\",ข้อมูลนักเรียน!D87 & ข้อมูลนักเรียน!E87 & \"   \"& ข้อมูลนักเรียน!F87)","v":""},{"$f":"IF(ข้อมูลนักเรียน!C87=0,\"\",ข้อมูลนักเรียน!G87)","v":""},{"$f":"ข้อมูลนักเรียน!B87","v":0},null,null,null,null,null,null,null,null,null,null,null,null,null,null,null,null,null,null,null,null,null,null,null,null,null,null,"ผ่าน",0,null,"ปรับปรุง",null,22]
[{"$f":"ข้อมูลนักเรียน!A88","v":0},{"$f":"IF(ข้อมูลนักเรียน!B88=0,\"\",ข้อมูลนักเรียน!B88)","v":""},{"$f":"IF(ข้อมูลนักเรียน!C88=0,\"\",ข้อมูลนักเรียน!C88)","v":""},{"$f":"IF(ข้อมูลนักเรียน!C88=0,\"\",ข้อมูลนักเรียน!D88 & ข้อมูลนักเรียน!E88 & \"   \"& ข้อมูลนักเรียน!F88)","v":""},{"$f":"IF(ข้อมูลนักเรียน!C88=0,\"\",ข้อมูลนักเรียน!G88)","v":""},{"$f":"ข้อมูลนักเรียน!B88","v":0},null,null,null,null,null,null,null,null,null,null,null,null,null,null,null,null,null,null,null,null,null,null,null,null,null,null,"ผ่าน",0,null,"ปรับปรุง",null,22]
[{"$f":"ข้อมูลนักเรียน!A89","v":0},{"$f":"IF(ข้อมูลนักเรียน!B89=0,\"\",ข้อมูลนักเรียน!B89)","v":""},{"$f":"IF(ข้อมูลนักเรียน!C89=0,\"\",ข้อมูลนักเรียน!C89)","v":""},{"$f":"IF(ข้อมูลนักเรียน!C89=0,\"\",ข้อมูลนักเรียน!D89 & ข้อมูลนักเรียน!E89 & \"   \"& ข้อมูลนักเรียน!F89)","v":""},{"$f":"IF(ข้อมูลนักเรียน!C89=0,\"\",ข้อมูลนักเรียน!G89)","v":""},{"$f":"ข้อมูลนักเรียน!B89","v":0},null,null,null,null,null,null,null,null,null,null,null,null,null,null,null,null,null,null,null,null,null,null,null,null,null,null,"ผ่าน",0,null,"ปรับปรุง",null,22]
[{"$f":"ข้อมูลนักเรียน!A90","v":0},{"$f":"IF(ข้อมูลนักเรียน!B90=0,\"\",ข้อมูลนักเรียน!B90)","v":""},{"$f":"IF(ข้อมูลนักเรียน!C90=0,\"\",ข้อมูลนักเรียน!C90)","v":""},{"$f":"IF(ข้อมูลนักเรียน!C90=0,\"\",ข้อมูลนักเรียน!D90 & ข้อมูลนักเรียน!E90 & \"   \"& ข้อมูลนักเรียน!F90)","v":""},{"$f":"IF(ข้อมูลนักเรียน!C90=0,\"\",ข้อมูลนักเรียน!G90)","v":""},{"$f":"ข้อมูลนักเรียน!B90","v":0},null,null,null,null,null,null,null,null,null,null,null,null,null,null,null,null,null,null,null,null,null,null,null,null,null,null,"ผ่าน",0,null,"ปรับปรุง",null,22]
[{"$f":"ข้อมูลนักเรียน!A91","v":0},{"$f":"IF(ข้อมูลนักเรียน!B91=0,\"\",ข้อมูลนักเรียน!B91)","v":""},{"$f":"IF(ข้อมูลนักเรียน!C91=0,\"\",ข้อมูลนักเรียน!C91)","v":""},{"$f":"IF(ข้อมูลนักเรียน!C91=0,\"\",ข้อมูลนักเรียน!D91 & ข้อมูลนักเรียน!E91 & \"   \"& ข้อมูลนักเรียน!F91)","v":""},{"$f":"IF(ข้อมูลนักเรียน!C91=0,\"\",ข้อมูลนักเรียน!G91)","v":""},{"$f":"ข้อมูลนักเรียน!B91","v":0},null,null,null,null,null,null,null,null,null,null,null,null,null,null,null,null,null,null,null,null,null,null,null,null,null,null,"ผ่าน",0,null,"ปรับปรุง",null,22]
[{"$f":"ข้อมูลนักเรียน!A92","v":0},{"$f":"IF(ข้อมูลนักเรียน!B92=0,\"\",ข้อมูลนักเรียน!B92)","v":""},{"$f":"IF(ข้อมูลนักเรียน!C92=0,\"\",ข้อมูลนักเรียน!C92)","v":""},{"$f":"IF(ข้อมูลนักเรียน!C92=0,\"\",ข้อมูลนักเรียน!D92 & ข้อมูลนักเรียน!E92 & \"   \"& ข้อมูลนักเรียน!F92)","v":""},{"$f":"IF(ข้อมูลนักเรียน!C92=0,\"\",ข้อมูลนักเรียน!G92)","v":""},{"$f":"ข้อมูลนักเรียน!B92","v":0},null,null,null,null,null,null,null,null,null,null,null,null,null,null,null,null,null,null,null,null,null,null,null,null,null,null,"ผ่าน",0,null,"ปรับปรุง",null,22]
[{"$f":"ข้อมูลนักเรียน!A93","v":0},{"$f":"IF(ข้อมูลนักเรียน!B93=0,\"\",ข้อมูลนักเรียน!B93)","v":""},{"$f":"IF(ข้อมูลนักเรียน!C93=0,\"\",ข้อมูลนักเรียน!C93)","v":""},{"$f":"IF(ข้อมูลนักเรียน!C93=0,\"\",ข้อมูลนักเรียน!D93 & ข้อมูลนักเรียน!E93 & \"   \"& ข้อมูลนักเรียน!F93)","v":""},{"$f":"IF(ข้อมูลนักเรียน!C93=0,\"\",ข้อมูลนักเรียน!G93)","v":""},{"$f":"ข้อมูลนักเรียน!B93","v":0},null,null,null,null,null,null,null,null,null,null,null,null,null,null,null,null,null,null,null,null,null,null,null,null,null,null,"ผ่าน",0,null,"ปรับปรุง",null,22]
[{"$f":"ข้อมูลนักเรียน!A94","v":0},{"$f":"IF(ข้อมูลนักเรียน!B94=0,\"\",ข้อมูลนักเรียน!B94)","v":""},{"$f":"IF(ข้อมูลนักเรียน!C94=0,\"\",ข้อมูลนักเรียน!C94)","v":""},{"$f":"IF(ข้อมูลนักเรียน!C94=0,\"\",ข้อมูลนักเรียน!D94 & ข้อมูลนักเรียน!E94 & \"   \"& ข้อมูลนักเรียน!F94)","v":""},{"$f":"IF(ข้อมูลนักเรียน!C94=0,\"\",ข้อมูลนักเรียน!G94)","v":""},{"$f":"ข้อมูลนักเรียน!B94","v":0},null,null,null,null,null,null,null,null,null,null,null,null,null,null,null,null,null,null,null,null,null,null,null,null,null,null,"ผ่าน",0,null,"ปรับปรุง",null,22]
[{"$f":"ข้อมูลนักเรียน!A95","v":0},{"$f":"IF(ข้อมูลนักเรียน!B95=0,\"\",ข้อมูลนักเรียน!B95)","v":""},{"$f":"IF(ข้อมูลนักเรียน!C95=0,\"\",ข้อมูลนักเรียน!C95)","v":""},{"$f":"IF(ข้อมูลนักเรียน!C95=0,\"\",ข้อมูลนักเรียน!D95 & ข้อมูลนักเรียน!E95 & \"   \"& ข้อมูลนักเรียน!F95)","v":""},{"$f":"IF(ข้อมูลนักเรียน!C95=0,\"\",ข้อมูลนักเรียน!G95)","v":""},{"$f":"ข้อมูลนักเรียน!B95","v":0},null,null,null,null,null,null,null,null,null,null,null,null,null,null,null,null,null,null,null,null,null,null,null,null,null,null,"ผ่าน",0,null,"ปรับปรุง",null,22]
[{"$f":"ข้อมูลนักเรียน!A96","v":0},{"$f":"IF(ข้อมูลนักเรียน!B96=0,\"\",ข้อมูลนักเรียน!B96)","v":""},{"$f":"IF(ข้อมูลนักเรียน!C96=0,\"\",ข้อมูลนักเรียน!C96)","v":""},{"$f":"IF(ข้อมูลนักเรียน!C96=0,\"\",ข้อมูลนักเรียน!D96 & ข้อมูลนักเรียน!E96 & \"   \"& ข้อมูลนักเรียน!F96)","v":""},{"$f":"IF(ข้อมูลนักเรียน!C96=0,\"\",ข้อมูลนักเรียน!G96)","v":""},{"$f":"ข้อมูลนักเรียน!B96","v":0},null,null,null,null,null,null,null,null,null,null,null,null,null,null,null,null,null,null,null,null,null,null,null,null,null,null,"ผ่าน",0,null,"ปรับปรุง",null,22]
[{"$f":"ข้อมูลนักเรียน!A97","v":0},{"$f":"IF(ข้อมูลนักเรียน!B97=0,\"\",ข้อมูลนักเรียน!B97)","v":""},{"$f":"IF(ข้อมูลนักเรียน!C97=0,\"\",ข้อมูลนักเรียน!C97)","v":""},{"$f":"IF(ข้อมูลนักเรียน!C97=0,\"\",ข้อมูลนักเรียน!D97 & ข้อมูลนักเรียน!E97 & \"   \"& ข้อมูลนักเรียน!F97)","v":""},{"$f":"IF(ข้อมูลนักเรียน!C97=0,\"\",ข้อมูลนักเรียน!G97)","v":""},{"$f":"ข้อมูลนักเรียน!B97","v":0},null,null,null,null,null,null,null,null,null,null,null,null,null,null,null,null,null,null,null,null,null,null,null,null,null,null,"ผ่าน",0,null,"ปรับปรุง",null,22]
[{"$f":"ข้อมูลนักเรียน!A98","v":0},{"$f":"IF(ข้อมูลนักเรียน!B98=0,\"\",ข้อมูลนักเรียน!B98)","v":""},{"$f":"IF(ข้อมูลนักเรียน!C98=0,\"\",ข้อมูลนักเรียน!C98)","v":""},{"$f":"IF(ข้อมูลนักเรียน!C98=0,\"\",ข้อมูลนักเรียน!D98 & ข้อมูลนักเรียน!E98 & \"   \"& ข้อมูลนักเรียน!F98)","v":""},{"$f":"IF(ข้อมูลนักเรียน!C98=0,\"\",ข้อมูลนักเรียน!G98)","v":""},{"$f":"ข้อมูลนักเรียน!B98","v":0},null,null,null,null,null,null,null,null,null,null,null,null,null,null,null,null,null,null,null,null,null,null,null,null,null,null,"ผ่าน",0,null,"ปรับปรุง",null,22]
[{"$f":"ข้อมูลนักเรียน!A99","v":0},{"$f":"IF(ข้อมูลนักเรียน!B99=0,\"\",ข้อมูลนักเรียน!B99)","v":""},{"$f":"IF(ข้อมูลนักเรียน!C99=0,\"\",ข้อมูลนักเรียน!C99)","v":""},{"$f":"IF(ข้อมูลนักเรียน!C99=0,\"\",ข้อมูลนักเรียน!D99 & ข้อมูลนักเรียน!E99 & \"   \"& ข้อมูลนักเรียน!F99)","v":""},{"$f":"IF(ข้อมูลนักเรียน!C99=0,\"\",ข้อมูลนักเรียน!G99)","v":""},{"$f":"ข้อมูลนักเรียน!B99","v":0},null,null,null,null,null,null,null,null,null,null,null,null,null,null,null,null,null,null,null,null,null,null,null,null,null,null,"ผ่าน",0,null,"ปรับปรุง",null,22]
[{"$f":"ข้อมูลนักเรียน!A100","v":0},{"$f":"IF(ข้อมูลนักเรียน!B100=0,\"\",ข้อมูลนักเรียน!B100)","v":""},{"$f":"IF(ข้อมูลนักเรียน!C100=0,\"\",ข้อมูลนักเรียน!C100)","v":""},{"$f":"IF(ข้อมูลนักเรียน!C100=0,\"\",ข้อมูลนักเรียน!D100 & ข้อมูลนักเรียน!E100 & \"   \"& ข้อมูลนักเรียน!F100)","v":""},{"$f":"IF(ข้อมูลนักเรียน!C100=0,\"\",ข้อมูลนักเรียน!G100)","v":""},{"$f":"ข้อมูลนักเรียน!B100","v":0},null,null,null,null,null,null,null,null,null,null,null,null,null,null,null,null,null,null,null,null,null,null,null,null,null,null,"ผ่าน",0,null,"ปรับปรุง",null,22]
[{"$f":"ข้อมูลนักเรียน!A101","v":0},{"$f":"IF(ข้อมูลนักเรียน!B101=0,\"\",ข้อมูลนักเรียน!B101)","v":""},{"$f":"IF(ข้อมูลนักเรียน!C101=0,\"\",ข้อมูลนักเรียน!C101)","v":""},{"$f":"IF(ข้อมูลนักเรียน!C101=0,\"\",ข้อมูลนักเรียน!D101 & ข้อมูลนักเรียน!E101 & \"   \"& ข้อมูลนักเรียน!F101)","v":""},{"$f":"IF(ข้อมูลนักเรียน!C101=0,\"\",ข้อมูลนักเรียน!G101)","v":""},{"$f":"ข้อมูลนักเรียน!B101","v":0},null,null,null,null,null,null,null,null,null,null,null,null,null,null,null,null,null,null,null,null,null,null,null,null,null,null,"ผ่าน",0,null,"ปรับปรุง",null,22]
[{"$f":"ข้อมูลนักเรียน!A102","v":0},{"$f":"IF(ข้อมูลนักเรียน!B102=0,\"\",ข้อมูลนักเรียน!B102)","v":""},{"$f":"IF(ข้อมูลนักเรียน!C102=0,\"\",ข้อมูลนักเรียน!C102)","v":""},{"$f":"IF(ข้อมูลนักเรียน!C102=0,\"\",ข้อมูลนักเรียน!D102 & ข้อมูลนักเรียน!E102 & \"   \"& ข้อมูลนักเรียน!F102)","v":""},{"$f":"IF(ข้อมูลนักเรียน!C102=0,\"\",ข้อมูลนักเรียน!G102)","v":""},{"$f":"ข้อมูลนักเรียน!B102","v":0},null,null,null,null,null,null,null,null,null,null,null,null,null,null,null,null,null,null,null,null,null,null,null,null,null,null,"ผ่าน",0,null,"ปรับปรุง",null,22]
[{"$f":"ข้อมูลนักเรียน!A103","v":0},{"$f":"IF(ข้อมูลนักเรียน!B103=0,\"\",ข้อมูลนักเรียน!B103)","v":""},{"$f":"IF(ข้อมูลนักเรียน!C103=0,\"\",ข้อมูลนักเรียน!C103)","v":""},{"$f":"IF(ข้อมูลนักเรียน!C103=0,\"\",ข้อมูลนักเรียน!D103 & ข้อมูลนักเรียน!E103 & \"   \"& ข้อมูลนักเรียน!F103)","v":""},{"$f":"IF(ข้อมูลนักเรียน!C103=0,\"\",ข้อมูลนักเรียน!G103)","v":""},{"$f":"ข้อมูลนักเรียน!B103","v":0},null,null,null,null,null,null,null,null,null,null,null,null,null,null,null,null,null,null,null,null,null,null,null,null,null,null,"ผ่าน",0,null,"ปรับปรุง",null,22]
[{"$f":"ข้อมูลนักเรียน!A104","v":0},{"$f":"IF(ข้อมูลนักเรียน!B104=0,\"\",ข้อมูลนักเรียน!B104)","v":""},{"$f":"IF(ข้อมูลนักเรียน!C104=0,\"\",ข้อมูลนักเรียน!C104)","v":""},{"$f":"IF(ข้อมูลนักเรียน!C104=0,\"\",ข้อมูลนักเรียน!D104 & ข้อมูลนักเรียน!E104 & \"   \"& ข้อมูลนักเรียน!F104)","v":""},{"$f":"IF(ข้อมูลนักเรียน!C104=0,\"\",ข้อมูลนักเรียน!G104)","v":""},{"$f":"ข้อมูลนักเรียน!B104","v":0},null,null,null,null,null,null,null,null,null,null,null,null,null,null,null,null,null,null,null,null,null,null,null,null,null,null,"ผ่าน",0,null,"ปรับปรุง",null,22]
[{"$f":"ข้อมูลนักเรียน!A105","v":0},{"$f":"IF(ข้อมูลนักเรียน!B105=0,\"\",ข้อมูลนักเรียน!B105)","v":""},{"$f":"IF(ข้อมูลนักเรียน!C105=0,\"\",ข้อมูลนักเรียน!C105)","v":""},{"$f":"IF(ข้อมูลนักเรียน!C105=0,\"\",ข้อมูลนักเรียน!D105 & ข้อมูลนักเรียน!E105 & \"   \"& ข้อมูลนักเรียน!F105)","v":""},{"$f":"IF(ข้อมูลนักเรียน!C105=0,\"\",ข้อมูลนักเรียน!G105)","v":""},{"$f":"ข้อมูลนักเรียน!B105","v":0},null,null,null,null,null,null,null,null,null,null,null,null,null,null,null,null,null,null,null,null,null,null,null,null,null,null,"ผ่าน",{"$f":"ROUNDDOWN(0,2)","v":0},null,"ปรับปรุง",null,22]
[{"$f":"ข้อมูลนักเรียน!A106","v":0},{"$f":"IF(ข้อมูลนักเรียน!B106=0,\"\",ข้อมูลนักเรียน!B106)","v":""},{"$f":"IF(ข้อมูลนักเรียน!C106=0,\"\",ข้อมูลนักเรียน!C106)","v":""},{"$f":"IF(ข้อมูลนักเรียน!C106=0,\"\",ข้อมูลนักเรียน!D106 & ข้อมูลนักเรียน!E106 & \"   \"& ข้อมูลนักเรียน!F106)","v":""},{"$f":"IF(ข้อมูลนักเรียน!C106=0,\"\",ข้อมูลนักเรียน!G106)","v":""},{"$f":"ข้อมูลนักเรียน!B106","v":0},null,null,null,null,null,null,null,null,null,null,null,null,null,null,null,null,null,null,null,null,null,null,null,null,null,null,"ผ่าน",0,null,"ปรับปรุง",null,22]
[{"$f":"ข้อมูลนักเรียน!A107","v":0},{"$f":"IF(ข้อมูลนักเรียน!B107=0,\"\",ข้อมูลนักเรียน!B107)","v":""},{"$f":"IF(ข้อมูลนักเรียน!C107=0,\"\",ข้อมูลนักเรียน!C107)","v":""},{"$f":"IF(ข้อมูลนักเรียน!C107=0,\"\",ข้อมูลนักเรียน!D107 & ข้อมูลนักเรียน!E107 & \"   \"& ข้อมูลนักเรียน!F107)","v":""},{"$f":"IF(ข้อมูลนักเรียน!C107=0,\"\",ข้อมูลนักเรียน!G107)","v":""},{"$f":"ข้อมูลนักเรียน!B107","v":0},null,null,null,null,null,null,null,null,null,null,null,null,null,null,null,null,null,null,null,null,null,null,null,null,null,null,"ผ่าน",0,null,"ปรับปรุง",null,22]
[{"$f":"ข้อมูลนักเรียน!A108","v":0},{"$f":"IF(ข้อมูลนักเรียน!B108=0,\"\",ข้อมูลนักเรียน!B108)","v":""},{"$f":"IF(ข้อมูลนักเรียน!C108=0,\"\",ข้อมูลนักเรียน!C108)","v":""},{"$f":"IF(ข้อมูลนักเรียน!C108=0,\"\",ข้อมูลนักเรียน!D108 & ข้อมูลนักเรียน!E108 & \"   \"& ข้อมูลนักเรียน!F108)","v":""},{"$f":"IF(ข้อมูลนักเรียน!C108=0,\"\",ข้อมูลนักเรียน!G108)","v":""},{"$f":"ข้อมูลนักเรียน!B108","v":0},null,null,null,null,null,null,null,null,null,null,null,null,null,null,null,null,null,null,null,null,null,null,null,null,null,null,"ผ่าน",0,null,"ปรับปรุง",null,22]
[{"$f":"ข้อมูลนักเรียน!A109","v":0},{"$f":"IF(ข้อมูลนักเรียน!B109=0,\"\",ข้อมูลนักเรียน!B109)","v":""},{"$f":"IF(ข้อมูลนักเรียน!C109=0,\"\",ข้อมูลนักเรียน!C109)","v":""},{"$f":"IF(ข้อมูลนักเรียน!C109=0,\"\",ข้อมูลนักเรียน!D109 & ข้อมูลนักเรียน!E109 & \"   \"& ข้อมูลนักเรียน!F109)","v":""},{"$f":"IF(ข้อมูลนักเรียน!C109=0,\"\",ข้อมูลนักเรียน!G109)","v":""},{"$f":"ข้อมูลนักเรียน!B109","v":0},null,null,null,null,null,null,null,null,null,null,null,null,null,null,null,null,null,null,null,null,null,null,null,null,null,null,"ผ่าน",0,null,"ปรับปรุง",null,22]
[{"$f":"ข้อมูลนักเรียน!A110","v":0},{"$f":"IF(ข้อมูลนักเรียน!B110=0,\"\",ข้อมูลนักเรียน!B110)","v":""},{"$f":"IF(ข้อมูลนักเรียน!C110=0,\"\",ข้อมูลนักเรียน!C110)","v":""},{"$f":"IF(ข้อมูลนักเรียน!C110=0,\"\",ข้อมูลนักเรียน!D110 & ข้อมูลนักเรียน!E110 & \"   \"& ข้อมูลนักเรียน!F110)","v":""},{"$f":"IF(ข้อมูลนักเรียน!C110=0,\"\",ข้อมูลนักเรียน!G110)","v":""},{"$f":"ข้อมูลนักเรียน!B110","v":0},null,null,null,null,null,null,null,null,null,null,null,null,null,null,null,null,null,null,null,null,null,null,null,null,null,null,"ผ่าน",0,null,"ปรับปรุง",null,22]
[{"$f":"ข้อมูลนักเรียน!A111","v":0},{"$f":"IF(ข้อมูลนักเรียน!B111=0,\"\",ข้อมูลนักเรียน!B111)","v":""},{"$f":"IF(ข้อมูลนักเรียน!C111=0,\"\",ข้อมูลนักเรียน!C111)","v":""},{"$f":"IF(ข้อมูลนักเรียน!C111=0,\"\",ข้อมูลนักเรียน!D111 & ข้อมูลนักเรียน!E111 & \"   \"& ข้อมูลนักเรียน!F111)","v":""},{"$f":"IF(ข้อมูลนักเรียน!C111=0,\"\",ข้อมูลนักเรียน!G111)","v":""},{"$f":"ข้อมูลนักเรียน!B111","v":0},null,null,null,null,null,null,null,null,null,null,null,null,null,null,null,null,null,null,null,null,null,null,null,null,null,null,"ผ่าน",0,null,"ปรับปรุง",null,22]
[{"$f":"ข้อมูลนักเรียน!A112","v":0},{"$f":"IF(ข้อมูลนักเรียน!B112=0,\"\",ข้อมูลนักเรียน!B112)","v":""},{"$f":"IF(ข้อมูลนักเรียน!C112=0,\"\",ข้อมูลนักเรียน!C112)","v":""},{"$f":"IF(ข้อมูลนักเรียน!C112=0,\"\",ข้อมูลนักเรียน!D112 & ข้อมูลนักเรียน!E112 & \"   \"& ข้อมูลนักเรียน!F112)","v":""},{"$f":"IF(ข้อมูลนักเรียน!C112=0,\"\",ข้อมูลนักเรียน!G112)","v":""},{"$f":"ข้อมูลนักเรียน!B112","v":0},null,null,null,null,null,null,null,null,null,null,null,null,null,null,null,null,null,null,null,null,null,null,null,null,null,null,"ผ่าน",0,null,"ปรับปรุง",null,22]
[{"$f":"ข้อมูลนักเรียน!A113","v":0},{"$f":"IF(ข้อมูลนักเรียน!B113=0,\"\",ข้อมูลนักเรียน!B113)","v":""},{"$f":"IF(ข้อมูลนักเรียน!C113=0,\"\",ข้อมูลนักเรียน!C113)","v":""},{"$f":"IF(ข้อมูลนักเรียน!C113=0,\"\",ข้อมูลนักเรียน!D113 & ข้อมูลนักเรียน!E113 & \"   \"& ข้อมูลนักเรียน!F113)","v":""},{"$f":"IF(ข้อมูลนักเรียน!C113=0,\"\",ข้อมูลนักเรียน!G113)","v":""},{"$f":"ข้อมูลนักเรียน!B113","v":0},null,null,null,null,null,null,null,null,null,null,null,null,null,null,null,null,null,null,null,null,null,null,null,null,null,null,"ผ่าน",0,null,"ปรับปรุง",null,22]
[{"$f":"ข้อมูลนักเรียน!A114","v":0},{"$f":"IF(ข้อมูลนักเรียน!B114=0,\"\",ข้อมูลนักเรียน!B114)","v":""},{"$f":"IF(ข้อมูลนักเรียน!C114=0,\"\",ข้อมูลนักเรียน!C114)","v":""},{"$f":"IF(ข้อมูลนักเรียน!C114=0,\"\",ข้อมูลนักเรียน!D114 & ข้อมูลนักเรียน!E114 & \"   \"& ข้อมูลนักเรียน!F114)","v":""},{"$f":"IF(ข้อมูลนักเรียน!C114=0,\"\",ข้อมูลนักเรียน!G114)","v":""},{"$f":"ข้อมูลนักเรียน!B114","v":0},null,null,null,null,null,null,null,null,null,null,null,null,null,null,null,null,null,null,null,null,null,null,null,null,null,null,"ผ่าน",0,null,"ปรับปรุง",null,22]
[{"$f":"ข้อมูลนักเรียน!A115","v":0},{"$f":"IF(ข้อมูลนักเรียน!B115=0,\"\",ข้อมูลนักเรียน!B115)","v":""},{"$f":"IF(ข้อมูลนักเรียน!C115=0,\"\",ข้อมูลนักเรียน!C115)","v":""},{"$f":"IF(ข้อมูลนักเรียน!C115=0,\"\",ข้อมูลนักเรียน!D115 & ข้อมูลนักเรียน!E115 & \"   \"& ข้อมูลนักเรียน!F115)","v":""},{"$f":"IF(ข้อมูลนักเรียน!C115=0,\"\",ข้อมูลนักเรียน!G115)","v":""},{"$f":"ข้อมูลนักเรียน!B115","v":0},null,null,null,null,null,null,null,null,null,null,null,null,null,null,null,null,null,null,null,null,null,null,null,null,null,null,"ผ่าน",0,null,"ปรับปรุง",null,22]
[{"$f":"ข้อมูลนักเรียน!A116","v":0},{"$f":"IF(ข้อมูลนักเรียน!B116=0,\"\",ข้อมูลนักเรียน!B116)","v":""},{"$f":"IF(ข้อมูลนักเรียน!C116=0,\"\",ข้อมูลนักเรียน!C116)","v":""},{"$f":"IF(ข้อมูลนักเรียน!C116=0,\"\",ข้อมูลนักเรียน!D116 & ข้อมูลนักเรียน!E116 & \"   \"& ข้อมูลนักเรียน!F116)","v":""},{"$f":"IF(ข้อมูลนักเรียน!C116=0,\"\",ข้อมูลนักเรียน!G116)","v":""},{"$f":"ข้อมูลนักเรียน!B116","v":0},null,null,null,null,null,null,null,null,null,null,null,null,null,null,null,null,null,null,null,null,null,null,null,null,null,null,"ผ่าน",0,null,"ปรับปรุง",null,22]
[{"$f":"ข้อมูลนักเรียน!A117","v":0},{"$f":"IF(ข้อมูลนักเรียน!B117=0,\"\",ข้อมูลนักเรียน!B117)","v":""},{"$f":"IF(ข้อมูลนักเรียน!C117=0,\"\",ข้อมูลนักเรียน!C117)","v":""},{"$f":"IF(ข้อมูลนักเรียน!C117=0,\"\",ข้อมูลนักเรียน!D117 & ข้อมูลนักเรียน!E117 & \"   \"& ข้อมูลนักเรียน!F117)","v":""},{"$f":"IF(ข้อมูลนักเรียน!C117=0,\"\",ข้อมูลนักเรียน!G117)","v":""},{"$f":"ข้อมูลนักเรียน!B117","v":0},null,null,null,null,null,null,null,null,null,null,null,null,null,null,null,null,null,null,null,null,null,null,null,null,null,null,"ผ่าน",0,null,"ปรับปรุง",null,22]
[{"$f":"ข้อมูลนักเรียน!A118","v":0},{"$f":"IF(ข้อมูลนักเรียน!B118=0,\"\",ข้อมูลนักเรียน!B118)","v":""},{"$f":"IF(ข้อมูลนักเรียน!C118=0,\"\",ข้อมูลนักเรียน!C118)","v":""},{"$f":"IF(ข้อมูลนักเรียน!C118=0,\"\",ข้อมูลนักเรียน!D118 & ข้อมูลนักเรียน!E118 & \"   \"& ข้อมูลนักเรียน!F118)","v":""},{"$f":"IF(ข้อมูลนักเรียน!C118=0,\"\",ข้อมูลนักเรียน!G118)","v":""},{"$f":"ข้อมูลนักเรียน!B118","v":0},null,null,null,null,null,null,null,null,null,null,null,null,null,null,null,null,null,null,null,null,null,null,null,null,null,null,"ผ่าน",0,null,"ปรับปรุง",null,22]
[{"$f":"ข้อมูลนักเรียน!A119","v":0},{"$f":"IF(ข้อมูลนักเรียน!B119=0,\"\",ข้อมูลนักเรียน!B119)","v":""},{"$f":"IF(ข้อมูลนักเรียน!C119=0,\"\",ข้อมูลนักเรียน!C119)","v":""},{"$f":"IF(ข้อมูลนักเรียน!C119=0,\"\",ข้อมูลนักเรียน!D119 & ข้อมูลนักเรียน!E119 & \"   \"& ข้อมูลนักเรียน!F119)","v":""},{"$f":"IF(ข้อมูลนักเรียน!C119=0,\"\",ข้อมูลนักเรียน!G119)","v":""},{"$f":"ข้อมูลนักเรียน!B119","v":0},null,null,null,null,null,null,null,null,null,null,null,null,null,null,null,null,null,null,null,null,null,null,null,null,null,null,"ผ่าน",0,null,"ปรับปรุง",null,22]
[{"$f":"ข้อมูลนักเรียน!A120","v":0},{"$f":"IF(ข้อมูลนักเรียน!B120=0,\"\",ข้อมูลนักเรียน!B120)","v":""},{"$f":"IF(ข้อมูลนักเรียน!C120=0,\"\",ข้อมูลนักเรียน!C120)","v":""},{"$f":"IF(ข้อมูลนักเรียน!C120=0,\"\",ข้อมูลนักเรียน!D120 & ข้อมูลนักเรียน!E120 & \"   \"& ข้อมูลนักเรียน!F120)","v":""},{"$f":"IF(ข้อมูลนักเรียน!C120=0,\"\",ข้อมูลนักเรียน!G120)","v":""},{"$f":"ข้อมูลนักเรียน!B120","v":0},null,null,null,null,null,null,null,null,null,null,null,null,null,null,null,null,null,null,null,null,null,null,null,null,null,null,"ผ่าน",0,null,"ปรับปรุง",null,22]
[{"$f":"ข้อมูลนักเรียน!A121","v":0},{"$f":"IF(ข้อมูลนักเรียน!B121=0,\"\",ข้อมูลนักเรียน!B121)","v":""},{"$f":"IF(ข้อมูลนักเรียน!C121=0,\"\",ข้อมูลนักเรียน!C121)","v":""},{"$f":"IF(ข้อมูลนักเรียน!C121=0,\"\",ข้อมูลนักเรียน!D121 & ข้อมูลนักเรียน!E121 & \"   \"& ข้อมูลนักเรียน!F121)","v":""},{"$f":"IF(ข้อมูลนักเรียน!C121=0,\"\",ข้อมูลนักเรียน!G121)","v":""},{"$f":"ข้อมูลนักเรียน!B121","v":0},null,null,null,null,null,null,null,null,null,null,null,null,null,null,null,null,null,null,null,null,null,null,null,null,null,null,"ผ่าน",0,null,"ปรับปรุง",null,22]
[{"$f":"ข้อมูลนักเรียน!A122","v":0},{"$f":"IF(ข้อมูลนักเรียน!B122=0,\"\",ข้อมูลนักเรียน!B122)","v":""},{"$f":"IF(ข้อมูลนักเรียน!C122=0,\"\",ข้อมูลนักเรียน!C122)","v":""},{"$f":"IF(ข้อมูลนักเรียน!C122=0,\"\",ข้อมูลนักเรียน!D122 & ข้อมูลนักเรียน!E122 & \"   \"& ข้อมูลนักเรียน!F122)","v":""},{"$f":"IF(ข้อมูลนักเรียน!C122=0,\"\",ข้อมูลนักเรียน!G122)","v":""},{"$f":"ข้อมูลนักเรียน!B122","v":0},null,null,null,null,null,null,null,null,null,null,null,null,null,null,null,null,null,null,null,null,null,null,null,null,null,null,"ผ่าน",0,null,"ปรับปรุง",null,22]
[{"$f":"ข้อมูลนักเรียน!A123","v":0},{"$f":"IF(ข้อมูลนักเรียน!B123=0,\"\",ข้อมูลนักเรียน!B123)","v":""},{"$f":"IF(ข้อมูลนักเรียน!C123=0,\"\",ข้อมูลนักเรียน!C123)","v":""},{"$f":"IF(ข้อมูลนักเรียน!C123=0,\"\",ข้อมูลนักเรียน!D123 & ข้อมูลนักเรียน!E123 & \"   \"& ข้อมูลนักเรียน!F123)","v":""},{"$f":"IF(ข้อมูลนักเรียน!C123=0,\"\",ข้อมูลนักเรียน!G123)","v":""},{"$f":"ข้อมูลนักเรียน!B123","v":0},null,null,null,null,null,null,null,null,null,null,null,null,null,null,null,null,null,null,null,null,null,null,null,null,null,null,"ผ่าน",0,null,"ปรับปรุง",null,22]
[{"$f":"ข้อมูลนักเรียน!A124","v":0},{"$f":"IF(ข้อมูลนักเรียน!B124=0,\"\",ข้อมูลนักเรียน!B124)","v":""},{"$f":"IF(ข้อมูลนักเรียน!C124=0,\"\",ข้อมูลนักเรียน!C124)","v":""},{"$f":"IF(ข้อมูลนักเรียน!C124=0,\"\",ข้อมูลนักเรียน!D124 & ข้อมูลนักเรียน!E124 & \"   \"& ข้อมูลนักเรียน!F124)","v":""},{"$f":"IF(ข้อมูลนักเรียน!C124=0,\"\",ข้อมูลนักเรียน!G124)","v":""},{"$f":"ข้อมูลนักเรียน!B124","v":0},null,null,null,null,null,null,null,null,null,null,null,null,null,null,null,null,null,null,null,null,null,null,null,null,null,null,"ผ่าน",0,null,"ปรับปรุง",null,22]
[{"$f":"ข้อมูลนักเรียน!A125","v":0},{"$f":"IF(ข้อมูลนักเรียน!B125=0,\"\",ข้อมูลนักเรียน!B125)","v":""},{"$f":"IF(ข้อมูลนักเรียน!C125=0,\"\",ข้อมูลนักเรียน!C125)","v":""},{"$f":"IF(ข้อมูลนักเรียน!C125=0,\"\",ข้อมูลนักเรียน!D125 & ข้อมูลนักเรียน!E125 & \"   \"& ข้อมูลนักเรียน!F125)","v":""},{"$f":"IF(ข้อมูลนักเรียน!C125=0,\"\",ข้อมูลนักเรียน!G125)","v":""},{"$f":"ข้อมูลนักเรียน!B125","v":0},null,null,null,null,null,null,null,null,null,null,null,null,null,null,null,null,null,null,null,null,null,null,null,null,null,null,"ผ่าน",0,null,"ปรับปรุง",null,22]
[{"$f":"ข้อมูลนักเรียน!A126","v":0},{"$f":"IF(ข้อมูลนักเรียน!B126=0,\"\",ข้อมูลนักเรียน!B126)","v":""},{"$f":"IF(ข้อมูลนักเรียน!C126=0,\"\",ข้อมูลนักเรียน!C126)","v":""},{"$f":"IF(ข้อมูลนักเรียน!C126=0,\"\",ข้อมูลนักเรียน!D126 & ข้อมูลนักเรียน!E126 & \"   \"& ข้อมูลนักเรียน!F126)","v":""},{"$f":"IF(ข้อมูลนักเรียน!C126=0,\"\",ข้อมูลนักเรียน!G126)","v":""},{"$f":"ข้อมูลนักเรียน!B126","v":0},null,null,null,null,null,null,null,null,null,null,null,null,null,null,null,null,null,null,null,null,null,null,null,null,null,null,"ผ่าน",0,null,"ปรับปรุง",null,22]
[null,null,null,null,null,null,null,{"$f":"LEFT(H3)","v":"ท"},{"$f":"LEFT(I3)","v":"ค"},"ว","ส","ส","พ","ศ","ง","อ","ง","ว","ว","","","","","",""]
[null,null,null,"เกรด",null,null,0,{"$f":"COUNTIF(H$7:H$126,$G128)","v":0},0,0,0,0,0,0,0,0,0,0,0,0,0,0,0,0,0]
[null,null,null,null,null,null,1,{"$f":"COUNTIF(H$7:H$126,$G129)","v":2},1,1,1,1,0,1,0,0,0,0,0,0,{"$f":"COUNTIF(U$7:U$126,$G129)","v":0},0,0,0,0]
[null,null,null,null,null,null,1.5,0,0,0,0,0,0,0,0,1,2,0,0,0,0,0,0,2,2]
[null,null,null,null,null,null,2,0,1,0,0,1,1,0,1,0,0,0,0,0,0,0,0,0,0]
[null,null,null,null,null,null,2.5,0,0,0,0,0,0,0,0,0,0,0,0,0,0,0,0,0,0]
[null,null,null,null,null,null,3,0,0,1,0,0,1,1,0,1,0,0,0,0,0,0,0,0,0]
[null,null,null,null,null,null,3.5,0,0,0,0,0,0,0,0,0,0,0,0,0,0,0,0,0,0]
[null,null,null,null,null,null,4,0,0,0,1,0,0,0,1,0,0,0,0,0,0,0,0,0,0]
[null,null,null,null,null,null,"ร",0,0,0,0,0,0,0,0,0,0,0,0,0,0,0,0,0,0]
[null,null,null,null,null,null,"มส",0,0,0,0,0,0,0,0,0,0,0,0,0,0,0,0,0,0]
[null,null,null,null,null,null,"ผ",0,0,0,0,0,0,0,0,0,0,0,0,0,0,0,0,0,0]
[null,null,null,null,null,null,"มผ",0,0,0,0,0,0,0,0,0,0,0,0,0,0,0,0,0,0]

{"sheet":"เกรด4","index":9,"n_rows":139,"n_cols":41,"rows_kept":139,"cut":false,"hidden":false,"merged":[[1,36,4,36],[0,0,0,2],[0,15,0,27],[1,0,5,0],[1,1,5,1],[1,2,5,2],[1,3,5,3],[1,6,2,6],[1,34,5,34]]}
["ปีการศึกษา : ",null,null,{"$f":"ข้อมูลนักเรียน!F4+3","v":2553},null,null,null,null,null,null,null,null,null,null,null,"ประถมศึกษาปีที่ 4"]
["ห้อง","เลขที่","รหัสนักเรียน","ชื่อ - สกุล",null,null,"วิชา",{"$f":"IF(หลักสูตร!$B$32=0,\"ช่องว่าง\",หลักสูตร!$C$32)","v":"ภาษาไทย"},{"$f":"IF(หลักสูตร!$B$33=0,\"ช่องว่าง\",หลักสูตร!$C$33)","v":"คณิตศาสตร์"},{"$f":"IF(หลักสูตร!$B$34=0,\"ช่องว่าง\",หลักสูตร!$C$34)","v":"วิทยาศาสตร์"},{"$f":"IF(หลักสูตร!$B$35=0,\"ช่องว่าง\",หลักสูตร!$C$35)","v":"สังคมศึกษา ศาสนาและวัฒนธรรม"},{"$f":"IF(หลักสูตร!$B$36=0,\"ช่องว่าง\",หลักสูตร!$C$36)","v":"ประวัติศาสตร์"},{"$f":"IF(หลักสูตร!$B$37=0,\"ช่องว่าง\",หลักสูตร!$C$37)","v":"สุขศึกษาและพลศึกษา"},{"$f":"IF(หลักสูตร!$B$38=0,\"ช่องว่าง\",หลักสูตร!$C$38)","v":"ศิลปะ"},{"$f":"IF(หลักสูตร!$B$39=0,\"ช่องว่าง\",หลักสูตร!$C$39)","v":"การงานอาชีพและเทคโนโลยี"},{"$f":"IF(หลักสูตร!$B$40=0,\"ช่องว่าง\",หลักสูตร!$C$40)","v":"ภาษาต่างประเทศ"},{"$f":"IF(หลักสูตร!$B$41=0,\"ช่องว่าง\",หลักสูตร!$C$41)","v":"คอมพิวเตอร์"},{"$f":"IF(หลักสูตร!$B$42=0,\"ช่องว่าง\",หลักสูตร!$C$42)","v":"เลือกเรียน"},{"$f":"IF(หลักสูตร!$B$43=0,\"ช่องว่าง\",หลักสูตร!$C$43)","v":"ช่องว่าง"},{"$f":"IF(หลักสูตร!$B$44=0,\"ช่องว่าง\",หลักสูตร!$C$44)","v":"ช่องว่าง"},{"$f":"IF(หลักสูตร!$B$45=0,\"ช่องว่าง\",หลักสูตร!$C$45)","v":"ช่องว่าง"},{"$f":"IF(หลักสูตร!$B$46=0,\"ช่องว่าง\",หลักสูตร!$C$46)","v":"ช่องว่าง"},{"$f":"IF(หลักสูตร!$B$47=0,\"ช่องว่าง\",หลักสูตร!$C$47)","v":"ช่องว่าง"},{"$f":"IF(หลักสูตร!$B$48=0,\"ช่องว่าง\",หลักสูตร!$C$48)","v":"ช่องว่าง"},{"$f":"IF(หลักสูตร!$B$49=0,\"ช่องว่าง\",หลักสูตร!$C$49)","v":"ช่องว่าง"},{"$f":"IF(หลักสูตร!$B$51=0,\"ช่องว่าง\",หลักสูตร!$C$51)","v":"แนะแนว"},{"$f":"IF(หลักสูตร!$B$52=0,\"ช่องว่าง\",หลักสูตร!$C$52)","v":"ลูกเสือ เนตรนารี"},{"$f":"IF(หลักสูตร!$B$53=0,\"ช่องว่าง\",หลักสูตร!$C$53)","v":"ชุมนุม"},{"$f":"IF(หลักสูตร!$B$54=0,\"ช่องว่าง\",หลักสูตร!$C$54)","v":"กิจกรรมเพื่อสังคมและสาธารณประโยชน์"},{"$f":"IF(หลักสูตร!$B$55=0,\"ช่องว่าง\",หลักสูตร!$C$55)","v":"ช่องว่าง"},"คุณลักษณะ","อ่าน คิดฯ","สรุปกิจกรรม","เกรดเฉลี่ย","ชื่อวิชาเลือก\nรหัสวิชา ตามด้วยชื่อวิชา\nตัวอย่าง  ง31202 เกษตรอินทรีย์","อ่าน คิดฯ","ชื่อชุมนุม"]
[null,null,null,null,null,null,null,{"$f":"IF(หลักสูตร!$B$32=0,\"\",หลักสูตร!$B$32)","v":"ท"},{"$f":"IF(หลักสูตร!$B$33=0,\"\",หลักสูตร!$B$33)","v":"ค14101"},{"$f":"IF(หลักสูตร!$B$34=0,\"\",หลักสูตร!$B$34)","v":"ว14101"},{"$f":"IF(หลักสูตร!$B$35=0,\"\",หลักสูตร!$B$35)","v":"ส14101"},{"$f":"IF(หลักสูตร!$B$36=0,\"\",หลักสูตร!$B$36)","v":"ส14102"},{"$f":"IF(หลักสูตร!$B$37=0,\"\",หลักสูตร!$B$37)","v":"พ14101"},{"$f":"IF(หลักสูตร!$B$38=0,\"\",หลักสูตร!$B$38)","v":"ศ14101"},{"$f":"IF(หลักสูตร!$B$39=0,\"\",หลักสูตร!$B$39)","v":"ง14101"},{"$f":"IF(หลักสูตร!$B$40=0,\"\",หลักสูตร!$B$40)","v":"อ14101"},{"$f":"IF(หลักสูตร!$B$41=0,\"\",หลักสูตร!$B$41)","v":"ง14201"},{"$f":"IF(หลักสูตร!$B$42=0,\"\",หลักสูตร!$B$42)","v":"ล"},{"$f":"IF(หลักสูตร!$B$43=0,\"\",หลักสูตร!$B$43)","v":""},{"$f":"IF(หลักสูตร!$B$44=0,\"\",หลักสูตร!$B$44)","v":""},{"$f":"IF(หลักสูตร!$B$45=0,\"\",หลักสูตร!$B$45)","v":""},{"$f":"IF(หลักสูตร!$B$46=0,\"\",หลักสูตร!$B$46)","v":""},{"$f":"IF(หลักสูตร!$B$47=0,\"\",หลักสูตร!$B$47)","v":""},{"$f":"IF(หลักสูตร!$B$48=0,\"\",หลักสูตร!$B$48)","v":""},{"$f":"IF(หลักสูตร!$B$49=0,\"\",หลักสูตร!$B$49)","v":""},{"$f":"IF(หลักสูตร!$B$51=0,\"\",หลักสูตร!$B$51)","v":"ก1"},{"$f":"IF(หลักสูตร!$B$52=0,\"\",หลักสูตร!$B$52)","v":"ก2"},{"$f":"IF(หลักสูตร!$B$53=0,\"\",หลักสูตร!$B$53)","v":"ก3"},{"$f":"IF(หลักสูตร!$B$54=0,\"\",หลักสูตร!$B$54)","v":"ก4"},{"$f":"IF(หลักสูตร!$B$55=0,\"\",หลักสูตร!$B$55)","v":""},null,null,null,{"$f":"SUMIF(H5:Y5,\"<>กิจกรรม\",H6:AA6)","v":23.5}]
[null,null,null,null,null,null,null,{"$f":"IF(หลักสูตร!$F$32=0,\"\",หลักสูตร!$F$32)","v":160},{"$f":"IF(หลักสูตร!$F$33=0,\"\",หลักสูตร!$F$33)","v":160},{"$f":"IF(หลักสูตร!$F$34=0,\"\",หลักสูตร!$F$34)","v":80},{"$f":"IF(หลักสูตร!$F$35=0,\"\",หลักสูตร!$F$35)","v":80},{"$f":"IF(หลักสูตร!$F$36=0,\"\",หลักสูตร!$F$36)","v":40},{"$f":"IF(หลักสูตร!$F$37=0,\"\",หลักสูตร!$F$37)","v":80},{"$f":"IF(หลักสูตร!$F$38=0,\"\",หลักสูตร!$F$38)","v":80},{"$f":"IF(หลักสูตร!$F$39=0,\"\",หลักสูตร!$F$39)","v":80},{"$f":"IF(หลักสูตร!$F$40=0,\"\",หลักสูตร!$F$40)","v":80},{"$f":"IF(หลักสูตร!$F$41=0,\"\",หลักสูตร!$F$41)","v":40},{"$f":"IF(หลักสูตร!$F$42=0,\"\",หลักสูตร!$F$42)","v":60},{"$f":"IF(หลักสูตร!$F$43=0,\"\",หลักสูตร!$F$43)","v":""},{"$f":"IF(หลักสูตร!$F$44=0,\"\",หลักสูตร!$F$44)","v":""},{"$f":"IF(หลักสูตร!$F$45=0,\"\",หลักสูตร!$F$45)","v":""},{"$f":"IF(หลักสูตร!$F$46=0,\"\",หลักสูตร!$F$46)","v":""},{"$f":"IF(หลักสูตร!$F$47=0,\"\",หลักสูตร!$F$47)","v":""},{"$f":"IF(หลักสูตร!$F$48=0,\"\",หลักสูตร!$F$48)","v":""},{"$f":"IF(หลักสูตร!$F$49=0,\"\",หลักสูตร!$F$49)","v":""},{"$f":"IF(หลักสูตร!$F$51=0,\"\",หลักสูตร!$F$51)","v":40},{"$f":"IF(หลักสูตร!$F$52=0,\"\",หลักสูตร!$F$52)","v":40},{"$f":"IF(หลักสูตร!$F$53=0,\"\",หลักสูตร!$F$53)","v":30},{"$f":"IF(หลักสูตร!$F$54=0,\"\",หลักสูตร!$F$54)","v":10},{"$f":"IF(หลักสูตร!$F$55=0,\"\",หลักสูตร!$F$55)","v":""}]
[null,null,null,null,null,null,"ประเภท",{"$f":"IF(หลักสูตร!$D$32=0,\"\",หลักสูตร!$D$32)","v":"พื้นฐาน"},{"$f":"IF(หลักสูตร!$D$33=0,\"\",หลักสูตร!$D$33)","v":"พื้นฐาน"},{"$f":"IF(หลักสูตร!$D$34=0,\"\",หลักสูตร!$D$34)","v":"พื้นฐาน"},{"$f":"IF(หลักสูตร!$D$35=0,\"\",หลักสูตร!$D$35)","v":"พื้นฐาน"},{"$f":"IF(หลักสูตร!$D$36=0,\"\",หลักสูตร!$D$36)","v":"พื้นฐาน"},{"$f":"IF(หลักสูตร!$D$37=0,\"\",หลักสูตร!$D$37)","v":"พื้นฐาน"},{"$f":"IF(หลักสูตร!$D$38=0,\"\",หลักสูตร!$D$38)","v":"พื้นฐาน"},{"$f":"IF(หลักสูตร!$D$39=0,\"\",หลักสูตร!$D$39)","v":"พื้นฐาน"},{"$f":"IF(หลักสูตร!$D$40=0,\"\",หลักสูตร!$D$40)","v":"พื้นฐาน"},{"$f":"IF(หลักสูตร!$D$41=0,\"\",หลักสูตร!$D$41)","v":"เพิ่มเติม"},{"$f":"IF(หลักสูตร!$D$42=0,\"\",หลักสูตร!$D$42)","v":"เพิ่มเติม"},{"$f":"IF(หลักสูตร!$D$43=0,\"\",หลักสูตร!$D$43)","v":""},{"$f":"IF(หลักสูตร!$D$44=0,\"\",หลักสูตร!$D$44)","v":""},{"$f":"IF(หลักสูตร!$D$45=0,\"\",หลักสูตร!$D$45)","v":""},{"$f":"IF(หลักสูตร!$D$46=0,\"\",หลักสูตร!$D$46)","v":""},{"$f":"IF(หลักสูตร!$D$47=0,\"\",หลักสูตร!$D$47)","v":""},{"$f":"IF(หลักสูตร!$D$48=0,\"\",หลักสูตร!$D$48)","v":""},{"$f":"IF(หลักสูตร!$D$49=0,\"\",หลักสูตร!$D$49)","v":""},{"$f":"IF(หลักสูตร!$D$51=0,\"\",หลักสูตร!$D$51)","v":"กิจกรรม"},{"$f":"IF(หลักสูตร!$D$52=0,\"\",หลักสูตร!$D$52)","v":"กิจกรรม"},{"$f":"IF(หลักสูตร!$D$53=0,\"\",หลักสูตร!$D$53)","v":"กิจกรรม"},{"$f":"IF(หลักสูตร!$D$54=0,\"\",หลักสูตร!$D$54)","v":"กิจกรรม"},{"$f":"IF(หลักสูตร!$D$55=0,\"\",หลักสูตร!$D$55)","v":""}]
[null,null,null,null,null,null,"น้ำหนัก",{"$f":"IF(หลักสูตร!$G$32=0,\"\",หลักสูตร!$G$32)","v":4},{"$f":"IF(หลักสูตร!$G$33=0,\"\",หลักสูตร!$G$33)","v":4},{"$f":"IF(หลักสูตร!$G$34=0,\"\",หลักสูตร!$G$34)","v":2},{"$f":"IF(หลักสูตร!$G$35=0,\"\",หลักสูตร!$G$35)","v":2},{"$f":"IF(หลักสูตร!$G$36=0,\"\",หลักสูตร!$G$36)","v":1},{"$f":"IF(หลักสูตร!$G$37=0,\"\",หลักสูตร!$G$37)","v":2},{"$f":"IF(หลักสูตร!$G$38=0,\"\",หลักสูตร!$G$38)","v":2},{"$f":"IF(หลักสูตร!$G$39=0,\"\",หลักสูตร!$G$39)","v":2},{"$f":"IF(หลักสูตร!$G$40=0,\"\",หลักสูตร!$G$40)","v":2},{"$f":"IF(หลักสูตร!$G$41=0,\"\",หลักสูตร!$G$41)","v":1},{"$f":"IF(หลักสูตร!$G$42=0,\"\",หลักสูตร!$G$42)","v":1.5},{"$f":"IF(หลักสูตร!$G$43=0,\"\",หลักสูตร!$G$43)","v":""},{"$f":"IF(หลักสูตร!$G$44=0,\"\",หลักสูตร!$G$44)","v":""},{"$f":"IF(หลักสูตร!$G$45=0,\"\",หลักสูตร!$G$45)","v":""},{"$f":"IF(หลักสูตร!$G$46=0,\"\",หลักสูตร!$G$46)","v":""},{"$f":"IF(หลักสูตร!$G$47=0,\"\",หลักสูตร!$G$47)","v":""},{"$f":"IF(หลักสูตร!$G$48=0,\"\",หลักสูตร!$G$48)","v":""},{"$f":"IF(หลักสูตร!$G$49=0,\"\",หลักสูตร!$G$49)","v":""},{"$f":"IF(หลักสูตร!$G$51=0,\"\",หลักสูตร!$G$51)","v":"-"},{"$f":"IF(หลักสูตร!$G$52=0,\"\",หลักสูตร!$G$52)","v":"-"},{"$f":"IF(หลักสูตร!$G$53=0,\"\",หลักสูตร!$G$53)","v":"-"},{"$f":"IF(หลักสูตร!$G$54=0,\"\",หลักสูตร!$G$54)","v":"-"},{"$f":"IF(หลักสูตร!$G$55=0,\"\",หลักสูตร!$G$55)","v":"-"},null,null,null,{"$f":"SUMIF(H5:Y5,\"<>กิจกรรม\",H6:AA6)","v":23.5}]
[{"$f":"ข้อมูลนักเรียน!A7","v":1},{"$f":"IF(ข้อมูลนักเรียน!B7=0,\"\",ข้อมูลนักเรียน!B7)","v":1},{"$f":"IF(ข้อมูลนักเรียน!C7=0,\"\",ข้อมูลนักเรียน!C7)","v":"00001"},{"$f":"IF(ข้อมูลนักเรียน!C7=0,\"\",ข้อมูลนักเรียน!D7 & ข้อมูลนักเรียน!E7 & \"   \"& ข้อมูลนักเรียน!F7)","v":"เด็กชายสมชาย   สุขสบาย"},{"$f":"IF(ข้อมูลนักเรียน!C7=0,\"\",ข้อมูลนักเรียน!G7)","v":1111111111111},{"$f":"ข้อมูลนักเรียน!B7","v":1},null,3,1,1,4,4,3,4,4,4,1.5,1.5,null,null,null,null,null,1.5,1.5,"ผ","ผ","ผ","ผ",null,2,2,{"$f":"IF(COUNTIFS(Z7:AD7,\"=มผ\") > 0,\"ไม่ผ่าน\",\"ผ่าน\")","v":"ผ่าน"},{"$f":"ROUNDDOWN(3.43181818181818,2)","v":3.43},"ง14202  คอมพิวเตอร์ออกแบบ",{"$f":"IF(AF7=1,\"ผ่าน\",IF(AF7=2,\"ดี\",IF(AF7=3,\"ดีเยี่ยม\",\"ปรับปรุง\")))","v":"ดี"},"คอมพิวเตอร์",22,"เกรด","อ่าน/คุณ","กิจกรรม"]
[{"$f":"ข้อมูลนักเรียน!A8","v":1},{"$f":"IF(ข้อมูลนักเรียน!B8=0,\"\",ข้อมูลนักเรียน!B8)","v":2},{"$f":"IF(ข้อมูลนักเรียน!C8=0,\"\",ข้อมูลนักเรียน!C8)","v":"00002"},{"$f":"IF(ข้อมูลนักเรียน!C8=0,\"\",ข้อมูลนักเรียน!D8 & ข้อมูลนักเรียน!E8 & \"   \"& ข้อมูลนักเรียน!F8)","v":"เด็กหญิงสมหวัง   ตั้งใจเรียน"},{"$f":"IF(ข้อมูลนักเรียน!C8=0,\"\",ข้อมูลนักเรียน!G8)","v":2222222222222},{"$f":"ข้อมูลนักเรียน!B8","v":2},null,4,4,4,4,4,4,3,4,4,1.5,1.5,null,null,null,null,null,1.5,1.5,"ผ","ผ","ผ","ผ",null,3,2,"ผ่าน",{"$f":"ROUNDDOWN(3.79545454545455,2)","v":3.79},"ง14202  คอมพิวเตอร์ออกแบบ","ดี","ดนตรี",22,0,0,"ผ"]
[{"$f":"ข้อมูลนักเรียน!A9","v":0},{"$f":"IF(ข้อมูลนักเรียน!B9=0,\"\",ข้อมูลนักเรียน!B9)","v":""},{"$f":"IF(ข้อมูลนักเรียน!C9=0,\"\",ข้อมูลนักเรียน!C9)","v":""},{"$f":"IF(ข้อมูลนักเรียน!C9=0,\"\",ข้อมูลนักเรียน!D9 & ข้อมูลนักเรียน!E9 & \"   \"& ข้อมูลนักเรียน!F9)","v":""},{"$f":"IF(ข้อมูลนักเรียน!C9=0,\"\",ข้อมูลนักเรียน!G9)","v":""},{"$f":"ข้อมูลนักเรียน!B9","v":0},null,null,null,null,null,null,null,null,null,null,null,null,null,null,null,null,null,null,null,null,null,null,null,null,null,null,{"$f":"IF(COUNTIFS(Z9:AD9,\"=มผ\") > 0,\"ไม่ผ่าน\",\"ผ่าน\")","v":"ผ่าน"},{"$f":"ROUNDDOWN(0,2)","v":0},null,{"$f":"IF(AF9=1,\"ผ่าน\",IF(AF9=2,\"ดี\",IF(AF9=3,\"ดีเยี่ยม\",\"ปรับปรุง\")))","v":"ปรับปรุง"},null,22,1,1,"มผ"]
[{"$f":"ข้อมูลนักเรียน!A10","v":0},{"$f":"IF(ข้อมูลนักเรียน!B10=0,\"\",ข้อมูลนักเรียน!B10)","v":""},{"$f":"IF(ข้อมูลนักเรียน!C10=0,\"\",ข้อมูลนักเรียน!C10)","v":""},{"$f":"IF(ข้อมูลนักเรียน!C10=0,\"\",ข้อมูลนักเรียน!D10 & ข้อมูลนักเรียน!E10 & \"   \"& ข้อมูลนักเรียน!F10)","v":""},{"$f":"IF(ข้อมูลนักเรียน!C10=0,\"\",ข้อมูลนักเรียน!G10)","v":""},{"$f":"ข้อมูลนักเรียน!B10","v":0},null,null,null,null,null,null,null,null,null,null,null,null,null,null,null,null,null,null,null,null,null,null,null,null,null,null,"ผ่าน",0,null,"ปรับปรุง",null,22,1.5,2]
[{"$f":"ข้อมูลนักเรียน!A11","v":0},{"$f":"IF(ข้อมูลนักเรียน!B11=0,\"\",ข้อมูลนักเรียน!B11)","v":""},{"$f":"IF(ข้อมูลนักเรียน!C11=0,\"\",ข้อมูลนักเรียน!C11)","v":""},{"$f":"IF(ข้อมูลนักเรียน!C11=0,\"\",ข้อมูลนักเรียน!D11 & ข้อมูลนักเรียน!E11 & \"   \"& ข้อมูลนักเรียน!F11)","v":""},{"$f":"IF(ข้อมูลนักเรียน!C11=0,\"\",ข้อมูลนักเรียน!G11)","v":""},{"$f":"ข้อมูลนักเรียน!B11","v":0},null,null,null,null,null,null,null,null,null,null,null,null,null,null,null,null,null,null,null,null,null,null,null,null,null,null,"ผ่าน",0,null,"ปรับปรุง",null,22,2,3]
[{"$f":"ข้อมูลนักเรียน!A12","v":0},{"$f":"IF(ข้อมูลนักเรียน!B12=0,\"\",ข้อมูลนักเรียน!B12)","v":""},{"$f":"IF(ข้อมูลนักเรียน!C12=0,\"\",ข้อมูลนักเรียน!C12)","v":""},{"$f":"IF(ข้อมูลนักเรียน!C12=0,\"\",ข้อมูลนักเรียน!D12 & ข้อมูลนักเรียน!E12 & \"   \"& ข้อมูลนักเรียน!F12)","v":""},{"$f":"IF(ข้อมูลนักเรียน!C12=0,\"\",ข้อมูลนักเรียน!G12)","v":""},{"$f":"ข้อมูลนักเรียน!B12","v":0},null,null,null,null,null,null,null,null,null,null,null,null,null,null,null,null,null,null,null,null,null,null,null,null,null,null,"ผ่าน",0,null,"ปรับปรุง",null,22,2.5]
[{"$f":"ข้อมูลนักเรียน!A13","v":0},{"$f":"IF(ข้อมูลนักเรียน!B13=0,\"\",ข้อมูลนักเรียน!B13)","v":""},{"$f":"IF(ข้อมูลนักเรียน!C13=0,\"\",ข้อมูลนักเรียน!C13)","v":""},{"$f":"IF(ข้อมูลนักเรียน!C13=0,\"\",ข้อมูลนักเรียน!D13 & ข้อมูลนักเรียน!E13 & \"   \"& ข้อมูลนักเรียน!F13)","v":""},{"$f":"IF(ข้อมูลนักเรียน!C13=0,\"\",ข้อมูลนักเรียน!G13)","v":""},{"$f":"ข้อมูลนักเรียน!B13","v":0},null,null,null,null,null,null,null,null,null,null,null,null,null,null,null,null,null,null,null,null,null,null,null,null,null,null,"ผ่าน",0,null,"ปรับปรุง",null,22,3]
[{"$f":"ข้อมูลนักเรียน!A14","v":0},{"$f":"IF(ข้อมูลนักเรียน!B14=0,\"\",ข้อมูลนักเรียน!B14)","v":""},{"$f":"IF(ข้อมูลนักเรียน!C14=0,\"\",ข้อมูลนักเรียน!C14)","v":""},{"$f":"IF(ข้อมูลนักเรียน!C14=0,\"\",ข้อมูลนักเรียน!D14 & ข้อมูลนักเรียน!E14 & \"   \"& ข้อมูลนักเรียน!F14)","v":""},{"$f":"IF(ข้อมูลนักเรียน!C14=0,\"\",ข้อมูลนักเรียน!G14)","v":""},{"$f":"ข้อมูลนักเรียน!B14","v":0},null,null,null,null,null,null,null,null,null,null,null,null,null,null,null,null,null,null,null,null,null,null,null,null,null,null,"ผ่าน",0,null,"ปรับปรุง",null,22,3.5]
[{"$f":"ข้อมูลนักเรียน!A15","v":0},{"$f":"IF(ข้อมูลนักเรียน!B15=0,\"\",ข้อมูลนักเรียน!B15)","v":""},{"$f":"IF(ข้อมูลนักเรียน!C15=0,\"\",ข้อมูลนักเรียน!C15)","v":""},{"$f":"IF(ข้อมูลนักเรียน!C15=0,\"\",ข้อมูลนักเรียน!D15 & ข้อมูลนักเรียน!E15 & \"   \"& ข้อมูลนักเรียน!F15)","v":""},{"$f":"IF(ข้อมูลนักเรียน!C15=0,\"\",ข้อมูลนักเรียน!G15)","v":""},{"$f":"ข้อมูลนักเรียน!B15","v":0},null,null,null,null,null,null,null,null,null,null,null,null,null,null,null,null,null,null,null,null,null,null,null,null,null,null,"ผ่าน",0,null,"ปรับปรุง",null,22,4]
[{"$f":"ข้อมูลนักเรียน!A16","v":0},{"$f":"IF(ข้อมูลนักเรียน!B16=0,\"\",ข้อมูลนักเรียน!B16)","v":""},{"$f":"IF(ข้อมูลนักเรียน!C16=0,\"\",ข้อมูลนักเรียน!C16)","v":""},{"$f":"IF(ข้อมูลนักเรียน!C16=0,\"\",ข้อมูลนักเรียน!D16 & ข้อมูลนักเรียน!E16 & \"   \"& ข้อมูลนักเรียน!F16)","v":""},{"$f":"IF(ข้อมูลนักเรียน!C16=0,\"\",ข้อมูลนักเรียน!G16)","v":""},{"$f":"ข้อมูลนักเรียน!B16","v":0},null,null,null,null,null,null,null,null,null,null,null,null,null,null,null,null,null,null,null,null,null,null,null,null,null,null,"ผ่าน",0,null,"ปรับปรุง",null,22,"ร"]
[{"$f":"ข้อมูลนักเรียน!A17","v":0},{"$f":"IF(ข้อมูลนักเรียน!B17=0,\"\",ข้อมูลนักเรียน!B17)","v":""},{"$f":"IF(ข้อมูลนักเรียน!C17=0,\"\",ข้อมูลนักเรียน!C17)","v":""},{"$f":"IF(ข้อมูลนักเรียน!C17=0,\"\",ข้อมูลนักเรียน!D17 & ข้อมูลนักเรียน!E17 & \"   \"& ข้อมูลนักเรียน!F17)","v":""},{"$f":"IF(ข้อมูลนักเรียน!C17=0,\"\",ข้อมูลนักเรียน!G17)","v":""},{"$f":"ข้อมูลนักเรียน!B17","v":0},null,null,null,null,null,null,null,null,null,null,null,null,null,null,null,null,null,null,null,null,null,null,null,null,null,null,"ผ่าน",0,null,"ปรับปรุง",null,22,"มส"]
[{"$f":"ข้อมูลนักเรียน!A18","v":0},{"$f":"IF(ข้อมูลนักเรียน!B18=0,\"\",ข้อมูลนักเรียน!B18)","v":""},{"$f":"IF(ข้อมูลนักเรียน!C18=0,\"\",ข้อมูลนักเรียน!C18)","v":""},{"$f":"IF(ข้อมูลนักเรียน!C18=0,\"\",ข้อมูลนักเรียน!D18 & ข้อมูลนักเรียน!E18 & \"   \"& ข้อมูลนักเรียน!F18)","v":""},{"$f":"IF(ข้อมูลนักเรียน!C18=0,\"\",ข้อมูลนักเรียน!G18)","v":""},{"$f":"ข้อมูลนักเรียน!B18","v":0},null,null,null,null,null,null,null,null,null,null,null,null,null,null,null,null,null,null,null,null,null,null,null,null,null,null,"ผ่าน",0,null,"ปรับปรุง",null,22,"ผ"]
[{"$f":"ข้อมูลนักเรียน!A19","v":0},{"$f":"IF(ข้อมูลนักเรียน!B19=0,\"\",ข้อมูลนักเรียน!B19)","v":""},{"$f":"IF(ข้อมูลนักเรียน!C19=0,\"\",ข้อมูลนักเรียน!C19)","v":""},{"$f":"IF(ข้อมูลนักเรียน!C19=0,\"\",ข้อมูลนักเรียน!D19 & ข้อมูลนักเรียน!E19 & \"   \"& ข้อมูลนักเรียน!F19)","v":""},{"$f":"IF(ข้อมูลนักเรียน!C19=0,\"\",ข้อมูลนักเรียน!G19)","v":""},{"$f":"ข้อมูลนักเรียน!B19","v":0},null,null,null,null,null,null,null,null,null,null,null,null,null,null,null,null,null,null,null,null,null,null,null,null,null,null,"ผ่าน",0,null,"ปรับปรุง",null,22,"มผ"]
[{"$f":"ข้อมูลนักเรียน!A20","v":0},{"$f":"IF(ข้อมูลนักเรียน!B20=0,\"\",ข้อมูลนักเรียน!B20)","v":""},{"$f":"IF(ข้อมูลนักเรียน!C20=0,\"\",ข้อมูลนักเรียน!C20)","v":""},{"$f":"IF(ข้อมูลนักเรียน!C20=0,\"\",ข้อมูลนักเรียน!D20 & ข้อมูลนักเรียน!E20 & \"   \"& ข้อมูลนักเรียน!F20)","v":""},{"$f":"IF(ข้อมูลนักเรียน!C20=0,\"\",ข้อมูลนักเรียน!G20)","v":""},{"$f":"ข้อมูลนักเรียน!B20","v":0},null,null,null,null,null,null,null,null,null,null,null,null,null,null,null,null,null,null,null,null,null,null,null,null,null,null,"ผ่าน",0,null,"ปรับปรุง",null,22]
[{"$f":"ข้อมูลนักเรียน!A21","v":0},{"$f":"IF(ข้อมูลนักเรียน!B21=0,\"\",ข้อมูลนักเรียน!B21)","v":""},{"$f":"IF(ข้อมูลนักเรียน!C21=0,\"\",ข้อมูลนักเรียน!C21)","v":""},{"$f":"IF(ข้อมูลนักเรียน!C21=0,\"\",ข้อมูลนักเรียน!D21 & ข้อมูลนักเรียน!E21 & \"   \"& ข้อมูลนักเรียน!F21)","v":""},{"$f":"IF(ข้อมูลนักเรียน!C21=0,\"\",ข้อมูลนักเรียน!G21)","v":""},{"$f":"ข้อมูลนักเรียน!B21","v":0},null,null,null,null,null,null,null,null,null,null,null,null,null,null,null,null,null,null,null,null,null,null,null,null,null,null,"ผ่าน",0,null,"ปรับปรุง",null,22]
[{"$f":"ข้อมูลนักเรียน!A22","v":0},{"$f":"IF(ข้อมูลนักเรียน!B22=0,\"\",ข้อมูลนักเรียน!B22)","v":""},{"$f":"IF(ข้อมูลนักเรียน!C22=0,\"\",ข้อมูลนักเรียน!C22)","v":""},{"$f":"IF(ข้อมูลนักเรียน!C22=0,\"\",ข้อมูลนักเรียน!D22 & ข้อมูลนักเรียน!E22 & \"   \"& ข้อมูลนักเรียน!F22)","v":""},{"$f":"IF(ข้อมูลนักเรียน!C22=0,\"\",ข้อมูลนักเรียน!G22)","v":""},{"$f":"ข้อมูลนักเรียน!B22","v":0},null,null,null,null,null,null,null,null,null,null,null,null,null,null,null,null,null,null,null,null,null,null,null,null,null,null,"ผ่าน",0,null,"ปรับปรุง",null,22]
[{"$f":"ข้อมูลนักเรียน!A23","v":0},{"$f":"IF(ข้อมูลนักเรียน!B23=0,\"\",ข้อมูลนักเรียน!B23)","v":""},{"$f":"IF(ข้อมูลนักเรียน!C23=0,\"\",ข้อมูลนักเรียน!C23)","v":""},{"$f":"IF(ข้อมูลนักเรียน!C23=0,\"\",ข้อมูลนักเรียน!D23 & ข้อมูลนักเรียน!E23 & \"   \"& ข้อมูลนักเรียน!F23)","v":""},{"$f":"IF(ข้อมูลนักเรียน!C23=0,\"\",ข้อมูลนักเรียน!G23)","v":""},{"$f":"ข้อมูลนักเรียน!B23","v":0},null,null,null,null,null,null,null,null,null,null,null,null,null,null,null,null,null,null,null,null,null,null,null,null,null,null,"ผ่าน",0,null,"ปรับปรุง",null,22]
[{"$f":"ข้อมูลนักเรียน!A24","v":0},{"$f":"IF(ข้อมูลนักเรียน!B24=0,\"\",ข้อมูลนักเรียน!B24)","v":""},{"$f":"IF(ข้อมูลนักเรียน!C24=0,\"\",ข้อมูลนักเรียน!C24)","v":""},{"$f":"IF(ข้อมูลนักเรียน!C24=0,\"\",ข้อมูลนักเรียน!D24 & ข้อมูลนักเรียน!E24 & \"   \"& ข้อมูลนักเรียน!F24)","v":""},{"$f":"IF(ข้อมูลนักเรียน!C24=0,\"\",ข้อมูลนักเรียน!G24)","v":""},{"$f":"ข้อมูลนักเรียน!B24","v":0},null,null,null,null,null,null,null,null,null,null,null,null,null,null,null,null,null,null,null,null,null,null,null,null,null,null,"ผ่าน",0,null,"ปรับปรุง",null,22]
[{"$f":"ข้อมูลนักเรียน!A25","v":0},{"$f":"IF(ข้อมูลนักเรียน!B25=0,\"\",ข้อมูลนักเรียน!B25)","v":""},{"$f":"IF(ข้อมูลนักเรียน!C25=0,\"\",ข้อมูลนักเรียน!C25)","v":""},{"$f":"IF(ข้อมูลนักเรียน!C25=0,\"\",ข้อมูลนักเรียน!D25 & ข้อมูลนักเรียน!E25 & \"   \"& ข้อมูลนักเรียน!F25)","v":""},{"$f":"IF(ข้อมูลนักเรียน!C25=0,\"\",ข้อมูลนักเรียน!G25)","v":""},{"$f":"ข้อมูลนักเรียน!B25","v":0},null,null,null,null,null,null,null,null,null,null,null,null,null,null,null,null,null,null,null,null,null,null,null,null,null,null,"ผ่าน",0,null,"ปรับปรุง",null,22]
[{"$f":"ข้อมูลนักเรียน!A26","v":0},{"$f":"IF(ข้อมูลนักเรียน!B26=0,\"\",ข้อมูลนักเรียน!B26)","v":""},{"$f":"IF(ข้อมูลนักเรียน!C26=0,\"\",ข้อมูลนักเรียน!C26)","v":""},{"$f":"IF(ข้อมูลนักเรียน!C26=0,\"\",ข้อมูลนักเรียน!D26 & ข้อมูลนักเรียน!E26 & \"   \"& ข้อมูลนักเรียน!F26)","v":""},{"$f":"IF(ข้อมูลนักเรียน!C26=0,\"\",ข้อมูลนักเรียน!G26)","v":""},{"$f":"ข้อมูลนักเรียน!B26","v":0},null,null,null,null,null,null,null,null,null,null,null,null,null,null,null,null,null,null,null,null,null,null,null,null,null,null,"ผ่าน",0,null,"ปรับปรุง",null,22]
[{"$f":"ข้อมูลนักเรียน!A27","v":0},{"$f":"IF(ข้อมูลนักเรียน!B27=0,\"\",ข้อมูลนักเรียน!B27)","v":""},{"$f":"IF(ข้อมูลนักเรียน!C27=0,\"\",ข้อมูลนักเรียน!C27)","v":""},{"$f":"IF(ข้อมูลนักเรียน!C27=0,\"\",ข้อมูลนักเรียน!D27 & ข้อมูลนักเรียน!E27 & \"   \"& ข้อมูลนักเรียน!F27)","v":""},{"$f":"IF(ข้อมูลนักเรียน!C27=0,\"\",ข้อมูลนักเรียน!G27)","v":""},{"$f":"ข้อมูลนักเรียน!B27","v":0},null,null,null,null,null,null,null,null,null,null,null,null,null,null,null,null,null,null,null,null,null,null,null,null,null,null,"ผ่าน",0,null,"ปรับปรุง",null,22]
[{"$f":"ข้อมูลนักเรียน!A28","v":0},{"$f":"IF(ข้อมูลนักเรียน!B28=0,\"\",ข้อมูลนักเรียน!B28)","v":""},{"$f":"IF(ข้อมูลนักเรียน!C28=0,\"\",ข้อมูลนักเรียน!C28)","v":""},{"$f":"IF(ข้อมูลนักเรียน!C28=0,\"\",ข้อมูลนักเรียน!D28 & ข้อมูลนักเรียน!E28 & \"   \"& ข้อมูลนักเรียน!F28)","v":""},{"$f":"IF(ข้อมูลนักเรียน!C28=0,\"\",ข้อมูลนักเรียน!G28)","v":""},{"$f":"ข้อมูลนักเรียน!B28","v":0},null,null,null,null,null,null,null,null,null,null,null,null,null,null,null,null,null,null,null,null,null,null,null,null,null,null,"ผ่าน",0,null,"ปรับปรุง",null,22]
[{"$f":"ข้อมูลนักเรียน!A29","v":0},{"$f":"IF(ข้อมูลนักเรียน!B29=0,\"\",ข้อมูลนักเรียน!B29)","v":""},{"$f":"IF(ข้อมูลนักเรียน!C29=0,\"\",ข้อมูลนักเรียน!C29)","v":""},{"$f":"IF(ข้อมูลนักเรียน!C29=0,\"\",ข้อมูลนักเรียน!D29 & ข้อมูลนักเรียน!E29 & \"   \"& ข้อมูลนักเรียน!F29)","v":""},{"$f":"IF(ข้อมูลนักเรียน!C29=0,\"\",ข้อมูลนักเรียน!G29)","v":""},{"$f":"ข้อมูลนักเรียน!B29","v":0},null,null,null,null,null,null,null,null,null,null,null,null,null,null,null,null,null,null,null,null,null,null,null,null,null,null,"ผ่าน",0,null,"ปรับปรุง",null,22]
[{"$f":"ข้อมูลนักเรียน!A30","v":0},{"$f":"IF(ข้อมูลนักเรียน!B30=0,\"\",ข้อมูลนักเรียน!B30)","v":""},{"$f":"IF(ข้อมูลนักเรียน!C30=0,\"\",ข้อมูลนักเรียน!C30)","v":""},{"$f":"IF(ข้อมูลนักเรียน!C30=0,\"\",ข้อมูลนักเรียน!D30 & ข้อมูลนักเรียน!E30 & \"   \"& ข้อมูลนักเรียน!F30)","v":""},{"$f":"IF(ข้อมูลนักเรียน!C30=0,\"\",ข้อมูลนักเรียน!G30)","v":""},{"$f":"ข้อมูลนักเรียน!B30","v":0},null,null,null,null,null,null,null,null,null,null,null,null,null,null,null,null,null,null,null,null,null,null,null,null,null,null,"ผ่าน",0,null,"ปรับปรุง",null,22]
[{"$f":"ข้อมูลนักเรียน!A31","v":0},{"$f":"IF(ข้อมูลนักเรียน!B31=0,\"\",ข้อมูลนักเรียน!B31)","v":""},{"$f":"IF(ข้อมูลนักเรียน!C31=0,\"\",ข้อมูลนักเรียน!C31)","v":""},{"$f":"IF(ข้อมูลนักเรียน!C31=0,\"\",ข้อมูลนักเรียน!D31 & ข้อมูลนักเรียน!E31 & \"   \"& ข้อมูลนักเรียน!F31)","v":""},{"$f":"IF(ข้อมูลนักเรียน!C31=0,\"\",ข้อมูลนักเรียน!G31)","v":""},{"$f":"ข้อมูลนักเรียน!B31","v":0},null,null,null,null,null,null,null,null,null,null,null,null,null,null,null,null,null,null,null,null,null,null,null,null,null,null,"ผ่าน",0,null,"ปรับปรุง",null,22]
[{"$f":"ข้อมูลนักเรียน!A32","v":0},{"$f":"IF(ข้อมูลนักเรียน!B32=0,\"\",ข้อมูลนักเรียน!B32)","v":""},{"$f":"IF(ข้อมูลนักเรียน!C32=0,\"\",ข้อมูลนักเรียน!C32)","v":""},{"$f":"IF(ข้อมูลนักเรียน!C32=0,\"\",ข้อมูลนักเรียน!D32 & ข้อมูลนักเรียน!E32 & \"   \"& ข้อมูลนักเรียน!F32)","v":""},{"$f":"IF(ข้อมูลนักเรียน!C32=0,\"\",ข้อมูลนักเรียน!G32)","v":""},{"$f":"ข้อมูลนักเรียน!B32","v":0},null,null,null,null,null,null,null,null,null,null,null,null,null,null,null,null,null,null,null,null,null,null,null,null,null,null,"ผ่าน",0,null,"ปรับปรุง",null,22]
[{"$f":"ข้อมูลนักเรียน!A33","v":0},{"$f":"IF(ข้อมูลนักเรียน!B33=0,\"\",ข้อมูลนักเรียน!B33)","v":""},{"$f":"IF(ข้อมูลนักเรียน!C33=0,\"\",ข้อมูลนักเรียน!C33)","v":""},{"$f":"IF(ข้อมูลนักเรียน!C33=0,\"\",ข้อมูลนักเรียน!D33 & ข้อมูลนักเรียน!E33 & \"   \"& ข้อมูลนักเรียน!F33)","v":""},{"$f":"IF(ข้อมูลนักเรียน!C33=0,\"\",ข้อมูลนักเรียน!G33)","v":""},{"$f":"ข้อมูลนักเรียน!B33","v":0},null,null,null,null,null,null,null,null,null,null,null,null,null,null,null,null,null,null,null,null,null,null,null,null,null,null,"ผ่าน",0,null,"ปรับปรุง",null,22]
[{"$f":"ข้อมูลนักเรียน!A34","v":0},{"$f":"IF(ข้อมูลนักเรียน!B34=0,\"\",ข้อมูลนักเรียน!B34)","v":""},{"$f":"IF(ข้อมูลนักเรียน!C34=0,\"\",ข้อมูลนักเรียน!C34)","v":""},{"$f":"IF(ข้อมูลนักเรียน!C34=0,\"\",ข้อมูลนักเรียน!D34 & ข้อมูลนักเรียน!E34 & \"   \"& ข้อมูลนักเรียน!F34)","v":""},{"$f":"IF(ข้อมูลนักเรียน!C34=0,\"\",ข้อมูลนักเรียน!G34)","v":""},{"$f":"ข้อมูลนักเรียน!B34","v":0},null,null,null,null,null,null,null,null,null,null,null,null,null,null,null,null,null,null,null,null,null,null,null,null,null,null,"ผ่าน",0,null,"ปรับปรุง",null,22]
[{"$f":"ข้อมูลนักเรียน!A35","v":0},{"$f":"IF(ข้อมูลนักเรียน!B35=0,\"\",ข้อมูลนักเรียน!B35)","v":""},{"$f":"IF(ข้อมูลนักเรียน!C35=0,\"\",ข้อมูลนักเรียน!C35)","v":""},{"$f":"IF(ข้อมูลนักเรียน!C35=0,\"\",ข้อมูลนักเรียน!D35 & ข้อมูลนักเรียน!E35 & \"   \"& ข้อมูลนักเรียน!F35)","v":""},{"$f":"IF(ข้อมูลนักเรียน!C35=0,\"\",ข้อมูลนักเรียน!G35)","v":""},{"$f":"ข้อมูลนักเรียน!B35","v":0},null,null,null,null,null,null,null,null,null,null,null,null,null,null,null,null,null,null,null,null,null,null,null,null,null,null,"ผ่าน",0,null,"ปรับปรุง",null,22]
[{"$f":"ข้อมูลนักเรียน!A36","v":0},{"$f":"IF(ข้อมูลนักเรียน!B36=0,\"\",ข้อมูลนักเรียน!B36)","v":""},{"$f":"IF(ข้อมูลนักเรียน!C36=0,\"\",ข้อมูลนักเรียน!C36)","v":""},{"$f":"IF(ข้อมูลนักเรียน!C36=0,\"\",ข้อมูลนักเรียน!D36 & ข้อมูลนักเรียน!E36 & \"   \"& ข้อมูลนักเรียน!F36)","v":""},{"$f":"IF(ข้อมูลนักเรียน!C36=0,\"\",ข้อมูลนักเรียน!G36)","v":""},{"$f":"ข้อมูลนักเรียน!B36","v":0},null,null,null,null,null,null,null,null,null,null,null,null,null,null,null,null,null,null,null,null,null,null,null,null,null,null,"ผ่าน",0,null,"ปรับปรุง",null,22]
[{"$f":"ข้อมูลนักเรียน!A37","v":0},{"$f":"IF(ข้อมูลนักเรียน!B37=0,\"\",ข้อมูลนักเรียน!B37)","v":""},{"$f":"IF(ข้อมูลนักเรียน!C37=0,\"\",ข้อมูลนักเรียน!C37)","v":""},{"$f":"IF(ข้อมูลนักเรียน!C37=0,\"\",ข้อมูลนักเรียน!D37 & ข้อมูลนักเรียน!E37 & \"   \"& ข้อมูลนักเรียน!F37)","v":""},{"$f":"IF(ข้อมูลนักเรียน!C37=0,\"\",ข้อมูลนักเรียน!G37)","v":""},{"$f":"ข้อมูลนักเรียน!B37","v":0},null,null,null,null,null,null,null,null,null,null,null,null,null,null,null,null,null,null,null,null,null,null,null,null,null,null,"ผ่าน",0,null,"ปรับปรุง",null,22]
[{"$f":"ข้อมูลนักเรียน!A38","v":0},{"$f":"IF(ข้อมูลนักเรียน!B38=0,\"\",ข้อมูลนักเรียน!B38)","v":""},{"$f":"IF(ข้อมูลนักเรียน!C38=0,\"\",ข้อมูลนักเรียน!C38)","v":""},{"$f":"IF(ข้อมูลนักเรียน!C38=0,\"\",ข้อมูลนักเรียน!D38 & ข้อมูลนักเรียน!E38 & \"   \"& ข้อมูลนักเรียน!F38)","v":""},{"$f":"IF(ข้อมูลนักเรียน!C38=0,\"\",ข้อมูลนักเรียน!G38)","v":""},{"$f":"ข้อมูลนักเรียน!B38","v":0},null,null,null,null,null,null,null,null,null,null,null,null,null,null,null,null,null,null,null,null,null,null,null,null,null,null,"ผ่าน",0,null,"ปรับปรุง",null,22]
[{"$f":"ข้อมูลนักเรียน!A39","v":0},{"$f":"IF(ข้อมูลนักเรียน!B39=0,\"\",ข้อมูลนักเรียน!B39)","v":""},{"$f":"IF(ข้อมูลนักเรียน!C39=0,\"\",ข้อมูลนักเรียน!C39)","v":""},{"$f":"IF(ข้อมูลนักเรียน!C39=0,\"\",ข้อมูลนักเรียน!D39 & ข้อมูลนักเรียน!E39 & \"   \"& ข้อมูลนักเรียน!F39)","v":""},{"$f":"IF(ข้อมูลนักเรียน!C39=0,\"\",ข้อมูลนักเรียน!G39)","v":""},{"$f":"ข้อมูลนักเรียน!B39","v":0},null,null,null,null,null,null,null,null,null,null,null,null,null,null,null,null,null,null,null,null,null,null,null,null,null,null,"ผ่าน",0,null,"ปรับปรุง",null,22]
[{"$f":"ข้อมูลนักเรียน!A40","v":0},{"$f":"IF(ข้อมูลนักเรียน!B40=0,\"\",ข้อมูลนักเรียน!B40)","v":""},{"$f":"IF(ข้อมูลนักเรียน!C40=0,\"\",ข้อมูลนักเรียน!C40)","v":""},{"$f":"IF(ข้อมูลนักเรียน!C40=0,\"\",ข้อมูลนักเรียน!D40 & ข้อมูลนักเรียน!E40 & \"   \"& ข้อมูลนักเรียน!F40)","v":""},{"$f":"IF(ข้อมูลนักเรียน!C40=0,\"\",ข้อมูลนักเรียน!G40)","v":""},{"$f":"ข้อมูลนักเรียน!B40","v":0},null,null,null,null,null,null,null,null,null,null,null,null,null,null,null,null,null,null,null,null,null,null,null,null,null,null,"ผ่าน",0,null,"ปรับปรุง",null,22]
[{"$f":"ข้อมูลนักเรียน!A41","v":0},{"$f":"IF(ข้อมูลนักเรียน!B41=0,\"\",ข้อมูลนักเรียน!B41)","v":""},{"$f":"IF(ข้อมูลนักเรียน!C41=0,\"\",ข้อมูลนักเรียน!C41)","v":""},{"$f":"IF(ข้อมูลนักเรียน!C41=0,\"\",ข้อมูลนักเรียน!D41 & ข้อมูลนักเรียน!E41 & \"   \"& ข้อมูลนักเรียน!F41)","v":""},{"$f":"IF(ข้อมูลนักเรียน!C41=0,\"\",ข้อมูลนักเรียน!G41)","v":""},{"$f":"ข้อมูลนักเรียน!B41","v":0},null,null,null,null,null,null,null,null,null,null,null,null,null,null,null,null,null,null,null,null,null,null,null,null,null,null,"ผ่าน",{"$f":"ROUNDDOWN(0,2)","v":0},null,"ปรับปรุง",null,22]
[{"$f":"ข้อมูลนักเรียน!A42","v":0},{"$f":"IF(ข้อมูลนักเรียน!B42=0,\"\",ข้อมูลนักเรียน!B42)","v":""},{"$f":"IF(ข้อมูลนักเรียน!C42=0,\"\",ข้อมูลนักเรียน!C42)","v":""},{"$f":"IF(ข้อมูลนักเรียน!C42=0,\"\",ข้อมูลนักเรียน!D42 & ข้อมูลนักเรียน!E42 & \"   \"& ข้อมูลนักเรียน!F42)","v":""},{"$f":"IF(ข้อมูลนักเรียน!C42=0,\"\",ข้อมูลนักเรียน!G42)","v":""},{"$f":"ข้อมูลนักเรียน!B42","v":0},null,null,null,null,null,null,null,null,null,null,null,null,null,null,null,null,null,null,null,null,null,null,null,null,null,null,"ผ่าน",0,null,"ปรับปรุง",null,22]
[{"$f":"ข้อมูลนักเรียน!A43","v":0},{"$f":"IF(ข้อมูลนักเรียน!B43=0,\"\",ข้อมูลนักเรียน!B43)","v":""},{"$f":"IF(ข้อมูลนักเรียน!C43=0,\"\",ข้อมูลนักเรียน!C43)","v":""},{"$f":"IF(ข้อมูลนักเรียน!C43=0,\"\",ข้อมูลนักเรียน!D43 & ข้อมูลนักเรียน!E43 & \"   \"& ข้อมูลนักเรียน!F43)","v":""},{"$f":"IF(ข้อมูลนักเรียน!C43=0,\"\",ข้อมูลนักเรียน!G43)","v":""},{"$f":"ข้อมูลนักเรียน!B43","v":0},null,null,null,null,null,null,null,null,null,null,null,null,null,null,null,null,null,null,null,null,null,null,null,null,null,null,"ผ่าน",0,null,"ปรับปรุง",null,22]
[{"$f":"ข้อมูลนักเรียน!A44","v":0},{"$f":"IF(ข้อมูลนักเรียน!B44=0,\"\",ข้อมูลนักเรียน!B44)","v":""},{"$f":"IF(ข้อมูลนักเรียน!C44=0,\"\",ข้อมูลนักเรียน!C44)","v":""},{"$f":"IF(ข้อมูลนักเรียน!C44=0,\"\",ข้อมูลนักเรียน!D44 & ข้อมูลนักเรียน!E44 & \"   \"& ข้อมูลนักเรียน!F44)","v":""},{"$f":"IF(ข้อมูลนักเรียน!C44=0,\"\",ข้อมูลนักเรียน!G44)","v":""},{"$f":"ข้อมูลนักเรียน!B44","v":0},null,null,null,null,null,null,null,null,null,null,null,null,null,null,null,null,null,null,null,null,null,null,null,null,null,null,"ผ่าน",0,null,"ปรับปรุง",null,22]
[{"$f":"ข้อมูลนักเรียน!A45","v":0},{"$f":"IF(ข้อมูลนักเรียน!B45=0,\"\",ข้อมูลนักเรียน!B45)","v":""},{"$f":"IF(ข้อมูลนักเรียน!C45=0,\"\",ข้อมูลนักเรียน!C45)","v":""},{"$f":"IF(ข้อมูลนักเรียน!C45=0,\"\",ข้อมูลนักเรียน!D45 & ข้อมูลนักเรียน!E45 & \"   \"& ข้อมูลนักเรียน!F45)","v":""},{"$f":"IF(ข้อมูลนักเรียน!C45=0,\"\",ข้อมูลนักเรียน!G45)","v":""},{"$f":"ข้อมูลนักเรียน!B45","v":0},null,null,null,null,null,null,null,null,null,null,null,null,null,null,null,null,null,null,null,null,null,null,null,null,null,null,"ผ่าน",0,null,"ปรับปรุง",null,22]
[{"$f":"ข้อมูลนักเรียน!A46","v":0},{"$f":"IF(ข้อมูลนักเรียน!B46=0,\"\",ข้อมูลนักเรียน!B46)","v":""},{"$f":"IF(ข้อมูลนักเรียน!C46=0,\"\",ข้อมูลนักเรียน!C46)","v":""},{"$f":"IF(ข้อมูลนักเรียน!C46=0,\"\",ข้อมูลนักเรียน!D46 & ข้อมูลนักเรียน!E46 & \"   \"& ข้อมูลนักเรียน!F46)","v":""},{"$f":"IF(ข้อมูลนักเรียน!C46=0,\"\",ข้อมูลนักเรียน!G46)","v":""},{"$f":"ข้อมูลนักเรียน!B46","v":0},null,null,null,null,null,null,null,null,null,null,null,null,null,null,null,null,null,null,null,null,null,null,null,null,null,null,"ผ่าน",0,null,"ปรับปรุง",null,22]
[{"$f":"ข้อมูลนักเรียน!A47","v":0},{"$f":"IF(ข้อมูลนักเรียน!B47=0,\"\",ข้อมูลนักเรียน!B47)","v":""},{"$f":"IF(ข้อมูลนักเรียน!C47=0,\"\",ข้อมูลนักเรียน!C47)","v":""},{"$f":"IF(ข้อมูลนักเรียน!C47=0,\"\",ข้อมูลนักเรียน!D47 & ข้อมูลนักเรียน!E47 & \"   \"& ข้อมูลนักเรียน!F47)","v":""},{"$f":"IF(ข้อมูลนักเรียน!C47=0,\"\",ข้อมูลนักเรียน!G47)","v":""},{"$f":"ข้อมูลนักเรียน!B47","v":0},null,null,null,null,null,null,null,null,null,null,null,null,null,null,null,null,null,null,null,null,null,null,null,null,null,null,"ผ่าน",0,null,"ปรับปรุง",null,22]
[{"$f":"ข้อมูลนักเรียน!A48","v":0},{"$f":"IF(ข้อมูลนักเรียน!B48=0,\"\",ข้อมูลนักเรียน!B48)","v":""},{"$f":"IF(ข้อมูลนักเรียน!C48=0,\"\",ข้อมูลนักเรียน!C48)","v":""},{"$f":"IF(ข้อมูลนักเรียน!C48=0,\"\",ข้อมูลนักเรียน!D48 & ข้อมูลนักเรียน!E48 & \"   \"& ข้อมูลนักเรียน!F48)","v":""},{"$f":"IF(ข้อมูลนักเรียน!C48=0,\"\",ข้อมูลนักเรียน!G48)","v":""},{"$f":"ข้อมูลนักเรียน!B48","v":0},null,null,null,null,null,null,null,null,null,null,null,null,null,null,null,null,null,null,null,null,null,null,null,null,null,null,"ผ่าน",0,null,"ปรับปรุง",null,22]
[{"$f":"ข้อมูลนักเรียน!A49","v":0},{"$f":"IF(ข้อมูลนักเรียน!B49=0,\"\",ข้อมูลนักเรียน!B49)","v":""},{"$f":"IF(ข้อมูลนักเรียน!C49=0,\"\",ข้อมูลนักเรียน!C49)","v":""},{"$f":"IF(ข้อมูลนักเรียน!C49=0,\"\",ข้อมูลนักเรียน!D49 & ข้อมูลนักเรียน!E49 & \"   \"& ข้อมูลนักเรียน!F49)","v":""},{"$f":"IF(ข้อมูลนักเรียน!C49=0,\"\",ข้อมูลนักเรียน!G49)","v":""},{"$f":"ข้อมูลนักเรียน!B49","v":0},null,null,null,null,null,null,null,null,null,null,null,null,null,null,null,null,null,null,null,null,null,null,null,null,null,null,"ผ่าน",0,null,"ปรับปรุง",null,22]
[{"$f":"ข้อมูลนักเรียน!A50","v":0},{"$f":"IF(ข้อมูลนักเรียน!B50=0,\"\",ข้อมูลนักเรียน!B50)","v":""},{"$f":"IF(ข้อมูลนักเรียน!C50=0,\"\",ข้อมูลนักเรียน!C50)","v":""},{"$f":"IF(ข้อมูลนักเรียน!C50=0,\"\",ข้อมูลนักเรียน!D50 & ข้อมูลนักเรียน!E50 & \"   \"& ข้อมูลนักเรียน!F50)","v":""},{"$f":"IF(ข้อมูลนักเรียน!C50=0,\"\",ข้อมูลนักเรียน!G50)","v":""},{"$f":"ข้อมูลนักเรียน!B50","v":0},null,null,null,null,null,null,null,null,null,null,null,null,null,null,null,null,null,null,null,null,null,null,null,null,null,null,"ผ่าน",0,null,"ปรับปรุง",null,22]
[{"$f":"ข้อมูลนักเรียน!A51","v":0},{"$f":"IF(ข้อมูลนักเรียน!B51=0,\"\",ข้อมูลนักเรียน!B51)","v":""},{"$f":"IF(ข้อมูลนักเรียน!C51=0,\"\",ข้อมูลนักเรียน!C51)","v":""},{"$f":"IF(ข้อมูลนักเรียน!C51=0,\"\",ข้อมูลนักเรียน!D51 & ข้อมูลนักเรียน!E51 & \"   \"& ข้อมูลนักเรียน!F51)","v":""},{"$f":"IF(ข้อมูลนักเรียน!C51=0,\"\",ข้อมูลนักเรียน!G51)","v":""},{"$f":"ข้อมูลนักเรียน!B51","v":0},null,null,null,null,null,null,null,null,null,null,null,null,null,null,null,null,null,null,null,null,null,null,null,null,null,null,"ผ่าน",0,null,"ปรับปรุง",null,22]
[{"$f":"ข้อมูลนักเรียน!A52","v":0},{"$f":"IF(ข้อมูลนักเรียน!B52=0,\"\",ข้อมูลนักเรียน!B52)","v":""},{"$f":"IF(ข้อมูลนักเรียน!C52=0,\"\",ข้อมูลนักเรียน!C52)","v":""},{"$f":"IF(ข้อมูลนักเรียน!C52=0,\"\",ข้อมูลนักเรียน!D52 & ข้อมูลนักเรียน!E52 & \"   \"& ข้อมูลนักเรียน!F52)","v":""},{"$f":"IF(ข้อมูลนักเรียน!C52=0,\"\",ข้อมูลนักเรียน!G52)","v":""},{"$f":"ข้อมูลนักเรียน!B52","v":0},null,null,null,null,null,null,null,null,null,null,null,null,null,null,null,null,null,null,null,null,null,null,null,null,null,null,"ผ่าน",0,null,"ปรับปรุง",null,22]
[{"$f":"ข้อมูลนักเรียน!A53","v":0},{"$f":"IF(ข้อมูลนักเรียน!B53=0,\"\",ข้อมูลนักเรียน!B53)","v":""},{"$f":"IF(ข้อมูลนักเรียน!C53=0,\"\",ข้อมูลนักเรียน!C53)","v":""},{"$f":"IF(ข้อมูลนักเรียน!C53=0,\"\",ข้อมูลนักเรียน!D53 & ข้อมูลนักเรียน!E53 & \"   \"& ข้อมูลนักเรียน!F53)","v":""},{"$f":"IF(ข้อมูลนักเรียน!C53=0,\"\",ข้อมูลนักเรียน!G53)","v":""},{"$f":"ข้อมูลนักเรียน!B53","v":0},null,null,null,null,null,null,null,null,null,null,null,null,null,null,null,null,null,null,null,null,null,null,null,null,null,null,"ผ่าน",0,null,"ปรับปรุง",null,22]
[{"$f":"ข้อมูลนักเรียน!A54","v":0},{"$f":"IF(ข้อมูลนักเรียน!B54=0,\"\",ข้อมูลนักเรียน!B54)","v":""},{"$f":"IF(ข้อมูลนักเรียน!C54=0,\"\",ข้อมูลนักเรียน!C54)","v":""},{"$f":"IF(ข้อมูลนักเรียน!C54=0,\"\",ข้อมูลนักเรียน!D54 & ข้อมูลนักเรียน!E54 & \"   \"& ข้อมูลนักเรียน!F54)","v":""},{"$f":"IF(ข้อมูลนักเรียน!C54=0,\"\",ข้อมูลนักเรียน!G54)","v":""},{"$f":"ข้อมูลนักเรียน!B54","v":0},null,null,null,null,null,null,null,null,null,null,null,null,null,null,null,null,null,null,null,null,null,null,null,null,null,null,"ผ่าน",0,null,"ปรับปรุง",null,22]
[{"$f":"ข้อมูลนักเรียน!A55","v":0},{"$f":"IF(ข้อมูลนักเรียน!B55=0,\"\",ข้อมูลนักเรียน!B55)","v":""},{"$f":"IF(ข้อมูลนักเรียน!C55=0,\"\",ข้อมูลนักเรียน!C55)","v":""},{"$f":"IF(ข้อมูลนักเรียน!C55=0,\"\",ข้อมูลนักเรียน!D55 & ข้อมูลนักเรียน!E55 & \"   \"& ข้อมูลนักเรียน!F55)","v":""},{"$f":"IF(ข้อมูลนักเรียน!C55=0,\"\",ข้อมูลนักเรียน!G55)","v":""},{"$f":"ข้อมูลนักเรียน!B55","v":0},null,null,null,null,null,null,null,null,null,null,null,null,null,null,null,null,null,null,null,null,null,null,null,null,null,null,"ผ่าน",0,null,"ปรับปรุง",null,22]
[{"$f":"ข้อมูลนักเรียน!A56","v":0},{"$f":"IF(ข้อมูลนักเรียน!B56=0,\"\",ข้อมูลนักเรียน!B56)","v":""},{"$f":"IF(ข้อมูลนักเรียน!C56=0,\"\",ข้อมูลนักเรียน!C56)","v":""},{"$f":"IF(ข้อมูลนักเรียน!C56=0,\"\",ข้อมูลนักเรียน!D56 & ข้อมูลนักเรียน!E56 & \"   \"& ข้อมูลนักเรียน!F56)","v":""},{"$f":"IF(ข้อมูลนักเรียน!C56=0,\"\",ข้อมูลนักเรียน!G56)","v":""},{"$f":"ข้อมูลนักเรียน!B56","v":0},null,null,null,null,null,null,null,null,null,null,null,null,null,null,null,null,null,null,null,null,null,null,null,null,null,null,"ผ่าน",0,null,"ปรับปรุง",null,22]
[{"$f":"ข้อมูลนักเรียน!A57","v":0},{"$f":"IF(ข้อมูลนักเรียน!B57=0,\"\",ข้อมูลนักเรียน!B57)","v":""},{"$f":"IF(ข้อมูลนักเรียน!C57=0,\"\",ข้อมูลนักเรียน!C57)","v":""},{"$f":"IF(ข้อมูลนักเรียน!C57=0,\"\",ข้อมูลนักเรียน!D57 & ข้อมูลนักเรียน!E57 & \"   \"& ข้อมูลนักเรียน!F57)","v":""},{"$f":"IF(ข้อมูลนักเรียน!C57=0,\"\",ข้อมูลนักเรียน!G57)","v":""},{"$f":"ข้อมูลนักเรียน!B57","v":0},null,null,null,null,null,null,null,null,null,null,null,null,null,null,null,null,null,null,null,null,null,null,null,null,null,null,"ผ่าน",0,null,"ปรับปรุง",null,22]
[{"$f":"ข้อมูลนักเรียน!A58","v":0},{"$f":"IF(ข้อมูลนักเรียน!B58=0,\"\",ข้อมูลนักเรียน!B58)","v":""},{"$f":"IF(ข้อมูลนักเรียน!C58=0,\"\",ข้อมูลนักเรียน!C58)","v":""},{"$f":"IF(ข้อมูลนักเรียน!C58=0,\"\",ข้อมูลนักเรียน!D58 & ข้อมูลนักเรียน!E58 & \"   \"& ข้อมูลนักเรียน!F58)","v":""},{"$f":"IF(ข้อมูลนักเรียน!C58=0,\"\",ข้อมูลนักเรียน!G58)","v":""},{"$f":"ข้อมูลนักเรียน!B58","v":0},null,null,null,null,null,null,null,null,null,null,null,null,null,null,null,null,null,null,null,null,null,null,null,null,null,null,"ผ่าน",0,null,"ปรับปรุง",null,22]
[{"$f":"ข้อมูลนักเรียน!A59","v":0},{"$f":"IF(ข้อมูลนักเรียน!B59=0,\"\",ข้อมูลนักเรียน!B59)","v":""},{"$f":"IF(ข้อมูลนักเรียน!C59=0,\"\",ข้อมูลนักเรียน!C59)","v":""},{"$f":"IF(ข้อมูลนักเรียน!C59=0,\"\",ข้อมูลนักเรียน!D59 & ข้อมูลนักเรียน!E59 & \"   \"& ข้อมูลนักเรียน!F59)","v":""},{"$f":"IF(ข้อมูลนักเรียน!C59=0,\"\",ข้อมูลนักเรียน!G59)","v":""},{"$f":"ข้อมูลนักเรียน!B59","v":0},null,null,null,null,null,null,null,null,null,null,null,null,null,null,null,null,null,null,null,null,null,null,null,null,null,null,"ผ่าน",0,null,"ปรับปรุง",null,22]
[{"$f":"ข้อมูลนักเรียน!A60","v":0},{"$f":"IF(ข้อมูลนักเรียน!B60=0,\"\",ข้อมูลนักเรียน!B60)","v":""},{"$f":"IF(ข้อมูลนักเรียน!C60=0,\"\",ข้อมูลนักเรียน!C60)","v":""},{"$f":"IF(ข้อมูลนักเรียน!C60=0,\"\",ข้อมูลนักเรียน!D60 & ข้อมูลนักเรียน!E60 & \"   \"& ข้อมูลนักเรียน!F60)","v":""},{"$f":"IF(ข้อมูลนักเรียน!C60=0,\"\",ข้อมูลนักเรียน!G60)","v":""},{"$f":"ข้อมูลนักเรียน!B60","v":0},null,null,null,null,null,null,null,null,null,null,null,null,null,null,null,null,null,null,null,null,null,null,null,null,null,null,"ผ่าน",0,null,"ปรับปรุง",null,22]
[{"$f":"ข้อมูลนักเรียน!A61","v":0},{"$f":"IF(ข้อมูลนักเรียน!B61=0,\"\",ข้อมูลนักเรียน!B61)","v":""},{"$f":"IF(ข้อมูลนักเรียน!C61=0,\"\",ข้อมูลนักเรียน!C61)","v":""},{"$f":"IF(ข้อมูลนักเรียน!C61=0,\"\",ข้อมูลนักเรียน!D61 & ข้อมูลนักเรียน!E61 & \"   \"& ข้อมูลนักเรียน!F61)","v":""},{"$f":"IF(ข้อมูลนักเรียน!C61=0,\"\",ข้อมูลนักเรียน!G61)","v":""},{"$f":"ข้อมูลนักเรียน!B61","v":0},null,null,null,null,null,null,null,null,null,null,null,null,null,null,null,null,null,null,null,null,null,null,null,null,null,null,"ผ่าน",0,null,"ปรับปรุง",null,22]
[{"$f":"ข้อมูลนักเรียน!A62","v":0},{"$f":"IF(ข้อมูลนักเรียน!B62=0,\"\",ข้อมูลนักเรียน!B62)","v":""},{"$f":"IF(ข้อมูลนักเรียน!C62=0,\"\",ข้อมูลนักเรียน!C62)","v":""},{"$f":"IF(ข้อมูลนักเรียน!C62=0,\"\",ข้อมูลนักเรียน!D62 & ข้อมูลนักเรียน!E62 & \"   \"& ข้อมูลนักเรียน!F62)","v":""},{"$f":"IF(ข้อมูลนักเรียน!C62=0,\"\",ข้อมูลนักเรียน!G62)","v":""},{"$f":"ข้อมูลนักเรียน!B62","v":0},null,null,null,null,null,null,null,null,null,null,null,null,null,null,null,null,null,null,null,null,null,null,null,null,null,null,"ผ่าน",0,null,"ปรับปรุง",null,22]
[{"$f":"ข้อมูลนักเรียน!A63","v":0},{"$f":"IF(ข้อมูลนักเรียน!B63=0,\"\",ข้อมูลนักเรียน!B63)","v":""},{"$f":"IF(ข้อมูลนักเรียน!C63=0,\"\",ข้อมูลนักเรียน!C63)","v":""},{"$f":"IF(ข้อมูลนักเรียน!C63=0,\"\",ข้อมูลนักเรียน!D63 & ข้อมูลนักเรียน!E63 & \"   \"& ข้อมูลนักเรียน!F63)","v":""},{"$f":"IF(ข้อมูลนักเรียน!C63=0,\"\",ข้อมูลนักเรียน!G63)","v":""},{"$f":"ข้อมูลนักเรียน!B63","v":0},null,null,null,null,null,null,null,null,null,null,null,null,null,null,null,null,null,null,null,null,null,null,null,null,null,null,"ผ่าน",0,null,"ปรับปรุง",null,22]
[{"$f":"ข้อมูลนักเรียน!A64","v":0},{"$f":"IF(ข้อมูลนักเรียน!B64=0,\"\",ข้อมูลนักเรียน!B64)","v":""},{"$f":"IF(ข้อมูลนักเรียน!C64=0,\"\",ข้อมูลนักเรียน!C64)","v":""},{"$f":"IF(ข้อมูลนักเรียน!C64=0,\"\",ข้อมูลนักเรียน!D64 & ข้อมูลนักเรียน!E64 & \"   \"& ข้อมูลนักเรียน!F64)","v":""},{"$f":"IF(ข้อมูลนักเรียน!C64=0,\"\",ข้อมูลนักเรียน!G64)","v":""},{"$f":"ข้อมูลนักเรียน!B64","v":0},null,null,null,null,null,null,null,null,null,null,null,null,null,null,null,null,null,null,null,null,null,null,null,null,null,null,"ผ่าน",0,null,"ปรับปรุง",null,22]
[{"$f":"ข้อมูลนักเรียน!A65","v":0},{"$f":"IF(ข้อมูลนักเรียน!B65=0,\"\",ข้อมูลนักเรียน!B65)","v":""},{"$f":"IF(ข้อมูลนักเรียน!C65=0,\"\",ข้อมูลนักเรียน!C65)","v":""},{"$f":"IF(ข้อมูลนักเรียน!C65=0,\"\",ข้อมูลนักเรียน!D65 & ข้อมูลนักเรียน!E65 & \"   \"& ข้อมูลนักเรียน!F65)","v":""},{"$f":"IF(ข้อมูลนักเรียน!C65=0,\"\",ข้อมูลนักเรียน!G65)","v":""},{"$f":"ข้อมูลนักเรียน!B65","v":0},null,null,null,null,null,null,null,null,null,null,null,null,null,null,null,null,null,null,null,null,null,null,null,null,null,null,"ผ่าน",0,null,"ปรับปรุง",null,22]
[{"$f":"ข้อมูลนักเรียน!A66","v":0},{"$f":"IF(ข้อมูลนักเรียน!B66=0,\"\",ข้อมูลนักเรียน!B66)","v":""},{"$f":"IF(ข้อมูลนักเรียน!C66=0,\"\",ข้อมูลนักเรียน!C66)","v":""},{"$f":"IF(ข้อมูลนักเรียน!C66=0,\"\",ข้อมูลนักเรียน!D66 & ข้อมูลนักเรียน!E66 & \"   \"& ข้อมูลนักเรียน!F66)","v":""},{"$f":"IF(ข้อมูลนักเรียน!C66=0,\"\",ข้อมูลนักเรียน!G66)","v":""},{"$f":"ข้อมูลนักเรียน!B66","v":0},null,null,null,null,null,null,null,null,null,null,null,null,null,null,null,null,null,null,null,null,null,null,null,null,null,null,"ผ่าน",0,null,"ปรับปรุง",null,22]
[{"$f":"ข้อมูลนักเรียน!A67","v":0},{"$f":"IF(ข้อมูลนักเรียน!B67=0,\"\",ข้อมูลนักเรียน!B67)","v":""},{"$f":"IF(ข้อมูลนักเรียน!C67=0,\"\",ข้อมูลนักเรียน!C67)","v":""},{"$f":"IF(ข้อมูลนักเรียน!C67=0,\"\",ข้อมูลนักเรียน!D67 & ข้อมูลนักเรียน!E67 & \"   \"& ข้อมูลนักเรียน!F67)","v":""},{"$f":"IF(ข้อมูลนักเรียน!C67=0,\"\",ข้อมูลนักเรียน!G67)","v":""},{"$f":"ข้อมูลนักเรียน!B67","v":0},null,null,null,null,null,null,null,null,null,null,null,null,null,null,null,null,null,null,null,null,null,null,null,null,null,null,"ผ่าน",0,null,"ปรับปรุง",null,22]
[{"$f":"ข้อมูลนักเรียน!A68","v":0},{"$f":"IF(ข้อมูลนักเรียน!B68=0,\"\",ข้อมูลนักเรียน!B68)","v":""},{"$f":"IF(ข้อมูลนักเรียน!C68=0,\"\",ข้อมูลนักเรียน!C68)","v":""},{"$f":"IF(ข้อมูลนักเรียน!C68=0,\"\",ข้อมูลนักเรียน!D68 & ข้อมูลนักเรียน!E68 & \"   \"& ข้อมูลนักเรียน!F68)","v":""},{"$f":"IF(ข้อมูลนักเรียน!C68=0,\"\",ข้อมูลนักเรียน!G68)","v":""},{"$f":"ข้อมูลนักเรียน!B68","v":0},null,null,null,null,null,null,null,null,null,null,null,null,null,null,null,null,null,null,null,null,null,null,null,null,null,null,"ผ่าน",0,null,"ปรับปรุง",null,22]
[{"$f":"ข้อมูลนักเรียน!A69","v":0},{"$f":"IF(ข้อมูลนักเรียน!B69=0,\"\",ข้อมูลนักเรียน!B69)","v":""},{"$f":"IF(ข้อมูลนักเรียน!C69=0,\"\",ข้อมูลนักเรียน!C69)","v":""},{"$f":"IF(ข้อมูลนักเรียน!C69=0,\"\",ข้อมูลนักเรียน!D69 & ข้อมูลนักเรียน!E69 & \"   \"& ข้อมูลนักเรียน!F69)","v":""},{"$f":"IF(ข้อมูลนักเรียน!C69=0,\"\",ข้อมูลนักเรียน!G69)","v":""},{"$f":"ข้อมูลนักเรียน!B69","v":0},null,null,null,null,null,null,null,null,null,null,null,null,null,null,null,null,null,null,null,null,null,null,null,null,null,null,"ผ่าน",0,null,"ปรับปรุง",null,22]
[{"$f":"ข้อมูลนักเรียน!A70","v":0},{"$f":"IF(ข้อมูลนักเรียน!B70=0,\"\",ข้อมูลนักเรียน!B70)","v":""},{"$f":"IF(ข้อมูลนักเรียน!C70=0,\"\",ข้อมูลนักเรียน!C70)","v":""},{"$f":"IF(ข้อมูลนักเรียน!C70=0,\"\",ข้อมูลนักเรียน!D70 & ข้อมูลนักเรียน!E70 & \"   \"& ข้อมูลนักเรียน!F70)","v":""},{"$f":"IF(ข้อมูลนักเรียน!C70=0,\"\",ข้อมูลนักเรียน!G70)","v":""},{"$f":"ข้อมูลนักเรียน!B70","v":0},null,null,null,null,null,null,null,null,null,null,null,null,null,null,null,null,null,null,null,null,null,null,null,null,null,null,"ผ่าน",0,null,"ปรับปรุง",null,22]
[{"$f":"ข้อมูลนักเรียน!A71","v":0},{"$f":"IF(ข้อมูลนักเรียน!B71=0,\"\",ข้อมูลนักเรียน!B71)","v":""},{"$f":"IF(ข้อมูลนักเรียน!C71=0,\"\",ข้อมูลนักเรียน!C71)","v":""},{"$f":"IF(ข้อมูลนักเรียน!C71=0,\"\",ข้อมูลนักเรียน!D71 & ข้อมูลนักเรียน!E71 & \"   \"& ข้อมูลนักเรียน!F71)","v":""},{"$f":"IF(ข้อมูลนักเรียน!C71=0,\"\",ข้อมูลนักเรียน!G71)","v":""},{"$f":"ข้อมูลนักเรียน!B71","v":0},null,null,null,null,null,null,null,null,null,null,null,null,null,null,null,null,null,null,null,null,null,null,null,null,null,null,"ผ่าน",0,null,"ปรับปรุง",null,22]
[{"$f":"ข้อมูลนักเรียน!A72","v":0},{"$f":"IF(ข้อมูลนักเรียน!B72=0,\"\",ข้อมูลนักเรียน!B72)","v":""},{"$f":"IF(ข้อมูลนักเรียน!C72=0,\"\",ข้อมูลนักเรียน!C72)","v":""},{"$f":"IF(ข้อมูลนักเรียน!C72=0,\"\",ข้อมูลนักเรียน!D72 & ข้อมูลนักเรียน!E72 & \"   \"& ข้อมูลนักเรียน!F72)","v":""},{"$f":"IF(ข้อมูลนักเรียน!C72=0,\"\",ข้อมูลนักเรียน!G72)","v":""},{"$f":"ข้อมูลนักเรียน!B72","v":0},null,null,null,null,null,null,null,null,null,null,null,null,null,null,null,null,null,null,null,null,null,null,null,null,null,null,"ผ่าน",0,null,"ปรับปรุง",null,22]
[{"$f":"ข้อมูลนักเรียน!A73","v":0},{"$f":"IF(ข้อมูลนักเรียน!B73=0,\"\",ข้อมูลนักเรียน!B73)","v":""},{"$f":"IF(ข้อมูลนักเรียน!C73=0,\"\",ข้อมูลนักเรียน!C73)","v":""},{"$f":"IF(ข้อมูลนักเรียน!C73=0,\"\",ข้อมูลนักเรียน!D73 & ข้อมูลนักเรียน!E73 & \"   \"& ข้อมูลนักเรียน!F73)","v":""},{"$f":"IF(ข้อมูลนักเรียน!C73=0,\"\",ข้อมูลนักเรียน!G73)","v":""},{"$f":"ข้อมูลนักเรียน!B73","v":0},null,null,null,null,null,null,null,null,null,null,null,null,null,null,null,null,null,null,null,null,null,null,null,null,null,null,{"$f":"IF(COUNTIFS(Z73:AD73,\"=มผ\") > 0,\"ไม่ผ่าน\",\"ผ่าน\")","v":"ผ่าน"},{"$f":"ROUNDDOWN(0,2)","v":0},null,{"$f":"IF(AF73=1,\"ผ่าน\",IF(AF73=2,\"ดี\",IF(AF73=3,\"ดีเยี่ยม\",\"ปรับปรุง\")))","v":"ปรับปรุง"},null,22]
[{"$f":"ข้อมูลนักเรียน!A74","v":0},{"$f":"IF(ข้อมูลนักเรียน!B74=0,\"\",ข้อมูลนักเรียน!B74)","v":""},{"$f":"IF(ข้อมูลนักเรียน!C74=0,\"\",ข้อมูลนักเรียน!C74)","v":""},{"$f":"IF(ข้อมูลนักเรียน!C74=0,\"\",ข้อมูลนักเรียน!D74 & ข้อมูลนักเรียน!E74 & \"   \"& ข้อมูลนักเรียน!F74)","v":""},{"$f":"IF(ข้อมูลนักเรียน!C74=0,\"\",ข้อมูลนักเรียน!G74)","v":""},{"$f":"ข้อมูลนักเรียน!B74","v":0},null,null,null,null,null,null,null,null,null,null,null,null,null,null,null,null,null,null,null,null,null,null,null,null,null,null,"ผ่าน",0,null,"ปรับปรุง",null,22]
[{"$f":"ข้อมูลนักเรียน!A75","v":0},{"$f":"IF(ข้อมูลนักเรียน!B75=0,\"\",ข้อมูลนักเรียน!B75)","v":""},{"$f":"IF(ข้อมูลนักเรียน!C75=0,\"\",ข้อมูลนักเรียน!C75)","v":""},{"$f":"IF(ข้อมูลนักเรียน!C75=0,\"\",ข้อมูลนักเรียน!D75 & ข้อมูลนักเรียน!E75 & \"   \"& ข้อมูลนักเรียน!F75)","v":""},{"$f":"IF(ข้อมูลนักเรียน!C75=0,\"\",ข้อมูลนักเรียน!G75)","v":""},{"$f":"ข้อมูลนักเรียน!B75","v":0},null,null,null,null,null,null,null,null,null,null,null,null,null,null,null,null,null,null,null,null,null,null,null,null,null,null,"ผ่าน",0,null,"ปรับปรุง",null,22]
[{"$f":"ข้อมูลนักเรียน!A76","v":0},{"$f":"IF(ข้อมูลนักเรียน!B76=0,\"\",ข้อมูลนักเรียน!B76)","v":""},{"$f":"IF(ข้อมูลนักเรียน!C76=0,\"\",ข้อมูลนักเรียน!C76)","v":""},{"$f":"IF(ข้อมูลนักเรียน!C76=0,\"\",ข้อมูลนักเรียน!D76 & ข้อมูลนักเรียน!E76 & \"   \"& ข้อมูลนักเรียน!F76)","v":""},{"$f":"IF(ข้อมูลนักเรียน!C76=0,\"\",ข้อมูลนักเรียน!G76)","v":""},{"$f":"ข้อมูลนักเรียน!B76","v":0},null,null,null,null,null,null,null,null,null,null,null,null,null,null,null,null,null,null,null,null,null,null,null,null,null,null,"ผ่าน",0,null,"ปรับปรุง",null,22]
[{"$f":"ข้อมูลนักเรียน!A77","v":0},{"$f":"IF(ข้อมูลนักเรียน!B77=0,\"\",ข้อมูลนักเรียน!B77)","v":""},{"$f":"IF(ข้อมูลนักเรียน!C77=0,\"\",ข้อมูลนักเรียน!C77)","v":""},{"$f":"IF(ข้อมูลนักเรียน!C77=0,\"\",ข้อมูลนักเรียน!D77 & ข้อมูลนักเรียน!E77 & \"   \"& ข้อมูลนักเรียน!F77)","v":""},{"$f":"IF(ข้อมูลนักเรียน!C77=0,\"\",ข้อมูลนักเรียน!G77)","v":""},{"$f":"ข้อมูลนักเรียน!B77","v":0},null,null,null,null,null,null,null,null,null,null,null,null,null,null,null,null,null,null,null,null,null,null,null,null,null,null,"ผ่าน",0,null,"ปรับปรุง",null,22]
[{"$f":"ข้อมูลนักเรียน!A78","v":0},{"$f":"IF(ข้อมูลนักเรียน!B78=0,\"\",ข้อมูลนักเรียน!B78)","v":""},{"$f":"IF(ข้อมูลนักเรียน!C78=0,\"\",ข้อมูลนักเรียน!C78)","v":""},{"$f":"IF(ข้อมูลนักเรียน!C78=0,\"\",ข้อมูลนักเรียน!D78 & ข้อมูลนักเรียน!E78 & \"   \"& ข้อมูลนักเรียน!F78)","v":""},{"$f":"IF(ข้อมูลนักเรียน!C78=0,\"\",ข้อมูลนักเรียน!G78)","v":""},{"$f":"ข้อมูลนักเรียน!B78","v":0},null,null,null,null,null,null,null,null,null,null,null,null,null,null,null,null,null,null,null,null,null,null,null,null,null,null,"ผ่าน",0,null,"ปรับปรุง",null,22]
[{"$f":"ข้อมูลนักเรียน!A79","v":0},{"$f":"IF(ข้อมูลนักเรียน!B79=0,\"\",ข้อมูลนักเรียน!B79)","v":""},{"$f":"IF(ข้อมูลนักเรียน!C79=0,\"\",ข้อมูลนักเรียน!C79)","v":""},{"$f":"IF(ข้อมูลนักเรียน!C79=0,\"\",ข้อมูลนักเรียน!D79 & ข้อมูลนักเรียน!E79 & \"   \"& ข้อมูลนักเรียน!F79)","v":""},{"$f":"IF(ข้อมูลนักเรียน!C79=0,\"\",ข้อมูลนักเรียน!G79)","v":""},{"$f":"ข้อมูลนักเรียน!B79","v":0},null,null,null,null,null,null,null,null,null,null,null,null,null,null,null,null,null,null,null,null,null,null,null,null,null,null,"ผ่าน",0,null,"ปรับปรุง",null,22]
[{"$f":"ข้อมูลนักเรียน!A80","v":0},{"$f":"IF(ข้อมูลนักเรียน!B80=0,\"\",ข้อมูลนักเรียน!B80)","v":""},{"$f":"IF(ข้อมูลนักเรียน!C80=0,\"\",ข้อมูลนักเรียน!C80)","v":""},{"$f":"IF(ข้อมูลนักเรียน!C80=0,\"\",ข้อมูลนักเรียน!D80 & ข้อมูลนักเรียน!E80 & \"   \"& ข้อมูลนักเรียน!F80)","v":""},{"$f":"IF(ข้อมูลนักเรียน!C80=0,\"\",ข้อมูลนักเรียน!G80)","v":""},{"$f":"ข้อมูลนักเรียน!B80","v":0},null,null,null,null,null,null,null,null,null,null,null,null,null,null,null,null,null,null,null,null,null,null,null,null,null,null,"ผ่าน",0,null,"ปรับปรุง",null,22]
[{"$f":"ข้อมูลนักเรียน!A81","v":0},{"$f":"IF(ข้อมูลนักเรียน!B81=0,\"\",ข้อมูลนักเรียน!B81)","v":""},{"$f":"IF(ข้อมูลนักเรียน!C81=0,\"\",ข้อมูลนักเรียน!C81)","v":""},{"$f":"IF(ข้อมูลนักเรียน!C81=0,\"\",ข้อมูลนักเรียน!D81 & ข้อมูลนักเรียน!E81 & \"   \"& ข้อมูลนักเรียน!F81)","v":""},{"$f":"IF(ข้อมูลนักเรียน!C81=0,\"\",ข้อมูลนักเรียน!G81)","v":""},{"$f":"ข้อมูลนักเรียน!B81","v":0},null,null,null,null,null,null,null,null,null,null,null,null,null,null,null,null,null,null,null,null,null,null,null,null,null,null,"ผ่าน",0,null,"ปรับปรุง",null,22]
[{"$f":"ข้อมูลนักเรียน!A82","v":0},{"$f":"IF(ข้อมูลนักเรียน!B82=0,\"\",ข้อมูลนักเรียน!B82)","v":""},{"$f":"IF(ข้อมูลนักเรียน!C82=0,\"\",ข้อมูลนักเรียน!C82)","v":""},{"$f":"IF(ข้อมูลนักเรียน!C82=0,\"\",ข้อมูลนักเรียน!D82 & ข้อมูลนักเรียน!E82 & \"   \"& ข้อมูลนักเรียน!F82)","v":""},{"$f":"IF(ข้อมูลนักเรียน!C82=0,\"\",ข้อมูลนักเรียน!G82)","v":""},{"$f":"ข้อมูลนักเรียน!B82","v":0},null,null,null,null,null,null,null,null,null,null,null,null,null,null,null,null,null,null,null,null,null,null,null,null,null,null,"ผ่าน",0,null,"ปรับปรุง",null,22]
[{"$f":"ข้อมูลนักเรียน!A83","v":0},{"$f":"IF(ข้อมูลนักเรียน!B83=0,\"\",ข้อมูลนักเรียน!B83)","v":""},{"$f":"IF(ข้อมูลนักเรียน!C83=0,\"\",ข้อมูลนักเรียน!C83)","v":""},{"$f":"IF(ข้อมูลนักเรียน!C83=0,\"\",ข้อมูลนักเรียน!D83 & ข้อมูลนักเรียน!E83 & \"   \"& ข้อมูลนักเรียน!F83)","v":""},{"$f":"IF(ข้อมูลนักเรียน!C83=0,\"\",ข้อมูลนักเรียน!G83)","v":""},{"$f":"ข้อมูลนักเรียน!B83","v":0},null,null,null,null,null,null,null,null,null,null,null,null,null,null,null,null,null,null,null,null,null,null,null,null,null,null,"ผ่าน",0,null,"ปรับปรุง",null,22]
[{"$f":"ข้อมูลนักเรียน!A84","v":0},{"$f":"IF(ข้อมูลนักเรียน!B84=0,\"\",ข้อมูลนักเรียน!B84)","v":""},{"$f":"IF(ข้อมูลนักเรียน!C84=0,\"\",ข้อมูลนักเรียน!C84)","v":""},{"$f":"IF(ข้อมูลนักเรียน!C84=0,\"\",ข้อมูลนักเรียน!D84 & ข้อมูลนักเรียน!E84 & \"   \"& ข้อมูลนักเรียน!F84)","v":""},{"$f":"IF(ข้อมูลนักเรียน!C84=0,\"\",ข้อมูลนักเรียน!G84)","v":""},{"$f":"ข้อมูลนักเรียน!B84","v":0},null,null,null,null,null,null,null,null,null,null,null,null,null,null,null,null,null,null,null,null,null,null,null,null,null,null,"ผ่าน",0,null,"ปรับปรุง",null,22]
[{"$f":"ข้อมูลนักเรียน!A85","v":0},{"$f":"IF(ข้อมูลนักเรียน!B85=0,\"\",ข้อมูลนักเรียน!B85)","v":""},{"$f":"IF(ข้อมูลนักเรียน!C85=0,\"\",ข้อมูลนักเรียน!C85)","v":""},{"$f":"IF(ข้อมูลนักเรียน!C85=0,\"\",ข้อมูลนักเรียน!D85 & ข้อมูลนักเรียน!E85 & \"   \"& ข้อมูลนักเรียน!F85)","v":""},{"$f":"IF(ข้อมูลนักเรียน!C85=0,\"\",ข้อมูลนักเรียน!G85)","v":""},{"$f":"ข้อมูลนักเรียน!B85","v":0},null,null,null,null,null,null,null,null,null,null,null,null,null,null,null,null,null,null,null,null,null,null,null,null,null,null,"ผ่าน",0,null,"ปรับปรุง",null,22]
[{"$f":"ข้อมูลนักเรียน!A86","v":0},{"$f":"IF(ข้อมูลนักเรียน!B86=0,\"\",ข้อมูลนักเรียน!B86)","v":""},{"$f":"IF(ข้อมูลนักเรียน!C86=0,\"\",ข้อมูลนักเรียน!C86)","v":""},{"$f":"IF(ข้อมูลนักเรียน!C86=0,\"\",ข้อมูลนักเรียน!D86 & ข้อมูลนักเรียน!E86 & \"   \"& ข้อมูลนักเรียน!F86)","v":""},{"$f":"IF(ข้อมูลนักเรียน!C86=0,\"\",ข้อมูลนักเรียน!G86)","v":""},{"$f":"ข้อมูลนักเรียน!B86","v":0},null,null,null,null,null,null,null,null,null,null,null,null,null,null,null,null,null,null,null,null,null,null,null,null,null,null,"ผ่าน",0,null,"ปรับปรุง",null,22]
[{"$f":"ข้อมูลนักเรียน!A87","v":0},{"$f":"IF(ข้อมูลนักเรียน!B87=0,\"\",ข้อมูลนักเรียน!B87)","v":""},{"$f":"IF(ข้อมูลนักเรียน!C87=0,\"\",ข้อมูลนักเรียน!C87)","v":""},{"$f":"IF(ข้อมูลนักเรียน!C87=0,\"\",ข้อมูลนักเรียน!D87 & ข้อมูลนักเรียน!E87 & \"   \"& ข้อมูลนักเรียน!F87)","v":""},{"$f":"IF(ข้อมูลนักเรียน!C87=0,\"\",ข้อมูลนักเรียน!G87)","v":""},{"$f":"ข้อมูลนักเรียน!B87","v":0},null,null,null,null,null,null,null,null,null,null,null,null,null,null,null,null,null,null,null,null,null,null,null,null,null,null,"ผ่าน",0,null,"ปรับปรุง",null,22]
[{"$f":"ข้อมูลนักเรียน!A88","v":0},{"$f":"IF(ข้อมูลนักเรียน!B88=0,\"\",ข้อมูลนักเรียน!B88)","v":""},{"$f":"IF(ข้อมูลนักเรียน!C88=0,\"\",ข้อมูลนักเรียน!C88)","v":""},{"$f":"IF(ข้อมูลนักเรียน!C88=0,\"\",ข้อมูลนักเรียน!D88 & ข้อมูลนักเรียน!E88 & \"   \"& ข้อมูลนักเรียน!F88)","v":""},{"$f":"IF(ข้อมูลนักเรียน!C88=0,\"\",ข้อมูลนักเรียน!G88)","v":""},{"$f":"ข้อมูลนักเรียน!B88","v":0},null,null,null,null,null,null,null,null,null,null,null,null,null,null,null,null,null,null,null,null,null,null,null,null,null,null,"ผ่าน",0,null,"ปรับปรุง",null,22]
[{"$f":"ข้อมูลนักเรียน!A89","v":0},{"$f":"IF(ข้อมูลนักเรียน!B89=0,\"\",ข้อมูลนักเรียน!B89)","v":""},{"$f":"IF(ข้อมูลนักเรียน!C89=0,\"\",ข้อมูลนักเรียน!C89)","v":""},{"$f":"IF(ข้อมูลนักเรียน!C89=0,\"\",ข้อมูลนักเรียน!D89 & ข้อมูลนักเรียน!E89 & \"   \"& ข้อมูลนักเรียน!F89)","v":""},{"$f":"IF(ข้อมูลนักเรียน!C89=0,\"\",ข้อมูลนักเรียน!G89)","v":""},{"$f":"ข้อมูลนักเรียน!B89","v":0},null,null,null,null,null,null,null,null,null,null,null,null,null,null,null,null,null,null,null,null,null,null,null,null,null,null,"ผ่าน",0,null,"ปรับปรุง",null,22]
[{"$f":"ข้อมูลนักเรียน!A90","v":0},{"$f":"IF(ข้อมูลนักเรียน!B90=0,\"\",ข้อมูลนักเรียน!B90)","v":""},{"$f":"IF(ข้อมูลนักเรียน!C90=0,\"\",ข้อมูลนักเรียน!C90)","v":""},{"$f":"IF(ข้อมูลนักเรียน!C90=0,\"\",ข้อมูลนักเรียน!D90 & ข้อมูลนักเรียน!E90 & \"   \"& ข้อมูลนักเรียน!F90)","v":""},{"$f":"IF(ข้อมูลนักเรียน!C90=0,\"\",ข้อมูลนักเรียน!G90)","v":""},{"$f":"ข้อมูลนักเรียน!B90","v":0},null,null,null,null,null,null,null,null,null,null,null,null,null,null,null,null,null,null,null,null,null,null,null,null,null,null,"ผ่าน",0,null,"ปรับปรุง",null,22]
[{"$f":"ข้อมูลนักเรียน!A91","v":0},{"$f":"IF(ข้อมูลนักเรียน!B91=0,\"\",ข้อมูลนักเรียน!B91)","v":""},{"$f":"IF(ข้อมูลนักเรียน!C91=0,\"\",ข้อมูลนักเรียน!C91)","v":""},{"$f":"IF(ข้อมูลนักเรียน!C91=0,\"\",ข้อมูลนักเรียน!D91 & ข้อมูลนักเรียน!E91 & \"   \"& ข้อมูลนักเรียน!F91)","v":""},{"$f":"IF(ข้อมูลนักเรียน!C91=0,\"\",ข้อมูลนักเรียน!G91)","v":""},{"$f":"ข้อมูลนักเรียน!B91","v":0},null,null,null,null,null,null,null,null,null,null,null,null,null,null,null,null,null,null,null,null,null,null,null,null,null,null,"ผ่าน",0,null,"ปรับปรุง",null,22]
[{"$f":"ข้อมูลนักเรียน!A92","v":0},{"$f":"IF(ข้อมูลนักเรียน!B92=0,\"\",ข้อมูลนักเรียน!B92)","v":""},{"$f":"IF(ข้อมูลนักเรียน!C92=0,\"\",ข้อมูลนักเรียน!C92)","v":""},{"$f":"IF(ข้อมูลนักเรียน!C92=0,\"\",ข้อมูลนักเรียน!D92 & ข้อมูลนักเรียน!E92 & \"   \"& ข้อมูลนักเรียน!F92)","v":""},{"$f":"IF(ข้อมูลนักเรียน!C92=0,\"\",ข้อมูลนักเรียน!G92)","v":""},{"$f":"ข้อมูลนักเรียน!B92","v":0},null,null,null,null,null,null,null,null,null,null,null,null,null,null,null,null,null,null,null,null,null,null,null,null,null,null,"ผ่าน",0,null,"ปรับปรุง",null,22]
[{"$f":"ข้อมูลนักเรียน!A93","v":0},{"$f":"IF(ข้อมูลนักเรียน!B93=0,\"\",ข้อมูลนักเรียน!B93)","v":""},{"$f":"IF(ข้อมูลนักเรียน!C93=0,\"\",ข้อมูลนักเรียน!C93)","v":""},{"$f":"IF(ข้อมูลนักเรียน!C93=0,\"\",ข้อมูลนักเรียน!D93 & ข้อมูลนักเรียน!E93 & \"   \"& ข้อมูลนักเรียน!F93)","v":""},{"$f":"IF(ข้อมูลนักเรียน!C93=0,\"\",ข้อมูลนักเรียน!G93)","v":""},{"$f":"ข้อมูลนักเรียน!B93","v":0},null,null,null,null,null,null,null,null,null,null,null,null,null,null,null,null,null,null,null,null,null,null,null,null,null,null,"ผ่าน",0,null,"ปรับปรุง",null,22]
[{"$f":"ข้อมูลนักเรียน!A94","v":0},{"$f":"IF(ข้อมูลนักเรียน!B94=0,\"\",ข้อมูลนักเรียน!B94)","v":""},{"$f":"IF(ข้อมูลนักเรียน!C94=0,\"\",ข้อมูลนักเรียน!C94)","v":""},{"$f":"IF(ข้อมูลนักเรียน!C94=0,\"\",ข้อมูลนักเรียน!D94 & ข้อมูลนักเรียน!E94 & \"   \"& ข้อมูลนักเรียน!F94)","v":""},{"$f":"IF(ข้อมูลนักเรียน!C94=0,\"\",ข้อมูลนักเรียน!G94)","v":""},{"$f":"ข้อมูลนักเรียน!B94","v":0},null,null,null,null,null,null,null,null,null,null,null,null,null,null,null,null,null,null,null,null,null,null,null,null,null,null,"ผ่าน",0,null,"ปรับปรุง",null,22]
[{"$f":"ข้อมูลนักเรียน!A95","v":0},{"$f":"IF(ข้อมูลนักเรียน!B95=0,\"\",ข้อมูลนักเรียน!B95)","v":""},{"$f":"IF(ข้อมูลนักเรียน!C95=0,\"\",ข้อมูลนักเรียน!C95)","v":""},{"$f":"IF(ข้อมูลนักเรียน!C95=0,\"\",ข้อมูลนักเรียน!D95 & ข้อมูลนักเรียน!E95 & \"   \"& ข้อมูลนักเรียน!F95)","v":""},{"$f":"IF(ข้อมูลนักเรียน!C95=0,\"\",ข้อมูลนักเรียน!G95)","v":""},{"$f":"ข้อมูลนักเรียน!B95","v":0},null,null,null,null,null,null,null,null,null,null,null,null,null,null,null,null,null,null,null,null,null,null,null,null,null,null,"ผ่าน",0,null,"ปรับปรุง",null,22]
[{"$f":"ข้อมูลนักเรียน!A96","v":0},{"$f":"IF(ข้อมูลนักเรียน!B96=0,\"\",ข้อมูลนักเรียน!B96)","v":""},{"$f":"IF(ข้อมูลนักเรียน!C96=0,\"\",ข้อมูลนักเรียน!C96)","v":""},{"$f":"IF(ข้อมูลนักเรียน!C96=0,\"\",ข้อมูลนักเรียน!D96 & ข้อมูลนักเรียน!E96 & \"   \"& ข้อมูลนักเรียน!F96)","v":""},{"$f":"IF(ข้อมูลนักเรียน!C96=0,\"\",ข้อมูลนักเรียน!G96)","v":""},{"$f":"ข้อมูลนักเรียน!B96","v":0},null,null,null,null,null,null,null,null,null,null,null,null,null,null,null,null,null,null,null,null,null,null,null,null,null,null,"ผ่าน",0,null,"ปรับปรุง",null,22]
[{"$f":"ข้อมูลนักเรียน!A97","v":0},{"$f":"IF(ข้อมูลนักเรียน!B97=0,\"\",ข้อมูลนักเรียน!B97)","v":""},{"$f":"IF(ข้อมูลนักเรียน!C97=0,\"\",ข้อมูลนักเรียน!C97)","v":""},{"$f":"IF(ข้อมูลนักเรียน!C97=0,\"\",ข้อมูลนักเรียน!D97 & ข้อมูลนักเรียน!E97 & \"   \"& ข้อมูลนักเรียน!F97)","v":""},{"$f":"IF(ข้อมูลนักเรียน!C97=0,\"\",ข้อมูลนักเรียน!G97)","v":""},{"$f":"ข้อมูลนักเรียน!B97","v":0},null,null,null,null,null,null,null,null,null,null,null,null,null,null,null,null,null,null,null,null,null,null,null,null,null,null,"ผ่าน",0,null,"ปรับปรุง",null,22]
[{"$f":"ข้อมูลนักเรียน!A98","v":0},{"$f":"IF(ข้อมูลนักเรียน!B98=0,\"\",ข้อมูลนักเรียน!B98)","v":""},{"$f":"IF(ข้อมูลนักเรียน!C98=0,\"\",ข้อมูลนักเรียน!C98)","v":""},{"$f":"IF(ข้อมูลนักเรียน!C98=0,\"\",ข้อมูลนักเรียน!D98 & ข้อมูลนักเรียน!E98 & \"   \"& ข้อมูลนักเรียน!F98)","v":""},{"$f":"IF(ข้อมูลนักเรียน!C98=0,\"\",ข้อมูลนักเรียน!G98)","v":""},{"$f":"ข้อมูลนักเรียน!B98","v":0},null,null,null,null,null,null,null,null,null,null,null,null,null,null,null,null,null,null,null,null,null,null,null,null,null,null,"ผ่าน",0,null,"ปรับปรุง",null,22]
[{"$f":"ข้อมูลนักเรียน!A99","v":0},{"$f":"IF(ข้อมูลนักเรียน!B99=0,\"\",ข้อมูลนักเรียน!B99)","v":""},{"$f":"IF(ข้อมูลนักเรียน!C99=0,\"\",ข้อมูลนักเรียน!C99)","v":""},{"$f":"IF(ข้อมูลนักเรียน!C99=0,\"\",ข้อมูลนักเรียน!D99 & ข้อมูลนักเรียน!E99 & \"   \"& ข้อมูลนักเรียน!F99)","v":""},{"$f":"IF(ข้อมูลนักเรียน!C99=0,\"\",ข้อมูลนักเรียน!G99)","v":""},{"$f":"ข้อมูลนักเรียน!B99","v":0},null,null,null,null,null,null,null,null,null,null,null,null,null,null,null,null,null,null,null,null,null,null,null,null,null,null,"ผ่าน",0,null,"ปรับปรุง",null,22]
[{"$f":"ข้อมูลนักเรียน!A100","v":0},{"$f":"IF(ข้อมูลนักเรียน!B100=0,\"\",ข้อมูลนักเรียน!B100)","v":""},{"$f":"IF(ข้อมูลนักเรียน!C100=0,\"\",ข้อมูลนักเรียน!C100)","v":""},{"$f":"IF(ข้อมูลนักเรียน!C100=0,\"\",ข้อมูลนักเรียน!D100 & ข้อมูลนักเรียน!E100 & \"   \"& ข้อมูลนักเรียน!F100)","v":""},{"$f":"IF(ข้อมูลนักเรียน!C100=0,\"\",ข้อมูลนักเรียน!G100)","v":""},{"$f":"ข้อมูลนักเรียน!B100","v":0},null,null,null,null,null,null,null,null,null,null,null,null,null,null,null,null,null,null,null,null,null,null,null,null,null,null,"ผ่าน",0,null,"ปรับปรุง",null,22]
[{"$f":"ข้อมูลนักเรียน!A101","v":0},{"$f":"IF(ข้อมูลนักเรียน!B101=0,\"\",ข้อมูลนักเรียน!B101)","v":""},{"$f":"IF(ข้อมูลนักเรียน!C101=0,\"\",ข้อมูลนักเรียน!C101)","v":""},{"$f":"IF(ข้อมูลนักเรียน!C101=0,\"\",ข้อมูลนักเรียน!D101 & ข้อมูลนักเรียน!E101 & \"   \"& ข้อมูลนักเรียน!F101)","v":""},{"$f":"IF(ข้อมูลนักเรียน!C101=0,\"\",ข้อมูลนักเรียน!G101)","v":""},{"$f":"ข้อมูลนักเรียน!B101","v":0},null,null,null,null,null,null,null,null,null,null,null,null,null,null,null,null,null,null,null,null,null,null,null,null,null,null,"ผ่าน",0,null,"ปรับปรุง",null,22]
[{"$f":"ข้อมูลนักเรียน!A102","v":0},{"$f":"IF(ข้อมูลนักเรียน!B102=0,\"\",ข้อมูลนักเรียน!B102)","v":""},{"$f":"IF(ข้อมูลนักเรียน!C102=0,\"\",ข้อมูลนักเรียน!C102)","v":""},{"$f":"IF(ข้อมูลนักเรียน!C102=0,\"\",ข้อมูลนักเรียน!D102 & ข้อมูลนักเรียน!E102 & \"   \"& ข้อมูลนักเรียน!F102)","v":""},{"$f":"IF(ข้อมูลนักเรียน!C102=0,\"\",ข้อมูลนักเรียน!G102)","v":""},{"$f":"ข้อมูลนักเรียน!B102","v":0},null,null,null,null,null,null,null,null,null,null,null,null,null,null,null,null,null,null,null,null,null,null,null,null,null,null,"ผ่าน",0,null,"ปรับปรุง",null,22]
[{"$f":"ข้อมูลนักเรียน!A103","v":0},{"$f":"IF(ข้อมูลนักเรียน!B103=0,\"\",ข้อมูลนักเรียน!B103)","v":""},{"$f":"IF(ข้อมูลนักเรียน!C103=0,\"\",ข้อมูลนักเรียน!C103)","v":""},{"$f":"IF(ข้อมูลนักเรียน!C103=0,\"\",ข้อมูลนักเรียน!D103 & ข้อมูลนักเรียน!E103 & \"   \"& ข้อมูลนักเรียน!F103)","v":""},{"$f":"IF(ข้อมูลนักเรียน!C103=0,\"\",ข้อมูลนักเรียน!G103)","v":""},{"$f":"ข้อมูลนักเรียน!B103","v":0},null,null,null,null,null,null,null,null,null,null,null,null,null,null,null,null,null,null,null,null,null,null,null,null,null,null,"ผ่าน",0,null,"ปรับปรุง",null,22]
[{"$f":"ข้อมูลนักเรียน!A104","v":0},{"$f":"IF(ข้อมูลนักเรียน!B104=0,\"\",ข้อมูลนักเรียน!B104)","v":""},{"$f":"IF(ข้อมูลนักเรียน!C104=0,\"\",ข้อมูลนักเรียน!C104)","v":""},{"$f":"IF(ข้อมูลนักเรียน!C104=0,\"\",ข้อมูลนักเรียน!D104 & ข้อมูลนักเรียน!E104 & \"   \"& ข้อมูลนักเรียน!F104)","v":""},{"$f":"IF(ข้อมูลนักเรียน!C104=0,\"\",ข้อมูลนักเรียน!G104)","v":""},{"$f":"ข้อมูลนักเรียน!B104","v":0},null,null,null,null,null,null,null,null,null,null,null,null,null,null,null,null,null,null,null,null,null,null,null,null,null,null,"ผ่าน",0,null,"ปรับปรุง",null,22]
[{"$f":"ข้อมูลนักเรียน!A105","v":0},{"$f":"IF(ข้อมูลนักเรียน!B105=0,\"\",ข้อมูลนักเรียน!B105)","v":""},{"$f":"IF(ข้อมูลนักเรียน!C105=0,\"\",ข้อมูลนักเรียน!C105)","v":""},{"$f":"IF(ข้อมูลนักเรียน!C105=0,\"\",ข้อมูลนักเรียน!D105 & ข้อมูลนักเรียน!E105 & \"   \"& ข้อมูลนักเรียน!F105)","v":""},{"$f":"IF(ข้อมูลนักเรียน!C105=0,\"\",ข้อมูลนักเรียน!G105)","v":""},{"$f":"ข้อมูลนักเรียน!B105","v":0},null,null,null,null,null,null,null,null,null,null,null,null,null,null,null,null,null,null,null,null,null,null,null,null,null,null,"ผ่าน",{"$f":"ROUNDDOWN(0,2)","v":0},null,"ปรับปรุง",null,22]
[{"$f":"ข้อมูลนักเรียน!A106","v":0},{"$f":"IF(ข้อมูลนักเรียน!B106=0,\"\",ข้อมูลนักเรียน!B106)","v":""},{"$f":"IF(ข้อมูลนักเรียน!C106=0,\"\",ข้อมูลนักเรียน!C106)","v":""},{"$f":"IF(ข้อมูลนักเรียน!C106=0,\"\",ข้อมูลนักเรียน!D106 & ข้อมูลนักเรียน!E106 & \"   \"& ข้อมูลนักเรียน!F106)","v":""},{"$f":"IF(ข้อมูลนักเรียน!C106=0,\"\",ข้อมูลนักเรียน!G106)","v":""},{"$f":"ข้อมูลนักเรียน!B106","v":0},null,null,null,null,null,null,null,null,null,null,null,null,null,null,null,null,null,null,null,null,null,null,null,null,null,null,"ผ่าน",0,null,"ปรับปรุง",null,22]
[{"$f":"ข้อมูลนักเรียน!A107","v":0},{"$f":"IF(ข้อมูลนักเรียน!B107=0,\"\",ข้อมูลนักเรียน!B107)","v":""},{"$f":"IF(ข้อมูลนักเรียน!C107=0,\"\",ข้อมูลนักเรียน!C107)","v":""},{"$f":"IF(ข้อมูลนักเรียน!C107=0,\"\",ข้อมูลนักเรียน!D107 & ข้อมูลนักเรียน!E107 & \"   \"& ข้อมูลนักเรียน!F107)","v":""},{"$f":"IF(ข้อมูลนักเรียน!C107=0,\"\",ข้อมูลนักเรียน!G107)","v":""},{"$f":"ข้อมูลนักเรียน!B107","v":0},null,null,null,null,null,null,null,null,null,null,null,null,null,null,null,null,null,null,null,null,null,null,null,null,null,null,"ผ่าน",0,null,"ปรับปรุง",null,22]
[{"$f":"ข้อมูลนักเรียน!A108","v":0},{"$f":"IF(ข้อมูลนักเรียน!B108=0,\"\",ข้อมูลนักเรียน!B108)","v":""},{"$f":"IF(ข้อมูลนักเรียน!C108=0,\"\",ข้อมูลนักเรียน!C108)","v":""},{"$f":"IF(ข้อมูลนักเรียน!C108=0,\"\",ข้อมูลนักเรียน!D108 & ข้อมูลนักเรียน!E108 & \"   \"& ข้อมูลนักเรียน!F108)","v":""},{"$f":"IF(ข้อมูลนักเรียน!C108=0,\"\",ข้อมูลนักเรียน!G108)","v":""},{"$f":"ข้อมูลนักเรียน!B108","v":0},null,null,null,null,null,null,null,null,null,null,null,null,null,null,null,null,null,null,null,null,null,null,null,null,null,null,"ผ่าน",0,null,"ปรับปรุง",null,22]
[{"$f":"ข้อมูลนักเรียน!A109","v":0},{"$f":"IF(ข้อมูลนักเรียน!B109=0,\"\",ข้อมูลนักเรียน!B109)","v":""},{"$f":"IF(ข้อมูลนักเรียน!C109=0,\"\",ข้อมูลนักเรียน!C109)","v":""},{"$f":"IF(ข้อมูลนักเรียน!C109=0,\"\",ข้อมูลนักเรียน!D109 & ข้อมูลนักเรียน!E109 & \"   \"& ข้อมูลนักเรียน!F109)","v":""},{"$f":"IF(ข้อมูลนักเรียน!C109=0,\"\",ข้อมูลนักเรียน!G109)","v":""},{"$f":"ข้อมูลนักเรียน!B109","v":0},null,null,null,null,null,null,null,null,null,null,null,null,null,null,null,null,null,null,null,null,null,null,null,null,null,null,"ผ่าน",0,null,"ปรับปรุง",null,22]
[{"$f":"ข้อมูลนักเรียน!A110","v":0},{"$f":"IF(ข้อมูลนักเรียน!B110=0,\"\",ข้อมูลนักเรียน!B110)","v":""},{"$f":"IF(ข้อมูลนักเรียน!C110=0,\"\",ข้อมูลนักเรียน!C110)","v":""},{"$f":"IF(ข้อมูลนักเรียน!C110=0,\"\",ข้อมูลนักเรียน!D110 & ข้อมูลนักเรียน!E110 & \"   \"& ข้อมูลนักเรียน!F110)","v":""},{"$f":"IF(ข้อมูลนักเรียน!C110=0,\"\",ข้อมูลนักเรียน!G110)","v":""},{"$f":"ข้อมูลนักเรียน!B110","v":0},null,null,null,null,null,null,null,null,null,null,null,null,null,null,null,null,null,null,null,null,null,null,null,null,null,null,"ผ่าน",0,null,"ปรับปรุง",null,22]
[{"$f":"ข้อมูลนักเรียน!A111","v":0},{"$f":"IF(ข้อมูลนักเรียน!B111=0,\"\",ข้อมูลนักเรียน!B111)","v":""},{"$f":"IF(ข้อมูลนักเรียน!C111=0,\"\",ข้อมูลนักเรียน!C111)","v":""},{"$f":"IF(ข้อมูลนักเรียน!C111=0,\"\",ข้อมูลนักเรียน!D111 & ข้อมูลนักเรียน!E111 & \"   \"& ข้อมูลนักเรียน!F111)","v":""},{"$f":"IF(ข้อมูลนักเรียน!C111=0,\"\",ข้อมูลนักเรียน!G111)","v":""},{"$f":"ข้อมูลนักเรียน!B111","v":0},null,null,null,null,null,null,null,null,null,null,null,null,null,null,null,null,null,null,null,null,null,null,null,null,null,null,"ผ่าน",0,null,"ปรับปรุง",null,22]
[{"$f":"ข้อมูลนักเรียน!A112","v":0},{"$f":"IF(ข้อมูลนักเรียน!B112=0,\"\",ข้อมูลนักเรียน!B112)","v":""},{"$f":"IF(ข้อมูลนักเรียน!C112=0,\"\",ข้อมูลนักเรียน!C112)","v":""},{"$f":"IF(ข้อมูลนักเรียน!C112=0,\"\",ข้อมูลนักเรียน!D112 & ข้อมูลนักเรียน!E112 & \"   \"& ข้อมูลนักเรียน!F112)","v":""},{"$f":"IF(ข้อมูลนักเรียน!C112=0,\"\",ข้อมูลนักเรียน!G112)","v":""},{"$f":"ข้อมูลนักเรียน!B112","v":0},null,null,null,null,null,null,null,null,null,null,null,null,null,null,null,null,null,null,null,null,null,null,null,null,null,null,"ผ่าน",0,null,"ปรับปรุง",null,22]
[{"$f":"ข้อมูลนักเรียน!A113","v":0},{"$f":"IF(ข้อมูลนักเรียน!B113=0,\"\",ข้อมูลนักเรียน!B113)","v":""},{"$f":"IF(ข้อมูลนักเรียน!C113=0,\"\",ข้อมูลนักเรียน!C113)","v":""},{"$f":"IF(ข้อมูลนักเรียน!C113=0,\"\",ข้อมูลนักเรียน!D113 & ข้อมูลนักเรียน!E113 & \"   \"& ข้อมูลนักเรียน!F113)","v":""},{"$f":"IF(ข้อมูลนักเรียน!C113=0,\"\",ข้อมูลนักเรียน!G113)","v":""},{"$f":"ข้อมูลนักเรียน!B113","v":0},null,null,null,null,null,null,null,null,null,null,null,null,null,null,null,null,null,null,null,null,null,null,null,null,null,null,"ผ่าน",0,null,"ปรับปรุง",null,22]
[{"$f":"ข้อมูลนักเรียน!A114","v":0},{"$f":"IF(ข้อมูลนักเรียน!B114=0,\"\",ข้อมูลนักเรียน!B114)","v":""},{"$f":"IF(ข้อมูลนักเรียน!C114=0,\"\",ข้อมูลนักเรียน!C114)","v":""},{"$f":"IF(ข้อมูลนักเรียน!C114=0,\"\",ข้อมูลนักเรียน!D114 & ข้อมูลนักเรียน!E114 & \"   \"& ข้อมูลนักเรียน!F114)","v":""},{"$f":"IF(ข้อมูลนักเรียน!C114=0,\"\",ข้อมูลนักเรียน!G114)","v":""},{"$f":"ข้อมูลนักเรียน!B114","v":0},null,null,null,null,null,null,null,null,null,null,null,null,null,null,null,null,null,null,null,null,null,null,null,null,null,null,"ผ่าน",0,null,"ปรับปรุง",null,22]
[{"$f":"ข้อมูลนักเรียน!A115","v":0},{"$f":"IF(ข้อมูลนักเรียน!B115=0,\"\",ข้อมูลนักเรียน!B115)","v":""},{"$f":"IF(ข้อมูลนักเรียน!C115=0,\"\",ข้อมูลนักเรียน!C115)","v":""},{"$f":"IF(ข้อมูลนักเรียน!C115=0,\"\",ข้อมูลนักเรียน!D115 & ข้อมูลนักเรียน!E115 & \"   \"& ข้อมูลนักเรียน!F115)","v":""},{"$f":"IF(ข้อมูลนักเรียน!C115=0,\"\",ข้อมูลนักเรียน!G115)","v":""},{"$f":"ข้อมูลนักเรียน!B115","v":0},null,null,null,null,null,null,null,null,null,null,null,null,null,null,null,null,null,null,null,null,null,null,null,null,null,null,"ผ่าน",0,null,"ปรับปรุง",null,22]
[{"$f":"ข้อมูลนักเรียน!A116","v":0},{"$f":"IF(ข้อมูลนักเรียน!B116=0,\"\",ข้อมูลนักเรียน!B116)","v":""},{"$f":"IF(ข้อมูลนักเรียน!C116=0,\"\",ข้อมูลนักเรียน!C116)","v":""},{"$f":"IF(ข้อมูลนักเรียน!C116=0,\"\",ข้อมูลนักเรียน!D116 & ข้อมูลนักเรียน!E116 & \"   \"& ข้อมูลนักเรียน!F116)","v":""},{"$f":"IF(ข้อมูลนักเรียน!C116=0,\"\",ข้อมูลนักเรียน!G116)","v":""},{"$f":"ข้อมูลนักเรียน!B116","v":0},null,null,null,null,null,null,null,null,null,null,null,null,null,null,null,null,null,null,null,null,null,null,null,null,null,null,"ผ่าน",0,null,"ปรับปรุง",null,22]
[{"$f":"ข้อมูลนักเรียน!A117","v":0},{"$f":"IF(ข้อมูลนักเรียน!B117=0,\"\",ข้อมูลนักเรียน!B117)","v":""},{"$f":"IF(ข้อมูลนักเรียน!C117=0,\"\",ข้อมูลนักเรียน!C117)","v":""},{"$f":"IF(ข้อมูลนักเรียน!C117=0,\"\",ข้อมูลนักเรียน!D117 & ข้อมูลนักเรียน!E117 & \"   \"& ข้อมูลนักเรียน!F117)","v":""},{"$f":"IF(ข้อมูลนักเรียน!C117=0,\"\",ข้อมูลนักเรียน!G117)","v":""},{"$f":"ข้อมูลนักเรียน!B117","v":0},null,null,null,null,null,null,null,null,null,null,null,null,null,null,null,null,null,null,null,null,null,null,null,null,null,null,"ผ่าน",0,null,"ปรับปรุง",null,22]
[{"$f":"ข้อมูลนักเรียน!A118","v":0},{"$f":"IF(ข้อมูลนักเรียน!B118=0,\"\",ข้อมูลนักเรียน!B118)","v":""},{"$f":"IF(ข้อมูลนักเรียน!C118=0,\"\",ข้อมูลนักเรียน!C118)","v":""},{"$f":"IF(ข้อมูลนักเรียน!C118=0,\"\",ข้อมูลนักเรียน!D118 & ข้อมูลนักเรียน!E118 & \"   \"& ข้อมูลนักเรียน!F118)","v":""},{"$f":"IF(ข้อมูลนักเรียน!C118=0,\"\",ข้อมูลนักเรียน!G118)","v":""},{"$f":"ข้อมูลนักเรียน!B118","v":0},null,null,null,null,null,null,null,null,null,null,null,null,null,null,null,null,null,null,null,null,null,null,null,null,null,null,"ผ่าน",0,null,"ปรับปรุง",null,22]
[{"$f":"ข้อมูลนักเรียน!A119","v":0},{"$f":"IF(ข้อมูลนักเรียน!B119=0,\"\",ข้อมูลนักเรียน!B119)","v":""},{"$f":"IF(ข้อมูลนักเรียน!C119=0,\"\",ข้อมูลนักเรียน!C119)","v":""},{"$f":"IF(ข้อมูลนักเรียน!C119=0,\"\",ข้อมูลนักเรียน!D119 & ข้อมูลนักเรียน!E119 & \"   \"& ข้อมูลนักเรียน!F119)","v":""},{"$f":"IF(ข้อมูลนักเรียน!C119=0,\"\",ข้อมูลนักเรียน!G119)","v":""},{"$f":"ข้อมูลนักเรียน!B119","v":0},null,null,null,null,null,null,null,null,null,null,null,null,null,null,null,null,null,null,null,null,null,null,null,null,null,null,"ผ่าน",0,null,"ปรับปรุง",null,22]
[{"$f":"ข้อมูลนักเรียน!A120","v":0},{"$f":"IF(ข้อมูลนักเรียน!B120=0,\"\",ข้อมูลนักเรียน!B120)","v":""},{"$f":"IF(ข้อมูลนักเรียน!C120=0,\"\",ข้อมูลนักเรียน!C120)","v":""},{"$f":"IF(ข้อมูลนักเรียน!C120=0,\"\",ข้อมูลนักเรียน!D120 & ข้อมูลนักเรียน!E120 & \"   \"& ข้อมูลนักเรียน!F120)","v":""},{"$f":"IF(ข้อมูลนักเรียน!C120=0,\"\",ข้อมูลนักเรียน!G120)","v":""},{"$f":"ข้อมูลนักเรียน!B120","v":0},null,null,null,null,null,null,null,null,null,null,null,null,null,null,null,null,null,null,null,null,null,null,null,null,null,null,"ผ่าน",0,null,"ปรับปรุง",null,22]
[{"$f":"ข้อมูลนักเรียน!A121","v":0},{"$f":"IF(ข้อมูลนักเรียน!B121=0,\"\",ข้อมูลนักเรียน!B121)","v":""},{"$f":"IF(ข้อมูลนักเรียน!C121=0,\"\",ข้อมูลนักเรียน!C121)","v":""},{"$f":"IF(ข้อมูลนักเรียน!C121=0,\"\",ข้อมูลนักเรียน!D121 & ข้อมูลนักเรียน!E121 & \"   \"& ข้อมูลนักเรียน!F121)","v":""},{"$f":"IF(ข้อมูลนักเรียน!C121=0,\"\",ข้อมูลนักเรียน!G121)","v":""},{"$f":"ข้อมูลนักเรียน!B121","v":0},null,null,null,null,null,null,null,null,null,null,null,null,null,null,null,null,null,null,null,null,null,null,null,null,null,null,"ผ่าน",0,null,"ปรับปรุง",null,22]
[{"$f":"ข้อมูลนักเรียน!A122","v":0},{"$f":"IF(ข้อมูลนักเรียน!B122=0,\"\",ข้อมูลนักเรียน!B122)","v":""},{"$f":"IF(ข้อมูลนักเรียน!C122=0,\"\",ข้อมูลนักเรียน!C122)","v":""},{"$f":"IF(ข้อมูลนักเรียน!C122=0,\"\",ข้อมูลนักเรียน!D122 & ข้อมูลนักเรียน!E122 & \"   \"& ข้อมูลนักเรียน!F122)","v":""},{"$f":"IF(ข้อมูลนักเรียน!C122=0,\"\",ข้อมูลนักเรียน!G122)","v":""},{"$f":"ข้อมูลนักเรียน!B122","v":0},null,null,null,null,null,null,null,null,null,null,null,null,null,null,null,null,null,null,null,null,null,null,null,null,null,null,"ผ่าน",0,null,"ปรับปรุง",null,22]
[{"$f":"ข้อมูลนักเรียน!A123","v":0},{"$f":"IF(ข้อมูลนักเรียน!B123=0,\"\",ข้อมูลนักเรียน!B123)","v":""},{"$f":"IF(ข้อมูลนักเรียน!C123=0,\"\",ข้อมูลนักเรียน!C123)","v":""},{"$f":"IF(ข้อมูลนักเรียน!C123=0,\"\",ข้อมูลนักเรียน!D123 & ข้อมูลนักเรียน!E123 & \"   \"& ข้อมูลนักเรียน!F123)","v":""},{"$f":"IF(ข้อมูลนักเรียน!C123=0,\"\",ข้อมูลนักเรียน!G123)","v":""},{"$f":"ข้อมูลนักเรียน!B123","v":0},null,null,null,null,null,null,null,null,null,null,null,null,null,null,null,null,null,null,null,null,null,null,null,null,null,null,"ผ่าน",0,null,"ปรับปรุง",null,22]
[{"$f":"ข้อมูลนักเรียน!A124","v":0},{"$f":"IF(ข้อมูลนักเรียน!B124=0,\"\",ข้อมูลนักเรียน!B124)","v":""},{"$f":"IF(ข้อมูลนักเรียน!C124=0,\"\",ข้อมูลนักเรียน!C124)","v":""},{"$f":"IF(ข้อมูลนักเรียน!C124=0,\"\",ข้อมูลนักเรียน!D124 & ข้อมูลนักเรียน!E124 & \"   \"& ข้อมูลนักเรียน!F124)","v":""},{"$f":"IF(ข้อมูลนักเรียน!C124=0,\"\",ข้อมูลนักเรียน!G124)","v":""},{"$f":"ข้อมูลนักเรียน!B124","v":0},null,null,null,null,null,null,null,null,null,null,null,null,null,null,null,null,null,null,null,null,null,null,null,null,null,null,"ผ่าน",0,null,"ปรับปรุง",null,22]
[{"$f":"ข้อมูลนักเรียน!A125","v":0},{"$f":"IF(ข้อมูลนักเรียน!B125=0,\"\",ข้อมูลนักเรียน!B125)","v":""},{"$f":"IF(ข้อมูลนักเรียน!C125=0,\"\",ข้อมูลนักเรียน!C125)","v":""},{"$f":"IF(ข้อมูลนักเรียน!C125=0,\"\",ข้อมูลนักเรียน!D125 & ข้อมูลนักเรียน!E125 & \"   \"& ข้อมูลนักเรียน!F125)","v":""},{"$f":"IF(ข้อมูลนักเรียน!C125=0,\"\",ข้อมูลนักเรียน!G125)","v":""},{"$f":"ข้อมูลนักเรียน!B125","v":0},null,null,null,null,null,null,null,null,null,null,null,null,null,null,null,null,null,null,null,null,null,null,null,null,null,null,"ผ่าน",0,null,"ปรับปรุง",null,22]
[{"$f":"ข้อมูลนักเรียน!A126","v":0},{"$f":"IF(ข้อมูลนักเรียน!B126=0,\"\",ข้อมูลนักเรียน!B126)","v":""},{"$f":"IF(ข้อมูลนักเรียน!C126=0,\"\",ข้อมูลนักเรียน!C126)","v":""},{"$f":"IF(ข้อมูลนักเรียน!C126=0,\"\",ข้อมูลนักเรียน!D126 & ข้อมูลนักเรียน!E126 & \"   \"& ข้อมูลนักเรียน!F126)","v":""},{"$f":"IF(ข้อมูลนักเรียน!C126=0,\"\",ข้อมูลนักเรียน!G126)","v":""},{"$f":"ข้อมูลนักเรียน!B126","v":0},null,null,null,null,null,null,null,null,null,null,null,null,null,null,null,null,null,null,null,null,null,null,null,null,null,null,"ผ่าน",0,null,"ปรับปรุง",null,22]
[null,null,null,null,null,null,null,{"$f":"LEFT(H3)","v":"ท"},{"$f":"LEFT(I3)","v":"ค"},"ว","ส","ส","พ","ศ","ง","อ","ง","ล","","","","","","",""]
[null,null,null,"เกรด",null,null,0,{"$f":"COUNTIF(H$7:H$126,$G128)","v":0},0,0,0,0,0,0,0,0,0,0,0,0,0,0,0,0,0]
[null,null,null,null,null,null,1,{"$f":"COUNTIF(H$7:H$126,$G129)","v":0},1,1,0,0,0,0,0,0,0,0,0,0,{"$f":"COUNTIF(U$7:U$126,$G129)","v":0},0,0,0,0]
[null,null,null,null,null,null,1.5,0,0,0,0,0,0,0,0,0,2,2,0,0,0,0,0,2,2]
[null,null,null,null,null,null,2,0,0,0,0,0,0,0,0,0,0,0,0,0,0,0,0,0,0]
[null,null,null,null,null,null,2.5,0,0,0,0,0,0,0,0,0,0,0,0,0,0,0,0,0,0]
[null,null,null,null,null,null,3,1,0,0,0,0,1,1,0,0,0,0,0,0,0,0,0,0,0]
[null,null,null,null,null,null,3.5,0,0,0,0,0,0,0,0,0,0,0,0,0,0,0,0,0,0]
[null,null,null,null,null,null,4,1,1,1,2,2,1,1,2,2,0,0,0,0,0,0,0,0,0]
[null,null,null,null,null,null,"ร",0,0,0,0,0,0,0,0,0,0,0,0,0,0,0,0,0,0]
[null,null,null,null,null,null,"มส",0,0,0,0,0,0,0,0,0,0,0,0,0,0,0,0,0,0]
[null,null,null,null,null,null,"ผ",0,0,0,0,0,0,0,0,0,0,0,0,0,0,0,0,0,0]
[null,null,null,null,null,null,"มผ",0,0,0,0,0,0,0,0,0,0,0,0,0,0,0,0,0,0]

{"sheet":"เกรด5","index":10,"n_rows":139,"n_cols":41,"rows_kept":139,"cut":false,"hidden":false,"merged":[[1,36,4,36],[0,0,0,2],[0,15,0,27],[1,0,5,0],[1,1,5,1],[1,2,5,2],[1,3,5,3],[1,6,2,6],[1,34,5,34]]}
["ปีการศึกษา : ",null,null,{"$f":"ข้อมูลนักเรียน!F4+4","v":2554},null,null,null,null,null,null,null,null,null,null,null,"ประถมศึกษาปีที่ 5"]
["ห้อง","เลขที่","รหัสนักเรียน","ชื่อ - สกุล",null,null,"วิชา",{"$f":"IF(หลักสูตร!J$32=0,\"ช่องว่าง\",หลักสูตร!$K$32)","v":"ภาษาไทย"},{"$f":"IF(หลักสูตร!J$33=0,\"ช่องว่าง\",หลักสูตร!$K$33)","v":"คณิตศาสตร์"},{"$f":"IF(หลักสูตร!J$34=0,\"ช่องว่าง\",หลักสูตร!$K$34)","v":"วิทยาศาสตร์"},{"$f":"IF(หลักสูตร!J$35=0,\"ช่องว่าง\",หลักสูตร!$K$35)","v":"สังคมศึกษา ศาสนาและวัฒนธรรม"},{"$f":"IF(หลักสูตร!J$36=0,\"ช่องว่าง\",หลักสูตร!$K$36)","v":"ประวัติศาสตร์"},{"$f":"IF(หลักสูตร!J$37=0,\"ช่องว่าง\",หลักสูตร!$K$37)","v":"สุขศึกษาและพลศึกษา"},{"$f":"IF(หลักสูตร!J$38=0,\"ช่องว่าง\",หลักสูตร!$K$38)","v":"ศิลปะ"},{"$f":"IF(หลักสูตร!J$39=0,\"ช่องว่าง\",หลักสูตร!$K$39)","v":"การงานอาชีพและเทคโนโลยี"},{"$f":"IF(หลักสูตร!J$40=0,\"ช่องว่าง\",หลักสูตร!$K$40)","v":"ภาษาต่างประเทศ"},{"$f":"IF(หลักสูตร!J$41=0,\"ช่องว่าง\",หลักสูตร!$K$41)","v":"คอมพิวเตอร์"},{"$f":"IF(หลักสูตร!J$42=0,\"ช่องว่าง\",หลักสูตร!$K$42)","v":"การศึกษาค้นค้าด้วยตนเอง"},{"$f":"IF(หลักสูตร!J$43=0,\"ช่องว่าง\",หลักสูตร!$K$43)","v":0},{"$f":"IF(หลักสูตร!J$44=0,\"ช่องว่าง\",หลักสูตร!$K$44)","v":"ช่องว่าง"},{"$f":"IF(หลักสูตร!J$45=0,\"ช่องว่าง\",หลักสูตร!$K$45)","v":"ช่องว่าง"},{"$f":"IF(หลักสูตร!J$46=0,\"ช่องว่าง\",หลักสูตร!$K$46)","v":"ช่องว่าง"},{"$f":"IF(หลักสูตร!J$47=0,\"ช่องว่าง\",หลักสูตร!$K$47)","v":"ช่องว่าง"},{"$f":"IF(หลักสูตร!J$48=0,\"ช่องว่าง\",หลักสูตร!$K$48)","v":"ช่องว่าง"},{"$f":"IF(หลักสูตร!J$49=0,\"ช่องว่าง\",หลักสูตร!$K$49)","v":"ช่องว่าง"},{"$f":"IF(หลักสูตร!J$51=0,\"ช่องว่าง\",หลักสูตร!$K$51)","v":"แนะแนว"},{"$f":"IF(หลักสูตร!J$52=0,\"ช่องว่าง\",หลักสูตร!$K$52)","v":"ลูกเสือ เนตรนารี"},{"$f":"IF(หลักสูตร!J$53=0,\"ช่องว่าง\",หลักสูตร!$K$53)","v":"ชุมนุม"},{"$f":"IF(หลักสูตร!J$54=0,\"ช่องว่าง\",หลักสูตร!$K$54)","v":"กิจกรรมเพื่อสังคมและสาธารณประโยชน์"},{"$f":"IF(หลักสูตร!J$55=0,\"ช่องว่าง\",หลักสูตร!$K$55)","v":"ช่องว่าง"},"คุณลักษณะ","อ่าน คิดฯ","สรุปกิจกรรม","เกรดเฉลี่ย","ชื่อวิชาเลือก\nรหัสวิชา ตามด้วยชื่อวิชา\nตัวอย่าง  ง31202 เกษตรอินทรีย์","อ่าน คิดฯ","ชื่อชุมนุม"]
[null,null,null,null,null,null,null,{"$f":"IF(หลักสูตร!$J$32=0,\"\",หลักสูตร!$J$32)","v":"ท"},{"$f":"IF(หลักสูตร!$J$33=0,\"\",หลักสูตร!$J$33)","v":"ค15101"},{"$f":"IF(หลักสูตร!$J$34=0,\"\",หลักสูตร!$J$34)","v":"ว15101"},{"$f":"IF(หลักสูตร!$J$35=0,\"\",หลักสูตร!$J$35)","v":"ส15101"},{"$f":"IF(หลักสูตร!$J$36=0,\"\",หลักสูตร!$J$36)","v":"ส15102"},{"$f":"IF(หลักสูตร!$J$37=0,\"\",หลักสูตร!$J$37)","v":"พ15101"},{"$f":"IF(หลักสูตร!$J$38=0,\"\",หลักสูตร!$J$38)","v":"ศ15101"},{"$f":"IF(หลักสูตร!$J$39=0,\"\",หลักสูตร!$J$39)","v":"ง15101"},{"$f":"IF(หลักสูตร!$J$40=0,\"\",หลักสูตร!$J$40)","v":"อ15101"},{"$f":"IF(หลักสูตร!$J$41=0,\"\",หลักสูตร!$J$41)","v":"ง15201"},{"$f":"IF(หลักสูตร!$J$42=0,\"\",หลักสูตร!$J$42)","v":"I15201"},{"$f":"IF(หลักสูตร!$J$43=0,\"\",หลักสูตร!$J$43)","v":"ล"},{"$f":"IF(หลักสูตร!$J$44=0,\"\",หลักสูตร!$J$44)","v":""},{"$f":"IF(หลักสูตร!$J$45=0,\"\",หลักสูตร!$J$45)","v":""},{"$f":"IF(หลักสูตร!$J$46=0,\"\",หลักสูตร!$J$46)","v":""},{"$f":"IF(หลักสูตร!$J$47=0,\"\",หลักสูตร!$J$47)","v":""},{"$f":"IF(หลักสูตร!$J$48=0,\"\",หลักสูตร!$J$48)","v":""},{"$f":"IF(หลักสูตร!$J$49=0,\"\",หลักสูตร!$J$49)","v":""},{"$f":"IF(หลักสูตร!$J$51=0,\"\",หลักสูตร!$J$51)","v":"ก1"},{"$f":"IF(หลักสูตร!$J$52=0,\"\",หลักสูตร!$J$52)","v":"ก2"},{"$f":"IF(หลักสูตร!$J$53=0,\"\",หลักสูตร!$J$53)","v":"ก3"},{"$f":"IF(หลักสูตร!$J$54=0,\"\",หลักสูตร!$J$54)","v":"ก4"},{"$f":"IF(หลักสูตร!$J$55=0,\"\",หลักสูตร!$J$55)","v":""},null,null,null,{"$f":"SUMIF(H5:Y5,\"<>กิจกรรม\",H6:AA6)","v":24.5}]
[null,null,null,null,null,null,null,{"$f":"IF(หลักสูตร!$N$32=0,\"\",หลักสูตร!$N$32)","v":160},{"$f":"IF(หลักสูตร!$N$33=0,\"\",หลักสูตร!$N$33)","v":160},{"$f":"IF(หลักสูตร!$N$34=0,\"\",หลักสูตร!$N$34)","v":80},{"$f":"IF(หลักสูตร!$N$35=0,\"\",หลักสูตร!$N$35)","v":80},{"$f":"IF(หลักสูตร!$N$36=0,\"\",หลักสูตร!$N$36)","v":40},{"$f":"IF(หลักสูตร!$N$37=0,\"\",หลักสูตร!$N$37)","v":80},{"$f":"IF(หลักสูตร!$N$38=0,\"\",หลักสูตร!$N$38)","v":80},{"$f":"IF(หลักสูตร!$N$39=0,\"\",หลักสูตร!$N$39)","v":80},{"$f":"IF(หลักสูตร!$N$40=0,\"\",หลักสูตร!$N$40)","v":80},{"$f":"IF(หลักสูตร!$N$41=0,\"\",หลักสูตร!$N$41)","v":40},{"$f":"IF(หลักสูตร!$N$42=0,\"\",หลักสูตร!$N$42)","v":40},{"$f":"IF(หลักสูตร!$N$43=0,\"\",หลักสูตร!$N$43)","v":60},{"$f":"IF(หลักสูตร!$N$44=0,\"\",หลักสูตร!$N$44)","v":""},{"$f":"IF(หลักสูตร!$N$45=0,\"\",หลักสูตร!$N$45)","v":""},{"$f":"IF(หลักสูตร!$N$46=0,\"\",หลักสูตร!$N$46)","v":""},{"$f":"IF(หลักสูตร!$N$47=0,\"\",หลักสูตร!$N$47)","v":""},{"$f":"IF(หลักสูตร!$N$48=0,\"\",หลักสูตร!$N$48)","v":""},{"$f":"IF(หลักสูตร!$N$49=0,\"\",หลักสูตร!$N$49)","v":""},{"$f":"IF(หลักสูตร!$N$51=0,\"\",หลักสูตร!$N$51)","v":40},{"$f":"IF(หลักสูตร!$N$52=0,\"\",หลักสูตร!$N$52)","v":40},{"$f":"IF(หลักสูตร!$N$53=0,\"\",หลักสูตร!$N$53)","v":30},{"$f":"IF(หลักสูตร!$N$54=0,\"\",หลักสูตร!$N$54)","v":10},{"$f":"IF(หลักสูตร!$N$55=0,\"\",หลักสูตร!$N$55)","v":""}]
[null,null,null,null,null,null,"ประเภท",{"$f":"IF(หลักสูตร!$L$32=0,\"\",หลักสูตร!$L$32)","v":"พื้นฐาน"},{"$f":"IF(หลักสูตร!$L$33=0,\"\",หลักสูตร!$L$33)","v":"พื้นฐาน"},{"$f":"IF(หลักสูตร!$L$34=0,\"\",หลักสูตร!$L$34)","v":"พื้นฐาน"},{"$f":"IF(หลักสูตร!$L$35=0,\"\",หลักสูตร!$L$35)","v":"พื้นฐาน"},{"$f":"IF(หลักสูตร!$L$36=0,\"\",หลักสูตร!$L$36)","v":"พื้นฐาน"},{"$f":"IF(หลักสูตร!$L$37=0,\"\",หลักสูตร!$L$37)","v":"พื้นฐาน"},{"$f":"IF(หลักสูตร!$L$38=0,\"\",หลักสูตร!$L$38)","v":"พื้นฐาน"},{"$f":"IF(หลักสูตร!$L$39=0,\"\",หลักสูตร!$L$39)","v":"พื้นฐาน"},{"$f":"IF(หลักสูตร!$L$40=0,\"\",หลักสูตร!$L$40)","v":"พื้นฐาน"},{"$f":"IF(หลักสูตร!$L$41=0,\"\",หลักสูตร!$L$41)","v":"เพิ่มเติม"},{"$f":"IF(หลักสูตร!$L$42=0,\"\",หลักสูตร!$L$42)","v":"เพิ่มเติม"},{"$f":"IF(หลักสูตร!$L$43=0,\"\",หลักสูตร!$L$43)","v":"เพิ่มเติม"},{"$f":"IF(หลักสูตร!$L$44=0,\"\",หลักสูตร!$L$44)","v":""},{"$f":"IF(หลักสูตร!$L$45=0,\"\",หลักสูตร!$L$45)","v":""},{"$f":"IF(หลักสูตร!$L$46=0,\"\",หลักสูตร!$L$46)","v":""},{"$f":"IF(หลักสูตร!$L$47=0,\"\",หลักสูตร!$L$47)","v":""},{"$f":"IF(หลักสูตร!$L$48=0,\"\",หลักสูตร!$L$48)","v":""},{"$f":"IF(หลักสูตร!$L$49=0,\"\",หลักสูตร!$L$49)","v":""},{"$f":"IF(หลักสูตร!$L$51=0,\"\",หลักสูตร!$L$51)","v":"กิจกรรม"},{"$f":"IF(หลักสูตร!$L$52=0,\"\",หลักสูตร!$L$52)","v":"กิจกรรม"},{"$f":"IF(หลักสูตร!$L$53=0,\"\",หลักสูตร!$L$53)","v":"กิจกรรม"},{"$f":"IF(หลักสูตร!$L$54=0,\"\",หลักสูตร!$L$54)","v":"กิจกรรม"},{"$f":"IF(หลักสูตร!$L$55=0,\"\",หลักสูตร!$L$55)","v":""}]
[null,null,null,null,null,null,"น้ำหนัก",{"$f":"IF(หลักสูตร!$O$32=0,\"\",หลักสูตร!$O$32)","v":4},{"$f":"IF(หลักสูตร!$O$33=0,\"\",หลักสูตร!$O$33)","v":4},{"$f":"IF(หลักสูตร!$O$34=0,\"\",หลักสูตร!$O$34)","v":2},{"$f":"IF(หลักสูตร!$O$35=0,\"\",หลักสูตร!$O$35)","v":2},{"$f":"IF(หลักสูตร!$O$36=0,\"\",หลักสูตร!$O$36)","v":1},{"$f":"IF(หลักสูตร!$O$37=0,\"\",หลักสูตร!$O$37)","v":2},{"$f":"IF(หลักสูตร!$O$38=0,\"\",หลักสูตร!$O$38)","v":2},{"$f":"IF(หลักสูตร!$O$39=0,\"\",หลักสูตร!$O$39)","v":2},{"$f":"IF(หลักสูตร!$O$40=0,\"\",หลักสูตร!$O$40)","v":2},{"$f":"IF(หลักสูตร!$O$41=0,\"\",หลักสูตร!$O$41)","v":1},{"$f":"IF(หลักสูตร!$O$42=0,\"\",หลักสูตร!$O$42)","v":1},{"$f":"IF(หลักสูตร!$O$43=0,\"\",หลักสูตร!$O$43)","v":1.5},{"$f":"IF(หลักสูตร!$O$44=0,\"\",หลักสูตร!$O$44)","v":""},{"$f":"IF(หลักสูตร!$O$45=0,\"\",หลักสูตร!$O$45)","v":""},{"$f":"IF(หลักสูตร!$O$46=0,\"\",หลักสูตร!$O$46)","v":""},{"$f":"IF(หลักสูตร!$O$47=0,\"\",หลักสูตร!$O$47)","v":""},{"$f":"IF(หลักสูตร!$O$48=0,\"\",หลักสูตร!$O$48)","v":""},{"$f":"IF(หลักสูตร!$O$49=0,\"\",หลักสูตร!$O$49)","v":""},{"$f":"IF(หลักสูตร!$O$51=0,\"\",หลักสูตร!$O$51)","v":"-"},{"$f":"IF(หลักสูตร!$O$52=0,\"\",หลักสูตร!$O$52)","v":"-"},{"$f":"IF(หลักสูตร!$O$53=0,\"\",หลักสูตร!$O$53)","v":"-"},{"$f":"IF(หลักสูตร!$O$54=0,\"\",หลักสูตร!$O$54)","v":"-"},{"$f":"IF(หลักสูตร!$O$55=0,\"\",หลักสูตร!$O$55)","v":"-"},null,null,null,{"$f":"SUMIF(H5:Y5,\"<>กิจกรรม\",H6:AA6)","v":24.5}]
[{"$f":"ข้อมูลนักเรียน!A7","v":1},{"$f":"IF(ข้อมูลนักเรียน!B7=0,\"\",ข้อมูลนักเรียน!B7)","v":1},{"$f":"IF(ข้อมูลนักเรียน!C7=0,\"\",ข้อมูลนักเรียน!C7)","v":"00001"},{"$f":"IF(ข้อมูลนักเรียน!C7=0,\"\",ข้อมูลนักเรียน!D7 & ข้อมูลนักเรียน!E7 & \"   \"& ข้อมูลนักเรียน!F7)","v":"เด็กชายสมชาย   สุขสบาย"},{"$f":"IF(ข้อมูลนักเรียน!C7=0,\"\",ข้อมูลนักเรียน!G7)","v":1111111111111},{"$f":"ข้อมูลนักเรียน!B7","v":1},null,4,1,1,4,4,4,3,3,3,1.5,1.5,2,null,null,null,null,1.5,1.5,"ผ","ผ","ผ","ผ",null,3,3,{"$f":"IF(COUNTIFS(Z7:AD7,\"=มผ\") > 0,\"ไม่ผ่าน\",\"ผ่าน\")","v":"ผ่าน"},{"$f":"ROUNDDOWN(3.52173913043478,2)","v":3.52},"ง15202  คอมพิวเตอร์กราฟิก",{"$f":"IF(AF7=1,\"ผ่าน\",IF(AF7=2,\"ดี\",IF(AF7=3,\"ดีเยี่ยม\",\"ปรับปรุง\")))","v":"ดีเยี่ยม"},"คอมพิวเตอร์",23,"เกรด","อ่าน/คุณ","กิจกรรม"]
[{"$f":"ข้อมูลนักเรียน!A8","v":1},{"$f":"IF(ข้อมูลนักเรียน!B8=0,\"\",ข้อมูลนักเรียน!B8)","v":2},{"$f":"IF(ข้อมูลนักเรียน!C8=0,\"\",ข้อมูลนักเรียน!C8)","v":"00002"},{"$f":"IF(ข้อมูลนักเรียน!C8=0,\"\",ข้อมูลนักเรียน!D8 & ข้อมูลนักเรียน!E8 & \"   \"& ข้อมูลนักเรียน!F8)","v":"เด็กหญิงสมหวัง   ตั้งใจเรียน"},{"$f":"IF(ข้อมูลนักเรียน!C8=0,\"\",ข้อมูลนักเรียน!G8)","v":2222222222222},{"$f":"ข้อมูลนักเรียน!B8","v":2},null,3,3,4,4,4,4,4,4,4,1.5,1.5,3,null,null,null,null,1.5,1.5,"ผ","ผ","ผ","ผ",null,3,3,"ผ่าน",{"$f":"ROUNDDOWN(3.43478260869565,2)","v":3.43},"ว15202 วิทยาศาตร์น่ารู้","ดีเยี่ยม","ดนตรี",23,0,0,"ผ"]
[{"$f":"ข้อมูลนักเรียน!A9","v":0},{"$f":"IF(ข้อมูลนักเรียน!B9=0,\"\",ข้อมูลนักเรียน!B9)","v":""},{"$f":"IF(ข้อมูลนักเรียน!C9=0,\"\",ข้อมูลนักเรียน!C9)","v":""},{"$f":"IF(ข้อมูลนักเรียน!C9=0,\"\",ข้อมูลนักเรียน!D9 & ข้อมูลนักเรียน!E9 & \"   \"& ข้อมูลนักเรียน!F9)","v":""},{"$f":"IF(ข้อมูลนักเรียน!C9=0,\"\",ข้อมูลนักเรียน!G9)","v":""},{"$f":"ข้อมูลนักเรียน!B9","v":0},null,null,null,null,null,null,null,null,null,null,null,null,null,null,null,null,null,null,null,null,null,null,null,null,null,null,{"$f":"IF(COUNTIFS(Z9:AD9,\"=มผ\") > 0,\"ไม่ผ่าน\",\"ผ่าน\")","v":"ผ่าน"},{"$f":"ROUNDDOWN(0,2)","v":0},null,{"$f":"IF(AF9=1,\"ผ่าน\",IF(AF9=2,\"ดี\",IF(AF9=3,\"ดีเยี่ยม\",\"ปรับปรุง\")))","v":"ปรับปรุง"},null,23,1,1,"มผ"]
[{"$f":"ข้อมูลนักเรียน!A10","v":0},{"$f":"IF(ข้อมูลนักเรียน!B10=0,\"\",ข้อมูลนักเรียน!B10)","v":""},{"$f":"IF(ข้อมูลนักเรียน!C10=0,\"\",ข้อมูลนักเรียน!C10)","v":""},{"$f":"IF(ข้อมูลนักเรียน!C10=0,\"\",ข้อมูลนักเรียน!D10 & ข้อมูลนักเรียน!E10 & \"   \"& ข้อมูลนักเรียน!F10)","v":""},{"$f":"IF(ข้อมูลนักเรียน!C10=0,\"\",ข้อมูลนักเรียน!G10)","v":""},{"$f":"ข้อมูลนักเรียน!B10","v":0},null,null,null,null,null,null,null,null,null,null,null,null,null,null,null,null,null,null,null,null,null,null,null,null,null,null,"ผ่าน",0,null,"ปรับปรุง",null,23,1.5,2]
[{"$f":"ข้อมูลนักเรียน!A11","v":0},{"$f":"IF(ข้อมูลนักเรียน!B11=0,\"\",ข้อมูลนักเรียน!B11)","v":""},{"$f":"IF(ข้อมูลนักเรียน!C11=0,\"\",ข้อมูลนักเรียน!C11)","v":""},{"$f":"IF(ข้อมูลนักเรียน!C11=0,\"\",ข้อมูลนักเรียน!D11 & ข้อมูลนักเรียน!E11 & \"   \"& ข้อมูลนักเรียน!F11)","v":""},{"$f":"IF(ข้อมูลนักเรียน!C11=0,\"\",ข้อมูลนักเรียน!G11)","v":""},{"$f":"ข้อมูลนักเรียน!B11","v":0},null,null,null,null,null,null,null,null,null,null,null,null,null,null,null,null,null,null,null,null,null,null,null,null,null,null,"ผ่าน",0,null,"ปรับปรุง",null,23,2,3]
[{"$f":"ข้อมูลนักเรียน!A12","v":0},{"$f":"IF(ข้อมูลนักเรียน!B12=0,\"\",ข้อมูลนักเรียน!B12)","v":""},{"$f":"IF(ข้อมูลนักเรียน!C12=0,\"\",ข้อมูลนักเรียน!C12)","v":""},{"$f":"IF(ข้อมูลนักเรียน!C12=0,\"\",ข้อมูลนักเรียน!D12 & ข้อมูลนักเรียน!E12 & \"   \"& ข้อมูลนักเรียน!F12)","v":""},{"$f":"IF(ข้อมูลนักเรียน!C12=0,\"\",ข้อมูลนักเรียน!G12)","v":""},{"$f":"ข้อมูลนักเรียน!B12","v":0},null,null,null,null,null,null,null,null,null,null,null,null,null,null,null,null,null,null,null,null,null,null,null,null,null,null,"ผ่าน",0,null,"ปรับปรุง",null,23,2.5]
[{"$f":"ข้อมูลนักเรียน!A13","v":0},{"$f":"IF(ข้อมูลนักเรียน!B13=0,\"\",ข้อมูลนักเรียน!B13)","v":""},{"$f":"IF(ข้อมูลนักเรียน!C13=0,\"\",ข้อมูลนักเรียน!C13)","v":""},{"$f":"IF(ข้อมูลนักเรียน!C13=0,\"\",ข้อมูลนักเรียน!D13 & ข้อมูลนักเรียน!E13 & \"   \"& ข้อมูลนักเรียน!F13)","v":""},{"$f":"IF(ข้อมูลนักเรียน!C13=0,\"\",ข้อมูลนักเรียน!G13)","v":""},{"$f":"ข้อมูลนักเรียน!B13","v":0},null,null,null,null,null,null,null,null,null,null,null,null,null,null,null,null,null,null,null,null,null,null,null,null,null,null,"ผ่าน",0,null,"ปรับปรุง",null,23,3]
[{"$f":"ข้อมูลนักเรียน!A14","v":0},{"$f":"IF(ข้อมูลนักเรียน!B14=0,\"\",ข้อมูลนักเรียน!B14)","v":""},{"$f":"IF(ข้อมูลนักเรียน!C14=0,\"\",ข้อมูลนักเรียน!C14)","v":""},{"$f":"IF(ข้อมูลนักเรียน!C14=0,\"\",ข้อมูลนักเรียน!D14 & ข้อมูลนักเรียน!E14 & \"   \"& ข้อมูลนักเรียน!F14)","v":""},{"$f":"IF(ข้อมูลนักเรียน!C14=0,\"\",ข้อมูลนักเรียน!G14)","v":""},{"$f":"ข้อมูลนักเรียน!B14","v":0},null,null,null,null,null,null,null,null,null,null,null,null,null,null,null,null,null,null,null,null,null,null,null,null,null,null,"ผ่าน",0,null,"ปรับปรุง",null,23,3.5]
[{"$f":"ข้อมูลนักเรียน!A15","v":0},{"$f":"IF(ข้อมูลนักเรียน!B15=0,\"\",ข้อมูลนักเรียน!B15)","v":""},{"$f":"IF(ข้อมูลนักเรียน!C15=0,\"\",ข้อมูลนักเรียน!C15)","v":""},{"$f":"IF(ข้อมูลนักเรียน!C15=0,\"\",ข้อมูลนักเรียน!D15 & ข้อมูลนักเรียน!E15 & \"   \"& ข้อมูลนักเรียน!F15)","v":""},{"$f":"IF(ข้อมูลนักเรียน!C15=0,\"\",ข้อมูลนักเรียน!G15)","v":""},{"$f":"ข้อมูลนักเรียน!B15","v":0},null,null,null,null,null,null,null,null,null,null,null,null,null,null,null,null,null,null,null,null,null,null,null,null,null,null,"ผ่าน",0,null,"ปรับปรุง",null,23,4]
[{"$f":"ข้อมูลนักเรียน!A16","v":0},{"$f":"IF(ข้อมูลนักเรียน!B16=0,\"\",ข้อมูลนักเรียน!B16)","v":""},{"$f":"IF(ข้อมูลนักเรียน!C16=0,\"\",ข้อมูลนักเรียน!C16)","v":""},{"$f":"IF(ข้อมูลนักเรียน!C16=0,\"\",ข้อมูลนักเรียน!D16 & ข้อมูลนักเรียน!E16 & \"   \"& ข้อมูลนักเรียน!F16)","v":""},{"$f":"IF(ข้อมูลนักเรียน!C16=0,\"\",ข้อมูลนักเรียน!G16)","v":""},{"$f":"ข้อมูลนักเรียน!B16","v":0},null,null,null,null,null,null,null,null,null,null,null,null,null,null,null,null,null,null,null,null,null,null,null,null,null,null,"ผ่าน",0,null,"ปรับปรุง",null,23,"ร"]
[{"$f":"ข้อมูลนักเรียน!A17","v":0},{"$f":"IF(ข้อมูลนักเรียน!B17=0,\"\",ข้อมูลนักเรียน!B17)","v":""},{"$f":"IF(ข้อมูลนักเรียน!C17=0,\"\",ข้อมูลนักเรียน!C17)","v":""},{"$f":"IF(ข้อมูลนักเรียน!C17=0,\"\",ข้อมูลนักเรียน!D17 & ข้อมูลนักเรียน!E17 & \"   \"& ข้อมูลนักเรียน!F17)","v":""},{"$f":"IF(ข้อมูลนักเรียน!C17=0,\"\",ข้อมูลนักเรียน!G17)","v":""},{"$f":"ข้อมูลนักเรียน!B17","v":0},null,null,null,null,null,null,null,null,null,null,null,null,null,null,null,null,null,null,null,null,null,null,null,null,null,null,"ผ่าน",0,null,"ปรับปรุง",null,23,"มส"]
[{"$f":"ข้อมูลนักเรียน!A18","v":0},{"$f":"IF(ข้อมูลนักเรียน!B18=0,\"\",ข้อมูลนักเรียน!B18)","v":""},{"$f":"IF(ข้อมูลนักเรียน!C18=0,\"\",ข้อมูลนักเรียน!C18)","v":""},{"$f":"IF(ข้อมูลนักเรียน!C18=0,\"\",ข้อมูลนักเรียน!D18 & ข้อมูลนักเรียน!E18 & \"   \"& ข้อมูลนักเรียน!F18)","v":""},{"$f":"IF(ข้อมูลนักเรียน!C18=0,\"\",ข้อมูลนักเรียน!G18)","v":""},{"$f":"ข้อมูลนักเรียน!B18","v":0},null,null,null,null,null,null,null,null,null,null,null,null,null,null,null,null,null,null,null,null,null,null,null,null,null,null,"ผ่าน",0,null,"ปรับปรุง",null,23,"ผ"]
[{"$f":"ข้อมูลนักเรียน!A19","v":0},{"$f":"IF(ข้อมูลนักเรียน!B19=0,\"\",ข้อมูลนักเรียน!B19)","v":""},{"$f":"IF(ข้อมูลนักเรียน!C19=0,\"\",ข้อมูลนักเรียน!C19)","v":""},{"$f":"IF(ข้อมูลนักเรียน!C19=0,\"\",ข้อมูลนักเรียน!D19 & ข้อมูลนักเรียน!E19 & \"   \"& ข้อมูลนักเรียน!F19)","v":""},{"$f":"IF(ข้อมูลนักเรียน!C19=0,\"\",ข้อมูลนักเรียน!G19)","v":""},{"$f":"ข้อมูลนักเรียน!B19","v":0},null,null,null,null,null,null,null,null,null,null,null,null,null,null,null,null,null,null,null,null,null,null,null,null,null,null,"ผ่าน",0,null,"ปรับปรุง",null,23,"มผ"]
[{"$f":"ข้อมูลนักเรียน!A20","v":0},{"$f":"IF(ข้อมูลนักเรียน!B20=0,\"\",ข้อมูลนักเรียน!B20)","v":""},{"$f":"IF(ข้อมูลนักเรียน!C20=0,\"\",ข้อมูลนักเรียน!C20)","v":""},{"$f":"IF(ข้อมูลนักเรียน!C20=0,\"\",ข้อมูลนักเรียน!D20 & ข้อมูลนักเรียน!E20 & \"   \"& ข้อมูลนักเรียน!F20)","v":""},{"$f":"IF(ข้อมูลนักเรียน!C20=0,\"\",ข้อมูลนักเรียน!G20)","v":""},{"$f":"ข้อมูลนักเรียน!B20","v":0},null,null,null,null,null,null,null,null,null,null,null,null,null,null,null,null,null,null,null,null,null,null,null,null,null,null,"ผ่าน",0,null,"ปรับปรุง",null,23]
[{"$f":"ข้อมูลนักเรียน!A21","v":0},{"$f":"IF(ข้อมูลนักเรียน!B21=0,\"\",ข้อมูลนักเรียน!B21)","v":""},{"$f":"IF(ข้อมูลนักเรียน!C21=0,\"\",ข้อมูลนักเรียน!C21)","v":""},{"$f":"IF(ข้อมูลนักเรียน!C21=0,\"\",ข้อมูลนักเรียน!D21 & ข้อมูลนักเรียน!E21 & \"   \"& ข้อมูลนักเรียน!F21)","v":""},{"$f":"IF(ข้อมูลนักเรียน!C21=0,\"\",ข้อมูลนักเรียน!G21)","v":""},{"$f":"ข้อมูลนักเรียน!B21","v":0},null,null,null,null,null,null,null,null,null,null,null,null,null,null,null,null,null,null,null,null,null,null,null,null,null,null,"ผ่าน",0,null,"ปรับปรุง",null,23]
[{"$f":"ข้อมูลนักเรียน!A22","v":0},{"$f":"IF(ข้อมูลนักเรียน!B22=0,\"\",ข้อมูลนักเรียน!B22)","v":""},{"$f":"IF(ข้อมูลนักเรียน!C22=0,\"\",ข้อมูลนักเรียน!C22)","v":""},{"$f":"IF(ข้อมูลนักเรียน!C22=0,\"\",ข้อมูลนักเรียน!D22 & ข้อมูลนักเรียน!E22 & \"   \"& ข้อมูลนักเรียน!F22)","v":""},{"$f":"IF(ข้อมูลนักเรียน!C22=0,\"\",ข้อมูลนักเรียน!G22)","v":""},{"$f":"ข้อมูลนักเรียน!B22","v":0},null,null,null,null,null,null,null,null,null,null,null,null,null,null,null,null,null,null,null,null,null,null,null,null,null,null,"ผ่าน",0,null,"ปรับปรุง",null,23]
[{"$f":"ข้อมูลนักเรียน!A23","v":0},{"$f":"IF(ข้อมูลนักเรียน!B23=0,\"\",ข้อมูลนักเรียน!B23)","v":""},{"$f":"IF(ข้อมูลนักเรียน!C23=0,\"\",ข้อมูลนักเรียน!C23)","v":""},{"$f":"IF(ข้อมูลนักเรียน!C23=0,\"\",ข้อมูลนักเรียน!D23 & ข้อมูลนักเรียน!E23 & \"   \"& ข้อมูลนักเรียน!F23)","v":""},{"$f":"IF(ข้อมูลนักเรียน!C23=0,\"\",ข้อมูลนักเรียน!G23)","v":""},{"$f":"ข้อมูลนักเรียน!B23","v":0},null,null,null,null,null,null,null,null,null,null,null,null,null,null,null,null,null,null,null,null,null,null,null,null,null,null,"ผ่าน",0,null,"ปรับปรุง",null,23]
[{"$f":"ข้อมูลนักเรียน!A24","v":0},{"$f":"IF(ข้อมูลนักเรียน!B24=0,\"\",ข้อมูลนักเรียน!B24)","v":""},{"$f":"IF(ข้อมูลนักเรียน!C24=0,\"\",ข้อมูลนักเรียน!C24)","v":""},{"$f":"IF(ข้อมูลนักเรียน!C24=0,\"\",ข้อมูลนักเรียน!D24 & ข้อมูลนักเรียน!E24 & \"   \"& ข้อมูลนักเรียน!F24)","v":""},{"$f":"IF(ข้อมูลนักเรียน!C24=0,\"\",ข้อมูลนักเรียน!G24)","v":""},{"$f":"ข้อมูลนักเรียน!B24","v":0},null,null,null,null,null,null,null,null,null,null,null,null,null,null,null,null,null,null,null,null,null,null,null,null,null,null,"ผ่าน",0,null,"ปรับปรุง",null,23]
[{"$f":"ข้อมูลนักเรียน!A25","v":0},{"$f":"IF(ข้อมูลนักเรียน!B25=0,\"\",ข้อมูลนักเรียน!B25)","v":""},{"$f":"IF(ข้อมูลนักเรียน!C25=0,\"\",ข้อมูลนักเรียน!C25)","v":""},{"$f":"IF(ข้อมูลนักเรียน!C25=0,\"\",ข้อมูลนักเรียน!D25 & ข้อมูลนักเรียน!E25 & \"   \"& ข้อมูลนักเรียน!F25)","v":""},{"$f":"IF(ข้อมูลนักเรียน!C25=0,\"\",ข้อมูลนักเรียน!G25)","v":""},{"$f":"ข้อมูลนักเรียน!B25","v":0},null,null,null,null,null,null,null,null,null,null,null,null,null,null,null,null,null,null,null,null,null,null,null,null,null,null,"ผ่าน",0,null,"ปรับปรุง",null,23]
[{"$f":"ข้อมูลนักเรียน!A26","v":0},{"$f":"IF(ข้อมูลนักเรียน!B26=0,\"\",ข้อมูลนักเรียน!B26)","v":""},{"$f":"IF(ข้อมูลนักเรียน!C26=0,\"\",ข้อมูลนักเรียน!C26)","v":""},{"$f":"IF(ข้อมูลนักเรียน!C26=0,\"\",ข้อมูลนักเรียน!D26 & ข้อมูลนักเรียน!E26 & \"   \"& ข้อมูลนักเรียน!F26)","v":""},{"$f":"IF(ข้อมูลนักเรียน!C26=0,\"\",ข้อมูลนักเรียน!G26)","v":""},{"$f":"ข้อมูลนักเรียน!B26","v":0},null,null,null,null,null,null,null,null,null,null,null,null,null,null,null,null,null,null,null,null,null,null,null,null,null,null,"ผ่าน",0,null,"ปรับปรุง",null,23]
[{"$f":"ข้อมูลนักเรียน!A27","v":0},{"$f":"IF(ข้อมูลนักเรียน!B27=0,\"\",ข้อมูลนักเรียน!B27)","v":""},{"$f":"IF(ข้อมูลนักเรียน!C27=0,\"\",ข้อมูลนักเรียน!C27)","v":""},{"$f":"IF(ข้อมูลนักเรียน!C27=0,\"\",ข้อมูลนักเรียน!D27 & ข้อมูลนักเรียน!E27 & \"   \"& ข้อมูลนักเรียน!F27)","v":""},{"$f":"IF(ข้อมูลนักเรียน!C27=0,\"\",ข้อมูลนักเรียน!G27)","v":""},{"$f":"ข้อมูลนักเรียน!B27","v":0},null,null,null,null,null,null,null,null,null,null,null,null,null,null,null,null,null,null,null,null,null,null,null,null,null,null,"ผ่าน",0,null,"ปรับปรุง",null,23]
[{"$f":"ข้อมูลนักเรียน!A28","v":0},{"$f":"IF(ข้อมูลนักเรียน!B28=0,\"\",ข้อมูลนักเรียน!B28)","v":""},{"$f":"IF(ข้อมูลนักเรียน!C28=0,\"\",ข้อมูลนักเรียน!C28)","v":""},{"$f":"IF(ข้อมูลนักเรียน!C28=0,\"\",ข้อมูลนักเรียน!D28 & ข้อมูลนักเรียน!E28 & \"   \"& ข้อมูลนักเรียน!F28)","v":""},{"$f":"IF(ข้อมูลนักเรียน!C28=0,\"\",ข้อมูลนักเรียน!G28)","v":""},{"$f":"ข้อมูลนักเรียน!B28","v":0},null,null,null,null,null,null,null,null,null,null,null,null,null,null,null,null,null,null,null,null,null,null,null,null,null,null,"ผ่าน",0,null,"ปรับปรุง",null,23]
[{"$f":"ข้อมูลนักเรียน!A29","v":0},{"$f":"IF(ข้อมูลนักเรียน!B29=0,\"\",ข้อมูลนักเรียน!B29)","v":""},{"$f":"IF(ข้อมูลนักเรียน!C29=0,\"\",ข้อมูลนักเรียน!C29)","v":""},{"$f":"IF(ข้อมูลนักเรียน!C29=0,\"\",ข้อมูลนักเรียน!D29 & ข้อมูลนักเรียน!E29 & \"   \"& ข้อมูลนักเรียน!F29)","v":""},{"$f":"IF(ข้อมูลนักเรียน!C29=0,\"\",ข้อมูลนักเรียน!G29)","v":""},{"$f":"ข้อมูลนักเรียน!B29","v":0},null,null,null,null,null,null,null,null,null,null,null,null,null,null,null,null,null,null,null,null,null,null,null,null,null,null,"ผ่าน",0,null,"ปรับปรุง",null,23]
[{"$f":"ข้อมูลนักเรียน!A30","v":0},{"$f":"IF(ข้อมูลนักเรียน!B30=0,\"\",ข้อมูลนักเรียน!B30)","v":""},{"$f":"IF(ข้อมูลนักเรียน!C30=0,\"\",ข้อมูลนักเรียน!C30)","v":""},{"$f":"IF(ข้อมูลนักเรียน!C30=0,\"\",ข้อมูลนักเรียน!D30 & ข้อมูลนักเรียน!E30 & \"   \"& ข้อมูลนักเรียน!F30)","v":""},{"$f":"IF(ข้อมูลนักเรียน!C30=0,\"\",ข้อมูลนักเรียน!G30)","v":""},{"$f":"ข้อมูลนักเรียน!B30","v":0},null,null,null,null,null,null,null,null,null,null,null,null,null,null,null,null,null,null,null,null,null,null,null,null,null,null,"ผ่าน",0,null,"ปรับปรุง",null,23]
[{"$f":"ข้อมูลนักเรียน!A31","v":0},{"$f":"IF(ข้อมูลนักเรียน!B31=0,\"\",ข้อมูลนักเรียน!B31)","v":""},{"$f":"IF(ข้อมูลนักเรียน!C31=0,\"\",ข้อมูลนักเรียน!C31)","v":""},{"$f":"IF(ข้อมูลนักเรียน!C31=0,\"\",ข้อมูลนักเรียน!D31 & ข้อมูลนักเรียน!E31 & \"   \"& ข้อมูลนักเรียน!F31)","v":""},{"$f":"IF(ข้อมูลนักเรียน!C31=0,\"\",ข้อมูลนักเรียน!G31)","v":""},{"$f":"ข้อมูลนักเรียน!B31","v":0},null,null,null,null,null,null,null,null,null,null,null,null,null,null,null,null,null,null,null,null,null,null,null,null,null,null,"ผ่าน",0,null,"ปรับปรุง",null,23]
[{"$f":"ข้อมูลนักเรียน!A32","v":0},{"$f":"IF(ข้อมูลนักเรียน!B32=0,\"\",ข้อมูลนักเรียน!B32)","v":""},{"$f":"IF(ข้อมูลนักเรียน!C32=0,\"\",ข้อมูลนักเรียน!C32)","v":""},{"$f":"IF(ข้อมูลนักเรียน!C32=0,\"\",ข้อมูลนักเรียน!D32 & ข้อมูลนักเรียน!E32 & \"   \"& ข้อมูลนักเรียน!F32)","v":""},{"$f":"IF(ข้อมูลนักเรียน!C32=0,\"\",ข้อมูลนักเรียน!G32)","v":""},{"$f":"ข้อมูลนักเรียน!B32","v":0},null,null,null,null,null,null,null,null,null,null,null,null,null,null,null,null,null,null,null,null,null,null,null,null,null,null,"ผ่าน",0,null,"ปรับปรุง",null,23]
[{"$f":"ข้อมูลนักเรียน!A33","v":0},{"$f":"IF(ข้อมูลนักเรียน!B33=0,\"\",ข้อมูลนักเรียน!B33)","v":""},{"$f":"IF(ข้อมูลนักเรียน!C33=0,\"\",ข้อมูลนักเรียน!C33)","v":""},{"$f":"IF(ข้อมูลนักเรียน!C33=0,\"\",ข้อมูลนักเรียน!D33 & ข้อมูลนักเรียน!E33 & \"   \"& ข้อมูลนักเรียน!F33)","v":""},{"$f":"IF(ข้อมูลนักเรียน!C33=0,\"\",ข้อมูลนักเรียน!G33)","v":""},{"$f":"ข้อมูลนักเรียน!B33","v":0},null,null,null,null,null,null,null,null,null,null,null,null,null,null,null,null,null,null,null,null,null,null,null,null,null,null,"ผ่าน",0,null,"ปรับปรุง",null,23]
[{"$f":"ข้อมูลนักเรียน!A34","v":0},{"$f":"IF(ข้อมูลนักเรียน!B34=0,\"\",ข้อมูลนักเรียน!B34)","v":""},{"$f":"IF(ข้อมูลนักเรียน!C34=0,\"\",ข้อมูลนักเรียน!C34)","v":""},{"$f":"IF(ข้อมูลนักเรียน!C34=0,\"\",ข้อมูลนักเรียน!D34 & ข้อมูลนักเรียน!E34 & \"   \"& ข้อมูลนักเรียน!F34)","v":""},{"$f":"IF(ข้อมูลนักเรียน!C34=0,\"\",ข้อมูลนักเรียน!G34)","v":""},{"$f":"ข้อมูลนักเรียน!B34","v":0},null,null,null,null,null,null,null,null,null,null,null,null,null,null,null,null,null,null,null,null,null,null,null,null,null,null,"ผ่าน",0,null,"ปรับปรุง",null,23]
[{"$f":"ข้อมูลนักเรียน!A35","v":0},{"$f":"IF(ข้อมูลนักเรียน!B35=0,\"\",ข้อมูลนักเรียน!B35)","v":""},{"$f":"IF(ข้อมูลนักเรียน!C35=0,\"\",ข้อมูลนักเรียน!C35)","v":""},{"$f":"IF(ข้อมูลนักเรียน!C35=0,\"\",ข้อมูลนักเรียน!D35 & ข้อมูลนักเรียน!E35 & \"   \"& ข้อมูลนักเรียน!F35)","v":""},{"$f":"IF(ข้อมูลนักเรียน!C35=0,\"\",ข้อมูลนักเรียน!G35)","v":""},{"$f":"ข้อมูลนักเรียน!B35","v":0},null,null,null,null,null,null,null,null,null,null,null,null,null,null,null,null,null,null,null,null,null,null,null,null,null,null,"ผ่าน",0,null,"ปรับปรุง",null,23]
[{"$f":"ข้อมูลนักเรียน!A36","v":0},{"$f":"IF(ข้อมูลนักเรียน!B36=0,\"\",ข้อมูลนักเรียน!B36)","v":""},{"$f":"IF(ข้อมูลนักเรียน!C36=0,\"\",ข้อมูลนักเรียน!C36)","v":""},{"$f":"IF(ข้อมูลนักเรียน!C36=0,\"\",ข้อมูลนักเรียน!D36 & ข้อมูลนักเรียน!E36 & \"   \"& ข้อมูลนักเรียน!F36)","v":""},{"$f":"IF(ข้อมูลนักเรียน!C36=0,\"\",ข้อมูลนักเรียน!G36)","v":""},{"$f":"ข้อมูลนักเรียน!B36","v":0},null,null,null,null,null,null,null,null,null,null,null,null,null,null,null,null,null,null,null,null,null,null,null,null,null,null,"ผ่าน",0,null,"ปรับปรุง",null,23]
[{"$f":"ข้อมูลนักเรียน!A37","v":0},{"$f":"IF(ข้อมูลนักเรียน!B37=0,\"\",ข้อมูลนักเรียน!B37)","v":""},{"$f":"IF(ข้อมูลนักเรียน!C37=0,\"\",ข้อมูลนักเรียน!C37)","v":""},{"$f":"IF(ข้อมูลนักเรียน!C37=0,\"\",ข้อมูลนักเรียน!D37 & ข้อมูลนักเรียน!E37 & \"   \"& ข้อมูลนักเรียน!F37)","v":""},{"$f":"IF(ข้อมูลนักเรียน!C37=0,\"\",ข้อมูลนักเรียน!G37)","v":""},{"$f":"ข้อมูลนักเรียน!B37","v":0},null,null,null,null,null,null,null,null,null,null,null,null,null,null,null,null,null,null,null,null,null,null,null,null,null,null,"ผ่าน",0,null,"ปรับปรุง",null,23]
[{"$f":"ข้อมูลนักเรียน!A38","v":0},{"$f":"IF(ข้อมูลนักเรียน!B38=0,\"\",ข้อมูลนักเรียน!B38)","v":""},{"$f":"IF(ข้อมูลนักเรียน!C38=0,\"\",ข้อมูลนักเรียน!C38)","v":""},{"$f":"IF(ข้อมูลนักเรียน!C38=0,\"\",ข้อมูลนักเรียน!D38 & ข้อมูลนักเรียน!E38 & \"   \"& ข้อมูลนักเรียน!F38)","v":""},{"$f":"IF(ข้อมูลนักเรียน!C38=0,\"\",ข้อมูลนักเรียน!G38)","v":""},{"$f":"ข้อมูลนักเรียน!B38","v":0},null,null,null,null,null,null,null,null,null,null,null,null,null,null,null,null,null,null,null,null,null,null,null,null,null,null,"ผ่าน",0,null,"ปรับปรุง",null,23]
[{"$f":"ข้อมูลนักเรียน!A39","v":0},{"$f":"IF(ข้อมูลนักเรียน!B39=0,\"\",ข้อมูลนักเรียน!B39)","v":""},{"$f":"IF(ข้อมูลนักเรียน!C39=0,\"\",ข้อมูลนักเรียน!C39)","v":""},{"$f":"IF(ข้อมูลนักเรียน!C39=0,\"\",ข้อมูลนักเรียน!D39 & ข้อมูลนักเรียน!E39 & \"   \"& ข้อมูลนักเรียน!F39)","v":""},{"$f":"IF(ข้อมูลนักเรียน!C39=0,\"\",ข้อมูลนักเรียน!G39)","v":""},{"$f":"ข้อมูลนักเรียน!B39","v":0},null,null,null,null,null,null,null,null,null,null,null,null,null,null,null,null,null,null,null,null,null,null,null,null,null,null,"ผ่าน",0,null,"ปรับปรุง",null,23]
[{"$f":"ข้อมูลนักเรียน!A40","v":0},{"$f":"IF(ข้อมูลนักเรียน!B40=0,\"\",ข้อมูลนักเรียน!B40)","v":""},{"$f":"IF(ข้อมูลนักเรียน!C40=0,\"\",ข้อมูลนักเรียน!C40)","v":""},{"$f":"IF(ข้อมูลนักเรียน!C40=0,\"\",ข้อมูลนักเรียน!D40 & ข้อมูลนักเรียน!E40 & \"   \"& ข้อมูลนักเรียน!F40)","v":""},{"$f":"IF(ข้อมูลนักเรียน!C40=0,\"\",ข้อมูลนักเรียน!G40)","v":""},{"$f":"ข้อมูลนักเรียน!B40","v":0},null,null,null,null,null,null,null,null,null,null,null,null,null,null,null,null,null,null,null,null,null,null,null,null,null,null,"ผ่าน",0,null,"ปรับปรุง",null,23]
[{"$f":"ข้อมูลนักเรียน!A41","v":0},{"$f":"IF(ข้อมูลนักเรียน!B41=0,\"\",ข้อมูลนักเรียน!B41)","v":""},{"$f":"IF(ข้อมูลนักเรียน!C41=0,\"\",ข้อมูลนักเรียน!C41)","v":""},{"$f":"IF(ข้อมูลนักเรียน!C41=0,\"\",ข้อมูลนักเรียน!D41 & ข้อมูลนักเรียน!E41 & \"   \"& ข้อมูลนักเรียน!F41)","v":""},{"$f":"IF(ข้อมูลนักเรียน!C41=0,\"\",ข้อมูลนักเรียน!G41)","v":""},{"$f":"ข้อมูลนักเรียน!B41","v":0},null,null,null,null,null,null,null,null,null,null,null,null,null,null,null,null,null,null,null,null,null,null,null,null,null,null,"ผ่าน",{"$f":"ROUNDDOWN(0,2)","v":0},null,"ปรับปรุง",null,23]
[{"$f":"ข้อมูลนักเรียน!A42","v":0},{"$f":"IF(ข้อมูลนักเรียน!B42=0,\"\",ข้อมูลนักเรียน!B42)","v":""},{"$f":"IF(ข้อมูลนักเรียน!C42=0,\"\",ข้อมูลนักเรียน!C42)","v":""},{"$f":"IF(ข้อมูลนักเรียน!C42=0,\"\",ข้อมูลนักเรียน!D42 & ข้อมูลนักเรียน!E42 & \"   \"& ข้อมูลนักเรียน!F42)","v":""},{"$f":"IF(ข้อมูลนักเรียน!C42=0,\"\",ข้อมูลนักเรียน!G42)","v":""},{"$f":"ข้อมูลนักเรียน!B42","v":0},null,null,null,null,null,null,null,null,null,null,null,null,null,null,null,null,null,null,null,null,null,null,null,null,null,null,"ผ่าน",0,null,"ปรับปรุง",null,23]
[{"$f":"ข้อมูลนักเรียน!A43","v":0},{"$f":"IF(ข้อมูลนักเรียน!B43=0,\"\",ข้อมูลนักเรียน!B43)","v":""},{"$f":"IF(ข้อมูลนักเรียน!C43=0,\"\",ข้อมูลนักเรียน!C43)","v":""},{"$f":"IF(ข้อมูลนักเรียน!C43=0,\"\",ข้อมูลนักเรียน!D43 & ข้อมูลนักเรียน!E43 & \"   \"& ข้อมูลนักเรียน!F43)","v":""},{"$f":"IF(ข้อมูลนักเรียน!C43=0,\"\",ข้อมูลนักเรียน!G43)","v":""},{"$f":"ข้อมูลนักเรียน!B43","v":0},null,null,null,null,null,null,null,null,null,null,null,null,null,null,null,null,null,null,null,null,null,null,null,null,null,null,"ผ่าน",0,null,"ปรับปรุง",null,23]
[{"$f":"ข้อมูลนักเรียน!A44","v":0},{"$f":"IF(ข้อมูลนักเรียน!B44=0,\"\",ข้อมูลนักเรียน!B44)","v":""},{"$f":"IF(ข้อมูลนักเรียน!C44=0,\"\",ข้อมูลนักเรียน!C44)","v":""},{"$f":"IF(ข้อมูลนักเรียน!C44=0,\"\",ข้อมูลนักเรียน!D44 & ข้อมูลนักเรียน!E44 & \"   \"& ข้อมูลนักเรียน!F44)","v":""},{"$f":"IF(ข้อมูลนักเรียน!C44=0,\"\",ข้อมูลนักเรียน!G44)","v":""},{"$f":"ข้อมูลนักเรียน!B44","v":0},null,null,null,null,null,null,null,null,null,null,null,null,null,null,null,null,null,null,null,null,null,null,null,null,null,null,"ผ่าน",0,null,"ปรับปรุง",null,23]
[{"$f":"ข้อมูลนักเรียน!A45","v":0},{"$f":"IF(ข้อมูลนักเรียน!B45=0,\"\",ข้อมูลนักเรียน!B45)","v":""},{"$f":"IF(ข้อมูลนักเรียน!C45=0,\"\",ข้อมูลนักเรียน!C45)","v":""},{"$f":"IF(ข้อมูลนักเรียน!C45=0,\"\",ข้อมูลนักเรียน!D45 & ข้อมูลนักเรียน!E45 & \"   \"& ข้อมูลนักเรียน!F45)","v":""},{"$f":"IF(ข้อมูลนักเรียน!C45=0,\"\",ข้อมูลนักเรียน!G45)","v":""},{"$f":"ข้อมูลนักเรียน!B45","v":0},null,null,null,null,null,null,null,null,null,null,null,null,null,null,null,null,null,null,null,null,null,null,null,null,null,null,"ผ่าน",0,null,"ปรับปรุง",null,23]
[{"$f":"ข้อมูลนักเรียน!A46","v":0},{"$f":"IF(ข้อมูลนักเรียน!B46=0,\"\",ข้อมูลนักเรียน!B46)","v":""},{"$f":"IF(ข้อมูลนักเรียน!C46=0,\"\",ข้อมูลนักเรียน!C46)","v":""},{"$f":"IF(ข้อมูลนักเรียน!C46=0,\"\",ข้อมูลนักเรียน!D46 & ข้อมูลนักเรียน!E46 & \"   \"& ข้อมูลนักเรียน!F46)","v":""},{"$f":"IF(ข้อมูลนักเรียน!C46=0,\"\",ข้อมูลนักเรียน!G46)","v":""},{"$f":"ข้อมูลนักเรียน!B46","v":0},null,null,null,null,null,null,null,null,null,null,null,null,null,null,null,null,null,null,null,null,null,null,null,null,null,null,"ผ่าน",0,null,"ปรับปรุง",null,23]
[{"$f":"ข้อมูลนักเรียน!A47","v":0},{"$f":"IF(ข้อมูลนักเรียน!B47=0,\"\",ข้อมูลนักเรียน!B47)","v":""},{"$f":"IF(ข้อมูลนักเรียน!C47=0,\"\",ข้อมูลนักเรียน!C47)","v":""},{"$f":"IF(ข้อมูลนักเรียน!C47=0,\"\",ข้อมูลนักเรียน!D47 & ข้อมูลนักเรียน!E47 & \"   \"& ข้อมูลนักเรียน!F47)","v":""},{"$f":"IF(ข้อมูลนักเรียน!C47=0,\"\",ข้อมูลนักเรียน!G47)","v":""},{"$f":"ข้อมูลนักเรียน!B47","v":0},null,null,null,null,null,null,null,null,null,null,null,null,null,null,null,null,null,null,null,null,null,null,null,null,null,null,"ผ่าน",0,null,"ปรับปรุง",null,23]
[{"$f":"ข้อมูลนักเรียน!A48","v":0},{"$f":"IF(ข้อมูลนักเรียน!B48=0,\"\",ข้อมูลนักเรียน!B48)","v":""},{"$f":"IF(ข้อมูลนักเรียน!C48=0,\"\",ข้อมูลนักเรียน!C48)","v":""},{"$f":"IF(ข้อมูลนักเรียน!C48=0,\"\",ข้อมูลนักเรียน!D48 & ข้อมูลนักเรียน!E48 & \"   \"& ข้อมูลนักเรียน!F48)","v":""},{"$f":"IF(ข้อมูลนักเรียน!C48=0,\"\",ข้อมูลนักเรียน!G48)","v":""},{"$f":"ข้อมูลนักเรียน!B48","v":0},null,null,null,null,null,null,null,null,null,null,null,null,null,null,null,null,null,null,null,null,null,null,null,null,null,null,"ผ่าน",0,null,"ปรับปรุง",null,23]
[{"$f":"ข้อมูลนักเรียน!A49","v":0},{"$f":"IF(ข้อมูลนักเรียน!B49=0,\"\",ข้อมูลนักเรียน!B49)","v":""},{"$f":"IF(ข้อมูลนักเรียน!C49=0,\"\",ข้อมูลนักเรียน!C49)","v":""},{"$f":"IF(ข้อมูลนักเรียน!C49=0,\"\",ข้อมูลนักเรียน!D49 & ข้อมูลนักเรียน!E49 & \"   \"& ข้อมูลนักเรียน!F49)","v":""},{"$f":"IF(ข้อมูลนักเรียน!C49=0,\"\",ข้อมูลนักเรียน!G49)","v":""},{"$f":"ข้อมูลนักเรียน!B49","v":0},null,null,null,null,null,null,null,null,null,null,null,null,null,null,null,null,null,null,null,null,null,null,null,null,null,null,"ผ่าน",0,null,"ปรับปรุง",null,23]
[{"$f":"ข้อมูลนักเรียน!A50","v":0},{"$f":"IF(ข้อมูลนักเรียน!B50=0,\"\",ข้อมูลนักเรียน!B50)","v":""},{"$f":"IF(ข้อมูลนักเรียน!C50=0,\"\",ข้อมูลนักเรียน!C50)","v":""},{"$f":"IF(ข้อมูลนักเรียน!C50=0,\"\",ข้อมูลนักเรียน!D50 & ข้อมูลนักเรียน!E50 & \"   \"& ข้อมูลนักเรียน!F50)","v":""},{"$f":"IF(ข้อมูลนักเรียน!C50=0,\"\",ข้อมูลนักเรียน!G50)","v":""},{"$f":"ข้อมูลนักเรียน!B50","v":0},null,null,null,null,null,null,null,null,null,null,null,null,null,null,null,null,null,null,null,null,null,null,null,null,null,null,"ผ่าน",0,null,"ปรับปรุง",null,23]
[{"$f":"ข้อมูลนักเรียน!A51","v":0},{"$f":"IF(ข้อมูลนักเรียน!B51=0,\"\",ข้อมูลนักเรียน!B51)","v":""},{"$f":"IF(ข้อมูลนักเรียน!C51=0,\"\",ข้อมูลนักเรียน!C51)","v":""},{"$f":"IF(ข้อมูลนักเรียน!C51=0,\"\",ข้อมูลนักเรียน!D51 & ข้อมูลนักเรียน!E51 & \"   \"& ข้อมูลนักเรียน!F51)","v":""},{"$f":"IF(ข้อมูลนักเรียน!C51=0,\"\",ข้อมูลนักเรียน!G51)","v":""},{"$f":"ข้อมูลนักเรียน!B51","v":0},null,null,null,null,null,null,null,null,null,null,null,null,null,null,null,null,null,null,null,null,null,null,null,null,null,null,"ผ่าน",0,null,"ปรับปรุง",null,23]
[{"$f":"ข้อมูลนักเรียน!A52","v":0},{"$f":"IF(ข้อมูลนักเรียน!B52=0,\"\",ข้อมูลนักเรียน!B52)","v":""},{"$f":"IF(ข้อมูลนักเรียน!C52=0,\"\",ข้อมูลนักเรียน!C52)","v":""},{"$f":"IF(ข้อมูลนักเรียน!C52=0,\"\",ข้อมูลนักเรียน!D52 & ข้อมูลนักเรียน!E52 & \"   \"& ข้อมูลนักเรียน!F52)","v":""},{"$f":"IF(ข้อมูลนักเรียน!C52=0,\"\",ข้อมูลนักเรียน!G52)","v":""},{"$f":"ข้อมูลนักเรียน!B52","v":0},null,null,null,null,null,null,null,null,null,null,null,null,null,null,null,null,null,null,null,null,null,null,null,null,null,null,"ผ่าน",0,null,"ปรับปรุง",null,23]
[{"$f":"ข้อมูลนักเรียน!A53","v":0},{"$f":"IF(ข้อมูลนักเรียน!B53=0,\"\",ข้อมูลนักเรียน!B53)","v":""},{"$f":"IF(ข้อมูลนักเรียน!C53=0,\"\",ข้อมูลนักเรียน!C53)","v":""},{"$f":"IF(ข้อมูลนักเรียน!C53=0,\"\",ข้อมูลนักเรียน!D53 & ข้อมูลนักเรียน!E53 & \"   \"& ข้อมูลนักเรียน!F53)","v":""},{"$f":"IF(ข้อมูลนักเรียน!C53=0,\"\",ข้อมูลนักเรียน!G53)","v":""},{"$f":"ข้อมูลนักเรียน!B53","v":0},null,null,null,null,null,null,null,null,null,null,null,null,null,null,null,null,null,null,null,null,null,null,null,null,null,null,"ผ่าน",0,null,"ปรับปรุง",null,23]
[{"$f":"ข้อมูลนักเรียน!A54","v":0},{"$f":"IF(ข้อมูลนักเรียน!B54=0,\"\",ข้อมูลนักเรียน!B54)","v":""},{"$f":"IF(ข้อมูลนักเรียน!C54=0,\"\",ข้อมูลนักเรียน!C54)","v":""},{"$f":"IF(ข้อมูลนักเรียน!C54=0,\"\",ข้อมูลนักเรียน!D54 & ข้อมูลนักเรียน!E54 & \"   \"& ข้อมูลนักเรียน!F54)","v":""},{"$f":"IF(ข้อมูลนักเรียน!C54=0,\"\",ข้อมูลนักเรียน!G54)","v":""},{"$f":"ข้อมูลนักเรียน!B54","v":0},null,null,null,null,null,null,null,null,null,null,null,null,null,null,null,null,null,null,null,null,null,null,null,null,null,null,"ผ่าน",0,null,"ปรับปรุง",null,23]
[{"$f":"ข้อมูลนักเรียน!A55","v":0},{"$f":"IF(ข้อมูลนักเรียน!B55=0,\"\",ข้อมูลนักเรียน!B55)","v":""},{"$f":"IF(ข้อมูลนักเรียน!C55=0,\"\",ข้อมูลนักเรียน!C55)","v":""},{"$f":"IF(ข้อมูลนักเรียน!C55=0,\"\",ข้อมูลนักเรียน!D55 & ข้อมูลนักเรียน!E55 & \"   \"& ข้อมูลนักเรียน!F55)","v":""},{"$f":"IF(ข้อมูลนักเรียน!C55=0,\"\",ข้อมูลนักเรียน!G55)","v":""},{"$f":"ข้อมูลนักเรียน!B55","v":0},null,null,null,null,null,null,null,null,null,null,null,null,null,null,null,null,null,null,null,null,null,null,null,null,null,null,"ผ่าน",0,null,"ปรับปรุง",null,23]
[{"$f":"ข้อมูลนักเรียน!A56","v":0},{"$f":"IF(ข้อมูลนักเรียน!B56=0,\"\",ข้อมูลนักเรียน!B56)","v":""},{"$f":"IF(ข้อมูลนักเรียน!C56=0,\"\",ข้อมูลนักเรียน!C56)","v":""},{"$f":"IF(ข้อมูลนักเรียน!C56=0,\"\",ข้อมูลนักเรียน!D56 & ข้อมูลนักเรียน!E56 & \"   \"& ข้อมูลนักเรียน!F56)","v":""},{"$f":"IF(ข้อมูลนักเรียน!C56=0,\"\",ข้อมูลนักเรียน!G56)","v":""},{"$f":"ข้อมูลนักเรียน!B56","v":0},null,null,null,null,null,null,null,null,null,null,null,null,null,null,null,null,null,null,null,null,null,null,null,null,null,null,"ผ่าน",0,null,"ปรับปรุง",null,23]
[{"$f":"ข้อมูลนักเรียน!A57","v":0},{"$f":"IF(ข้อมูลนักเรียน!B57=0,\"\",ข้อมูลนักเรียน!B57)","v":""},{"$f":"IF(ข้อมูลนักเรียน!C57=0,\"\",ข้อมูลนักเรียน!C57)","v":""},{"$f":"IF(ข้อมูลนักเรียน!C57=0,\"\",ข้อมูลนักเรียน!D57 & ข้อมูลนักเรียน!E57 & \"   \"& ข้อมูลนักเรียน!F57)","v":""},{"$f":"IF(ข้อมูลนักเรียน!C57=0,\"\",ข้อมูลนักเรียน!G57)","v":""},{"$f":"ข้อมูลนักเรียน!B57","v":0},null,null,null,null,null,null,null,null,null,null,null,null,null,null,null,null,null,null,null,null,null,null,null,null,null,null,"ผ่าน",0,null,"ปรับปรุง",null,23]
[{"$f":"ข้อมูลนักเรียน!A58","v":0},{"$f":"IF(ข้อมูลนักเรียน!B58=0,\"\",ข้อมูลนักเรียน!B58)","v":""},{"$f":"IF(ข้อมูลนักเรียน!C58=0,\"\",ข้อมูลนักเรียน!C58)","v":""},{"$f":"IF(ข้อมูลนักเรียน!C58=0,\"\",ข้อมูลนักเรียน!D58 & ข้อมูลนักเรียน!E58 & \"   \"& ข้อมูลนักเรียน!F58)","v":""},{"$f":"IF(ข้อมูลนักเรียน!C58=0,\"\",ข้อมูลนักเรียน!G58)","v":""},{"$f":"ข้อมูลนักเรียน!B58","v":0},null,null,null,null,null,null,null,null,null,null,null,null,null,null,null,null,null,null,null,null,null,null,null,null,null,null,"ผ่าน",0,null,"ปรับปรุง",null,23]
[{"$f":"ข้อมูลนักเรียน!A59","v":0},{"$f":"IF(ข้อมูลนักเรียน!B59=0,\"\",ข้อมูลนักเรียน!B59)","v":""},{"$f":"IF(ข้อมูลนักเรียน!C59=0,\"\",ข้อมูลนักเรียน!C59)","v":""},{"$f":"IF(ข้อมูลนักเรียน!C59=0,\"\",ข้อมูลนักเรียน!D59 & ข้อมูลนักเรียน!E59 & \"   \"& ข้อมูลนักเรียน!F59)","v":""},{"$f":"IF(ข้อมูลนักเรียน!C59=0,\"\",ข้อมูลนักเรียน!G59)","v":""},{"$f":"ข้อมูลนักเรียน!B59","v":0},null,null,null,null,null,null,null,null,null,null,null,null,null,null,null,null,null,null,null,null,null,null,null,null,null,null,"ผ่าน",0,null,"ปรับปรุง",null,23]
[{"$f":"ข้อมูลนักเรียน!A60","v":0},{"$f":"IF(ข้อมูลนักเรียน!B60=0,\"\",ข้อมูลนักเรียน!B60)","v":""},{"$f":"IF(ข้อมูลนักเรียน!C60=0,\"\",ข้อมูลนักเรียน!C60)","v":""},{"$f":"IF(ข้อมูลนักเรียน!C60=0,\"\",ข้อมูลนักเรียน!D60 & ข้อมูลนักเรียน!E60 & \"   \"& ข้อมูลนักเรียน!F60)","v":""},{"$f":"IF(ข้อมูลนักเรียน!C60=0,\"\",ข้อมูลนักเรียน!G60)","v":""},{"$f":"ข้อมูลนักเรียน!B60","v":0},null,null,null,null,null,null,null,null,null,null,null,null,null,null,null,null,null,null,null,null,null,null,null,null,null,null,"ผ่าน",0,null,"ปรับปรุง",null,23]
[{"$f":"ข้อมูลนักเรียน!A61","v":0},{"$f":"IF(ข้อมูลนักเรียน!B61=0,\"\",ข้อมูลนักเรียน!B61)","v":""},{"$f":"IF(ข้อมูลนักเรียน!C61=0,\"\",ข้อมูลนักเรียน!C61)","v":""},{"$f":"IF(ข้อมูลนักเรียน!C61=0,\"\",ข้อมูลนักเรียน!D61 & ข้อมูลนักเรียน!E61 & \"   \"& ข้อมูลนักเรียน!F61)","v":""},{"$f":"IF(ข้อมูลนักเรียน!C61=0,\"\",ข้อมูลนักเรียน!G61)","v":""},{"$f":"ข้อมูลนักเรียน!B61","v":0},null,null,null,null,null,null,null,null,null,null,null,null,null,null,null,null,null,null,null,null,null,null,null,null,null,null,"ผ่าน",0,null,"ปรับปรุง",null,23]
[{"$f":"ข้อมูลนักเรียน!A62","v":0},{"$f":"IF(ข้อมูลนักเรียน!B62=0,\"\",ข้อมูลนักเรียน!B62)","v":""},{"$f":"IF(ข้อมูลนักเรียน!C62=0,\"\",ข้อมูลนักเรียน!C62)","v":""},{"$f":"IF(ข้อมูลนักเรียน!C62=0,\"\",ข้อมูลนักเรียน!D62 & ข้อมูลนักเรียน!E62 & \"   \"& ข้อมูลนักเรียน!F62)","v":""},{"$f":"IF(ข้อมูลนักเรียน!C62=0,\"\",ข้อมูลนักเรียน!G62)","v":""},{"$f":"ข้อมูลนักเรียน!B62","v":0},null,null,null,null,null,null,null,null,null,null,null,null,null,null,null,null,null,null,null,null,null,null,null,null,null,null,"ผ่าน",0,null,"ปรับปรุง",null,23]
[{"$f":"ข้อมูลนักเรียน!A63","v":0},{"$f":"IF(ข้อมูลนักเรียน!B63=0,\"\",ข้อมูลนักเรียน!B63)","v":""},{"$f":"IF(ข้อมูลนักเรียน!C63=0,\"\",ข้อมูลนักเรียน!C63)","v":""},{"$f":"IF(ข้อมูลนักเรียน!C63=0,\"\",ข้อมูลนักเรียน!D63 & ข้อมูลนักเรียน!E63 & \"   \"& ข้อมูลนักเรียน!F63)","v":""},{"$f":"IF(ข้อมูลนักเรียน!C63=0,\"\",ข้อมูลนักเรียน!G63)","v":""},{"$f":"ข้อมูลนักเรียน!B63","v":0},null,null,null,null,null,null,null,null,null,null,null,null,null,null,null,null,null,null,null,null,null,null,null,null,null,null,"ผ่าน",0,null,"ปรับปรุง",null,23]
[{"$f":"ข้อมูลนักเรียน!A64","v":0},{"$f":"IF(ข้อมูลนักเรียน!B64=0,\"\",ข้อมูลนักเรียน!B64)","v":""},{"$f":"IF(ข้อมูลนักเรียน!C64=0,\"\",ข้อมูลนักเรียน!C64)","v":""},{"$f":"IF(ข้อมูลนักเรียน!C64=0,\"\",ข้อมูลนักเรียน!D64 & ข้อมูลนักเรียน!E64 & \"   \"& ข้อมูลนักเรียน!F64)","v":""},{"$f":"IF(ข้อมูลนักเรียน!C64=0,\"\",ข้อมูลนักเรียน!G64)","v":""},{"$f":"ข้อมูลนักเรียน!B64","v":0},null,null,null,null,null,null,null,null,null,null,null,null,null,null,null,null,null,null,null,null,null,null,null,null,null,null,"ผ่าน",0,null,"ปรับปรุง",null,23]
[{"$f":"ข้อมูลนักเรียน!A65","v":0},{"$f":"IF(ข้อมูลนักเรียน!B65=0,\"\",ข้อมูลนักเรียน!B65)","v":""},{"$f":"IF(ข้อมูลนักเรียน!C65=0,\"\",ข้อมูลนักเรียน!C65)","v":""},{"$f":"IF(ข้อมูลนักเรียน!C65=0,\"\",ข้อมูลนักเรียน!D65 & ข้อมูลนักเรียน!E65 & \"   \"& ข้อมูลนักเรียน!F65)","v":""},{"$f":"IF(ข้อมูลนักเรียน!C65=0,\"\",ข้อมูลนักเรียน!G65)","v":""},{"$f":"ข้อมูลนักเรียน!B65","v":0},null,null,null,null,null,null,null,null,null,null,null,null,null,null,null,null,null,null,null,null,null,null,null,null,null,null,"ผ่าน",0,null,"ปรับปรุง",null,23]
[{"$f":"ข้อมูลนักเรียน!A66","v":0},{"$f":"IF(ข้อมูลนักเรียน!B66=0,\"\",ข้อมูลนักเรียน!B66)","v":""},{"$f":"IF(ข้อมูลนักเรียน!C66=0,\"\",ข้อมูลนักเรียน!C66)","v":""},{"$f":"IF(ข้อมูลนักเรียน!C66=0,\"\",ข้อมูลนักเรียน!D66 & ข้อมูลนักเรียน!E66 & \"   \"& ข้อมูลนักเรียน!F66)","v":""},{"$f":"IF(ข้อมูลนักเรียน!C66=0,\"\",ข้อมูลนักเรียน!G66)","v":""},{"$f":"ข้อมูลนักเรียน!B66","v":0},null,null,null,null,null,null,null,null,null,null,null,null,null,null,null,null,null,null,null,null,null,null,null,null,null,null,"ผ่าน",0,null,"ปรับปรุง",null,23]
[{"$f":"ข้อมูลนักเรียน!A67","v":0},{"$f":"IF(ข้อมูลนักเรียน!B67=0,\"\",ข้อมูลนักเรียน!B67)","v":""},{"$f":"IF(ข้อมูลนักเรียน!C67=0,\"\",ข้อมูลนักเรียน!C67)","v":""},{"$f":"IF(ข้อมูลนักเรียน!C67=0,\"\",ข้อมูลนักเรียน!D67 & ข้อมูลนักเรียน!E67 & \"   \"& ข้อมูลนักเรียน!F67)","v":""},{"$f":"IF(ข้อมูลนักเรียน!C67=0,\"\",ข้อมูลนักเรียน!G67)","v":""},{"$f":"ข้อมูลนักเรียน!B67","v":0},null,null,null,null,null,null,null,null,null,null,null,null,null,null,null,null,null,null,null,null,null,null,null,null,null,null,"ผ่าน",0,null,"ปรับปรุง",null,23]
[{"$f":"ข้อมูลนักเรียน!A68","v":0},{"$f":"IF(ข้อมูลนักเรียน!B68=0,\"\",ข้อมูลนักเรียน!B68)","v":""},{"$f":"IF(ข้อมูลนักเรียน!C68=0,\"\",ข้อมูลนักเรียน!C68)","v":""},{"$f":"IF(ข้อมูลนักเรียน!C68=0,\"\",ข้อมูลนักเรียน!D68 & ข้อมูลนักเรียน!E68 & \"   \"& ข้อมูลนักเรียน!F68)","v":""},{"$f":"IF(ข้อมูลนักเรียน!C68=0,\"\",ข้อมูลนักเรียน!G68)","v":""},{"$f":"ข้อมูลนักเรียน!B68","v":0},null,null,null,null,null,null,null,null,null,null,null,null,null,null,null,null,null,null,null,null,null,null,null,null,null,null,"ผ่าน",0,null,"ปรับปรุง",null,23]
[{"$f":"ข้อมูลนักเรียน!A69","v":0},{"$f":"IF(ข้อมูลนักเรียน!B69=0,\"\",ข้อมูลนักเรียน!B69)","v":""},{"$f":"IF(ข้อมูลนักเรียน!C69=0,\"\",ข้อมูลนักเรียน!C69)","v":""},{"$f":"IF(ข้อมูลนักเรียน!C69=0,\"\",ข้อมูลนักเรียน!D69 & ข้อมูลนักเรียน!E69 & \"   \"& ข้อมูลนักเรียน!F69)","v":""},{"$f":"IF(ข้อมูลนักเรียน!C69=0,\"\",ข้อมูลนักเรียน!G69)","v":""},{"$f":"ข้อมูลนักเรียน!B69","v":0},null,null,null,null,null,null,null,null,null,null,null,null,null,null,null,null,null,null,null,null,null,null,null,null,null,null,"ผ่าน",0,null,"ปรับปรุง",null,23]
[{"$f":"ข้อมูลนักเรียน!A70","v":0},{"$f":"IF(ข้อมูลนักเรียน!B70=0,\"\",ข้อมูลนักเรียน!B70)","v":""},{"$f":"IF(ข้อมูลนักเรียน!C70=0,\"\",ข้อมูลนักเรียน!C70)","v":""},{"$f":"IF(ข้อมูลนักเรียน!C70=0,\"\",ข้อมูลนักเรียน!D70 & ข้อมูลนักเรียน!E70 & \"   \"& ข้อมูลนักเรียน!F70)","v":""},{"$f":"IF(ข้อมูลนักเรียน!C70=0,\"\",ข้อมูลนักเรียน!G70)","v":""},{"$f":"ข้อมูลนักเรียน!B70","v":0},null,null,null,null,null,null,null,null,null,null,null,null,null,null,null,null,null,null,null,null,null,null,null,null,null,null,"ผ่าน",0,null,"ปรับปรุง",null,23]
[{"$f":"ข้อมูลนักเรียน!A71","v":0},{"$f":"IF(ข้อมูลนักเรียน!B71=0,\"\",ข้อมูลนักเรียน!B71)","v":""},{"$f":"IF(ข้อมูลนักเรียน!C71=0,\"\",ข้อมูลนักเรียน!C71)","v":""},{"$f":"IF(ข้อมูลนักเรียน!C71=0,\"\",ข้อมูลนักเรียน!D71 & ข้อมูลนักเรียน!E71 & \"   \"& ข้อมูลนักเรียน!F71)","v":""},{"$f":"IF(ข้อมูลนักเรียน!C71=0,\"\",ข้อมูลนักเรียน!G71)","v":""},{"$f":"ข้อมูลนักเรียน!B71","v":0},null,null,null,null,null,null,null,null,null,null,null,null,null,null,null,null,null,null,null,null,null,null,null,null,null,null,"ผ่าน",0,null,"ปรับปรุง",null,23]
[{"$f":"ข้อมูลนักเรียน!A72","v":0},{"$f":"IF(ข้อมูลนักเรียน!B72=0,\"\",ข้อมูลนักเรียน!B72)","v":""},{"$f":"IF(ข้อมูลนักเรียน!C72=0,\"\",ข้อมูลนักเรียน!C72)","v":""},{"$f":"IF(ข้อมูลนักเรียน!C72=0,\"\",ข้อมูลนักเรียน!D72 & ข้อมูลนักเรียน!E72 & \"   \"& ข้อมูลนักเรียน!F72)","v":""},{"$f":"IF(ข้อมูลนักเรียน!C72=0,\"\",ข้อมูลนักเรียน!G72)","v":""},{"$f":"ข้อมูลนักเรียน!B72","v":0},null,null,null,null,null,null,null,null,null,null,null,null,null,null,null,null,null,null,null,null,null,null,null,null,null,null,"ผ่าน",0,null,"ปรับปรุง",null,23]
[{"$f":"ข้อมูลนักเรียน!A73","v":0},{"$f":"IF(ข้อมูลนักเรียน!B73=0,\"\",ข้อมูลนักเรียน!B73)","v":""},{"$f":"IF(ข้อมูลนักเรียน!C73=0,\"\",ข้อมูลนักเรียน!C73)","v":""},{"$f":"IF(ข้อมูลนักเรียน!C73=0,\"\",ข้อมูลนักเรียน!D73 & ข้อมูลนักเรียน!E73 & \"   \"& ข้อมูลนักเรียน!F73)","v":""},{"$f":"IF(ข้อมูลนักเรียน!C73=0,\"\",ข้อมูลนักเรียน!G73)","v":""},{"$f":"ข้อมูลนักเรียน!B73","v":0},null,null,null,null,null,null,null,null,null,null,null,null,null,null,null,null,null,null,null,null,null,null,null,null,null,null,{"$f":"IF(COUNTIFS(Z73:AD73,\"=มผ\") > 0,\"ไม่ผ่าน\",\"ผ่าน\")","v":"ผ่าน"},{"$f":"ROUNDDOWN(0,2)","v":0},null,{"$f":"IF(AF73=1,\"ผ่าน\",IF(AF73=2,\"ดี\",IF(AF73=3,\"ดีเยี่ยม\",\"ปรับปรุง\")))","v":"ปรับปรุง"},null,23]
[{"$f":"ข้อมูลนักเรียน!A74","v":0},{"$f":"IF(ข้อมูลนักเรียน!B74=0,\"\",ข้อมูลนักเรียน!B74)","v":""},{"$f":"IF(ข้อมูลนักเรียน!C74=0,\"\",ข้อมูลนักเรียน!C74)","v":""},{"$f":"IF(ข้อมูลนักเรียน!C74=0,\"\",ข้อมูลนักเรียน!D74 & ข้อมูลนักเรียน!E74 & \"   \"& ข้อมูลนักเรียน!F74)","v":""},{"$f":"IF(ข้อมูลนักเรียน!C74=0,\"\",ข้อมูลนักเรียน!G74)","v":""},{"$f":"ข้อมูลนักเรียน!B74","v":0},null,null,null,null,null,null,null,null,null,null,null,null,null,null,null,null,null,null,null,null,null,null,null,null,null,null,"ผ่าน",0,null,"ปรับปรุง",null,23]
[{"$f":"ข้อมูลนักเรียน!A75","v":0},{"$f":"IF(ข้อมูลนักเรียน!B75=0,\"\",ข้อมูลนักเรียน!B75)","v":""},{"$f":"IF(ข้อมูลนักเรียน!C75=0,\"\",ข้อมูลนักเรียน!C75)","v":""},{"$f":"IF(ข้อมูลนักเรียน!C75=0,\"\",ข้อมูลนักเรียน!D75 & ข้อมูลนักเรียน!E75 & \"   \"& ข้อมูลนักเรียน!F75)","v":""},{"$f":"IF(ข้อมูลนักเรียน!C75=0,\"\",ข้อมูลนักเรียน!G75)","v":""},{"$f":"ข้อมูลนักเรียน!B75","v":0},null,null,null,null,null,null,null,null,null,null,null,null,null,null,null,null,null,null,null,null,null,null,null,null,null,null,"ผ่าน",0,null,"ปรับปรุง",null,23]
[{"$f":"ข้อมูลนักเรียน!A76","v":0},{"$f":"IF(ข้อมูลนักเรียน!B76=0,\"\",ข้อมูลนักเรียน!B76)","v":""},{"$f":"IF(ข้อมูลนักเรียน!C76=0,\"\",ข้อมูลนักเรียน!C76)","v":""},{"$f":"IF(ข้อมูลนักเรียน!C76=0,\"\",ข้อมูลนักเรียน!D76 & ข้อมูลนักเรียน!E76 & \"   \"& ข้อมูลนักเรียน!F76)","v":""},{"$f":"IF(ข้อมูลนักเรียน!C76=0,\"\",ข้อมูลนักเรียน!G76)","v":""},{"$f":"ข้อมูลนักเรียน!B76","v":0},null,null,null,null,null,null,null,null,null,null,null,null,null,null,null,null,null,null,null,null,null,null,null,null,null,null,"ผ่าน",0,null,"ปรับปรุง",null,23]
[{"$f":"ข้อมูลนักเรียน!A77","v":0},{"$f":"IF(ข้อมูลนักเรียน!B77=0,\"\",ข้อมูลนักเรียน!B77)","v":""},{"$f":"IF(ข้อมูลนักเรียน!C77=0,\"\",ข้อมูลนักเรียน!C77)","v":""},{"$f":"IF(ข้อมูลนักเรียน!C77=0,\"\",ข้อมูลนักเรียน!D77 & ข้อมูลนักเรียน!E77 & \"   \"& ข้อมูลนักเรียน!F77)","v":""},{"$f":"IF(ข้อมูลนักเรียน!C77=0,\"\",ข้อมูลนักเรียน!G77)","v":""},{"$f":"ข้อมูลนักเรียน!B77","v":0},null,null,null,null,null,null,null,null,null,null,null,null,null,null,null,null,null,null,null,null,null,null,null,null,null,null,"ผ่าน",0,null,"ปรับปรุง",null,23]
[{"$f":"ข้อมูลนักเรียน!A78","v":0},{"$f":"IF(ข้อมูลนักเรียน!B78=0,\"\",ข้อมูลนักเรียน!B78)","v":""},{"$f":"IF(ข้อมูลนักเรียน!C78=0,\"\",ข้อมูลนักเรียน!C78)","v":""},{"$f":"IF(ข้อมูลนักเรียน!C78=0,\"\",ข้อมูลนักเรียน!D78 & ข้อมูลนักเรียน!E78 & \"   \"& ข้อมูลนักเรียน!F78)","v":""},{"$f":"IF(ข้อมูลนักเรียน!C78=0,\"\",ข้อมูลนักเรียน!G78)","v":""},{"$f":"ข้อมูลนักเรียน!B78","v":0},null,null,null,null,null,null,null,null,null,null,null,null,null,null,null,null,null,null,null,null,null,null,null,null,null,null,"ผ่าน",0,null,"ปรับปรุง",null,23]
[{"$f":"ข้อมูลนักเรียน!A79","v":0},{"$f":"IF(ข้อมูลนักเรียน!B79=0,\"\",ข้อมูลนักเรียน!B79)","v":""},{"$f":"IF(ข้อมูลนักเรียน!C79=0,\"\",ข้อมูลนักเรียน!C79)","v":""},{"$f":"IF(ข้อมูลนักเรียน!C79=0,\"\",ข้อมูลนักเรียน!D79 & ข้อมูลนักเรียน!E79 & \"   \"& ข้อมูลนักเรียน!F79)","v":""},{"$f":"IF(ข้อมูลนักเรียน!C79=0,\"\",ข้อมูลนักเรียน!G79)","v":""},{"$f":"ข้อมูลนักเรียน!B79","v":0},null,null,null,null,null,null,null,null,null,null,null,null,null,null,null,null,null,null,null,null,null,null,null,null,null,null,"ผ่าน",0,null,"ปรับปรุง",null,23]
[{"$f":"ข้อมูลนักเรียน!A80","v":0},{"$f":"IF(ข้อมูลนักเรียน!B80=0,\"\",ข้อมูลนักเรียน!B80)","v":""},{"$f":"IF(ข้อมูลนักเรียน!C80=0,\"\",ข้อมูลนักเรียน!C80)","v":""},{"$f":"IF(ข้อมูลนักเรียน!C80=0,\"\",ข้อมูลนักเรียน!D80 & ข้อมูลนักเรียน!E80 & \"   \"& ข้อมูลนักเรียน!F80)","v":""},{"$f":"IF(ข้อมูลนักเรียน!C80=0,\"\",ข้อมูลนักเรียน!G80)","v":""},{"$f":"ข้อมูลนักเรียน!B80","v":0},null,null,null,null,null,null,null,null,null,null,null,null,null,null,null,null,null,null,null,null,null,null,null,null,null,null,"ผ่าน",0,null,"ปรับปรุง",null,23]
[{"$f":"ข้อมูลนักเรียน!A81","v":0},{"$f":"IF(ข้อมูลนักเรียน!B81=0,\"\",ข้อมูลนักเรียน!B81)","v":""},{"$f":"IF(ข้อมูลนักเรียน!C81=0,\"\",ข้อมูลนักเรียน!C81)","v":""},{"$f":"IF(ข้อมูลนักเรียน!C81=0,\"\",ข้อมูลนักเรียน!D81 & ข้อมูลนักเรียน!E81 & \"   \"& ข้อมูลนักเรียน!F81)","v":""},{"$f":"IF(ข้อมูลนักเรียน!C81=0,\"\",ข้อมูลนักเรียน!G81)","v":""},{"$f":"ข้อมูลนักเรียน!B81","v":0},null,null,null,null,null,null,null,null,null,null,null,null,null,null,null,null,null,null,null,null,null,null,null,null,null,null,"ผ่าน",0,null,"ปรับปรุง",null,23]
[{"$f":"ข้อมูลนักเรียน!A82","v":0},{"$f":"IF(ข้อมูลนักเรียน!B82=0,\"\",ข้อมูลนักเรียน!B82)","v":""},{"$f":"IF(ข้อมูลนักเรียน!C82=0,\"\",ข้อมูลนักเรียน!C82)","v":""},{"$f":"IF(ข้อมูลนักเรียน!C82=0,\"\",ข้อมูลนักเรียน!D82 & ข้อมูลนักเรียน!E82 & \"   \"& ข้อมูลนักเรียน!F82)","v":""},{"$f":"IF(ข้อมูลนักเรียน!C82=0,\"\",ข้อมูลนักเรียน!G82)","v":""},{"$f":"ข้อมูลนักเรียน!B82","v":0},null,null,null,null,null,null,null,null,null,null,null,null,null,null,null,null,null,null,null,null,null,null,null,null,null,null,"ผ่าน",0,null,"ปรับปรุง",null,23]
[{"$f":"ข้อมูลนักเรียน!A83","v":0},{"$f":"IF(ข้อมูลนักเรียน!B83=0,\"\",ข้อมูลนักเรียน!B83)","v":""},{"$f":"IF(ข้อมูลนักเรียน!C83=0,\"\",ข้อมูลนักเรียน!C83)","v":""},{"$f":"IF(ข้อมูลนักเรียน!C83=0,\"\",ข้อมูลนักเรียน!D83 & ข้อมูลนักเรียน!E83 & \"   \"& ข้อมูลนักเรียน!F83)","v":""},{"$f":"IF(ข้อมูลนักเรียน!C83=0,\"\",ข้อมูลนักเรียน!G83)","v":""},{"$f":"ข้อมูลนักเรียน!B83","v":0},null,null,null,null,null,null,null,null,null,null,null,null,null,null,null,null,null,null,null,null,null,null,null,null,null,null,"ผ่าน",0,null,"ปรับปรุง",null,23]
[{"$f":"ข้อมูลนักเรียน!A84","v":0},{"$f":"IF(ข้อมูลนักเรียน!B84=0,\"\",ข้อมูลนักเรียน!B84)","v":""},{"$f":"IF(ข้อมูลนักเรียน!C84=0,\"\",ข้อมูลนักเรียน!C84)","v":""},{"$f":"IF(ข้อมูลนักเรียน!C84=0,\"\",ข้อมูลนักเรียน!D84 & ข้อมูลนักเรียน!E84 & \"   \"& ข้อมูลนักเรียน!F84)","v":""},{"$f":"IF(ข้อมูลนักเรียน!C84=0,\"\",ข้อมูลนักเรียน!G84)","v":""},{"$f":"ข้อมูลนักเรียน!B84","v":0},null,null,null,null,null,null,null,null,null,null,null,null,null,null,null,null,null,null,null,null,null,null,null,null,null,null,"ผ่าน",0,null,"ปรับปรุง",null,23]
[{"$f":"ข้อมูลนักเรียน!A85","v":0},{"$f":"IF(ข้อมูลนักเรียน!B85=0,\"\",ข้อมูลนักเรียน!B85)","v":""},{"$f":"IF(ข้อมูลนักเรียน!C85=0,\"\",ข้อมูลนักเรียน!C85)","v":""},{"$f":"IF(ข้อมูลนักเรียน!C85=0,\"\",ข้อมูลนักเรียน!D85 & ข้อมูลนักเรียน!E85 & \"   \"& ข้อมูลนักเรียน!F85)","v":""},{"$f":"IF(ข้อมูลนักเรียน!C85=0,\"\",ข้อมูลนักเรียน!G85)","v":""},{"$f":"ข้อมูลนักเรียน!B85","v":0},null,null,null,null,null,null,null,null,null,null,null,null,null,null,null,null,null,null,null,null,null,null,null,null,null,null,"ผ่าน",0,null,"ปรับปรุง",null,23]
[{"$f":"ข้อมูลนักเรียน!A86","v":0},{"$f":"IF(ข้อมูลนักเรียน!B86=0,\"\",ข้อมูลนักเรียน!B86)","v":""},{"$f":"IF(ข้อมูลนักเรียน!C86=0,\"\",ข้อมูลนักเรียน!C86)","v":""},{"$f":"IF(ข้อมูลนักเรียน!C86=0,\"\",ข้อมูลนักเรียน!D86 & ข้อมูลนักเรียน!E86 & \"   \"& ข้อมูลนักเรียน!F86)","v":""},{"$f":"IF(ข้อมูลนักเรียน!C86=0,\"\",ข้อมูลนักเรียน!G86)","v":""},{"$f":"ข้อมูลนักเรียน!B86","v":0},null,null,null,null,null,null,null,null,null,null,null,null,null,null,null,null,null,null,null,null,null,null,null,null,null,null,"ผ่าน",0,null,"ปรับปรุง",null,23]
[{"$f":"ข้อมูลนักเรียน!A87","v":0},{"$f":"IF(ข้อมูลนักเรียน!B87=0,\"\",ข้อมูลนักเรียน!B87)","v":""},{"$f":"IF(ข้อมูลนักเรียน!C87=0,\"\",ข้อมูลนักเรียน!C87)","v":""},{"$f":"IF(ข้อมูลนักเรียน!C87=0,\"\",ข้อมูลนักเรียน!D87 & ข้อมูลนักเรียน!E87 & \"   \"& ข้อมูลนักเรียน!F87)","v":""},{"$f":"IF(ข้อมูลนักเรียน!C87=0,\"\",ข้อมูลนักเรียน!G87)","v":""},{"$f":"ข้อมูลนักเรียน!B87","v":0},null,null,null,null,null,null,null,null,null,null,null,null,null,null,null,null,null,null,null,null,null,null,null,null,null,null,"ผ่าน",0,null,"ปรับปรุง",null,23]
[{"$f":"ข้อมูลนักเรียน!A88","v":0},{"$f":"IF(ข้อมูลนักเรียน!B88=0,\"\",ข้อมูลนักเรียน!B88)","v":""},{"$f":"IF(ข้อมูลนักเรียน!C88=0,\"\",ข้อมูลนักเรียน!C88)","v":""},{"$f":"IF(ข้อมูลนักเรียน!C88=0,\"\",ข้อมูลนักเรียน!D88 & ข้อมูลนักเรียน!E88 & \"   \"& ข้อมูลนักเรียน!F88)","v":""},{"$f":"IF(ข้อมูลนักเรียน!C88=0,\"\",ข้อมูลนักเรียน!G88)","v":""},{"$f":"ข้อมูลนักเรียน!B88","v":0},null,null,null,null,null,null,null,null,null,null,null,null,null,null,null,null,null,null,null,null,null,null,null,null,null,null,"ผ่าน",0,null,"ปรับปรุง",null,23]
[{"$f":"ข้อมูลนักเรียน!A89","v":0},{"$f":"IF(ข้อมูลนักเรียน!B89=0,\"\",ข้อมูลนักเรียน!B89)","v":""},{"$f":"IF(ข้อมูลนักเรียน!C89=0,\"\",ข้อมูลนักเรียน!C89)","v":""},{"$f":"IF(ข้อมูลนักเรียน!C89=0,\"\",ข้อมูลนักเรียน!D89 & ข้อมูลนักเรียน!E89 & \"   \"& ข้อมูลนักเรียน!F89)","v":""},{"$f":"IF(ข้อมูลนักเรียน!C89=0,\"\",ข้อมูลนักเรียน!G89)","v":""},{"$f":"ข้อมูลนักเรียน!B89","v":0},null,null,null,null,null,null,null,null,null,null,null,null,null,null,null,null,null,null,null,null,null,null,null,null,null,null,"ผ่าน",0,null,"ปรับปรุง",null,23]
[{"$f":"ข้อมูลนักเรียน!A90","v":0},{"$f":"IF(ข้อมูลนักเรียน!B90=0,\"\",ข้อมูลนักเรียน!B90)","v":""},{"$f":"IF(ข้อมูลนักเรียน!C90=0,\"\",ข้อมูลนักเรียน!C90)","v":""},{"$f":"IF(ข้อมูลนักเรียน!C90=0,\"\",ข้อมูลนักเรียน!D90 & ข้อมูลนักเรียน!E90 & \"   \"& ข้อมูลนักเรียน!F90)","v":""},{"$f":"IF(ข้อมูลนักเรียน!C90=0,\"\",ข้อมูลนักเรียน!G90)","v":""},{"$f":"ข้อมูลนักเรียน!B90","v":0},null,null,null,null,null,null,null,null,null,null,null,null,null,null,null,null,null,null,null,null,null,null,null,null,null,null,"ผ่าน",0,null,"ปรับปรุง",null,23]
[{"$f":"ข้อมูลนักเรียน!A91","v":0},{"$f":"IF(ข้อมูลนักเรียน!B91=0,\"\",ข้อมูลนักเรียน!B91)","v":""},{"$f":"IF(ข้อมูลนักเรียน!C91=0,\"\",ข้อมูลนักเรียน!C91)","v":""},{"$f":"IF(ข้อมูลนักเรียน!C91=0,\"\",ข้อมูลนักเรียน!D91 & ข้อมูลนักเรียน!E91 & \"   \"& ข้อมูลนักเรียน!F91)","v":""},{"$f":"IF(ข้อมูลนักเรียน!C91=0,\"\",ข้อมูลนักเรียน!G91)","v":""},{"$f":"ข้อมูลนักเรียน!B91","v":0},null,null,null,null,null,null,null,null,null,null,null,null,null,null,null,null,null,null,null,null,null,null,null,null,null,null,"ผ่าน",0,null,"ปรับปรุง",null,23]
[{"$f":"ข้อมูลนักเรียน!A92","v":0},{"$f":"IF(ข้อมูลนักเรียน!B92=0,\"\",ข้อมูลนักเรียน!B92)","v":""},{"$f":"IF(ข้อมูลนักเรียน!C92=0,\"\",ข้อมูลนักเรียน!C92)","v":""},{"$f":"IF(ข้อมูลนักเรียน!C92=0,\"\",ข้อมูลนักเรียน!D92 & ข้อมูลนักเรียน!E92 & \"   \"& ข้อมูลนักเรียน!F92)","v":""},{"$f":"IF(ข้อมูลนักเรียน!C92=0,\"\",ข้อมูลนักเรียน!G92)","v":""},{"$f":"ข้อมูลนักเรียน!B92","v":0},null,null,null,null,null,null,null,null,null,null,null,null,null,null,null,null,null,null,null,null,null,null,null,null,null,null,"ผ่าน",0,null,"ปรับปรุง",null,23]
[{"$f":"ข้อมูลนักเรียน!A93","v":0},{"$f":"IF(ข้อมูลนักเรียน!B93=0,\"\",ข้อมูลนักเรียน!B93)","v":""},{"$f":"IF(ข้อมูลนักเรียน!C93=0,\"\",ข้อมูลนักเรียน!C93)","v":""},{"$f":"IF(ข้อมูลนักเรียน!C93=0,\"\",ข้อมูลนักเรียน!D93 & ข้อมูลนักเรียน!E93 & \"   \"& ข้อมูลนักเรียน!F93)","v":""},{"$f":"IF(ข้อมูลนักเรียน!C93=0,\"\",ข้อมูลนักเรียน!G93)","v":""},{"$f":"ข้อมูลนักเรียน!B93","v":0},null,null,null,null,null,null,null,null,null,null,null,null,null,null,null,null,null,null,null,null,null,null,null,null,null,null,"ผ่าน",0,null,"ปรับปรุง",null,23]
[{"$f":"ข้อมูลนักเรียน!A94","v":0},{"$f":"IF(ข้อมูลนักเรียน!B94=0,\"\",ข้อมูลนักเรียน!B94)","v":""},{"$f":"IF(ข้อมูลนักเรียน!C94=0,\"\",ข้อมูลนักเรียน!C94)","v":""},{"$f":"IF(ข้อมูลนักเรียน!C94=0,\"\",ข้อมูลนักเรียน!D94 & ข้อมูลนักเรียน!E94 & \"   \"& ข้อมูลนักเรียน!F94)","v":""},{"$f":"IF(ข้อมูลนักเรียน!C94=0,\"\",ข้อมูลนักเรียน!G94)","v":""},{"$f":"ข้อมูลนักเรียน!B94","v":0},null,null,null,null,null,null,null,null,null,null,null,null,null,null,null,null,null,null,null,null,null,null,null,null,null,null,"ผ่าน",0,null,"ปรับปรุง",null,23]
[{"$f":"ข้อมูลนักเรียน!A95","v":0},{"$f":"IF(ข้อมูลนักเรียน!B95=0,\"\",ข้อมูลนักเรียน!B95)","v":""},{"$f":"IF(ข้อมูลนักเรียน!C95=0,\"\",ข้อมูลนักเรียน!C95)","v":""},{"$f":"IF(ข้อมูลนักเรียน!C95=0,\"\",ข้อมูลนักเรียน!D95 & ข้อมูลนักเรียน!E95 & \"   \"& ข้อมูลนักเรียน!F95)","v":""},{"$f":"IF(ข้อมูลนักเรียน!C95=0,\"\",ข้อมูลนักเรียน!G95)","v":""},{"$f":"ข้อมูลนักเรียน!B95","v":0},null,null,null,null,null,null,null,null,null,null,null,null,null,null,null,null,null,null,null,null,null,null,null,null,null,null,"ผ่าน",0,null,"ปรับปรุง",null,23]
[{"$f":"ข้อมูลนักเรียน!A96","v":0},{"$f":"IF(ข้อมูลนักเรียน!B96=0,\"\",ข้อมูลนักเรียน!B96)","v":""},{"$f":"IF(ข้อมูลนักเรียน!C96=0,\"\",ข้อมูลนักเรียน!C96)","v":""},{"$f":"IF(ข้อมูลนักเรียน!C96=0,\"\",ข้อมูลนักเรียน!D96 & ข้อมูลนักเรียน!E96 & \"   \"& ข้อมูลนักเรียน!F96)","v":""},{"$f":"IF(ข้อมูลนักเรียน!C96=0,\"\",ข้อมูลนักเรียน!G96)","v":""},{"$f":"ข้อมูลนักเรียน!B96","v":0},null,null,null,null,null,null,null,null,null,null,null,null,null,null,null,null,null,null,null,null,null,null,null,null,null,null,"ผ่าน",0,null,"ปรับปรุง",null,23]
[{"$f":"ข้อมูลนักเรียน!A97","v":0},{"$f":"IF(ข้อมูลนักเรียน!B97=0,\"\",ข้อมูลนักเรียน!B97)","v":""},{"$f":"IF(ข้อมูลนักเรียน!C97=0,\"\",ข้อมูลนักเรียน!C97)","v":""},{"$f":"IF(ข้อมูลนักเรียน!C97=0,\"\",ข้อมูลนักเรียน!D97 & ข้อมูลนักเรียน!E97 & \"   \"& ข้อมูลนักเรียน!F97)","v":""},{"$f":"IF(ข้อมูลนักเรียน!C97=0,\"\",ข้อมูลนักเรียน!G97)","v":""},{"$f":"ข้อมูลนักเรียน!B97","v":0},null,null,null,null,null,null,null,null,null,null,null,null,null,null,null,null,null,null,null,null,null,null,null,null,null,null,"ผ่าน",0,null,"ปรับปรุง",null,23]
[{"$f":"ข้อมูลนักเรียน!A98","v":0},{"$f":"IF(ข้อมูลนักเรียน!B98=0,\"\",ข้อมูลนักเรียน!B98)","v":""},{"$f":"IF(ข้อมูลนักเรียน!C98=0,\"\",ข้อมูลนักเรียน!C98)","v":""},{"$f":"IF(ข้อมูลนักเรียน!C98=0,\"\",ข้อมูลนักเรียน!D98 & ข้อมูลนักเรียน!E98 & \"   \"& ข้อมูลนักเรียน!F98)","v":""},{"$f":"IF(ข้อมูลนักเรียน!C98=0,\"\",ข้อมูลนักเรียน!G98)","v":""},{"$f":"ข้อมูลนักเรียน!B98","v":0},null,null,null,null,null,null,null,null,null,null,null,null,null,null,null,null,null,null,null,null,null,null,null,null,null,null,"ผ่าน",0,null,"ปรับปรุง",null,23]
[{"$f":"ข้อมูลนักเรียน!A99","v":0},{"$f":"IF(ข้อมูลนักเรียน!B99=0,\"\",ข้อมูลนักเรียน!B99)","v":""},{"$f":"IF(ข้อมูลนักเรียน!C99=0,\"\",ข้อมูลนักเรียน!C99)","v":""},{"$f":"IF(ข้อมูลนักเรียน!C99=0,\"\",ข้อมูลนักเรียน!D99 & ข้อมูลนักเรียน!E99 & \"   \"& ข้อมูลนักเรียน!F99)","v":""},{"$f":"IF(ข้อมูลนักเรียน!C99=0,\"\",ข้อมูลนักเรียน!G99)","v":""},{"$f":"ข้อมูลนักเรียน!B99","v":0},null,null,null,null,null,null,null,null,null,null,null,null,null,null,null,null,null,null,null,null,null,null,null,null,null,null,"ผ่าน",0,null,"ปรับปรุง",null,23]
[{"$f":"ข้อมูลนักเรียน!A100","v":0},{"$f":"IF(ข้อมูลนักเรียน!B100=0,\"\",ข้อมูลนักเรียน!B100)","v":""},{"$f":"IF(ข้อมูลนักเรียน!C100=0,\"\",ข้อมูลนักเรียน!C100)","v":""},{"$f":"IF(ข้อมูลนักเรียน!C100=0,\"\",ข้อมูลนักเรียน!D100 & ข้อมูลนักเรียน!E100 & \"   \"& ข้อมูลนักเรียน!F100)","v":""},{"$f":"IF(ข้อมูลนักเรียน!C100=0,\"\",ข้อมูลนักเรียน!G100)","v":""},{"$f":"ข้อมูลนักเรียน!B100","v":0},null,null,null,null,null,null,null,null,null,null,null,null,null,null,null,null,null,null,null,null,null,null,null,null,null,null,"ผ่าน",0,null,"ปรับปรุง",null,23]
[{"$f":"ข้อมูลนักเรียน!A101","v":0},{"$f":"IF(ข้อมูลนักเรียน!B101=0,\"\",ข้อมูลนักเรียน!B101)","v":""},{"$f":"IF(ข้อมูลนักเรียน!C101=0,\"\",ข้อมูลนักเรียน!C101)","v":""},{"$f":"IF(ข้อมูลนักเรียน!C101=0,\"\",ข้อมูลนักเรียน!D101 & ข้อมูลนักเรียน!E101 & \"   \"& ข้อมูลนักเรียน!F101)","v":""},{"$f":"IF(ข้อมูลนักเรียน!C101=0,\"\",ข้อมูลนักเรียน!G101)","v":""},{"$f":"ข้อมูลนักเรียน!B101","v":0},null,null,null,null,null,null,null,null,null,null,null,null,null,null,null,null,null,null,null,null,null,null,null,null,null,null,"ผ่าน",0,null,"ปรับปรุง",null,23]
[{"$f":"ข้อมูลนักเรียน!A102","v":0},{"$f":"IF(ข้อมูลนักเรียน!B102=0,\"\",ข้อมูลนักเรียน!B102)","v":""},{"$f":"IF(ข้อมูลนักเรียน!C102=0,\"\",ข้อมูลนักเรียน!C102)","v":""},{"$f":"IF(ข้อมูลนักเรียน!C102=0,\"\",ข้อมูลนักเรียน!D102 & ข้อมูลนักเรียน!E102 & \"   \"& ข้อมูลนักเรียน!F102)","v":""},{"$f":"IF(ข้อมูลนักเรียน!C102=0,\"\",ข้อมูลนักเรียน!G102)","v":""},{"$f":"ข้อมูลนักเรียน!B102","v":0},null,null,null,null,null,null,null,null,null,null,null,null,null,null,null,null,null,null,null,null,null,null,null,null,null,null,"ผ่าน",0,null,"ปรับปรุง",null,23]
[{"$f":"ข้อมูลนักเรียน!A103","v":0},{"$f":"IF(ข้อมูลนักเรียน!B103=0,\"\",ข้อมูลนักเรียน!B103)","v":""},{"$f":"IF(ข้อมูลนักเรียน!C103=0,\"\",ข้อมูลนักเรียน!C103)","v":""},{"$f":"IF(ข้อมูลนักเรียน!C103=0,\"\",ข้อมูลนักเรียน!D103 & ข้อมูลนักเรียน!E103 & \"   \"& ข้อมูลนักเรียน!F103)","v":""},{"$f":"IF(ข้อมูลนักเรียน!C103=0,\"\",ข้อมูลนักเรียน!G103)","v":""},{"$f":"ข้อมูลนักเรียน!B103","v":0},null,null,null,null,null,null,null,null,null,null,null,null,null,null,null,null,null,null,null,null,null,null,null,null,null,null,"ผ่าน",0,null,"ปรับปรุง",null,23]
[{"$f":"ข้อมูลนักเรียน!A104","v":0},{"$f":"IF(ข้อมูลนักเรียน!B104=0,\"\",ข้อมูลนักเรียน!B104)","v":""},{"$f":"IF(ข้อมูลนักเรียน!C104=0,\"\",ข้อมูลนักเรียน!C104)","v":""},{"$f":"IF(ข้อมูลนักเรียน!C104=0,\"\",ข้อมูลนักเรียน!D104 & ข้อมูลนักเรียน!E104 & \"   \"& ข้อมูลนักเรียน!F104)","v":""},{"$f":"IF(ข้อมูลนักเรียน!C104=0,\"\",ข้อมูลนักเรียน!G104)","v":""},{"$f":"ข้อมูลนักเรียน!B104","v":0},null,null,null,null,null,null,null,null,null,null,null,null,null,null,null,null,null,null,null,null,null,null,null,null,null,null,"ผ่าน",0,null,"ปรับปรุง",null,23]
[{"$f":"ข้อมูลนักเรียน!A105","v":0},{"$f":"IF(ข้อมูลนักเรียน!B105=0,\"\",ข้อมูลนักเรียน!B105)","v":""},{"$f":"IF(ข้อมูลนักเรียน!C105=0,\"\",ข้อมูลนักเรียน!C105)","v":""},{"$f":"IF(ข้อมูลนักเรียน!C105=0,\"\",ข้อมูลนักเรียน!D105 & ข้อมูลนักเรียน!E105 & \"   \"& ข้อมูลนักเรียน!F105)","v":""},{"$f":"IF(ข้อมูลนักเรียน!C105=0,\"\",ข้อมูลนักเรียน!G105)","v":""},{"$f":"ข้อมูลนักเรียน!B105","v":0},null,null,null,null,null,null,null,null,null,null,null,null,null,null,null,null,null,null,null,null,null,null,null,null,null,null,"ผ่าน",{"$f":"ROUNDDOWN(0,2)","v":0},null,"ปรับปรุง",null,23]
[{"$f":"ข้อมูลนักเรียน!A106","v":0},{"$f":"IF(ข้อมูลนักเรียน!B106=0,\"\",ข้อมูลนักเรียน!B106)","v":""},{"$f":"IF(ข้อมูลนักเรียน!C106=0,\"\",ข้อมูลนักเรียน!C106)","v":""},{"$f":"IF(ข้อมูลนักเรียน!C106=0,\"\",ข้อมูลนักเรียน!D106 & ข้อมูลนักเรียน!E106 & \"   \"& ข้อมูลนักเรียน!F106)","v":""},{"$f":"IF(ข้อมูลนักเรียน!C106=0,\"\",ข้อมูลนักเรียน!G106)","v":""},{"$f":"ข้อมูลนักเรียน!B106","v":0},null,null,null,null,null,null,null,null,null,null,null,null,null,null,null,null,null,null,null,null,null,null,null,null,null,null,"ผ่าน",0,null,"ปรับปรุง",null,23]
[{"$f":"ข้อมูลนักเรียน!A107","v":0},{"$f":"IF(ข้อมูลนักเรียน!B107=0,\"\",ข้อมูลนักเรียน!B107)","v":""},{"$f":"IF(ข้อมูลนักเรียน!C107=0,\"\",ข้อมูลนักเรียน!C107)","v":""},{"$f":"IF(ข้อมูลนักเรียน!C107=0,\"\",ข้อมูลนักเรียน!D107 & ข้อมูลนักเรียน!E107 & \"   \"& ข้อมูลนักเรียน!F107)","v":""},{"$f":"IF(ข้อมูลนักเรียน!C107=0,\"\",ข้อมูลนักเรียน!G107)","v":""},{"$f":"ข้อมูลนักเรียน!B107","v":0},null,null,null,null,null,null,null,null,null,null,null,null,null,null,null,null,null,null,null,null,null,null,null,null,null,null,"ผ่าน",0,null,"ปรับปรุง",null,23]
[{"$f":"ข้อมูลนักเรียน!A108","v":0},{"$f":"IF(ข้อมูลนักเรียน!B108=0,\"\",ข้อมูลนักเรียน!B108)","v":""},{"$f":"IF(ข้อมูลนักเรียน!C108=0,\"\",ข้อมูลนักเรียน!C108)","v":""},{"$f":"IF(ข้อมูลนักเรียน!C108=0,\"\",ข้อมูลนักเรียน!D108 & ข้อมูลนักเรียน!E108 & \"   \"& ข้อมูลนักเรียน!F108)","v":""},{"$f":"IF(ข้อมูลนักเรียน!C108=0,\"\",ข้อมูลนักเรียน!G108)","v":""},{"$f":"ข้อมูลนักเรียน!B108","v":0},null,null,null,null,null,null,null,null,null,null,null,null,null,null,null,null,null,null,null,null,null,null,null,null,null,null,"ผ่าน",0,null,"ปรับปรุง",null,23]
[{"$f":"ข้อมูลนักเรียน!A109","v":0},{"$f":"IF(ข้อมูลนักเรียน!B109=0,\"\",ข้อมูลนักเรียน!B109)","v":""},{"$f":"IF(ข้อมูลนักเรียน!C109=0,\"\",ข้อมูลนักเรียน!C109)","v":""},{"$f":"IF(ข้อมูลนักเรียน!C109=0,\"\",ข้อมูลนักเรียน!D109 & ข้อมูลนักเรียน!E109 & \"   \"& ข้อมูลนักเรียน!F109)","v":""},{"$f":"IF(ข้อมูลนักเรียน!C109=0,\"\",ข้อมูลนักเรียน!G109)","v":""},{"$f":"ข้อมูลนักเรียน!B109","v":0},null,null,null,null,null,null,null,null,null,null,null,null,null,null,null,null,null,null,null,null,null,null,null,null,null,null,"ผ่าน",0,null,"ปรับปรุง",null,23]
[{"$f":"ข้อมูลนักเรียน!A110","v":0},{"$f":"IF(ข้อมูลนักเรียน!B110=0,\"\",ข้อมูลนักเรียน!B110)","v":""},{"$f":"IF(ข้อมูลนักเรียน!C110=0,\"\",ข้อมูลนักเรียน!C110)","v":""},{"$f":"IF(ข้อมูลนักเรียน!C110=0,\"\",ข้อมูลนักเรียน!D110 & ข้อมูลนักเรียน!E110 & \"   \"& ข้อมูลนักเรียน!F110)","v":""},{"$f":"IF(ข้อมูลนักเรียน!C110=0,\"\",ข้อมูลนักเรียน!G110)","v":""},{"$f":"ข้อมูลนักเรียน!B110","v":0},null,null,null,null,null,null,null,null,null,null,null,null,null,null,null,null,null,null,null,null,null,null,null,null,null,null,"ผ่าน",0,null,"ปรับปรุง",null,23]
[{"$f":"ข้อมูลนักเรียน!A111","v":0},{"$f":"IF(ข้อมูลนักเรียน!B111=0,\"\",ข้อมูลนักเรียน!B111)","v":""},{"$f":"IF(ข้อมูลนักเรียน!C111=0,\"\",ข้อมูลนักเรียน!C111)","v":""},{"$f":"IF(ข้อมูลนักเรียน!C111=0,\"\",ข้อมูลนักเรียน!D111 & ข้อมูลนักเรียน!E111 & \"   \"& ข้อมูลนักเรียน!F111)","v":""},{"$f":"IF(ข้อมูลนักเรียน!C111=0,\"\",ข้อมูลนักเรียน!G111)","v":""},{"$f":"ข้อมูลนักเรียน!B111","v":0},null,null,null,null,null,null,null,null,null,null,null,null,null,null,null,null,null,null,null,null,null,null,null,null,null,null,"ผ่าน",0,null,"ปรับปรุง",null,23]
[{"$f":"ข้อมูลนักเรียน!A112","v":0},{"$f":"IF(ข้อมูลนักเรียน!B112=0,\"\",ข้อมูลนักเรียน!B112)","v":""},{"$f":"IF(ข้อมูลนักเรียน!C112=0,\"\",ข้อมูลนักเรียน!C112)","v":""},{"$f":"IF(ข้อมูลนักเรียน!C112=0,\"\",ข้อมูลนักเรียน!D112 & ข้อมูลนักเรียน!E112 & \"   \"& ข้อมูลนักเรียน!F112)","v":""},{"$f":"IF(ข้อมูลนักเรียน!C112=0,\"\",ข้อมูลนักเรียน!G112)","v":""},{"$f":"ข้อมูลนักเรียน!B112","v":0},null,null,null,null,null,null,null,null,null,null,null,null,null,null,null,null,null,null,null,null,null,null,null,null,null,null,"ผ่าน",0,null,"ปรับปรุง",null,23]
[{"$f":"ข้อมูลนักเรียน!A113","v":0},{"$f":"IF(ข้อมูลนักเรียน!B113=0,\"\",ข้อมูลนักเรียน!B113)","v":""},{"$f":"IF(ข้อมูลนักเรียน!C113=0,\"\",ข้อมูลนักเรียน!C113)","v":""},{"$f":"IF(ข้อมูลนักเรียน!C113=0,\"\",ข้อมูลนักเรียน!D113 & ข้อมูลนักเรียน!E113 & \"   \"& ข้อมูลนักเรียน!F113)","v":""},{"$f":"IF(ข้อมูลนักเรียน!C113=0,\"\",ข้อมูลนักเรียน!G113)","v":""},{"$f":"ข้อมูลนักเรียน!B113","v":0},null,null,null,null,null,null,null,null,null,null,null,null,null,null,null,null,null,null,null,null,null,null,null,null,null,null,"ผ่าน",0,null,"ปรับปรุง",null,23]
[{"$f":"ข้อมูลนักเรียน!A114","v":0},{"$f":"IF(ข้อมูลนักเรียน!B114=0,\"\",ข้อมูลนักเรียน!B114)","v":""},{"$f":"IF(ข้อมูลนักเรียน!C114=0,\"\",ข้อมูลนักเรียน!C114)","v":""},{"$f":"IF(ข้อมูลนักเรียน!C114=0,\"\",ข้อมูลนักเรียน!D114 & ข้อมูลนักเรียน!E114 & \"   \"& ข้อมูลนักเรียน!F114)","v":""},{"$f":"IF(ข้อมูลนักเรียน!C114=0,\"\",ข้อมูลนักเรียน!G114)","v":""},{"$f":"ข้อมูลนักเรียน!B114","v":0},null,null,null,null,null,null,null,null,null,null,null,null,null,null,null,null,null,null,null,null,null,null,null,null,null,null,"ผ่าน",0,null,"ปรับปรุง",null,23]
[{"$f":"ข้อมูลนักเรียน!A115","v":0},{"$f":"IF(ข้อมูลนักเรียน!B115=0,\"\",ข้อมูลนักเรียน!B115)","v":""},{"$f":"IF(ข้อมูลนักเรียน!C115=0,\"\",ข้อมูลนักเรียน!C115)","v":""},{"$f":"IF(ข้อมูลนักเรียน!C115=0,\"\",ข้อมูลนักเรียน!D115 & ข้อมูลนักเรียน!E115 & \"   \"& ข้อมูลนักเรียน!F115)","v":""},{"$f":"IF(ข้อมูลนักเรียน!C115=0,\"\",ข้อมูลนักเรียน!G115)","v":""},{"$f":"ข้อมูลนักเรียน!B115","v":0},null,null,null,null,null,null,null,null,null,null,null,null,null,null,null,null,null,null,null,null,null,null,null,null,null,null,"ผ่าน",0,null,"ปรับปรุง",null,23]
[{"$f":"ข้อมูลนักเรียน!A116","v":0},{"$f":"IF(ข้อมูลนักเรียน!B116=0,\"\",ข้อมูลนักเรียน!B116)","v":""},{"$f":"IF(ข้อมูลนักเรียน!C116=0,\"\",ข้อมูลนักเรียน!C116)","v":""},{"$f":"IF(ข้อมูลนักเรียน!C116=0,\"\",ข้อมูลนักเรียน!D116 & ข้อมูลนักเรียน!E116 & \"   \"& ข้อมูลนักเรียน!F116)","v":""},{"$f":"IF(ข้อมูลนักเรียน!C116=0,\"\",ข้อมูลนักเรียน!G116)","v":""},{"$f":"ข้อมูลนักเรียน!B116","v":0},null,null,null,null,null,null,null,null,null,null,null,null,null,null,null,null,null,null,null,null,null,null,null,null,null,null,"ผ่าน",0,null,"ปรับปรุง",null,23]
[{"$f":"ข้อมูลนักเรียน!A117","v":0},{"$f":"IF(ข้อมูลนักเรียน!B117=0,\"\",ข้อมูลนักเรียน!B117)","v":""},{"$f":"IF(ข้อมูลนักเรียน!C117=0,\"\",ข้อมูลนักเรียน!C117)","v":""},{"$f":"IF(ข้อมูลนักเรียน!C117=0,\"\",ข้อมูลนักเรียน!D117 & ข้อมูลนักเรียน!E117 & \"   \"& ข้อมูลนักเรียน!F117)","v":""},{"$f":"IF(ข้อมูลนักเรียน!C117=0,\"\",ข้อมูลนักเรียน!G117)","v":""},{"$f":"ข้อมูลนักเรียน!B117","v":0},null,null,null,null,null,null,null,null,null,null,null,null,null,null,null,null,null,null,null,null,null,null,null,null,null,null,"ผ่าน",0,null,"ปรับปรุง",null,23]
[{"$f":"ข้อมูลนักเรียน!A118","v":0},{"$f":"IF(ข้อมูลนักเรียน!B118=0,\"\",ข้อมูลนักเรียน!B118)","v":""},{"$f":"IF(ข้อมูลนักเรียน!C118=0,\"\",ข้อมูลนักเรียน!C118)","v":""},{"$f":"IF(ข้อมูลนักเรียน!C118=0,\"\",ข้อมูลนักเรียน!D118 & ข้อมูลนักเรียน!E118 & \"   \"& ข้อมูลนักเรียน!F118)","v":""},{"$f":"IF(ข้อมูลนักเรียน!C118=0,\"\",ข้อมูลนักเรียน!G118)","v":""},{"$f":"ข้อมูลนักเรียน!B118","v":0},null,null,null,null,null,null,null,null,null,null,null,null,null,null,null,null,null,null,null,null,null,null,null,null,null,null,"ผ่าน",0,null,"ปรับปรุง",null,23]
[{"$f":"ข้อมูลนักเรียน!A119","v":0},{"$f":"IF(ข้อมูลนักเรียน!B119=0,\"\",ข้อมูลนักเรียน!B119)","v":""},{"$f":"IF(ข้อมูลนักเรียน!C119=0,\"\",ข้อมูลนักเรียน!C119)","v":""},{"$f":"IF(ข้อมูลนักเรียน!C119=0,\"\",ข้อมูลนักเรียน!D119 & ข้อมูลนักเรียน!E119 & \"   \"& ข้อมูลนักเรียน!F119)","v":""},{"$f":"IF(ข้อมูลนักเรียน!C119=0,\"\",ข้อมูลนักเรียน!G119)","v":""},{"$f":"ข้อมูลนักเรียน!B119","v":0},null,null,null,null,null,null,null,null,null,null,null,null,null,null,null,null,null,null,null,null,null,null,null,null,null,null,"ผ่าน",0,null,"ปรับปรุง",null,23]
[{"$f":"ข้อมูลนักเรียน!A120","v":0},{"$f":"IF(ข้อมูลนักเรียน!B120=0,\"\",ข้อมูลนักเรียน!B120)","v":""},{"$f":"IF(ข้อมูลนักเรียน!C120=0,\"\",ข้อมูลนักเรียน!C120)","v":""},{"$f":"IF(ข้อมูลนักเรียน!C120=0,\"\",ข้อมูลนักเรียน!D120 & ข้อมูลนักเรียน!E120 & \"   \"& ข้อมูลนักเรียน!F120)","v":""},{"$f":"IF(ข้อมูลนักเรียน!C120=0,\"\",ข้อมูลนักเรียน!G120)","v":""},{"$f":"ข้อมูลนักเรียน!B120","v":0},null,null,null,null,null,null,null,null,null,null,null,null,null,null,null,null,null,null,null,null,null,null,null,null,null,null,"ผ่าน",0,null,"ปรับปรุง",null,23]
[{"$f":"ข้อมูลนักเรียน!A121","v":0},{"$f":"IF(ข้อมูลนักเรียน!B121=0,\"\",ข้อมูลนักเรียน!B121)","v":""},{"$f":"IF(ข้อมูลนักเรียน!C121=0,\"\",ข้อมูลนักเรียน!C121)","v":""},{"$f":"IF(ข้อมูลนักเรียน!C121=0,\"\",ข้อมูลนักเรียน!D121 & ข้อมูลนักเรียน!E121 & \"   \"& ข้อมูลนักเรียน!F121)","v":""},{"$f":"IF(ข้อมูลนักเรียน!C121=0,\"\",ข้อมูลนักเรียน!G121)","v":""},{"$f":"ข้อมูลนักเรียน!B121","v":0},null,null,null,null,null,null,null,null,null,null,null,null,null,null,null,null,null,null,null,null,null,null,null,null,null,null,"ผ่าน",0,null,"ปรับปรุง",null,23]
[{"$f":"ข้อมูลนักเรียน!A122","v":0},{"$f":"IF(ข้อมูลนักเรียน!B122=0,\"\",ข้อมูลนักเรียน!B122)","v":""},{"$f":"IF(ข้อมูลนักเรียน!C122=0,\"\",ข้อมูลนักเรียน!C122)","v":""},{"$f":"IF(ข้อมูลนักเรียน!C122=0,\"\",ข้อมูลนักเรียน!D122 & ข้อมูลนักเรียน!E122 & \"   \"& ข้อมูลนักเรียน!F122)","v":""},{"$f":"IF(ข้อมูลนักเรียน!C122=0,\"\",ข้อมูลนักเรียน!G122)","v":""},{"$f":"ข้อมูลนักเรียน!B122","v":0},null,null,null,null,null,null,null,null,null,null,null,null,null,null,null,null,null,null,null,null,null,null,null,null,null,null,"ผ่าน",0,null,"ปรับปรุง",null,23]
[{"$f":"ข้อมูลนักเรียน!A123","v":0},{"$f":"IF(ข้อมูลนักเรียน!B123=0,\"\",ข้อมูลนักเรียน!B123)","v":""},{"$f":"IF(ข้อมูลนักเรียน!C123=0,\"\",ข้อมูลนักเรียน!C123)","v":""},{"$f":"IF(ข้อมูลนักเรียน!C123=0,\"\",ข้อมูลนักเรียน!D123 & ข้อมูลนักเรียน!E123 & \"   \"& ข้อมูลนักเรียน!F123)","v":""},{"$f":"IF(ข้อมูลนักเรียน!C123=0,\"\",ข้อมูลนักเรียน!G123)","v":""},{"$f":"ข้อมูลนักเรียน!B123","v":0},null,null,null,null,null,null,null,null,null,null,null,null,null,null,null,null,null,null,null,null,null,null,null,null,null,null,"ผ่าน",0,null,"ปรับปรุง",null,23]
[{"$f":"ข้อมูลนักเรียน!A124","v":0},{"$f":"IF(ข้อมูลนักเรียน!B124=0,\"\",ข้อมูลนักเรียน!B124)","v":""},{"$f":"IF(ข้อมูลนักเรียน!C124=0,\"\",ข้อมูลนักเรียน!C124)","v":""},{"$f":"IF(ข้อมูลนักเรียน!C124=0,\"\",ข้อมูลนักเรียน!D124 & ข้อมูลนักเรียน!E124 & \"   \"& ข้อมูลนักเรียน!F124)","v":""},{"$f":"IF(ข้อมูลนักเรียน!C124=0,\"\",ข้อมูลนักเรียน!G124)","v":""},{"$f":"ข้อมูลนักเรียน!B124","v":0},null,null,null,null,null,null,null,null,null,null,null,null,null,null,null,null,null,null,null,null,null,null,null,null,null,null,"ผ่าน",0,null,"ปรับปรุง",null,23]
[{"$f":"ข้อมูลนักเรียน!A125","v":0},{"$f":"IF(ข้อมูลนักเรียน!B125=0,\"\",ข้อมูลนักเรียน!B125)","v":""},{"$f":"IF(ข้อมูลนักเรียน!C125=0,\"\",ข้อมูลนักเรียน!C125)","v":""},{"$f":"IF(ข้อมูลนักเรียน!C125=0,\"\",ข้อมูลนักเรียน!D125 & ข้อมูลนักเรียน!E125 & \"   \"& ข้อมูลนักเรียน!F125)","v":""},{"$f":"IF(ข้อมูลนักเรียน!C125=0,\"\",ข้อมูลนักเรียน!G125)","v":""},{"$f":"ข้อมูลนักเรียน!B125","v":0},null,null,null,null,null,null,null,null,null,null,null,null,null,null,null,null,null,null,null,null,null,null,null,null,null,null,"ผ่าน",0,null,"ปรับปรุง",null,23]
[{"$f":"ข้อมูลนักเรียน!A126","v":0},{"$f":"IF(ข้อมูลนักเรียน!B126=0,\"\",ข้อมูลนักเรียน!B126)","v":""},{"$f":"IF(ข้อมูลนักเรียน!C126=0,\"\",ข้อมูลนักเรียน!C126)","v":""},{"$f":"IF(ข้อมูลนักเรียน!C126=0,\"\",ข้อมูลนักเรียน!D126 & ข้อมูลนักเรียน!E126 & \"   \"& ข้อมูลนักเรียน!F126)","v":""},{"$f":"IF(ข้อมูลนักเรียน!C126=0,\"\",ข้อมูลนักเรียน!G126)","v":""},{"$f":"ข้อมูลนักเรียน!B126","v":0},null,null,null,null,null,null,null,null,null,null,null,null,null,null,null,null,null,null,null,null,null,null,null,null,null,null,"ผ่าน",0,null,"ปรับปรุง",null,23]
[null,null,null,null,null,null,null,{"$f":"LEFT(H3)","v":"ท"},{"$f":"LEFT(I3)","v":"ค"},"ว","ส","ส","พ","ศ","ง","อ","ง","I","ล","","","","","",""]
[null,null,null,"เกรด",null,null,0,{"$f":"COUNTIF(H$7:H$126,$G128)","v":0},0,0,0,0,0,0,0,0,0,0,0,0,0,0,0,0,0]
[null,null,null,null,null,null,1,{"$f":"COUNTIF(H$7:H$126,$G129)","v":0},1,1,0,0,0,0,0,0,0,0,0,0,{"$f":"COUNTIF(U$7:U$126,$G129)","v":0},0,0,0,0]
[null,null,null,null,null,null,1.5,0,0,0,0,0,0,0,0,0,2,2,0,0,0,0,0,2,2]
[null,null,null,null,null,null,2,0,0,0,0,0,0,0,0,0,0,0,1,0,0,0,0,0,0]
[null,null,null,null,null,null,2.5,0,0,0,0,0,0,0,0,0,0,0,0,0,0,0,0,0,0]
[null,null,null,null,null,null,3,1,1,0,0,0,0,1,1,1,0,0,1,0,0,0,0,0,0]
[null,null,null,null,null,null,3.5,0,0,0,0,0,0,0,0,0,0,0,0,0,0,0,0,0,0]
[null,null,null,null,null,null,4,1,0,1,2,2,2,1,1,1,0,0,0,0,0,0,0,0,0]
[null,null,null,null,null,null,"ร",0,0,0,0,0,0,0,0,0,0,0,0,0,0,0,0,0,0]
[null,null,null,null,null,null,"มส",0,0,0,0,0,0,0,0,0,0,0,0,0,0,0,0,0,0]
[null,null,null,null,null,null,"ผ",0,0,0,0,0,0,0,0,0,0,0,0,0,0,0,0,0,0]
[null,null,null,null,null,null,"มผ",0,0,0,0,0,0,0,0,0,0,0,0,0,0,0,0,0,0]

{"sheet":"เกรด6","index":11,"n_rows":139,"n_cols":41,"rows_kept":139,"cut":false,"hidden":false,"merged":[[1,36,4,36],[0,0,0,2],[0,15,0,27],[1,0,5,0],[1,1,5,1],[1,2,5,2],[1,3,5,3],[1,6,2,6],[1,34,5,34]]}
["ปีการศึกษา : ",null,null,{"$f":"ข้อมูลนักเรียน!F4+5","v":2555},null,null,null,null,null,null,null,null,null,null,null,"ประถมศึกษาปีที่ 6"]
["ห้อง","เลขที่","รหัสนักเรียน","ชื่อ - สกุล",null,null,"วิชา",{"$f":"IF(หลักสูตร!$R$32=0,\"ช่องว่าง\",หลักสูตร!$S$32)","v":"ภาษาไทย"},{"$f":"IF(หลักสูตร!$R$33=0,\"ช่องว่าง\",หลักสูตร!$S$33)","v":"คณิตศาสตร์"},{"$f":"IF(หลักสูตร!$R$34=0,\"ช่องว่าง\",หลักสูตร!$S$34)","v":"วิทยาศาสตร์"},{"$f":"IF(หลักสูตร!$R$35=0,\"ช่องว่าง\",หลักสูตร!$S$35)","v":"สังคมศึกษา ศาสนาและวัฒนธรรม"},{"$f":"IF(หลักสูตร!$R$36=0,\"ช่องว่าง\",หลักสูตร!$S$36)","v":"ประวัติศาสตร์"},{"$f":"IF(หลักสูตร!$R$37=0,\"ช่องว่าง\",หลักสูตร!$S$37)","v":"สุขศึกษาและพลศึกษา"},{"$f":"IF(หลักสูตร!$R$38=0,\"ช่องว่าง\",หลักสูตร!$S$38)","v":"ศิลปะ"},{"$f":"IF(หลักสูตร!$R$39=0,\"ช่องว่าง\",หลักสูตร!$S$39)","v":"การงานอาชีพและเทคโนโลยี"},{"$f":"IF(หลักสูตร!$R$40=0,\"ช่องว่าง\",หลักสูตร!$S$40)","v":"ภาษาต่างประเทศ"},{"$f":"IF(หลักสูตร!$R$41=0,\"ช่องว่าง\",หลักสูตร!$S$41)","v":"คอมพิวเตอร์"},{"$f":"IF(หลักสูตร!$R$42=0,\"ช่องว่าง\",หลักสูตร!$S$42)","v":"เลือกเรียน"},{"$f":"IF(หลักสูตร!$R$43=0,\"ช่องว่าง\",หลักสูตร!$S$43)","v":"ช่องว่าง"},{"$f":"IF(หลักสูตร!$R$44=0,\"ช่องว่าง\",หลักสูตร!$S$44)","v":"ช่องว่าง"},{"$f":"IF(หลักสูตร!$R$45=0,\"ช่องว่าง\",หลักสูตร!$S$45)","v":"ช่องว่าง"},{"$f":"IF(หลักสูตร!$R$46=0,\"ช่องว่าง\",หลักสูตร!$S$46)","v":"ช่องว่าง"},{"$f":"IF(หลักสูตร!$R$47=0,\"ช่องว่าง\",หลักสูตร!$S$47)","v":"ช่องว่าง"},{"$f":"IF(หลักสูตร!$R$48=0,\"ช่องว่าง\",หลักสูตร!$S$48)","v":"ช่องว่าง"},{"$f":"IF(หลักสูตร!$R$49=0,\"ช่องว่าง\",หลักสูตร!$S$49)","v":"ช่องว่าง"},{"$f":"IF(หลักสูตร!$R$51=0,\"ช่องว่าง\",หลักสูตร!$S$51)","v":"แนะแนว"},{"$f":"IF(หลักสูตร!$R$52=0,\"ช่องว่าง\",หลักสูตร!$S$52)","v":"ลูกเสือ เนตรนารี"},{"$f":"IF(หลักสูตร!$R$53=0,\"ช่องว่าง\",หลักสูตร!$S$53)","v":"ชุมนุม"},{"$f":"IF(หลักสูตร!$R$54=0,\"ช่องว่าง\",หลักสูตร!$S$54)","v":"กิจกรรมเพื่อสังคมและสาธารณประโยชน์"},{"$f":"IF(หลักสูตร!$R$55=0,\"ช่องว่าง\",หลักสูตร!$S$55)","v":"ช่องว่าง"},"คุณลักษณะ","อ่าน คิดฯ","สรุปกิจกรรม","เกรดเฉลี่ย","ชื่อวิชาเลือก\nรหัสวิชา ตามด้วยชื่อวิชา\nตัวอย่าง  ง31202 เกษตรอินทรีย์","อ่าน คิดฯ","ชื่อชุมนุม"]
[null,null,null,null,null,null,null,{"$f":"IF(หลักสูตร!$R$32=0,\"\",หลักสูตร!$R$32)","v":"ท"},{"$f":"IF(หลักสูตร!$R$33=0,\"\",หลักสูตร!$R$33)","v":"ค16101"},{"$f":"IF(หลักสูตร!$R$34=0,\"\",หลักสูตร!$R$34)","v":"ว16101"},{"$f":"IF(หลักสูตร!$R$35=0,\"\",หลักสูตร!$R$35)","v":"ส16101"},{"$f":"IF(หลักสูตร!$R$36=0,\"\",หลักสูตร!$R$36)","v":"ส16102"},{"$f":"IF(หลักสูตร!$R$37=0,\"\",หลักสูตร!$R$37)","v":"พ16101"},{"$f":"IF(หลักสูตร!$R$38=0,\"\",หลักสูตร!$R$38)","v":"ศ16101"},{"$f":"IF(หลักสูตร!$R$39=0,\"\",หลักสูตร!$R$39)","v":"ง16101"},{"$f":"IF(หลักสูตร!$R$40=0,\"\",หลักสูตร!$R$40)","v":"อ16101"},{"$f":"IF(หลักสูตร!$R$41=0,\"\",หลักสูตร!$R$41)","v":"ง16201"},{"$f":"IF(หลักสูตร!$R$42=0,\"\",หลักสูตร!$R$42)","v":"ล"},{"$f":"IF(หลักสูตร!$R$43=0,\"\",หลักสูตร!$R$43)","v":""},{"$f":"IF(หลักสูตร!$R$44=0,\"\",หลักสูตร!$R$44)","v":""},{"$f":"IF(หลักสูตร!$R$45=0,\"\",หลักสูตร!$R$45)","v":""},{"$f":"IF(หลักสูตร!$R$46=0,\"\",หลักสูตร!$R$46)","v":""},{"$f":"IF(หลักสูตร!$R$47=0,\"\",หลักสูตร!$R$47)","v":""},{"$f":"IF(หลักสูตร!$R$48=0,\"\",หลักสูตร!$R$48)","v":""},{"$f":"IF(หลักสูตร!$R$49=0,\"\",หลักสูตร!$R$49)","v":""},{"$f":"IF(หลักสูตร!$R$51=0,\"\",หลักสูตร!$R$51)","v":"ก1"},{"$f":"IF(หลักสูตร!$R$52=0,\"\",หลักสูตร!$R$52)","v":"ก2"},{"$f":"IF(หลักสูตร!$R$53=0,\"\",หลักสูตร!$R$53)","v":"ก3"},{"$f":"IF(หลักสูตร!$R$54=0,\"\",หลักสูตร!$R$54)","v":"ก4"},{"$f":"IF(หลักสูตร!$R$55=0,\"\",หลักสูตร!$R$55)","v":""},null,null,null,{"$f":"SUMIF(H5:Y5,\"<>กิจกรรม\",H6:AA6)","v":23.5}]
[null,null,null,null,null,null,null,{"$f":"IF(หลักสูตร!$V$32=0,\"\",หลักสูตร!$V$32)","v":160},{"$f":"IF(หลักสูตร!$V$33=0,\"\",หลักสูตร!$V$33)","v":160},{"$f":"IF(หลักสูตร!$V$34=0,\"\",หลักสูตร!$V$34)","v":80},{"$f":"IF(หลักสูตร!$V$35=0,\"\",หลักสูตร!$V$35)","v":80},{"$f":"IF(หลักสูตร!$V$36=0,\"\",หลักสูตร!$V$36)","v":40},{"$f":"IF(หลักสูตร!$V$37=0,\"\",หลักสูตร!$V$37)","v":80},{"$f":"IF(หลักสูตร!$V$38=0,\"\",หลักสูตร!$V$38)","v":80},{"$f":"IF(หลักสูตร!$V$39=0,\"\",หลักสูตร!$V$39)","v":80},{"$f":"IF(หลักสูตร!$V$40=0,\"\",หลักสูตร!$V$40)","v":80},{"$f":"IF(หลักสูตร!$V$41=0,\"\",หลักสูตร!$V$41)","v":40},{"$f":"IF(หลักสูตร!$V$42=0,\"\",หลักสูตร!$V$42)","v":60},{"$f":"IF(หลักสูตร!$V$43=0,\"\",หลักสูตร!$V$43)","v":""},{"$f":"IF(หลักสูตร!$V$44=0,\"\",หลักสูตร!$V$44)","v":""},{"$f":"IF(หลักสูตร!$V$45=0,\"\",หลักสูตร!$V$45)","v":""},{"$f":"IF(หลักสูตร!$V$46=0,\"\",หลักสูตร!$V$46)","v":""},{"$f":"IF(หลักสูตร!$V$47=0,\"\",หลักสูตร!$V$47)","v":""},{"$f":"IF(หลักสูตร!$V$48=0,\"\",หลักสูตร!$V$48)","v":""},{"$f":"IF(หลักสูตร!$V$49=0,\"\",หลักสูตร!$V$49)","v":""},{"$f":"IF(หลักสูตร!$V$51=0,\"\",หลักสูตร!$V$51)","v":40},{"$f":"IF(หลักสูตร!$V$52=0,\"\",หลักสูตร!$V$52)","v":40},{"$f":"IF(หลักสูตร!$V$53=0,\"\",หลักสูตร!$V$53)","v":30},{"$f":"IF(หลักสูตร!$V$54=0,\"\",หลักสูตร!$V$54)","v":10},{"$f":"IF(หลักสูตร!$V$55=0,\"\",หลักสูตร!$V$55)","v":""}]
[null,null,null,null,null,null,"ประเภท",{"$f":"IF(หลักสูตร!$T$32=0,\"\",หลักสูตร!T$32)","v":"พื้นฐาน"},{"$f":"IF(หลักสูตร!$T$33=0,\"\",หลักสูตร!T$33)","v":"พื้นฐาน"},{"$f":"IF(หลักสูตร!$T$34=0,\"\",หลักสูตร!T$34)","v":"พื้นฐาน"},{"$f":"IF(หลักสูตร!$T$35=0,\"\",หลักสูตร!T$35)","v":"พื้นฐาน"},{"$f":"IF(หลักสูตร!$T$36=0,\"\",หลักสูตร!T$36)","v":"พื้นฐาน"},{"$f":"IF(หลักสูตร!$T$37=0,\"\",หลักสูตร!T$37)","v":"พื้นฐาน"},{"$f":"IF(หลักสูตร!$T$38=0,\"\",หลักสูตร!T$38)","v":"พื้นฐาน"},{"$f":"IF(หลักสูตร!$T$39=0,\"\",หลักสูตร!T$39)","v":"พื้นฐาน"},{"$f":"IF(หลักสูตร!$T$40=0,\"\",หลักสูตร!T$40)","v":"พื้นฐาน"},{"$f":"IF(หลักสูตร!$T$41=0,\"\",หลักสูตร!T$41)","v":"เพิ่มเติม"},{"$f":"IF(หลักสูตร!$T$42=0,\"\",หลักสูตร!T$42)","v":"เพิ่มเติม"},{"$f":"IF(หลักสูตร!$T$43=0,\"\",หลักสูตร!T$43)","v":""},{"$f":"IF(หลักสูตร!$T$44=0,\"\",หลักสูตร!T$44)","v":""},{"$f":"IF(หลักสูตร!$T$45=0,\"\",หลักสูตร!T$45)","v":""},{"$f":"IF(หลักสูตร!$T$46=0,\"\",หลักสูตร!T$46)","v":""},{"$f":"IF(หลักสูตร!$T$47=0,\"\",หลักสูตร!T$47)","v":""},{"$f":"IF(หลักสูตร!$T$48=0,\"\",หลักสูตร!T$48)","v":""},{"$f":"IF(หลักสูตร!$T$49=0,\"\",หลักสูตร!T$49)","v":""},{"$f":"IF(หลักสูตร!$T$51=0,\"\",หลักสูตร!T$51)","v":"กิจกรรม"},{"$f":"IF(หลักสูตร!$T$52=0,\"\",หลักสูตร!T$52)","v":"กิจกรรม"},{"$f":"IF(หลักสูตร!$T$53=0,\"\",หลักสูตร!T$53)","v":"กิจกรรม"},{"$f":"IF(หลักสูตร!$T$54=0,\"\",หลักสูตร!T$54)","v":"กิจกรรม"},{"$f":"IF(หลักสูตร!$T$55=0,\"\",หลักสูตร!T$55)","v":""}]
[null,null,null,null,null,null,"น้ำหนัก",{"$f":"IF(หลักสูตร!$W$32=0,\"\",หลักสูตร!$W$32)","v":4},{"$f":"IF(หลักสูตร!$W$33=0,\"\",หลักสูตร!$W$33)","v":4},{"$f":"IF(หลักสูตร!$W$34=0,\"\",หลักสูตร!$W$34)","v":2},{"$f":"IF(หลักสูตร!$W$35=0,\"\",หลักสูตร!$W$35)","v":2},{"$f":"IF(หลักสูตร!$W$36=0,\"\",หลักสูตร!$W$36)","v":1},{"$f":"IF(หลักสูตร!$W$37=0,\"\",หลักสูตร!$W$37)","v":2},{"$f":"IF(หลักสูตร!$W$38=0,\"\",หลักสูตร!$W$38)","v":2},{"$f":"IF(หลักสูตร!$W$39=0,\"\",หลักสูตร!$W$39)","v":2},{"$f":"IF(หลักสูตร!$W$40=0,\"\",หลักสูตร!$W$40)","v":2},{"$f":"IF(หลักสูตร!$W$41=0,\"\",หลักสูตร!$W$41)","v":1},{"$f":"IF(หลักสูตร!$W$42=0,\"\",หลักสูตร!$W$42)","v":1.5},{"$f":"IF(หลักสูตร!$W$43=0,\"\",หลักสูตร!$W$43)","v":""},{"$f":"IF(หลักสูตร!$W$44=0,\"\",หลักสูตร!$W$44)","v":""},{"$f":"IF(หลักสูตร!$W$45=0,\"\",หลักสูตร!$W$45)","v":""},{"$f":"IF(หลักสูตร!$W$46=0,\"\",หลักสูตร!$W$46)","v":""},{"$f":"IF(หลักสูตร!$W$47=0,\"\",หลักสูตร!$W$47)","v":""},{"$f":"IF(หลักสูตร!$W$48=0,\"\",หลักสูตร!$W$48)","v":""},{"$f":"IF(หลักสูตร!$W$49=0,\"\",หลักสูตร!$W$49)","v":""},{"$f":"IF(หลักสูตร!$W$51=0,\"\",หลักสูตร!$W$51)","v":"-"},{"$f":"IF(หลักสูตร!$W$52=0,\"\",หลักสูตร!$W$52)","v":"-"},{"$f":"IF(หลักสูตร!$W$53=0,\"\",หลักสูตร!$W$53)","v":"-"},{"$f":"IF(หลักสูตร!$W$54=0,\"\",หลักสูตร!$W$54)","v":"-"},{"$f":"IF(หลักสูตร!$W$55=0,\"\",หลักสูตร!$W$55)","v":"-"},null,null,null,{"$f":"SUMIF(H5:Y5,\"<>กิจกรรม\",H6:AA6)","v":23.5}]
[{"$f":"ข้อมูลนักเรียน!A7","v":1},{"$f":"IF(ข้อมูลนักเรียน!B7=0,\"\",ข้อมูลนักเรียน!B7)","v":1},{"$f":"IF(ข้อมูลนักเรียน!C7=0,\"\",ข้อมูลนักเรียน!C7)","v":"00001"},{"$f":"IF(ข้อมูลนักเรียน!C7=0,\"\",ข้อมูลนักเรียน!D7 & ข้อมูลนักเรียน!E7 & \"   \"& ข้อมูลนักเรียน!F7)","v":"เด็กชายสมชาย   สุขสบาย"},{"$f":"IF(ข้อมูลนักเรียน!C7=0,\"\",ข้อมูลนักเรียน!G7)","v":1111111111111},{"$f":"ข้อมูลนักเรียน!B7","v":1},null,4,1,1,4,4,4,4,4,2.5,1.5,2,null,null,null,null,null,null,null,"ผ","ผ","ผ","ผ",null,3,3,{"$f":"IF(COUNTIFS(Z7:AD7,\"=มผ\") > 0,\"ไม่ผ่าน\",\"ผ่าน\")","v":"ผ่าน"},{"$f":"ROUNDDOWN(3.75,2)","v":3.75},"จ16201  ภาษาจีน",{"$f":"IF(AF7=1,\"ผ่าน\",IF(AF7=2,\"ดี\",IF(AF7=3,\"ดีเยี่ยม\",\"ปรับปรุง\")))","v":"ดีเยี่ยม"},"คอมพิวเตอร์",22,"เกรด","อ่าน/คุณ","กิจกรรม"]
[{"$f":"ข้อมูลนักเรียน!A8","v":1},{"$f":"IF(ข้อมูลนักเรียน!B8=0,\"\",ข้อมูลนักเรียน!B8)","v":2},{"$f":"IF(ข้อมูลนักเรียน!C8=0,\"\",ข้อมูลนักเรียน!C8)","v":"00002"},{"$f":"IF(ข้อมูลนักเรียน!C8=0,\"\",ข้อมูลนักเรียน!D8 & ข้อมูลนักเรียน!E8 & \"   \"& ข้อมูลนักเรียน!F8)","v":"เด็กหญิงสมหวัง   ตั้งใจเรียน"},{"$f":"IF(ข้อมูลนักเรียน!C8=0,\"\",ข้อมูลนักเรียน!G8)","v":2222222222222},{"$f":"ข้อมูลนักเรียน!B8","v":2},null,3,4,4,4,4,3,4,4,4,1.5,1,null,null,null,null,null,null,null,"ผ","ผ","ผ","ผ",null,3,3,"ผ่าน",{"$f":"ROUNDDOWN(3.61363636363636,2)","v":3.61},"ง16202  เกษตรเพื่อชีวิต","ดีเยี่ยม","ดนตรี",22,0,0,"ผ"]
[{"$f":"ข้อมูลนักเรียน!A9","v":0},{"$f":"IF(ข้อมูลนักเรียน!B9=0,\"\",ข้อมูลนักเรียน!B9)","v":""},{"$f":"IF(ข้อมูลนักเรียน!C9=0,\"\",ข้อมูลนักเรียน!C9)","v":""},{"$f":"IF(ข้อมูลนักเรียน!C9=0,\"\",ข้อมูลนักเรียน!D9 & ข้อมูลนักเรียน!E9 & \"   \"& ข้อมูลนักเรียน!F9)","v":""},{"$f":"IF(ข้อมูลนักเรียน!C9=0,\"\",ข้อมูลนักเรียน!G9)","v":""},{"$f":"ข้อมูลนักเรียน!B9","v":0},null,null,null,null,null,null,null,null,null,null,null,null,null,null,null,null,null,null,null,null,null,null,null,null,null,null,{"$f":"IF(COUNTIFS(Z9:AD9,\"=มผ\") > 0,\"ไม่ผ่าน\",\"ผ่าน\")","v":"ผ่าน"},{"$f":"ROUNDDOWN(0,2)","v":0},null,{"$f":"IF(AF9=1,\"ผ่าน\",IF(AF9=2,\"ดี\",IF(AF9=3,\"ดีเยี่ยม\",\"ปรับปรุง\")))","v":"ปรับปรุง"},null,22,1,1,"มผ"]
[{"$f":"ข้อมูลนักเรียน!A10","v":0},{"$f":"IF(ข้อมูลนักเรียน!B10=0,\"\",ข้อมูลนักเรียน!B10)","v":""},{"$f":"IF(ข้อมูลนักเรียน!C10=0,\"\",ข้อมูลนักเรียน!C10)","v":""},{"$f":"IF(ข้อมูลนักเรียน!C10=0,\"\",ข้อมูลนักเรียน!D10 & ข้อมูลนักเรียน!E10 & \"   \"& ข้อมูลนักเรียน!F10)","v":""},{"$f":"IF(ข้อมูลนักเรียน!C10=0,\"\",ข้อมูลนักเรียน!G10)","v":""},{"$f":"ข้อมูลนักเรียน!B10","v":0},null,null,null,null,null,null,null,null,null,null,null,null,null,null,null,null,null,null,null,null,null,null,null,null,null,null,"ผ่าน",0,null,"ปรับปรุง",null,22,1.5,2]
[{"$f":"ข้อมูลนักเรียน!A11","v":0},{"$f":"IF(ข้อมูลนักเรียน!B11=0,\"\",ข้อมูลนักเรียน!B11)","v":""},{"$f":"IF(ข้อมูลนักเรียน!C11=0,\"\",ข้อมูลนักเรียน!C11)","v":""},{"$f":"IF(ข้อมูลนักเรียน!C11=0,\"\",ข้อมูลนักเรียน!D11 & ข้อมูลนักเรียน!E11 & \"   \"& ข้อมูลนักเรียน!F11)","v":""},{"$f":"IF(ข้อมูลนักเรียน!C11=0,\"\",ข้อมูลนักเรียน!G11)","v":""},{"$f":"ข้อมูลนักเรียน!B11","v":0},null,null,null,null,null,null,null,null,null,null,null,null,null,null,null,null,null,null,null,null,null,null,null,null,null,null,"ผ่าน",0,null,"ปรับปรุง",null,22,2,3]
[{"$f":"ข้อมูลนักเรียน!A12","v":0},{"$f":"IF(ข้อมูลนักเรียน!B12=0,\"\",ข้อมูลนักเรียน!B12)","v":""},{"$f":"IF(ข้อมูลนักเรียน!C12=0,\"\",ข้อมูลนักเรียน!C12)","v":""},{"$f":"IF(ข้อมูลนักเรียน!C12=0,\"\",ข้อมูลนักเรียน!D12 & ข้อมูลนักเรียน!E12 & \"   \"& ข้อมูลนักเรียน!F12)","v":""},{"$f":"IF(ข้อมูลนักเรียน!C12=0,\"\",ข้อมูลนักเรียน!G12)","v":""},{"$f":"ข้อมูลนักเรียน!B12","v":0},null,null,null,null,null,null,null,null,null,null,null,null,null,null,null,null,null,null,null,null,null,null,null,null,null,null,"ผ่าน",0,null,"ปรับปรุง",null,22,2.5]
[{"$f":"ข้อมูลนักเรียน!A13","v":0},{"$f":"IF(ข้อมูลนักเรียน!B13=0,\"\",ข้อมูลนักเรียน!B13)","v":""},{"$f":"IF(ข้อมูลนักเรียน!C13=0,\"\",ข้อมูลนักเรียน!C13)","v":""},{"$f":"IF(ข้อมูลนักเรียน!C13=0,\"\",ข้อมูลนักเรียน!D13 & ข้อมูลนักเรียน!E13 & \"   \"& ข้อมูลนักเรียน!F13)","v":""},{"$f":"IF(ข้อมูลนักเรียน!C13=0,\"\",ข้อมูลนักเรียน!G13)","v":""},{"$f":"ข้อมูลนักเรียน!B13","v":0},null,null,null,null,null,null,null,null,null,null,null,null,null,null,null,null,null,null,null,null,null,null,null,null,null,null,"ผ่าน",0,null,"ปรับปรุง",null,22,3]
[{"$f":"ข้อมูลนักเรียน!A14","v":0},{"$f":"IF(ข้อมูลนักเรียน!B14=0,\"\",ข้อมูลนักเรียน!B14)","v":""},{"$f":"IF(ข้อมูลนักเรียน!C14=0,\"\",ข้อมูลนักเรียน!C14)","v":""},{"$f":"IF(ข้อมูลนักเรียน!C14=0,\"\",ข้อมูลนักเรียน!D14 & ข้อมูลนักเรียน!E14 & \"   \"& ข้อมูลนักเรียน!F14)","v":""},{"$f":"IF(ข้อมูลนักเรียน!C14=0,\"\",ข้อมูลนักเรียน!G14)","v":""},{"$f":"ข้อมูลนักเรียน!B14","v":0},null,null,null,null,null,null,null,null,null,null,null,null,null,null,null,null,null,null,null,null,null,null,null,null,null,null,"ผ่าน",0,null,"ปรับปรุง",null,22,3.5]
[{"$f":"ข้อมูลนักเรียน!A15","v":0},{"$f":"IF(ข้อมูลนักเรียน!B15=0,\"\",ข้อมูลนักเรียน!B15)","v":""},{"$f":"IF(ข้อมูลนักเรียน!C15=0,\"\",ข้อมูลนักเรียน!C15)","v":""},{"$f":"IF(ข้อมูลนักเรียน!C15=0,\"\",ข้อมูลนักเรียน!D15 & ข้อมูลนักเรียน!E15 & \"   \"& ข้อมูลนักเรียน!F15)","v":""},{"$f":"IF(ข้อมูลนักเรียน!C15=0,\"\",ข้อมูลนักเรียน!G15)","v":""},{"$f":"ข้อมูลนักเรียน!B15","v":0},null,null,null,null,null,null,null,null,null,null,null,null,null,null,null,null,null,null,null,null,null,null,null,null,null,null,"ผ่าน",0,null,"ปรับปรุง",null,22,4]
[{"$f":"ข้อมูลนักเรียน!A16","v":0},{"$f":"IF(ข้อมูลนักเรียน!B16=0,\"\",ข้อมูลนักเรียน!B16)","v":""},{"$f":"IF(ข้อมูลนักเรียน!C16=0,\"\",ข้อมูลนักเรียน!C16)","v":""},{"$f":"IF(ข้อมูลนักเรียน!C16=0,\"\",ข้อมูลนักเรียน!D16 & ข้อมูลนักเรียน!E16 & \"   \"& ข้อมูลนักเรียน!F16)","v":""},{"$f":"IF(ข้อมูลนักเรียน!C16=0,\"\",ข้อมูลนักเรียน!G16)","v":""},{"$f":"ข้อมูลนักเรียน!B16","v":0},null,null,null,null,null,null,null,null,null,null,null,null,null,null,null,null,null,null,null,null,null,null,null,null,null,null,"ผ่าน",0,null,"ปรับปรุง",null,22,"ร"]
[{"$f":"ข้อมูลนักเรียน!A17","v":0},{"$f":"IF(ข้อมูลนักเรียน!B17=0,\"\",ข้อมูลนักเรียน!B17)","v":""},{"$f":"IF(ข้อมูลนักเรียน!C17=0,\"\",ข้อมูลนักเรียน!C17)","v":""},{"$f":"IF(ข้อมูลนักเรียน!C17=0,\"\",ข้อมูลนักเรียน!D17 & ข้อมูลนักเรียน!E17 & \"   \"& ข้อมูลนักเรียน!F17)","v":""},{"$f":"IF(ข้อมูลนักเรียน!C17=0,\"\",ข้อมูลนักเรียน!G17)","v":""},{"$f":"ข้อมูลนักเรียน!B17","v":0},null,null,null,null,null,null,null,null,null,null,null,null,null,null,null,null,null,null,null,null,null,null,null,null,null,null,"ผ่าน",0,null,"ปรับปรุง",null,22,"มส"]
[{"$f":"ข้อมูลนักเรียน!A18","v":0},{"$f":"IF(ข้อมูลนักเรียน!B18=0,\"\",ข้อมูลนักเรียน!B18)","v":""},{"$f":"IF(ข้อมูลนักเรียน!C18=0,\"\",ข้อมูลนักเรียน!C18)","v":""},{"$f":"IF(ข้อมูลนักเรียน!C18=0,\"\",ข้อมูลนักเรียน!D18 & ข้อมูลนักเรียน!E18 & \"   \"& ข้อมูลนักเรียน!F18)","v":""},{"$f":"IF(ข้อมูลนักเรียน!C18=0,\"\",ข้อมูลนักเรียน!G18)","v":""},{"$f":"ข้อมูลนักเรียน!B18","v":0},null,null,null,null,null,null,null,null,null,null,null,null,null,null,null,null,null,null,null,null,null,null,null,null,null,null,"ผ่าน",0,null,"ปรับปรุง",null,22,"ผ"]
[{"$f":"ข้อมูลนักเรียน!A19","v":0},{"$f":"IF(ข้อมูลนักเรียน!B19=0,\"\",ข้อมูลนักเรียน!B19)","v":""},{"$f":"IF(ข้อมูลนักเรียน!C19=0,\"\",ข้อมูลนักเรียน!C19)","v":""},{"$f":"IF(ข้อมูลนักเรียน!C19=0,\"\",ข้อมูลนักเรียน!D19 & ข้อมูลนักเรียน!E19 & \"   \"& ข้อมูลนักเรียน!F19)","v":""},{"$f":"IF(ข้อมูลนักเรียน!C19=0,\"\",ข้อมูลนักเรียน!G19)","v":""},{"$f":"ข้อมูลนักเรียน!B19","v":0},null,null,null,null,null,null,null,null,null,null,null,null,null,null,null,null,null,null,null,null,null,null,null,null,null,null,"ผ่าน",0,null,"ปรับปรุง",null,22,"มผ"]
[{"$f":"ข้อมูลนักเรียน!A20","v":0},{"$f":"IF(ข้อมูลนักเรียน!B20=0,\"\",ข้อมูลนักเรียน!B20)","v":""},{"$f":"IF(ข้อมูลนักเรียน!C20=0,\"\",ข้อมูลนักเรียน!C20)","v":""},{"$f":"IF(ข้อมูลนักเรียน!C20=0,\"\",ข้อมูลนักเรียน!D20 & ข้อมูลนักเรียน!E20 & \"   \"& ข้อมูลนักเรียน!F20)","v":""},{"$f":"IF(ข้อมูลนักเรียน!C20=0,\"\",ข้อมูลนักเรียน!G20)","v":""},{"$f":"ข้อมูลนักเรียน!B20","v":0},null,null,null,null,null,null,null,null,null,null,null,null,null,null,null,null,null,null,null,null,null,null,null,null,null,null,"ผ่าน",0,null,"ปรับปรุง",null,22]
[{"$f":"ข้อมูลนักเรียน!A21","v":0},{"$f":"IF(ข้อมูลนักเรียน!B21=0,\"\",ข้อมูลนักเรียน!B21)","v":""},{"$f":"IF(ข้อมูลนักเรียน!C21=0,\"\",ข้อมูลนักเรียน!C21)","v":""},{"$f":"IF(ข้อมูลนักเรียน!C21=0,\"\",ข้อมูลนักเรียน!D21 & ข้อมูลนักเรียน!E21 & \"   \"& ข้อมูลนักเรียน!F21)","v":""},{"$f":"IF(ข้อมูลนักเรียน!C21=0,\"\",ข้อมูลนักเรียน!G21)","v":""},{"$f":"ข้อมูลนักเรียน!B21","v":0},null,null,null,null,null,null,null,null,null,null,null,null,null,null,null,null,null,null,null,null,null,null,null,null,null,null,"ผ่าน",0,null,"ปรับปรุง",null,22]
[{"$f":"ข้อมูลนักเรียน!A22","v":0},{"$f":"IF(ข้อมูลนักเรียน!B22=0,\"\",ข้อมูลนักเรียน!B22)","v":""},{"$f":"IF(ข้อมูลนักเรียน!C22=0,\"\",ข้อมูลนักเรียน!C22)","v":""},{"$f":"IF(ข้อมูลนักเรียน!C22=0,\"\",ข้อมูลนักเรียน!D22 & ข้อมูลนักเรียน!E22 & \"   \"& ข้อมูลนักเรียน!F22)","v":""},{"$f":"IF(ข้อมูลนักเรียน!C22=0,\"\",ข้อมูลนักเรียน!G22)","v":""},{"$f":"ข้อมูลนักเรียน!B22","v":0},null,null,null,null,null,null,null,null,null,null,null,null,null,null,null,null,null,null,null,null,null,null,null,null,null,null,"ผ่าน",0,null,"ปรับปรุง",null,22]
[{"$f":"ข้อมูลนักเรียน!A23","v":0},{"$f":"IF(ข้อมูลนักเรียน!B23=0,\"\",ข้อมูลนักเรียน!B23)","v":""},{"$f":"IF(ข้อมูลนักเรียน!C23=0,\"\",ข้อมูลนักเรียน!C23)","v":""},{"$f":"IF(ข้อมูลนักเรียน!C23=0,\"\",ข้อมูลนักเรียน!D23 & ข้อมูลนักเรียน!E23 & \"   \"& ข้อมูลนักเรียน!F23)","v":""},{"$f":"IF(ข้อมูลนักเรียน!C23=0,\"\",ข้อมูลนักเรียน!G23)","v":""},{"$f":"ข้อมูลนักเรียน!B23","v":0},null,null,null,null,null,null,null,null,null,null,null,null,null,null,null,null,null,null,null,null,null,null,null,null,null,null,"ผ่าน",0,null,"ปรับปรุง",null,22]
[{"$f":"ข้อมูลนักเรียน!A24","v":0},{"$f":"IF(ข้อมูลนักเรียน!B24=0,\"\",ข้อมูลนักเรียน!B24)","v":""},{"$f":"IF(ข้อมูลนักเรียน!C24=0,\"\",ข้อมูลนักเรียน!C24)","v":""},{"$f":"IF(ข้อมูลนักเรียน!C24=0,\"\",ข้อมูลนักเรียน!D24 & ข้อมูลนักเรียน!E24 & \"   \"& ข้อมูลนักเรียน!F24)","v":""},{"$f":"IF(ข้อมูลนักเรียน!C24=0,\"\",ข้อมูลนักเรียน!G24)","v":""},{"$f":"ข้อมูลนักเรียน!B24","v":0},null,null,null,null,null,null,null,null,null,null,null,null,null,null,null,null,null,null,null,null,null,null,null,null,null,null,"ผ่าน",0,null,"ปรับปรุง",null,22]
[{"$f":"ข้อมูลนักเรียน!A25","v":0},{"$f":"IF(ข้อมูลนักเรียน!B25=0,\"\",ข้อมูลนักเรียน!B25)","v":""},{"$f":"IF(ข้อมูลนักเรียน!C25=0,\"\",ข้อมูลนักเรียน!C25)","v":""},{"$f":"IF(ข้อมูลนักเรียน!C25=0,\"\",ข้อมูลนักเรียน!D25 & ข้อมูลนักเรียน!E25 & \"   \"& ข้อมูลนักเรียน!F25)","v":""},{"$f":"IF(ข้อมูลนักเรียน!C25=0,\"\",ข้อมูลนักเรียน!G25)","v":""},{"$f":"ข้อมูลนักเรียน!B25","v":0},null,null,null,null,null,null,null,null,null,null,null,null,null,null,null,null,null,null,null,null,null,null,null,null,null,null,"ผ่าน",0,null,"ปรับปรุง",null,22]
[{"$f":"ข้อมูลนักเรียน!A26","v":0},{"$f":"IF(ข้อมูลนักเรียน!B26=0,\"\",ข้อมูลนักเรียน!B26)","v":""},{"$f":"IF(ข้อมูลนักเรียน!C26=0,\"\",ข้อมูลนักเรียน!C26)","v":""},{"$f":"IF(ข้อมูลนักเรียน!C26=0,\"\",ข้อมูลนักเรียน!D26 & ข้อมูลนักเรียน!E26 & \"   \"& ข้อมูลนักเรียน!F26)","v":""},{"$f":"IF(ข้อมูลนักเรียน!C26=0,\"\",ข้อมูลนักเรียน!G26)","v":""},{"$f":"ข้อมูลนักเรียน!B26","v":0},null,null,null,null,null,null,null,null,null,null,null,null,null,null,null,null,null,null,null,null,null,null,null,null,null,null,"ผ่าน",0,null,"ปรับปรุง",null,22]
[{"$f":"ข้อมูลนักเรียน!A27","v":0},{"$f":"IF(ข้อมูลนักเรียน!B27=0,\"\",ข้อมูลนักเรียน!B27)","v":""},{"$f":"IF(ข้อมูลนักเรียน!C27=0,\"\",ข้อมูลนักเรียน!C27)","v":""},{"$f":"IF(ข้อมูลนักเรียน!C27=0,\"\",ข้อมูลนักเรียน!D27 & ข้อมูลนักเรียน!E27 & \"   \"& ข้อมูลนักเรียน!F27)","v":""},{"$f":"IF(ข้อมูลนักเรียน!C27=0,\"\",ข้อมูลนักเรียน!G27)","v":""},{"$f":"ข้อมูลนักเรียน!B27","v":0},null,null,null,null,null,null,null,null,null,null,null,null,null,null,null,null,null,null,null,null,null,null,null,null,null,null,"ผ่าน",0,null,"ปรับปรุง",null,22]
[{"$f":"ข้อมูลนักเรียน!A28","v":0},{"$f":"IF(ข้อมูลนักเรียน!B28=0,\"\",ข้อมูลนักเรียน!B28)","v":""},{"$f":"IF(ข้อมูลนักเรียน!C28=0,\"\",ข้อมูลนักเรียน!C28)","v":""},{"$f":"IF(ข้อมูลนักเรียน!C28=0,\"\",ข้อมูลนักเรียน!D28 & ข้อมูลนักเรียน!E28 & \"   \"& ข้อมูลนักเรียน!F28)","v":""},{"$f":"IF(ข้อมูลนักเรียน!C28=0,\"\",ข้อมูลนักเรียน!G28)","v":""},{"$f":"ข้อมูลนักเรียน!B28","v":0},null,null,null,null,null,null,null,null,null,null,null,null,null,null,null,null,null,null,null,null,null,null,null,null,null,null,"ผ่าน",0,null,"ปรับปรุง",null,22]
[{"$f":"ข้อมูลนักเรียน!A29","v":0},{"$f":"IF(ข้อมูลนักเรียน!B29=0,\"\",ข้อมูลนักเรียน!B29)","v":""},{"$f":"IF(ข้อมูลนักเรียน!C29=0,\"\",ข้อมูลนักเรียน!C29)","v":""},{"$f":"IF(ข้อมูลนักเรียน!C29=0,\"\",ข้อมูลนักเรียน!D29 & ข้อมูลนักเรียน!E29 & \"   \"& ข้อมูลนักเรียน!F29)","v":""},{"$f":"IF(ข้อมูลนักเรียน!C29=0,\"\",ข้อมูลนักเรียน!G29)","v":""},{"$f":"ข้อมูลนักเรียน!B29","v":0},null,null,null,null,null,null,null,null,null,null,null,null,null,null,null,null,null,null,null,null,null,null,null,null,null,null,"ผ่าน",0,null,"ปรับปรุง",null,22]
[{"$f":"ข้อมูลนักเรียน!A30","v":0},{"$f":"IF(ข้อมูลนักเรียน!B30=0,\"\",ข้อมูลนักเรียน!B30)","v":""},{"$f":"IF(ข้อมูลนักเรียน!C30=0,\"\",ข้อมูลนักเรียน!C30)","v":""},{"$f":"IF(ข้อมูลนักเรียน!C30=0,\"\",ข้อมูลนักเรียน!D30 & ข้อมูลนักเรียน!E30 & \"   \"& ข้อมูลนักเรียน!F30)","v":""},{"$f":"IF(ข้อมูลนักเรียน!C30=0,\"\",ข้อมูลนักเรียน!G30)","v":""},{"$f":"ข้อมูลนักเรียน!B30","v":0},null,null,null,null,null,null,null,null,null,null,null,null,null,null,null,null,null,null,null,null,null,null,null,null,null,null,"ผ่าน",0,null,"ปรับปรุง",null,22]
[{"$f":"ข้อมูลนักเรียน!A31","v":0},{"$f":"IF(ข้อมูลนักเรียน!B31=0,\"\",ข้อมูลนักเรียน!B31)","v":""},{"$f":"IF(ข้อมูลนักเรียน!C31=0,\"\",ข้อมูลนักเรียน!C31)","v":""},{"$f":"IF(ข้อมูลนักเรียน!C31=0,\"\",ข้อมูลนักเรียน!D31 & ข้อมูลนักเรียน!E31 & \"   \"& ข้อมูลนักเรียน!F31)","v":""},{"$f":"IF(ข้อมูลนักเรียน!C31=0,\"\",ข้อมูลนักเรียน!G31)","v":""},{"$f":"ข้อมูลนักเรียน!B31","v":0},null,null,null,null,null,null,null,null,null,null,null,null,null,null,null,null,null,null,null,null,null,null,null,null,null,null,"ผ่าน",0,null,"ปรับปรุง",null,22]
[{"$f":"ข้อมูลนักเรียน!A32","v":0},{"$f":"IF(ข้อมูลนักเรียน!B32=0,\"\",ข้อมูลนักเรียน!B32)","v":""},{"$f":"IF(ข้อมูลนักเรียน!C32=0,\"\",ข้อมูลนักเรียน!C32)","v":""},{"$f":"IF(ข้อมูลนักเรียน!C32=0,\"\",ข้อมูลนักเรียน!D32 & ข้อมูลนักเรียน!E32 & \"   \"& ข้อมูลนักเรียน!F32)","v":""},{"$f":"IF(ข้อมูลนักเรียน!C32=0,\"\",ข้อมูลนักเรียน!G32)","v":""},{"$f":"ข้อมูลนักเรียน!B32","v":0},null,null,null,null,null,null,null,null,null,null,null,null,null,null,null,null,null,null,null,null,null,null,null,null,null,null,"ผ่าน",0,null,"ปรับปรุง",null,22]
[{"$f":"ข้อมูลนักเรียน!A33","v":0},{"$f":"IF(ข้อมูลนักเรียน!B33=0,\"\",ข้อมูลนักเรียน!B33)","v":""},{"$f":"IF(ข้อมูลนักเรียน!C33=0,\"\",ข้อมูลนักเรียน!C33)","v":""},{"$f":"IF(ข้อมูลนักเรียน!C33=0,\"\",ข้อมูลนักเรียน!D33 & ข้อมูลนักเรียน!E33 & \"   \"& ข้อมูลนักเรียน!F33)","v":""},{"$f":"IF(ข้อมูลนักเรียน!C33=0,\"\",ข้อมูลนักเรียน!G33)","v":""},{"$f":"ข้อมูลนักเรียน!B33","v":0},null,null,null,null,null,null,null,null,null,null,null,null,null,null,null,null,null,null,null,null,null,null,null,null,null,null,"ผ่าน",0,null,"ปรับปรุง",null,22]
[{"$f":"ข้อมูลนักเรียน!A34","v":0},{"$f":"IF(ข้อมูลนักเรียน!B34=0,\"\",ข้อมูลนักเรียน!B34)","v":""},{"$f":"IF(ข้อมูลนักเรียน!C34=0,\"\",ข้อมูลนักเรียน!C34)","v":""},{"$f":"IF(ข้อมูลนักเรียน!C34=0,\"\",ข้อมูลนักเรียน!D34 & ข้อมูลนักเรียน!E34 & \"   \"& ข้อมูลนักเรียน!F34)","v":""},{"$f":"IF(ข้อมูลนักเรียน!C34=0,\"\",ข้อมูลนักเรียน!G34)","v":""},{"$f":"ข้อมูลนักเรียน!B34","v":0},null,null,null,null,null,null,null,null,null,null,null,null,null,null,null,null,null,null,null,null,null,null,null,null,null,null,"ผ่าน",0,null,"ปรับปรุง",null,22]
[{"$f":"ข้อมูลนักเรียน!A35","v":0},{"$f":"IF(ข้อมูลนักเรียน!B35=0,\"\",ข้อมูลนักเรียน!B35)","v":""},{"$f":"IF(ข้อมูลนักเรียน!C35=0,\"\",ข้อมูลนักเรียน!C35)","v":""},{"$f":"IF(ข้อมูลนักเรียน!C35=0,\"\",ข้อมูลนักเรียน!D35 & ข้อมูลนักเรียน!E35 & \"   \"& ข้อมูลนักเรียน!F35)","v":""},{"$f":"IF(ข้อมูลนักเรียน!C35=0,\"\",ข้อมูลนักเรียน!G35)","v":""},{"$f":"ข้อมูลนักเรียน!B35","v":0},null,null,null,null,null,null,null,null,null,null,null,null,null,null,null,null,null,null,null,null,null,null,null,null,null,null,"ผ่าน",0,null,"ปรับปรุง",null,22]
[{"$f":"ข้อมูลนักเรียน!A36","v":0},{"$f":"IF(ข้อมูลนักเรียน!B36=0,\"\",ข้อมูลนักเรียน!B36)","v":""},{"$f":"IF(ข้อมูลนักเรียน!C36=0,\"\",ข้อมูลนักเรียน!C36)","v":""},{"$f":"IF(ข้อมูลนักเรียน!C36=0,\"\",ข้อมูลนักเรียน!D36 & ข้อมูลนักเรียน!E36 & \"   \"& ข้อมูลนักเรียน!F36)","v":""},{"$f":"IF(ข้อมูลนักเรียน!C36=0,\"\",ข้อมูลนักเรียน!G36)","v":""},{"$f":"ข้อมูลนักเรียน!B36","v":0},null,null,null,null,null,null,null,null,null,null,null,null,null,null,null,null,null,null,null,null,null,null,null,null,null,null,"ผ่าน",0,null,"ปรับปรุง",null,22]
[{"$f":"ข้อมูลนักเรียน!A37","v":0},{"$f":"IF(ข้อมูลนักเรียน!B37=0,\"\",ข้อมูลนักเรียน!B37)","v":""},{"$f":"IF(ข้อมูลนักเรียน!C37=0,\"\",ข้อมูลนักเรียน!C37)","v":""},{"$f":"IF(ข้อมูลนักเรียน!C37=0,\"\",ข้อมูลนักเรียน!D37 & ข้อมูลนักเรียน!E37 & \"   \"& ข้อมูลนักเรียน!F37)","v":""},{"$f":"IF(ข้อมูลนักเรียน!C37=0,\"\",ข้อมูลนักเรียน!G37)","v":""},{"$f":"ข้อมูลนักเรียน!B37","v":0},null,null,null,null,null,null,null,null,null,null,null,null,null,null,null,null,null,null,null,null,null,null,null,null,null,null,"ผ่าน",0,null,"ปรับปรุง",null,22]
[{"$f":"ข้อมูลนักเรียน!A38","v":0},{"$f":"IF(ข้อมูลนักเรียน!B38=0,\"\",ข้อมูลนักเรียน!B38)","v":""},{"$f":"IF(ข้อมูลนักเรียน!C38=0,\"\",ข้อมูลนักเรียน!C38)","v":""},{"$f":"IF(ข้อมูลนักเรียน!C38=0,\"\",ข้อมูลนักเรียน!D38 & ข้อมูลนักเรียน!E38 & \"   \"& ข้อมูลนักเรียน!F38)","v":""},{"$f":"IF(ข้อมูลนักเรียน!C38=0,\"\",ข้อมูลนักเรียน!G38)","v":""},{"$f":"ข้อมูลนักเรียน!B38","v":0},null,null,null,null,null,null,null,null,null,null,null,null,null,null,null,null,null,null,null,null,null,null,null,null,null,null,"ผ่าน",0,null,"ปรับปรุง",null,22]
[{"$f":"ข้อมูลนักเรียน!A39","v":0},{"$f":"IF(ข้อมูลนักเรียน!B39=0,\"\",ข้อมูลนักเรียน!B39)","v":""},{"$f":"IF(ข้อมูลนักเรียน!C39=0,\"\",ข้อมูลนักเรียน!C39)","v":""},{"$f":"IF(ข้อมูลนักเรียน!C39=0,\"\",ข้อมูลนักเรียน!D39 & ข้อมูลนักเรียน!E39 & \"   \"& ข้อมูลนักเรียน!F39)","v":""},{"$f":"IF(ข้อมูลนักเรียน!C39=0,\"\",ข้อมูลนักเรียน!G39)","v":""},{"$f":"ข้อมูลนักเรียน!B39","v":0},null,null,null,null,null,null,null,null,null,null,null,null,null,null,null,null,null,null,null,null,null,null,null,null,null,null,"ผ่าน",0,null,"ปรับปรุง",null,22]
[{"$f":"ข้อมูลนักเรียน!A40","v":0},{"$f":"IF(ข้อมูลนักเรียน!B40=0,\"\",ข้อมูลนักเรียน!B40)","v":""},{"$f":"IF(ข้อมูลนักเรียน!C40=0,\"\",ข้อมูลนักเรียน!C40)","v":""},{"$f":"IF(ข้อมูลนักเรียน!C40=0,\"\",ข้อมูลนักเรียน!D40 & ข้อมูลนักเรียน!E40 & \"   \"& ข้อมูลนักเรียน!F40)","v":""},{"$f":"IF(ข้อมูลนักเรียน!C40=0,\"\",ข้อมูลนักเรียน!G40)","v":""},{"$f":"ข้อมูลนักเรียน!B40","v":0},null,null,null,null,null,null,null,null,null,null,null,null,null,null,null,null,null,null,null,null,null,null,null,null,null,null,"ผ่าน",0,null,"ปรับปรุง",null,22]
[{"$f":"ข้อมูลนักเรียน!A41","v":0},{"$f":"IF(ข้อมูลนักเรียน!B41=0,\"\",ข้อมูลนักเรียน!B41)","v":""},{"$f":"IF(ข้อมูลนักเรียน!C41=0,\"\",ข้อมูลนักเรียน!C41)","v":""},{"$f":"IF(ข้อมูลนักเรียน!C41=0,\"\",ข้อมูลนักเรียน!D41 & ข้อมูลนักเรียน!E41 & \"   \"& ข้อมูลนักเรียน!F41)","v":""},{"$f":"IF(ข้อมูลนักเรียน!C41=0,\"\",ข้อมูลนักเรียน!G41)","v":""},{"$f":"ข้อมูลนักเรียน!B41","v":0},null,null,null,null,null,null,null,null,null,null,null,null,null,null,null,null,null,null,null,null,null,null,null,null,null,null,"ผ่าน",{"$f":"ROUNDDOWN(0,2)","v":0},null,"ปรับปรุง",null,22]
[{"$f":"ข้อมูลนักเรียน!A42","v":0},{"$f":"IF(ข้อมูลนักเรียน!B42=0,\"\",ข้อมูลนักเรียน!B42)","v":""},{"$f":"IF(ข้อมูลนักเรียน!C42=0,\"\",ข้อมูลนักเรียน!C42)","v":""},{"$f":"IF(ข้อมูลนักเรียน!C42=0,\"\",ข้อมูลนักเรียน!D42 & ข้อมูลนักเรียน!E42 & \"   \"& ข้อมูลนักเรียน!F42)","v":""},{"$f":"IF(ข้อมูลนักเรียน!C42=0,\"\",ข้อมูลนักเรียน!G42)","v":""},{"$f":"ข้อมูลนักเรียน!B42","v":0},null,null,null,null,null,null,null,null,null,null,null,null,null,null,null,null,null,null,null,null,null,null,null,null,null,null,"ผ่าน",0,null,"ปรับปรุง",null,22]
[{"$f":"ข้อมูลนักเรียน!A43","v":0},{"$f":"IF(ข้อมูลนักเรียน!B43=0,\"\",ข้อมูลนักเรียน!B43)","v":""},{"$f":"IF(ข้อมูลนักเรียน!C43=0,\"\",ข้อมูลนักเรียน!C43)","v":""},{"$f":"IF(ข้อมูลนักเรียน!C43=0,\"\",ข้อมูลนักเรียน!D43 & ข้อมูลนักเรียน!E43 & \"   \"& ข้อมูลนักเรียน!F43)","v":""},{"$f":"IF(ข้อมูลนักเรียน!C43=0,\"\",ข้อมูลนักเรียน!G43)","v":""},{"$f":"ข้อมูลนักเรียน!B43","v":0},null,null,null,null,null,null,null,null,null,null,null,null,null,null,null,null,null,null,null,null,null,null,null,null,null,null,"ผ่าน",0,null,"ปรับปรุง",null,22]
[{"$f":"ข้อมูลนักเรียน!A44","v":0},{"$f":"IF(ข้อมูลนักเรียน!B44=0,\"\",ข้อมูลนักเรียน!B44)","v":""},{"$f":"IF(ข้อมูลนักเรียน!C44=0,\"\",ข้อมูลนักเรียน!C44)","v":""},{"$f":"IF(ข้อมูลนักเรียน!C44=0,\"\",ข้อมูลนักเรียน!D44 & ข้อมูลนักเรียน!E44 & \"   \"& ข้อมูลนักเรียน!F44)","v":""},{"$f":"IF(ข้อมูลนักเรียน!C44=0,\"\",ข้อมูลนักเรียน!G44)","v":""},{"$f":"ข้อมูลนักเรียน!B44","v":0},null,null,null,null,null,null,null,null,null,null,null,null,null,null,null,null,null,null,null,null,null,null,null,null,null,null,"ผ่าน",0,null,"ปรับปรุง",null,22]
[{"$f":"ข้อมูลนักเรียน!A45","v":0},{"$f":"IF(ข้อมูลนักเรียน!B45=0,\"\",ข้อมูลนักเรียน!B45)","v":""},{"$f":"IF(ข้อมูลนักเรียน!C45=0,\"\",ข้อมูลนักเรียน!C45)","v":""},{"$f":"IF(ข้อมูลนักเรียน!C45=0,\"\",ข้อมูลนักเรียน!D45 & ข้อมูลนักเรียน!E45 & \"   \"& ข้อมูลนักเรียน!F45)","v":""},{"$f":"IF(ข้อมูลนักเรียน!C45=0,\"\",ข้อมูลนักเรียน!G45)","v":""},{"$f":"ข้อมูลนักเรียน!B45","v":0},null,null,null,null,null,null,null,null,null,null,null,null,null,null,null,null,null,null,null,null,null,null,null,null,null,null,"ผ่าน",0,null,"ปรับปรุง",null,22]
[{"$f":"ข้อมูลนักเรียน!A46","v":0},{"$f":"IF(ข้อมูลนักเรียน!B46=0,\"\",ข้อมูลนักเรียน!B46)","v":""},{"$f":"IF(ข้อมูลนักเรียน!C46=0,\"\",ข้อมูลนักเรียน!C46)","v":""},{"$f":"IF(ข้อมูลนักเรียน!C46=0,\"\",ข้อมูลนักเรียน!D46 & ข้อมูลนักเรียน!E46 & \"   \"& ข้อมูลนักเรียน!F46)","v":""},{"$f":"IF(ข้อมูลนักเรียน!C46=0,\"\",ข้อมูลนักเรียน!G46)","v":""},{"$f":"ข้อมูลนักเรียน!B46","v":0},null,null,null,null,null,null,null,null,null,null,null,null,null,null,null,null,null,null,null,null,null,null,null,null,null,null,"ผ่าน",0,null,"ปรับปรุง",null,22]
[{"$f":"ข้อมูลนักเรียน!A47","v":0},{"$f":"IF(ข้อมูลนักเรียน!B47=0,\"\",ข้อมูลนักเรียน!B47)","v":""},{"$f":"IF(ข้อมูลนักเรียน!C47=0,\"\",ข้อมูลนักเรียน!C47)","v":""},{"$f":"IF(ข้อมูลนักเรียน!C47=0,\"\",ข้อมูลนักเรียน!D47 & ข้อมูลนักเรียน!E47 & \"   \"& ข้อมูลนักเรียน!F47)","v":""},{"$f":"IF(ข้อมูลนักเรียน!C47=0,\"\",ข้อมูลนักเรียน!G47)","v":""},{"$f":"ข้อมูลนักเรียน!B47","v":0},null,null,null,null,null,null,null,null,null,null,null,null,null,null,null,null,null,null,null,null,null,null,null,null,null,null,"ผ่าน",0,null,"ปรับปรุง",null,22]
[{"$f":"ข้อมูลนักเรียน!A48","v":0},{"$f":"IF(ข้อมูลนักเรียน!B48=0,\"\",ข้อมูลนักเรียน!B48)","v":""},{"$f":"IF(ข้อมูลนักเรียน!C48=0,\"\",ข้อมูลนักเรียน!C48)","v":""},{"$f":"IF(ข้อมูลนักเรียน!C48=0,\"\",ข้อมูลนักเรียน!D48 & ข้อมูลนักเรียน!E48 & \"   \"& ข้อมูลนักเรียน!F48)","v":""},{"$f":"IF(ข้อมูลนักเรียน!C48=0,\"\",ข้อมูลนักเรียน!G48)","v":""},{"$f":"ข้อมูลนักเรียน!B48","v":0},null,null,null,null,null,null,null,null,null,null,null,null,null,null,null,null,null,null,null,null,null,null,null,null,null,null,"ผ่าน",0,null,"ปรับปรุง",null,22]
[{"$f":"ข้อมูลนักเรียน!A49","v":0},{"$f":"IF(ข้อมูลนักเรียน!B49=0,\"\",ข้อมูลนักเรียน!B49)","v":""},{"$f":"IF(ข้อมูลนักเรียน!C49=0,\"\",ข้อมูลนักเรียน!C49)","v":""},{"$f":"IF(ข้อมูลนักเรียน!C49=0,\"\",ข้อมูลนักเรียน!D49 & ข้อมูลนักเรียน!E49 & \"   \"& ข้อมูลนักเรียน!F49)","v":""},{"$f":"IF(ข้อมูลนักเรียน!C49=0,\"\",ข้อมูลนักเรียน!G49)","v":""},{"$f":"ข้อมูลนักเรียน!B49","v":0},null,null,null,null,null,null,null,null,null,null,null,null,null,null,null,null,null,null,null,null,null,null,null,null,null,null,"ผ่าน",0,null,"ปรับปรุง",null,22]
[{"$f":"ข้อมูลนักเรียน!A50","v":0},{"$f":"IF(ข้อมูลนักเรียน!B50=0,\"\",ข้อมูลนักเรียน!B50)","v":""},{"$f":"IF(ข้อมูลนักเรียน!C50=0,\"\",ข้อมูลนักเรียน!C50)","v":""},{"$f":"IF(ข้อมูลนักเรียน!C50=0,\"\",ข้อมูลนักเรียน!D50 & ข้อมูลนักเรียน!E50 & \"   \"& ข้อมูลนักเรียน!F50)","v":""},{"$f":"IF(ข้อมูลนักเรียน!C50=0,\"\",ข้อมูลนักเรียน!G50)","v":""},{"$f":"ข้อมูลนักเรียน!B50","v":0},null,null,null,null,null,null,null,null,null,null,null,null,null,null,null,null,null,null,null,null,null,null,null,null,null,null,"ผ่าน",0,null,"ปรับปรุง",null,22]
[{"$f":"ข้อมูลนักเรียน!A51","v":0},{"$f":"IF(ข้อมูลนักเรียน!B51=0,\"\",ข้อมูลนักเรียน!B51)","v":""},{"$f":"IF(ข้อมูลนักเรียน!C51=0,\"\",ข้อมูลนักเรียน!C51)","v":""},{"$f":"IF(ข้อมูลนักเรียน!C51=0,\"\",ข้อมูลนักเรียน!D51 & ข้อมูลนักเรียน!E51 & \"   \"& ข้อมูลนักเรียน!F51)","v":""},{"$f":"IF(ข้อมูลนักเรียน!C51=0,\"\",ข้อมูลนักเรียน!G51)","v":""},{"$f":"ข้อมูลนักเรียน!B51","v":0},null,null,null,null,null,null,null,null,null,null,null,null,null,null,null,null,null,null,null,null,null,null,null,null,null,null,"ผ่าน",0,null,"ปรับปรุง",null,22]
[{"$f":"ข้อมูลนักเรียน!A52","v":0},{"$f":"IF(ข้อมูลนักเรียน!B52=0,\"\",ข้อมูลนักเรียน!B52)","v":""},{"$f":"IF(ข้อมูลนักเรียน!C52=0,\"\",ข้อมูลนักเรียน!C52)","v":""},{"$f":"IF(ข้อมูลนักเรียน!C52=0,\"\",ข้อมูลนักเรียน!D52 & ข้อมูลนักเรียน!E52 & \"   \"& ข้อมูลนักเรียน!F52)","v":""},{"$f":"IF(ข้อมูลนักเรียน!C52=0,\"\",ข้อมูลนักเรียน!G52)","v":""},{"$f":"ข้อมูลนักเรียน!B52","v":0},null,null,null,null,null,null,null,null,null,null,null,null,null,null,null,null,null,null,null,null,null,null,null,null,null,null,"ผ่าน",0,null,"ปรับปรุง",null,22]
[{"$f":"ข้อมูลนักเรียน!A53","v":0},{"$f":"IF(ข้อมูลนักเรียน!B53=0,\"\",ข้อมูลนักเรียน!B53)","v":""},{"$f":"IF(ข้อมูลนักเรียน!C53=0,\"\",ข้อมูลนักเรียน!C53)","v":""},{"$f":"IF(ข้อมูลนักเรียน!C53=0,\"\",ข้อมูลนักเรียน!D53 & ข้อมูลนักเรียน!E53 & \"   \"& ข้อมูลนักเรียน!F53)","v":""},{"$f":"IF(ข้อมูลนักเรียน!C53=0,\"\",ข้อมูลนักเรียน!G53)","v":""},{"$f":"ข้อมูลนักเรียน!B53","v":0},null,null,null,null,null,null,null,null,null,null,null,null,null,null,null,null,null,null,null,null,null,null,null,null,null,null,"ผ่าน",0,null,"ปรับปรุง",null,22]
[{"$f":"ข้อมูลนักเรียน!A54","v":0},{"$f":"IF(ข้อมูลนักเรียน!B54=0,\"\",ข้อมูลนักเรียน!B54)","v":""},{"$f":"IF(ข้อมูลนักเรียน!C54=0,\"\",ข้อมูลนักเรียน!C54)","v":""},{"$f":"IF(ข้อมูลนักเรียน!C54=0,\"\",ข้อมูลนักเรียน!D54 & ข้อมูลนักเรียน!E54 & \"   \"& ข้อมูลนักเรียน!F54)","v":""},{"$f":"IF(ข้อมูลนักเรียน!C54=0,\"\",ข้อมูลนักเรียน!G54)","v":""},{"$f":"ข้อมูลนักเรียน!B54","v":0},null,null,null,null,null,null,null,null,null,null,null,null,null,null,null,null,null,null,null,null,null,null,null,null,null,null,"ผ่าน",0,null,"ปรับปรุง",null,22]
[{"$f":"ข้อมูลนักเรียน!A55","v":0},{"$f":"IF(ข้อมูลนักเรียน!B55=0,\"\",ข้อมูลนักเรียน!B55)","v":""},{"$f":"IF(ข้อมูลนักเรียน!C55=0,\"\",ข้อมูลนักเรียน!C55)","v":""},{"$f":"IF(ข้อมูลนักเรียน!C55=0,\"\",ข้อมูลนักเรียน!D55 & ข้อมูลนักเรียน!E55 & \"   \"& ข้อมูลนักเรียน!F55)","v":""},{"$f":"IF(ข้อมูลนักเรียน!C55=0,\"\",ข้อมูลนักเรียน!G55)","v":""},{"$f":"ข้อมูลนักเรียน!B55","v":0},null,null,null,null,null,null,null,null,null,null,null,null,null,null,null,null,null,null,null,null,null,null,null,null,null,null,"ผ่าน",0,null,"ปรับปรุง",null,22]
[{"$f":"ข้อมูลนักเรียน!A56","v":0},{"$f":"IF(ข้อมูลนักเรียน!B56=0,\"\",ข้อมูลนักเรียน!B56)","v":""},{"$f":"IF(ข้อมูลนักเรียน!C56=0,\"\",ข้อมูลนักเรียน!C56)","v":""},{"$f":"IF(ข้อมูลนักเรียน!C56=0,\"\",ข้อมูลนักเรียน!D56 & ข้อมูลนักเรียน!E56 & \"   \"& ข้อมูลนักเรียน!F56)","v":""},{"$f":"IF(ข้อมูลนักเรียน!C56=0,\"\",ข้อมูลนักเรียน!G56)","v":""},{"$f":"ข้อมูลนักเรียน!B56","v":0},null,null,null,null,null,null,null,null,null,null,null,null,null,null,null,null,null,null,null,null,null,null,null,null,null,null,"ผ่าน",0,null,"ปรับปรุง",null,22]
[{"$f":"ข้อมูลนักเรียน!A57","v":0},{"$f":"IF(ข้อมูลนักเรียน!B57=0,\"\",ข้อมูลนักเรียน!B57)","v":""},{"$f":"IF(ข้อมูลนักเรียน!C57=0,\"\",ข้อมูลนักเรียน!C57)","v":""},{"$f":"IF(ข้อมูลนักเรียน!C57=0,\"\",ข้อมูลนักเรียน!D57 & ข้อมูลนักเรียน!E57 & \"   \"& ข้อมูลนักเรียน!F57)","v":""},{"$f":"IF(ข้อมูลนักเรียน!C57=0,\"\",ข้อมูลนักเรียน!G57)","v":""},{"$f":"ข้อมูลนักเรียน!B57","v":0},null,null,null,null,null,null,null,null,null,null,null,null,null,null,null,null,null,null,null,null,null,null,null,null,null,null,"ผ่าน",0,null,"ปรับปรุง",null,22]
[{"$f":"ข้อมูลนักเรียน!A58","v":0},{"$f":"IF(ข้อมูลนักเรียน!B58=0,\"\",ข้อมูลนักเรียน!B58)","v":""},{"$f":"IF(ข้อมูลนักเรียน!C58=0,\"\",ข้อมูลนักเรียน!C58)","v":""},{"$f":"IF(ข้อมูลนักเรียน!C58=0,\"\",ข้อมูลนักเรียน!D58 & ข้อมูลนักเรียน!E58 & \"   \"& ข้อมูลนักเรียน!F58)","v":""},{"$f":"IF(ข้อมูลนักเรียน!C58=0,\"\",ข้อมูลนักเรียน!G58)","v":""},{"$f":"ข้อมูลนักเรียน!B58","v":0},null,null,null,null,null,null,null,null,null,null,null,null,null,null,null,null,null,null,null,null,null,null,null,null,null,null,"ผ่าน",0,null,"ปรับปรุง",null,22]
[{"$f":"ข้อมูลนักเรียน!A59","v":0},{"$f":"IF(ข้อมูลนักเรียน!B59=0,\"\",ข้อมูลนักเรียน!B59)","v":""},{"$f":"IF(ข้อมูลนักเรียน!C59=0,\"\",ข้อมูลนักเรียน!C59)","v":""},{"$f":"IF(ข้อมูลนักเรียน!C59=0,\"\",ข้อมูลนักเรียน!D59 & ข้อมูลนักเรียน!E59 & \"   \"& ข้อมูลนักเรียน!F59)","v":""},{"$f":"IF(ข้อมูลนักเรียน!C59=0,\"\",ข้อมูลนักเรียน!G59)","v":""},{"$f":"ข้อมูลนักเรียน!B59","v":0},null,null,null,null,null,null,null,null,null,null,null,null,null,null,null,null,null,null,null,null,null,null,null,null,null,null,"ผ่าน",0,null,"ปรับปรุง",null,22]
[{"$f":"ข้อมูลนักเรียน!A60","v":0},{"$f":"IF(ข้อมูลนักเรียน!B60=0,\"\",ข้อมูลนักเรียน!B60)","v":""},{"$f":"IF(ข้อมูลนักเรียน!C60=0,\"\",ข้อมูลนักเรียน!C60)","v":""},{"$f":"IF(ข้อมูลนักเรียน!C60=0,\"\",ข้อมูลนักเรียน!D60 & ข้อมูลนักเรียน!E60 & \"   \"& ข้อมูลนักเรียน!F60)","v":""},{"$f":"IF(ข้อมูลนักเรียน!C60=0,\"\",ข้อมูลนักเรียน!G60)","v":""},{"$f":"ข้อมูลนักเรียน!B60","v":0},null,null,null,null,null,null,null,null,null,null,null,null,null,null,null,null,null,null,null,null,null,null,null,null,null,null,"ผ่าน",0,null,"ปรับปรุง",null,22]
[{"$f":"ข้อมูลนักเรียน!A61","v":0},{"$f":"IF(ข้อมูลนักเรียน!B61=0,\"\",ข้อมูลนักเรียน!B61)","v":""},{"$f":"IF(ข้อมูลนักเรียน!C61=0,\"\",ข้อมูลนักเรียน!C61)","v":""},{"$f":"IF(ข้อมูลนักเรียน!C61=0,\"\",ข้อมูลนักเรียน!D61 & ข้อมูลนักเรียน!E61 & \"   \"& ข้อมูลนักเรียน!F61)","v":""},{"$f":"IF(ข้อมูลนักเรียน!C61=0,\"\",ข้อมูลนักเรียน!G61)","v":""},{"$f":"ข้อมูลนักเรียน!B61","v":0},null,null,null,null,null,null,null,null,null,null,null,null,null,null,null,null,null,null,null,null,null,null,null,null,null,null,"ผ่าน",0,null,"ปรับปรุง",null,22]
[{"$f":"ข้อมูลนักเรียน!A62","v":0},{"$f":"IF(ข้อมูลนักเรียน!B62=0,\"\",ข้อมูลนักเรียน!B62)","v":""},{"$f":"IF(ข้อมูลนักเรียน!C62=0,\"\",ข้อมูลนักเรียน!C62)","v":""},{"$f":"IF(ข้อมูลนักเรียน!C62=0,\"\",ข้อมูลนักเรียน!D62 & ข้อมูลนักเรียน!E62 & \"   \"& ข้อมูลนักเรียน!F62)","v":""},{"$f":"IF(ข้อมูลนักเรียน!C62=0,\"\",ข้อมูลนักเรียน!G62)","v":""},{"$f":"ข้อมูลนักเรียน!B62","v":0},null,null,null,null,null,null,null,null,null,null,null,null,null,null,null,null,null,null,null,null,null,null,null,null,null,null,"ผ่าน",0,null,"ปรับปรุง",null,22]
[{"$f":"ข้อมูลนักเรียน!A63","v":0},{"$f":"IF(ข้อมูลนักเรียน!B63=0,\"\",ข้อมูลนักเรียน!B63)","v":""},{"$f":"IF(ข้อมูลนักเรียน!C63=0,\"\",ข้อมูลนักเรียน!C63)","v":""},{"$f":"IF(ข้อมูลนักเรียน!C63=0,\"\",ข้อมูลนักเรียน!D63 & ข้อมูลนักเรียน!E63 & \"   \"& ข้อมูลนักเรียน!F63)","v":""},{"$f":"IF(ข้อมูลนักเรียน!C63=0,\"\",ข้อมูลนักเรียน!G63)","v":""},{"$f":"ข้อมูลนักเรียน!B63","v":0},null,null,null,null,null,null,null,null,null,null,null,null,null,null,null,null,null,null,null,null,null,null,null,null,null,null,"ผ่าน",0,null,"ปรับปรุง",null,22]
[{"$f":"ข้อมูลนักเรียน!A64","v":0},{"$f":"IF(ข้อมูลนักเรียน!B64=0,\"\",ข้อมูลนักเรียน!B64)","v":""},{"$f":"IF(ข้อมูลนักเรียน!C64=0,\"\",ข้อมูลนักเรียน!C64)","v":""},{"$f":"IF(ข้อมูลนักเรียน!C64=0,\"\",ข้อมูลนักเรียน!D64 & ข้อมูลนักเรียน!E64 & \"   \"& ข้อมูลนักเรียน!F64)","v":""},{"$f":"IF(ข้อมูลนักเรียน!C64=0,\"\",ข้อมูลนักเรียน!G64)","v":""},{"$f":"ข้อมูลนักเรียน!B64","v":0},null,null,null,null,null,null,null,null,null,null,null,null,null,null,null,null,null,null,null,null,null,null,null,null,null,null,"ผ่าน",0,null,"ปรับปรุง",null,22]
[{"$f":"ข้อมูลนักเรียน!A65","v":0},{"$f":"IF(ข้อมูลนักเรียน!B65=0,\"\",ข้อมูลนักเรียน!B65)","v":""},{"$f":"IF(ข้อมูลนักเรียน!C65=0,\"\",ข้อมูลนักเรียน!C65)","v":""},{"$f":"IF(ข้อมูลนักเรียน!C65=0,\"\",ข้อมูลนักเรียน!D65 & ข้อมูลนักเรียน!E65 & \"   \"& ข้อมูลนักเรียน!F65)","v":""},{"$f":"IF(ข้อมูลนักเรียน!C65=0,\"\",ข้อมูลนักเรียน!G65)","v":""},{"$f":"ข้อมูลนักเรียน!B65","v":0},null,null,null,null,null,null,null,null,null,null,null,null,null,null,null,null,null,null,null,null,null,null,null,null,null,null,"ผ่าน",0,null,"ปรับปรุง",null,22]
[{"$f":"ข้อมูลนักเรียน!A66","v":0},{"$f":"IF(ข้อมูลนักเรียน!B66=0,\"\",ข้อมูลนักเรียน!B66)","v":""},{"$f":"IF(ข้อมูลนักเรียน!C66=0,\"\",ข้อมูลนักเรียน!C66)","v":""},{"$f":"IF(ข้อมูลนักเรียน!C66=0,\"\",ข้อมูลนักเรียน!D66 & ข้อมูลนักเรียน!E66 & \"   \"& ข้อมูลนักเรียน!F66)","v":""},{"$f":"IF(ข้อมูลนักเรียน!C66=0,\"\",ข้อมูลนักเรียน!G66)","v":""},{"$f":"ข้อมูลนักเรียน!B66","v":0},null,null,null,null,null,null,null,null,null,null,null,null,null,null,null,null,null,null,null,null,null,null,null,null,null,null,"ผ่าน",0,null,"ปรับปรุง",null,22]
[{"$f":"ข้อมูลนักเรียน!A67","v":0},{"$f":"IF(ข้อมูลนักเรียน!B67=0,\"\",ข้อมูลนักเรียน!B67)","v":""},{"$f":"IF(ข้อมูลนักเรียน!C67=0,\"\",ข้อมูลนักเรียน!C67)","v":""},{"$f":"IF(ข้อมูลนักเรียน!C67=0,\"\",ข้อมูลนักเรียน!D67 & ข้อมูลนักเรียน!E67 & \"   \"& ข้อมูลนักเรียน!F67)","v":""},{"$f":"IF(ข้อมูลนักเรียน!C67=0,\"\",ข้อมูลนักเรียน!G67)","v":""},{"$f":"ข้อมูลนักเรียน!B67","v":0},null,null,null,null,null,null,null,null,null,null,null,null,null,null,null,null,null,null,null,null,null,null,null,null,null,null,"ผ่าน",0,null,"ปรับปรุง",null,22]
[{"$f":"ข้อมูลนักเรียน!A68","v":0},{"$f":"IF(ข้อมูลนักเรียน!B68=0,\"\",ข้อมูลนักเรียน!B68)","v":""},{"$f":"IF(ข้อมูลนักเรียน!C68=0,\"\",ข้อมูลนักเรียน!C68)","v":""},{"$f":"IF(ข้อมูลนักเรียน!C68=0,\"\",ข้อมูลนักเรียน!D68 & ข้อมูลนักเรียน!E68 & \"   \"& ข้อมูลนักเรียน!F68)","v":""},{"$f":"IF(ข้อมูลนักเรียน!C68=0,\"\",ข้อมูลนักเรียน!G68)","v":""},{"$f":"ข้อมูลนักเรียน!B68","v":0},null,null,null,null,null,null,null,null,null,null,null,null,null,null,null,null,null,null,null,null,null,null,null,null,null,null,"ผ่าน",0,null,"ปรับปรุง",null,22]
[{"$f":"ข้อมูลนักเรียน!A69","v":0},{"$f":"IF(ข้อมูลนักเรียน!B69=0,\"\",ข้อมูลนักเรียน!B69)","v":""},{"$f":"IF(ข้อมูลนักเรียน!C69=0,\"\",ข้อมูลนักเรียน!C69)","v":""},{"$f":"IF(ข้อมูลนักเรียน!C69=0,\"\",ข้อมูลนักเรียน!D69 & ข้อมูลนักเรียน!E69 & \"   \"& ข้อมูลนักเรียน!F69)","v":""},{"$f":"IF(ข้อมูลนักเรียน!C69=0,\"\",ข้อมูลนักเรียน!G69)","v":""},{"$f":"ข้อมูลนักเรียน!B69","v":0},null,null,null,null,null,null,null,null,null,null,null,null,null,null,null,null,null,null,null,null,null,null,null,null,null,null,"ผ่าน",0,null,"ปรับปรุง",null,22]
[{"$f":"ข้อมูลนักเรียน!A70","v":0},{"$f":"IF(ข้อมูลนักเรียน!B70=0,\"\",ข้อมูลนักเรียน!B70)","v":""},{"$f":"IF(ข้อมูลนักเรียน!C70=0,\"\",ข้อมูลนักเรียน!C70)","v":""},{"$f":"IF(ข้อมูลนักเรียน!C70=0,\"\",ข้อมูลนักเรียน!D70 & ข้อมูลนักเรียน!E70 & \"   \"& ข้อมูลนักเรียน!F70)","v":""},{"$f":"IF(ข้อมูลนักเรียน!C70=0,\"\",ข้อมูลนักเรียน!G70)","v":""},{"$f":"ข้อมูลนักเรียน!B70","v":0},null,null,null,null,null,null,null,null,null,null,null,null,null,null,null,null,null,null,null,null,null,null,null,null,null,null,"ผ่าน",0,null,"ปรับปรุง",null,22]
[{"$f":"ข้อมูลนักเรียน!A71","v":0},{"$f":"IF(ข้อมูลนักเรียน!B71=0,\"\",ข้อมูลนักเรียน!B71)","v":""},{"$f":"IF(ข้อมูลนักเรียน!C71=0,\"\",ข้อมูลนักเรียน!C71)","v":""},{"$f":"IF(ข้อมูลนักเรียน!C71=0,\"\",ข้อมูลนักเรียน!D71 & ข้อมูลนักเรียน!E71 & \"   \"& ข้อมูลนักเรียน!F71)","v":""},{"$f":"IF(ข้อมูลนักเรียน!C71=0,\"\",ข้อมูลนักเรียน!G71)","v":""},{"$f":"ข้อมูลนักเรียน!B71","v":0},null,null,null,null,null,null,null,null,null,null,null,null,null,null,null,null,null,null,null,null,null,null,null,null,null,null,"ผ่าน",0,null,"ปรับปรุง",null,22]
[{"$f":"ข้อมูลนักเรียน!A72","v":0},{"$f":"IF(ข้อมูลนักเรียน!B72=0,\"\",ข้อมูลนักเรียน!B72)","v":""},{"$f":"IF(ข้อมูลนักเรียน!C72=0,\"\",ข้อมูลนักเรียน!C72)","v":""},{"$f":"IF(ข้อมูลนักเรียน!C72=0,\"\",ข้อมูลนักเรียน!D72 & ข้อมูลนักเรียน!E72 & \"   \"& ข้อมูลนักเรียน!F72)","v":""},{"$f":"IF(ข้อมูลนักเรียน!C72=0,\"\",ข้อมูลนักเรียน!G72)","v":""},{"$f":"ข้อมูลนักเรียน!B72","v":0},null,null,null,null,null,null,null,null,null,null,null,null,null,null,null,null,null,null,null,null,null,null,null,null,null,null,"ผ่าน",0,null,"ปรับปรุง",null,22]
[{"$f":"ข้อมูลนักเรียน!A73","v":0},{"$f":"IF(ข้อมูลนักเรียน!B73=0,\"\",ข้อมูลนักเรียน!B73)","v":""},{"$f":"IF(ข้อมูลนักเรียน!C73=0,\"\",ข้อมูลนักเรียน!C73)","v":""},{"$f":"IF(ข้อมูลนักเรียน!C73=0,\"\",ข้อมูลนักเรียน!D73 & ข้อมูลนักเรียน!E73 & \"   \"& ข้อมูลนักเรียน!F73)","v":""},{"$f":"IF(ข้อมูลนักเรียน!C73=0,\"\",ข้อมูลนักเรียน!G73)","v":""},{"$f":"ข้อมูลนักเรียน!B73","v":0},null,null,null,null,null,null,null,null,null,null,null,null,null,null,null,null,null,null,null,null,null,null,null,null,null,null,{"$f":"IF(COUNTIFS(Z73:AD73,\"=มผ\") > 0,\"ไม่ผ่าน\",\"ผ่าน\")","v":"ผ่าน"},{"$f":"ROUNDDOWN(0,2)","v":0},null,{"$f":"IF(AF73=1,\"ผ่าน\",IF(AF73=2,\"ดี\",IF(AF73=3,\"ดีเยี่ยม\",\"ปรับปรุง\")))","v":"ปรับปรุง"},null,22]
[{"$f":"ข้อมูลนักเรียน!A74","v":0},{"$f":"IF(ข้อมูลนักเรียน!B74=0,\"\",ข้อมูลนักเรียน!B74)","v":""},{"$f":"IF(ข้อมูลนักเรียน!C74=0,\"\",ข้อมูลนักเรียน!C74)","v":""},{"$f":"IF(ข้อมูลนักเรียน!C74=0,\"\",ข้อมูลนักเรียน!D74 & ข้อมูลนักเรียน!E74 & \"   \"& ข้อมูลนักเรียน!F74)","v":""},{"$f":"IF(ข้อมูลนักเรียน!C74=0,\"\",ข้อมูลนักเรียน!G74)","v":""},{"$f":"ข้อมูลนักเรียน!B74","v":0},null,null,null,null,null,null,null,null,null,null,null,null,null,null,null,null,null,null,null,null,null,null,null,null,null,null,"ผ่าน",0,null,"ปรับปรุง",null,22]
[{"$f":"ข้อมูลนักเรียน!A75","v":0},{"$f":"IF(ข้อมูลนักเรียน!B75=0,\"\",ข้อมูลนักเรียน!B75)","v":""},{"$f":"IF(ข้อมูลนักเรียน!C75=0,\"\",ข้อมูลนักเรียน!C75)","v":""},{"$f":"IF(ข้อมูลนักเรียน!C75=0,\"\",ข้อมูลนักเรียน!D75 & ข้อมูลนักเรียน!E75 & \"   \"& ข้อมูลนักเรียน!F75)","v":""},{"$f":"IF(ข้อมูลนักเรียน!C75=0,\"\",ข้อมูลนักเรียน!G75)","v":""},{"$f":"ข้อมูลนักเรียน!B75","v":0},null,null,null,null,null,null,null,null,null,null,null,null,null,null,null,null,null,null,null,null,null,null,null,null,null,null,"ผ่าน",0,null,"ปรับปรุง",null,22]
[{"$f":"ข้อมูลนักเรียน!A76","v":0},{"$f":"IF(ข้อมูลนักเรียน!B76=0,\"\",ข้อมูลนักเรียน!B76)","v":""},{"$f":"IF(ข้อมูลนักเรียน!C76=0,\"\",ข้อมูลนักเรียน!C76)","v":""},{"$f":"IF(ข้อมูลนักเรียน!C76=0,\"\",ข้อมูลนักเรียน!D76 & ข้อมูลนักเรียน!E76 & \"   \"& ข้อมูลนักเรียน!F76)","v":""},{"$f":"IF(ข้อมูลนักเรียน!C76=0,\"\",ข้อมูลนักเรียน!G76)","v":""},{"$f":"ข้อมูลนักเรียน!B76","v":0},null,null,null,null,null,null,null,null,null,null,null,null,null,null,null,null,null,null,null,null,null,null,null,null,null,null,"ผ่าน",0,null,"ปรับปรุง",null,22]
[{"$f":"ข้อมูลนักเรียน!A77","v":0},{"$f":"IF(ข้อมูลนักเรียน!B77=0,\"\",ข้อมูลนักเรียน!B77)","v":""},{"$f":"IF(ข้อมูลนักเรียน!C77=0,\"\",ข้อมูลนักเรียน!C77)","v":""},{"$f":"IF(ข้อมูลนักเรียน!C77=0,\"\",ข้อมูลนักเรียน!D77 & ข้อมูลนักเรียน!E77 & \"   \"& ข้อมูลนักเรียน!F77)","v":""},{"$f":"IF(ข้อมูลนักเรียน!C77=0,\"\",ข้อมูลนักเรียน!G77)","v":""},{"$f":"ข้อมูลนักเรียน!B77","v":0},null,null,null,null,null,null,null,null,null,null,null,null,null,null,null,null,null,null,null,null,null,null,null,null,null,null,"ผ่าน",0,null,"ปรับปรุง",null,22]
[{"$f":"ข้อมูลนักเรียน!A78","v":0},{"$f":"IF(ข้อมูลนักเรียน!B78=0,\"\",ข้อมูลนักเรียน!B78)","v":""},{"$f":"IF(ข้อมูลนักเรียน!C78=0,\"\",ข้อมูลนักเรียน!C78)","v":""},{"$f":"IF(ข้อมูลนักเรียน!C78=0,\"\",ข้อมูลนักเรียน!D78 & ข้อมูลนักเรียน!E78 & \"   \"& ข้อมูลนักเรียน!F78)","v":""},{"$f":"IF(ข้อมูลนักเรียน!C78=0,\"\",ข้อมูลนักเรียน!G78)","v":""},{"$f":"ข้อมูลนักเรียน!B78","v":0},null,null,null,null,null,null,null,null,null,null,null,null,null,null,null,null,null,null,null,null,null,null,null,null,null,null,"ผ่าน",0,null,"ปรับปรุง",null,22]
[{"$f":"ข้อมูลนักเรียน!A79","v":0},{"$f":"IF(ข้อมูลนักเรียน!B79=0,\"\",ข้อมูลนักเรียน!B79)","v":""},{"$f":"IF(ข้อมูลนักเรียน!C79=0,\"\",ข้อมูลนักเรียน!C79)","v":""},{"$f":"IF(ข้อมูลนักเรียน!C79=0,\"\",ข้อมูลนักเรียน!D79 & ข้อมูลนักเรียน!E79 & \"   \"& ข้อมูลนักเรียน!F79)","v":""},{"$f":"IF(ข้อมูลนักเรียน!C79=0,\"\",ข้อมูลนักเรียน!G79)","v":""},{"$f":"ข้อมูลนักเรียน!B79","v":0},null,null,null,null,null,null,null,null,null,null,null,null,null,null,null,null,null,null,null,null,null,null,null,null,null,null,"ผ่าน",0,null,"ปรับปรุง",null,22]
[{"$f":"ข้อมูลนักเรียน!A80","v":0},{"$f":"IF(ข้อมูลนักเรียน!B80=0,\"\",ข้อมูลนักเรียน!B80)","v":""},{"$f":"IF(ข้อมูลนักเรียน!C80=0,\"\",ข้อมูลนักเรียน!C80)","v":""},{"$f":"IF(ข้อมูลนักเรียน!C80=0,\"\",ข้อมูลนักเรียน!D80 & ข้อมูลนักเรียน!E80 & \"   \"& ข้อมูลนักเรียน!F80)","v":""},{"$f":"IF(ข้อมูลนักเรียน!C80=0,\"\",ข้อมูลนักเรียน!G80)","v":""},{"$f":"ข้อมูลนักเรียน!B80","v":0},null,null,null,null,null,null,null,null,null,null,null,null,null,null,null,null,null,null,null,null,null,null,null,null,null,null,"ผ่าน",0,null,"ปรับปรุง",null,22]
[{"$f":"ข้อมูลนักเรียน!A81","v":0},{"$f":"IF(ข้อมูลนักเรียน!B81=0,\"\",ข้อมูลนักเรียน!B81)","v":""},{"$f":"IF(ข้อมูลนักเรียน!C81=0,\"\",ข้อมูลนักเรียน!C81)","v":""},{"$f":"IF(ข้อมูลนักเรียน!C81=0,\"\",ข้อมูลนักเรียน!D81 & ข้อมูลนักเรียน!E81 & \"   \"& ข้อมูลนักเรียน!F81)","v":""},{"$f":"IF(ข้อมูลนักเรียน!C81=0,\"\",ข้อมูลนักเรียน!G81)","v":""},{"$f":"ข้อมูลนักเรียน!B81","v":0},null,null,null,null,null,null,null,null,null,null,null,null,null,null,null,null,null,null,null,null,null,null,null,null,null,null,"ผ่าน",0,null,"ปรับปรุง",null,22]
[{"$f":"ข้อมูลนักเรียน!A82","v":0},{"$f":"IF(ข้อมูลนักเรียน!B82=0,\"\",ข้อมูลนักเรียน!B82)","v":""},{"$f":"IF(ข้อมูลนักเรียน!C82=0,\"\",ข้อมูลนักเรียน!C82)","v":""},{"$f":"IF(ข้อมูลนักเรียน!C82=0,\"\",ข้อมูลนักเรียน!D82 & ข้อมูลนักเรียน!E82 & \"   \"& ข้อมูลนักเรียน!F82)","v":""},{"$f":"IF(ข้อมูลนักเรียน!C82=0,\"\",ข้อมูลนักเรียน!G82)","v":""},{"$f":"ข้อมูลนักเรียน!B82","v":0},null,null,null,null,null,null,null,null,null,null,null,null,null,null,null,null,null,null,null,null,null,null,null,null,null,null,"ผ่าน",0,null,"ปรับปรุง",null,22]
[{"$f":"ข้อมูลนักเรียน!A83","v":0},{"$f":"IF(ข้อมูลนักเรียน!B83=0,\"\",ข้อมูลนักเรียน!B83)","v":""},{"$f":"IF(ข้อมูลนักเรียน!C83=0,\"\",ข้อมูลนักเรียน!C83)","v":""},{"$f":"IF(ข้อมูลนักเรียน!C83=0,\"\",ข้อมูลนักเรียน!D83 & ข้อมูลนักเรียน!E83 & \"   \"& ข้อมูลนักเรียน!F83)","v":""},{"$f":"IF(ข้อมูลนักเรียน!C83=0,\"\",ข้อมูลนักเรียน!G83)","v":""},{"$f":"ข้อมูลนักเรียน!B83","v":0},null,null,null,null,null,null,null,null,null,null,null,null,null,null,null,null,null,null,null,null,null,null,null,null,null,null,"ผ่าน",0,null,"ปรับปรุง",null,22]
[{"$f":"ข้อมูลนักเรียน!A84","v":0},{"$f":"IF(ข้อมูลนักเรียน!B84=0,\"\",ข้อมูลนักเรียน!B84)","v":""},{"$f":"IF(ข้อมูลนักเรียน!C84=0,\"\",ข้อมูลนักเรียน!C84)","v":""},{"$f":"IF(ข้อมูลนักเรียน!C84=0,\"\",ข้อมูลนักเรียน!D84 & ข้อมูลนักเรียน!E84 & \"   \"& ข้อมูลนักเรียน!F84)","v":""},{"$f":"IF(ข้อมูลนักเรียน!C84=0,\"\",ข้อมูลนักเรียน!G84)","v":""},{"$f":"ข้อมูลนักเรียน!B84","v":0},null,null,null,null,null,null,null,null,null,null,null,null,null,null,null,null,null,null,null,null,null,null,null,null,null,null,"ผ่าน",0,null,"ปรับปรุง",null,22]
[{"$f":"ข้อมูลนักเรียน!A85","v":0},{"$f":"IF(ข้อมูลนักเรียน!B85=0,\"\",ข้อมูลนักเรียน!B85)","v":""},{"$f":"IF(ข้อมูลนักเรียน!C85=0,\"\",ข้อมูลนักเรียน!C85)","v":""},{"$f":"IF(ข้อมูลนักเรียน!C85=0,\"\",ข้อมูลนักเรียน!D85 & ข้อมูลนักเรียน!E85 & \"   \"& ข้อมูลนักเรียน!F85)","v":""},{"$f":"IF(ข้อมูลนักเรียน!C85=0,\"\",ข้อมูลนักเรียน!G85)","v":""},{"$f":"ข้อมูลนักเรียน!B85","v":0},null,null,null,null,null,null,null,null,null,null,null,null,null,null,null,null,null,null,null,null,null,null,null,null,null,null,"ผ่าน",0,null,"ปรับปรุง",null,22]
[{"$f":"ข้อมูลนักเรียน!A86","v":0},{"$f":"IF(ข้อมูลนักเรียน!B86=0,\"\",ข้อมูลนักเรียน!B86)","v":""},{"$f":"IF(ข้อมูลนักเรียน!C86=0,\"\",ข้อมูลนักเรียน!C86)","v":""},{"$f":"IF(ข้อมูลนักเรียน!C86=0,\"\",ข้อมูลนักเรียน!D86 & ข้อมูลนักเรียน!E86 & \"   \"& ข้อมูลนักเรียน!F86)","v":""},{"$f":"IF(ข้อมูลนักเรียน!C86=0,\"\",ข้อมูลนักเรียน!G86)","v":""},{"$f":"ข้อมูลนักเรียน!B86","v":0},null,null,null,null,null,null,null,null,null,null,null,null,null,null,null,null,null,null,null,null,null,null,null,null,null,null,"ผ่าน",0,null,"ปรับปรุง",null,22]
[{"$f":"ข้อมูลนักเรียน!A87","v":0},{"$f":"IF(ข้อมูลนักเรียน!B87=0,\"\",ข้อมูลนักเรียน!B87)","v":""},{"$f":"IF(ข้อมูลนักเรียน!C87=0,\"\",ข้อมูลนักเรียน!C87)","v":""},{"$f":"IF(ข้อมูลนักเรียน!C87=0,\"\",ข้อมูลนักเรียน!D87 & ข้อมูลนักเรียน!E87 & \"   \"& ข้อมูลนักเรียน!F87)","v":""},{"$f":"IF(ข้อมูลนักเรียน!C87=0,\"\",ข้อมูลนักเรียน!G87)","v":""},{"$f":"ข้อมูลนักเรียน!B87","v":0},null,null,null,null,null,null,null,null,null,null,null,null,null,null,null,null,null,null,null,null,null,null,null,null,null,null,"ผ่าน",0,null,"ปรับปรุง",null,22]
[{"$f":"ข้อมูลนักเรียน!A88","v":0},{"$f":"IF(ข้อมูลนักเรียน!B88=0,\"\",ข้อมูลนักเรียน!B88)","v":""},{"$f":"IF(ข้อมูลนักเรียน!C88=0,\"\",ข้อมูลนักเรียน!C88)","v":""},{"$f":"IF(ข้อมูลนักเรียน!C88=0,\"\",ข้อมูลนักเรียน!D88 & ข้อมูลนักเรียน!E88 & \"   \"& ข้อมูลนักเรียน!F88)","v":""},{"$f":"IF(ข้อมูลนักเรียน!C88=0,\"\",ข้อมูลนักเรียน!G88)","v":""},{"$f":"ข้อมูลนักเรียน!B88","v":0},null,null,null,null,null,null,null,null,null,null,null,null,null,null,null,null,null,null,null,null,null,null,null,null,null,null,"ผ่าน",0,null,"ปรับปรุง",null,22]
[{"$f":"ข้อมูลนักเรียน!A89","v":0},{"$f":"IF(ข้อมูลนักเรียน!B89=0,\"\",ข้อมูลนักเรียน!B89)","v":""},{"$f":"IF(ข้อมูลนักเรียน!C89=0,\"\",ข้อมูลนักเรียน!C89)","v":""},{"$f":"IF(ข้อมูลนักเรียน!C89=0,\"\",ข้อมูลนักเรียน!D89 & ข้อมูลนักเรียน!E89 & \"   \"& ข้อมูลนักเรียน!F89)","v":""},{"$f":"IF(ข้อมูลนักเรียน!C89=0,\"\",ข้อมูลนักเรียน!G89)","v":""},{"$f":"ข้อมูลนักเรียน!B89","v":0},null,null,null,null,null,null,null,null,null,null,null,null,null,null,null,null,null,null,null,null,null,null,null,null,null,null,"ผ่าน",0,null,"ปรับปรุง",null,22]
[{"$f":"ข้อมูลนักเรียน!A90","v":0},{"$f":"IF(ข้อมูลนักเรียน!B90=0,\"\",ข้อมูลนักเรียน!B90)","v":""},{"$f":"IF(ข้อมูลนักเรียน!C90=0,\"\",ข้อมูลนักเรียน!C90)","v":""},{"$f":"IF(ข้อมูลนักเรียน!C90=0,\"\",ข้อมูลนักเรียน!D90 & ข้อมูลนักเรียน!E90 & \"   \"& ข้อมูลนักเรียน!F90)","v":""},{"$f":"IF(ข้อมูลนักเรียน!C90=0,\"\",ข้อมูลนักเรียน!G90)","v":""},{"$f":"ข้อมูลนักเรียน!B90","v":0},null,null,null,null,null,null,null,null,null,null,null,null,null,null,null,null,null,null,null,null,null,null,null,null,null,null,"ผ่าน",0,null,"ปรับปรุง",null,22]
[{"$f":"ข้อมูลนักเรียน!A91","v":0},{"$f":"IF(ข้อมูลนักเรียน!B91=0,\"\",ข้อมูลนักเรียน!B91)","v":""},{"$f":"IF(ข้อมูลนักเรียน!C91=0,\"\",ข้อมูลนักเรียน!C91)","v":""},{"$f":"IF(ข้อมูลนักเรียน!C91=0,\"\",ข้อมูลนักเรียน!D91 & ข้อมูลนักเรียน!E91 & \"   \"& ข้อมูลนักเรียน!F91)","v":""},{"$f":"IF(ข้อมูลนักเรียน!C91=0,\"\",ข้อมูลนักเรียน!G91)","v":""},{"$f":"ข้อมูลนักเรียน!B91","v":0},null,null,null,null,null,null,null,null,null,null,null,null,null,null,null,null,null,null,null,null,null,null,null,null,null,null,"ผ่าน",0,null,"ปรับปรุง",null,22]
[{"$f":"ข้อมูลนักเรียน!A92","v":0},{"$f":"IF(ข้อมูลนักเรียน!B92=0,\"\",ข้อมูลนักเรียน!B92)","v":""},{"$f":"IF(ข้อมูลนักเรียน!C92=0,\"\",ข้อมูลนักเรียน!C92)","v":""},{"$f":"IF(ข้อมูลนักเรียน!C92=0,\"\",ข้อมูลนักเรียน!D92 & ข้อมูลนักเรียน!E92 & \"   \"& ข้อมูลนักเรียน!F92)","v":""},{"$f":"IF(ข้อมูลนักเรียน!C92=0,\"\",ข้อมูลนักเรียน!G92)","v":""},{"$f":"ข้อมูลนักเรียน!B92","v":0},null,null,null,null,null,null,null,null,null,null,null,null,null,null,null,null,null,null,null,null,null,null,null,null,null,null,"ผ่าน",0,null,"ปรับปรุง",null,22]
[{"$f":"ข้อมูลนักเรียน!A93","v":0},{"$f":"IF(ข้อมูลนักเรียน!B93=0,\"\",ข้อมูลนักเรียน!B93)","v":""},{"$f":"IF(ข้อมูลนักเรียน!C93=0,\"\",ข้อมูลนักเรียน!C93)","v":""},{"$f":"IF(ข้อมูลนักเรียน!C93=0,\"\",ข้อมูลนักเรียน!D93 & ข้อมูลนักเรียน!E93 & \"   \"& ข้อมูลนักเรียน!F93)","v":""},{"$f":"IF(ข้อมูลนักเรียน!C93=0,\"\",ข้อมูลนักเรียน!G93)","v":""},{"$f":"ข้อมูลนักเรียน!B93","v":0},null,null,null,null,null,null,null,null,null,null,null,null,null,null,null,null,null,null,null,null,null,null,null,null,null,null,"ผ่าน",0,null,"ปรับปรุง",null,22]
[{"$f":"ข้อมูลนักเรียน!A94","v":0},{"$f":"IF(ข้อมูลนักเรียน!B94=0,\"\",ข้อมูลนักเรียน!B94)","v":""},{"$f":"IF(ข้อมูลนักเรียน!C94=0,\"\",ข้อมูลนักเรียน!C94)","v":""},{"$f":"IF(ข้อมูลนักเรียน!C94=0,\"\",ข้อมูลนักเรียน!D94 & ข้อมูลนักเรียน!E94 & \"   \"& ข้อมูลนักเรียน!F94)","v":""},{"$f":"IF(ข้อมูลนักเรียน!C94=0,\"\",ข้อมูลนักเรียน!G94)","v":""},{"$f":"ข้อมูลนักเรียน!B94","v":0},null,null,null,null,null,null,null,null,null,null,null,null,null,null,null,null,null,null,null,null,null,null,null,null,null,null,"ผ่าน",0,null,"ปรับปรุง",null,22]
[{"$f":"ข้อมูลนักเรียน!A95","v":0},{"$f":"IF(ข้อมูลนักเรียน!B95=0,\"\",ข้อมูลนักเรียน!B95)","v":""},{"$f":"IF(ข้อมูลนักเรียน!C95=0,\"\",ข้อมูลนักเรียน!C95)","v":""},{"$f":"IF(ข้อมูลนักเรียน!C95=0,\"\",ข้อมูลนักเรียน!D95 & ข้อมูลนักเรียน!E95 & \"   \"& ข้อมูลนักเรียน!F95)","v":""},{"$f":"IF(ข้อมูลนักเรียน!C95=0,\"\",ข้อมูลนักเรียน!G95)","v":""},{"$f":"ข้อมูลนักเรียน!B95","v":0},null,null,null,null,null,null,null,null,null,null,null,null,null,null,null,null,null,null,null,null,null,null,null,null,null,null,"ผ่าน",0,null,"ปรับปรุง",null,22]
[{"$f":"ข้อมูลนักเรียน!A96","v":0},{"$f":"IF(ข้อมูลนักเรียน!B96=0,\"\",ข้อมูลนักเรียน!B96)","v":""},{"$f":"IF(ข้อมูลนักเรียน!C96=0,\"\",ข้อมูลนักเรียน!C96)","v":""},{"$f":"IF(ข้อมูลนักเรียน!C96=0,\"\",ข้อมูลนักเรียน!D96 & ข้อมูลนักเรียน!E96 & \"   \"& ข้อมูลนักเรียน!F96)","v":""},{"$f":"IF(ข้อมูลนักเรียน!C96=0,\"\",ข้อมูลนักเรียน!G96)","v":""},{"$f":"ข้อมูลนักเรียน!B96","v":0},null,null,null,null,null,null,null,null,null,null,null,null,null,null,null,null,null,null,null,null,null,null,null,null,null,null,"ผ่าน",0,null,"ปรับปรุง",null,22]
[{"$f":"ข้อมูลนักเรียน!A97","v":0},{"$f":"IF(ข้อมูลนักเรียน!B97=0,\"\",ข้อมูลนักเรียน!B97)","v":""},{"$f":"IF(ข้อมูลนักเรียน!C97=0,\"\",ข้อมูลนักเรียน!C97)","v":""},{"$f":"IF(ข้อมูลนักเรียน!C97=0,\"\",ข้อมูลนักเรียน!D97 & ข้อมูลนักเรียน!E97 & \"   \"& ข้อมูลนักเรียน!F97)","v":""},{"$f":"IF(ข้อมูลนักเรียน!C97=0,\"\",ข้อมูลนักเรียน!G97)","v":""},{"$f":"ข้อมูลนักเรียน!B97","v":0},null,null,null,null,null,null,null,null,null,null,null,null,null,null,null,null,null,null,null,null,null,null,null,null,null,null,"ผ่าน",0,null,"ปรับปรุง",null,22]
[{"$f":"ข้อมูลนักเรียน!A98","v":0},{"$f":"IF(ข้อมูลนักเรียน!B98=0,\"\",ข้อมูลนักเรียน!B98)","v":""},{"$f":"IF(ข้อมูลนักเรียน!C98=0,\"\",ข้อมูลนักเรียน!C98)","v":""},{"$f":"IF(ข้อมูลนักเรียน!C98=0,\"\",ข้อมูลนักเรียน!D98 & ข้อมูลนักเรียน!E98 & \"   \"& ข้อมูลนักเรียน!F98)","v":""},{"$f":"IF(ข้อมูลนักเรียน!C98=0,\"\",ข้อมูลนักเรียน!G98)","v":""},{"$f":"ข้อมูลนักเรียน!B98","v":0},null,null,null,null,null,null,null,null,null,null,null,null,null,null,null,null,null,null,null,null,null,null,null,null,null,null,"ผ่าน",0,null,"ปรับปรุง",null,22]
[{"$f":"ข้อมูลนักเรียน!A99","v":0},{"$f":"IF(ข้อมูลนักเรียน!B99=0,\"\",ข้อมูลนักเรียน!B99)","v":""},{"$f":"IF(ข้อมูลนักเรียน!C99=0,\"\",ข้อมูลนักเรียน!C99)","v":""},{"$f":"IF(ข้อมูลนักเรียน!C99=0,\"\",ข้อมูลนักเรียน!D99 & ข้อมูลนักเรียน!E99 & \"   \"& ข้อมูลนักเรียน!F99)","v":""},{"$f":"IF(ข้อมูลนักเรียน!C99=0,\"\",ข้อมูลนักเรียน!G99)","v":""},{"$f":"ข้อมูลนักเรียน!B99","v":0},null,null,null,null,null,null,null,null,null,null,null,null,null,null,null,null,null,null,null,null,null,null,null,null,null,null,"ผ่าน",0,null,"ปรับปรุง",null,22]
[{"$f":"ข้อมูลนักเรียน!A100","v":0},{"$f":"IF(ข้อมูลนักเรียน!B100=0,\"\",ข้อมูลนักเรียน!B100)","v":""},{"$f":"IF(ข้อมูลนักเรียน!C100=0,\"\",ข้อมูลนักเรียน!C100)","v":""},{"$f":"IF(ข้อมูลนักเรียน!C100=0,\"\",ข้อมูลนักเรียน!D100 & ข้อมูลนักเรียน!E100 & \"   \"& ข้อมูลนักเรียน!F100)","v":""},{"$f":"IF(ข้อมูลนักเรียน!C100=0,\"\",ข้อมูลนักเรียน!G100)","v":""},{"$f":"ข้อมูลนักเรียน!B100","v":0},null,null,null,null,null,null,null,null,null,null,null,null,null,null,null,null,null,null,null,null,null,null,null,null,null,null,"ผ่าน",0,null,"ปรับปรุง",null,22]
[{"$f":"ข้อมูลนักเรียน!A101","v":0},{"$f":"IF(ข้อมูลนักเรียน!B101=0,\"\",ข้อมูลนักเรียน!B101)","v":""},{"$f":"IF(ข้อมูลนักเรียน!C101=0,\"\",ข้อมูลนักเรียน!C101)","v":""},{"$f":"IF(ข้อมูลนักเรียน!C101=0,\"\",ข้อมูลนักเรียน!D101 & ข้อมูลนักเรียน!E101 & \"   \"& ข้อมูลนักเรียน!F101)","v":""},{"$f":"IF(ข้อมูลนักเรียน!C101=0,\"\",ข้อมูลนักเรียน!G101)","v":""},{"$f":"ข้อมูลนักเรียน!B101","v":0},null,null,null,null,null,null,null,null,null,null,null,null,null,null,null,null,null,null,null,null,null,null,null,null,null,null,"ผ่าน",0,null,"ปรับปรุง",null,22]
[{"$f":"ข้อมูลนักเรียน!A102","v":0},{"$f":"IF(ข้อมูลนักเรียน!B102=0,\"\",ข้อมูลนักเรียน!B102)","v":""},{"$f":"IF(ข้อมูลนักเรียน!C102=0,\"\",ข้อมูลนักเรียน!C102)","v":""},{"$f":"IF(ข้อมูลนักเรียน!C102=0,\"\",ข้อมูลนักเรียน!D102 & ข้อมูลนักเรียน!E102 & \"   \"& ข้อมูลนักเรียน!F102)","v":""},{"$f":"IF(ข้อมูลนักเรียน!C102=0,\"\",ข้อมูลนักเรียน!G102)","v":""},{"$f":"ข้อมูลนักเรียน!B102","v":0},null,null,null,null,null,null,null,null,null,null,null,null,null,null,null,null,null,null,null,null,null,null,null,null,null,null,"ผ่าน",0,null,"ปรับปรุง",null,22]
[{"$f":"ข้อมูลนักเรียน!A103","v":0},{"$f":"IF(ข้อมูลนักเรียน!B103=0,\"\",ข้อมูลนักเรียน!B103)","v":""},{"$f":"IF(ข้อมูลนักเรียน!C103=0,\"\",ข้อมูลนักเรียน!C103)","v":""},{"$f":"IF(ข้อมูลนักเรียน!C103=0,\"\",ข้อมูลนักเรียน!D103 & ข้อมูลนักเรียน!E103 & \"   \"& ข้อมูลนักเรียน!F103)","v":""},{"$f":"IF(ข้อมูลนักเรียน!C103=0,\"\",ข้อมูลนักเรียน!G103)","v":""},{"$f":"ข้อมูลนักเรียน!B103","v":0},null,null,null,null,null,null,null,null,null,null,null,null,null,null,null,null,null,null,null,null,null,null,null,null,null,null,"ผ่าน",0,null,"ปรับปรุง",null,22]
[{"$f":"ข้อมูลนักเรียน!A104","v":0},{"$f":"IF(ข้อมูลนักเรียน!B104=0,\"\",ข้อมูลนักเรียน!B104)","v":""},{"$f":"IF(ข้อมูลนักเรียน!C104=0,\"\",ข้อมูลนักเรียน!C104)","v":""},{"$f":"IF(ข้อมูลนักเรียน!C104=0,\"\",ข้อมูลนักเรียน!D104 & ข้อมูลนักเรียน!E104 & \"   \"& ข้อมูลนักเรียน!F104)","v":""},{"$f":"IF(ข้อมูลนักเรียน!C104=0,\"\",ข้อมูลนักเรียน!G104)","v":""},{"$f":"ข้อมูลนักเรียน!B104","v":0},null,null,null,null,null,null,null,null,null,null,null,null,null,null,null,null,null,null,null,null,null,null,null,null,null,null,"ผ่าน",0,null,"ปรับปรุง",null,22]
[{"$f":"ข้อมูลนักเรียน!A105","v":0},{"$f":"IF(ข้อมูลนักเรียน!B105=0,\"\",ข้อมูลนักเรียน!B105)","v":""},{"$f":"IF(ข้อมูลนักเรียน!C105=0,\"\",ข้อมูลนักเรียน!C105)","v":""},{"$f":"IF(ข้อมูลนักเรียน!C105=0,\"\",ข้อมูลนักเรียน!D105 & ข้อมูลนักเรียน!E105 & \"   \"& ข้อมูลนักเรียน!F105)","v":""},{"$f":"IF(ข้อมูลนักเรียน!C105=0,\"\",ข้อมูลนักเรียน!G105)","v":""},{"$f":"ข้อมูลนักเรียน!B105","v":0},null,null,null,null,null,null,null,null,null,null,null,null,null,null,null,null,null,null,null,null,null,null,null,null,null,null,"ผ่าน",{"$f":"ROUNDDOWN(0,2)","v":0},null,"ปรับปรุง",null,22]
[{"$f":"ข้อมูลนักเรียน!A106","v":0},{"$f":"IF(ข้อมูลนักเรียน!B106=0,\"\",ข้อมูลนักเรียน!B106)","v":""},{"$f":"IF(ข้อมูลนักเรียน!C106=0,\"\",ข้อมูลนักเรียน!C106)","v":""},{"$f":"IF(ข้อมูลนักเรียน!C106=0,\"\",ข้อมูลนักเรียน!D106 & ข้อมูลนักเรียน!E106 & \"   \"& ข้อมูลนักเรียน!F106)","v":""},{"$f":"IF(ข้อมูลนักเรียน!C106=0,\"\",ข้อมูลนักเรียน!G106)","v":""},{"$f":"ข้อมูลนักเรียน!B106","v":0},null,null,null,null,null,null,null,null,null,null,null,null,null,null,null,null,null,null,null,null,null,null,null,null,null,null,"ผ่าน",0,null,"ปรับปรุง",null,22]
[{"$f":"ข้อมูลนักเรียน!A107","v":0},{"$f":"IF(ข้อมูลนักเรียน!B107=0,\"\",ข้อมูลนักเรียน!B107)","v":""},{"$f":"IF(ข้อมูลนักเรียน!C107=0,\"\",ข้อมูลนักเรียน!C107)","v":""},{"$f":"IF(ข้อมูลนักเรียน!C107=0,\"\",ข้อมูลนักเรียน!D107 & ข้อมูลนักเรียน!E107 & \"   \"& ข้อมูลนักเรียน!F107)","v":""},{"$f":"IF(ข้อมูลนักเรียน!C107=0,\"\",ข้อมูลนักเรียน!G107)","v":""},{"$f":"ข้อมูลนักเรียน!B107","v":0},null,null,null,null,null,null,null,null,null,null,null,null,null,null,null,null,null,null,null,null,null,null,null,null,null,null,"ผ่าน",0,null,"ปรับปรุง",null,22]
[{"$f":"ข้อมูลนักเรียน!A108","v":0},{"$f":"IF(ข้อมูลนักเรียน!B108=0,\"\",ข้อมูลนักเรียน!B108)","v":""},{"$f":"IF(ข้อมูลนักเรียน!C108=0,\"\",ข้อมูลนักเรียน!C108)","v":""},{"$f":"IF(ข้อมูลนักเรียน!C108=0,\"\",ข้อมูลนักเรียน!D108 & ข้อมูลนักเรียน!E108 & \"   \"& ข้อมูลนักเรียน!F108)","v":""},{"$f":"IF(ข้อมูลนักเรียน!C108=0,\"\",ข้อมูลนักเรียน!G108)","v":""},{"$f":"ข้อมูลนักเรียน!B108","v":0},null,null,null,null,null,null,null,null,null,null,null,null,null,null,null,null,null,null,null,null,null,null,null,null,null,null,"ผ่าน",0,null,"ปรับปรุง",null,22]
[{"$f":"ข้อมูลนักเรียน!A109","v":0},{"$f":"IF(ข้อมูลนักเรียน!B109=0,\"\",ข้อมูลนักเรียน!B109)","v":""},{"$f":"IF(ข้อมูลนักเรียน!C109=0,\"\",ข้อมูลนักเรียน!C109)","v":""},{"$f":"IF(ข้อมูลนักเรียน!C109=0,\"\",ข้อมูลนักเรียน!D109 & ข้อมูลนักเรียน!E109 & \"   \"& ข้อมูลนักเรียน!F109)","v":""},{"$f":"IF(ข้อมูลนักเรียน!C109=0,\"\",ข้อมูลนักเรียน!G109)","v":""},{"$f":"ข้อมูลนักเรียน!B109","v":0},null,null,null,null,null,null,null,null,null,null,null,null,null,null,null,null,null,null,null,null,null,null,null,null,null,null,"ผ่าน",0,null,"ปรับปรุง",null,22]
[{"$f":"ข้อมูลนักเรียน!A110","v":0},{"$f":"IF(ข้อมูลนักเรียน!B110=0,\"\",ข้อมูลนักเรียน!B110)","v":""},{"$f":"IF(ข้อมูลนักเรียน!C110=0,\"\",ข้อมูลนักเรียน!C110)","v":""},{"$f":"IF(ข้อมูลนักเรียน!C110=0,\"\",ข้อมูลนักเรียน!D110 & ข้อมูลนักเรียน!E110 & \"   \"& ข้อมูลนักเรียน!F110)","v":""},{"$f":"IF(ข้อมูลนักเรียน!C110=0,\"\",ข้อมูลนักเรียน!G110)","v":""},{"$f":"ข้อมูลนักเรียน!B110","v":0},null,null,null,null,null,null,null,null,null,null,null,null,null,null,null,null,null,null,null,null,null,null,null,null,null,null,"ผ่าน",0,null,"ปรับปรุง",null,22]
[{"$f":"ข้อมูลนักเรียน!A111","v":0},{"$f":"IF(ข้อมูลนักเรียน!B111=0,\"\",ข้อมูลนักเรียน!B111)","v":""},{"$f":"IF(ข้อมูลนักเรียน!C111=0,\"\",ข้อมูลนักเรียน!C111)","v":""},{"$f":"IF(ข้อมูลนักเรียน!C111=0,\"\",ข้อมูลนักเรียน!D111 & ข้อมูลนักเรียน!E111 & \"   \"& ข้อมูลนักเรียน!F111)","v":""},{"$f":"IF(ข้อมูลนักเรียน!C111=0,\"\",ข้อมูลนักเรียน!G111)","v":""},{"$f":"ข้อมูลนักเรียน!B111","v":0},null,null,null,null,null,null,null,null,null,null,null,null,null,null,null,null,null,null,null,null,null,null,null,null,null,null,"ผ่าน",0,null,"ปรับปรุง",null,22]
[{"$f":"ข้อมูลนักเรียน!A112","v":0},{"$f":"IF(ข้อมูลนักเรียน!B112=0,\"\",ข้อมูลนักเรียน!B112)","v":""},{"$f":"IF(ข้อมูลนักเรียน!C112=0,\"\",ข้อมูลนักเรียน!C112)","v":""},{"$f":"IF(ข้อมูลนักเรียน!C112=0,\"\",ข้อมูลนักเรียน!D112 & ข้อมูลนักเรียน!E112 & \"   \"& ข้อมูลนักเรียน!F112)","v":""},{"$f":"IF(ข้อมูลนักเรียน!C112=0,\"\",ข้อมูลนักเรียน!G112)","v":""},{"$f":"ข้อมูลนักเรียน!B112","v":0},null,null,null,null,null,null,null,null,null,null,null,null,null,null,null,null,null,null,null,null,null,null,null,null,null,null,"ผ่าน",0,null,"ปรับปรุง",null,22]
[{"$f":"ข้อมูลนักเรียน!A113","v":0},{"$f":"IF(ข้อมูลนักเรียน!B113=0,\"\",ข้อมูลนักเรียน!B113)","v":""},{"$f":"IF(ข้อมูลนักเรียน!C113=0,\"\",ข้อมูลนักเรียน!C113)","v":""},{"$f":"IF(ข้อมูลนักเรียน!C113=0,\"\",ข้อมูลนักเรียน!D113 & ข้อมูลนักเรียน!E113 & \"   \"& ข้อมูลนักเรียน!F113)","v":""},{"$f":"IF(ข้อมูลนักเรียน!C113=0,\"\",ข้อมูลนักเรียน!G113)","v":""},{"$f":"ข้อมูลนักเรียน!B113","v":0},null,null,null,null,null,null,null,null,null,null,null,null,null,null,null,null,null,null,null,null,null,null,null,null,null,null,"ผ่าน",0,null,"ปรับปรุง",null,22]
[{"$f":"ข้อมูลนักเรียน!A114","v":0},{"$f":"IF(ข้อมูลนักเรียน!B114=0,\"\",ข้อมูลนักเรียน!B114)","v":""},{"$f":"IF(ข้อมูลนักเรียน!C114=0,\"\",ข้อมูลนักเรียน!C114)","v":""},{"$f":"IF(ข้อมูลนักเรียน!C114=0,\"\",ข้อมูลนักเรียน!D114 & ข้อมูลนักเรียน!E114 & \"   \"& ข้อมูลนักเรียน!F114)","v":""},{"$f":"IF(ข้อมูลนักเรียน!C114=0,\"\",ข้อมูลนักเรียน!G114)","v":""},{"$f":"ข้อมูลนักเรียน!B114","v":0},null,null,null,null,null,null,null,null,null,null,null,null,null,null,null,null,null,null,null,null,null,null,null,null,null,null,"ผ่าน",0,null,"ปรับปรุง",null,22]
[{"$f":"ข้อมูลนักเรียน!A115","v":0},{"$f":"IF(ข้อมูลนักเรียน!B115=0,\"\",ข้อมูลนักเรียน!B115)","v":""},{"$f":"IF(ข้อมูลนักเรียน!C115=0,\"\",ข้อมูลนักเรียน!C115)","v":""},{"$f":"IF(ข้อมูลนักเรียน!C115=0,\"\",ข้อมูลนักเรียน!D115 & ข้อมูลนักเรียน!E115 & \"   \"& ข้อมูลนักเรียน!F115)","v":""},{"$f":"IF(ข้อมูลนักเรียน!C115=0,\"\",ข้อมูลนักเรียน!G115)","v":""},{"$f":"ข้อมูลนักเรียน!B115","v":0},null,null,null,null,null,null,null,null,null,null,null,null,null,null,null,null,null,null,null,null,null,null,null,null,null,null,"ผ่าน",0,null,"ปรับปรุง",null,22]
[{"$f":"ข้อมูลนักเรียน!A116","v":0},{"$f":"IF(ข้อมูลนักเรียน!B116=0,\"\",ข้อมูลนักเรียน!B116)","v":""},{"$f":"IF(ข้อมูลนักเรียน!C116=0,\"\",ข้อมูลนักเรียน!C116)","v":""},{"$f":"IF(ข้อมูลนักเรียน!C116=0,\"\",ข้อมูลนักเรียน!D116 & ข้อมูลนักเรียน!E116 & \"   \"& ข้อมูลนักเรียน!F116)","v":""},{"$f":"IF(ข้อมูลนักเรียน!C116=0,\"\",ข้อมูลนักเรียน!G116)","v":""},{"$f":"ข้อมูลนักเรียน!B116","v":0},null,null,null,null,null,null,null,null,null,null,null,null,null,null,null,null,null,null,null,null,null,null,null,null,null,null,"ผ่าน",0,null,"ปรับปรุง",null,22]
[{"$f":"ข้อมูลนักเรียน!A117","v":0},{"$f":"IF(ข้อมูลนักเรียน!B117=0,\"\",ข้อมูลนักเรียน!B117)","v":""},{"$f":"IF(ข้อมูลนักเรียน!C117=0,\"\",ข้อมูลนักเรียน!C117)","v":""},{"$f":"IF(ข้อมูลนักเรียน!C117=0,\"\",ข้อมูลนักเรียน!D117 & ข้อมูลนักเรียน!E117 & \"   \"& ข้อมูลนักเรียน!F117)","v":""},{"$f":"IF(ข้อมูลนักเรียน!C117=0,\"\",ข้อมูลนักเรียน!G117)","v":""},{"$f":"ข้อมูลนักเรียน!B117","v":0},null,null,null,null,null,null,null,null,null,null,null,null,null,null,null,null,null,null,null,null,null,null,null,null,null,null,"ผ่าน",0,null,"ปรับปรุง",null,22]
[{"$f":"ข้อมูลนักเรียน!A118","v":0},{"$f":"IF(ข้อมูลนักเรียน!B118=0,\"\",ข้อมูลนักเรียน!B118)","v":""},{"$f":"IF(ข้อมูลนักเรียน!C118=0,\"\",ข้อมูลนักเรียน!C118)","v":""},{"$f":"IF(ข้อมูลนักเรียน!C118=0,\"\",ข้อมูลนักเรียน!D118 & ข้อมูลนักเรียน!E118 & \"   \"& ข้อมูลนักเรียน!F118)","v":""},{"$f":"IF(ข้อมูลนักเรียน!C118=0,\"\",ข้อมูลนักเรียน!G118)","v":""},{"$f":"ข้อมูลนักเรียน!B118","v":0},null,null,null,null,null,null,null,null,null,null,null,null,null,null,null,null,null,null,null,null,null,null,null,null,null,null,"ผ่าน",0,null,"ปรับปรุง",null,22]
[{"$f":"ข้อมูลนักเรียน!A119","v":0},{"$f":"IF(ข้อมูลนักเรียน!B119=0,\"\",ข้อมูลนักเรียน!B119)","v":""},{"$f":"IF(ข้อมูลนักเรียน!C119=0,\"\",ข้อมูลนักเรียน!C119)","v":""},{"$f":"IF(ข้อมูลนักเรียน!C119=0,\"\",ข้อมูลนักเรียน!D119 & ข้อมูลนักเรียน!E119 & \"   \"& ข้อมูลนักเรียน!F119)","v":""},{"$f":"IF(ข้อมูลนักเรียน!C119=0,\"\",ข้อมูลนักเรียน!G119)","v":""},{"$f":"ข้อมูลนักเรียน!B119","v":0},null,null,null,null,null,null,null,null,null,null,null,null,null,null,null,null,null,null,null,null,null,null,null,null,null,null,"ผ่าน",0,null,"ปรับปรุง",null,22]
[{"$f":"ข้อมูลนักเรียน!A120","v":0},{"$f":"IF(ข้อมูลนักเรียน!B120=0,\"\",ข้อมูลนักเรียน!B120)","v":""},{"$f":"IF(ข้อมูลนักเรียน!C120=0,\"\",ข้อมูลนักเรียน!C120)","v":""},{"$f":"IF(ข้อมูลนักเรียน!C120=0,\"\",ข้อมูลนักเรียน!D120 & ข้อมูลนักเรียน!E120 & \"   \"& ข้อมูลนักเรียน!F120)","v":""},{"$f":"IF(ข้อมูลนักเรียน!C120=0,\"\",ข้อมูลนักเรียน!G120)","v":""},{"$f":"ข้อมูลนักเรียน!B120","v":0},null,null,null,null,null,null,null,null,null,null,null,null,null,null,null,null,null,null,null,null,null,null,null,null,null,null,"ผ่าน",0,null,"ปรับปรุง",null,22]
[{"$f":"ข้อมูลนักเรียน!A121","v":0},{"$f":"IF(ข้อมูลนักเรียน!B121=0,\"\",ข้อมูลนักเรียน!B121)","v":""},{"$f":"IF(ข้อมูลนักเรียน!C121=0,\"\",ข้อมูลนักเรียน!C121)","v":""},{"$f":"IF(ข้อมูลนักเรียน!C121=0,\"\",ข้อมูลนักเรียน!D121 & ข้อมูลนักเรียน!E121 & \"   \"& ข้อมูลนักเรียน!F121)","v":""},{"$f":"IF(ข้อมูลนักเรียน!C121=0,\"\",ข้อมูลนักเรียน!G121)","v":""},{"$f":"ข้อมูลนักเรียน!B121","v":0},null,null,null,null,null,null,null,null,null,null,null,null,null,null,null,null,null,null,null,null,null,null,null,null,null,null,"ผ่าน",0,null,"ปรับปรุง",null,22]
[{"$f":"ข้อมูลนักเรียน!A122","v":0},{"$f":"IF(ข้อมูลนักเรียน!B122=0,\"\",ข้อมูลนักเรียน!B122)","v":""},{"$f":"IF(ข้อมูลนักเรียน!C122=0,\"\",ข้อมูลนักเรียน!C122)","v":""},{"$f":"IF(ข้อมูลนักเรียน!C122=0,\"\",ข้อมูลนักเรียน!D122 & ข้อมูลนักเรียน!E122 & \"   \"& ข้อมูลนักเรียน!F122)","v":""},{"$f":"IF(ข้อมูลนักเรียน!C122=0,\"\",ข้อมูลนักเรียน!G122)","v":""},{"$f":"ข้อมูลนักเรียน!B122","v":0},null,null,null,null,null,null,null,null,null,null,null,null,null,null,null,null,null,null,null,null,null,null,null,null,null,null,"ผ่าน",0,null,"ปรับปรุง",null,22]
[{"$f":"ข้อมูลนักเรียน!A123","v":0},{"$f":"IF(ข้อมูลนักเรียน!B123=0,\"\",ข้อมูลนักเรียน!B123)","v":""},{"$f":"IF(ข้อมูลนักเรียน!C123=0,\"\",ข้อมูลนักเรียน!C123)","v":""},{"$f":"IF(ข้อมูลนักเรียน!C123=0,\"\",ข้อมูลนักเรียน!D123 & ข้อมูลนักเรียน!E123 & \"   \"& ข้อมูลนักเรียน!F123)","v":""},{"$f":"IF(ข้อมูลนักเรียน!C123=0,\"\",ข้อมูลนักเรียน!G123)","v":""},{"$f":"ข้อมูลนักเรียน!B123","v":0},null,null,null,null,null,null,null,null,null,null,null,null,null,null,null,null,null,null,null,null,null,null,null,null,null,null,"ผ่าน",0,null,"ปรับปรุง",null,22]
[{"$f":"ข้อมูลนักเรียน!A124","v":0},{"$f":"IF(ข้อมูลนักเรียน!B124=0,\"\",ข้อมูลนักเรียน!B124)","v":""},{"$f":"IF(ข้อมูลนักเรียน!C124=0,\"\",ข้อมูลนักเรียน!C124)","v":""},{"$f":"IF(ข้อมูลนักเรียน!C124=0,\"\",ข้อมูลนักเรียน!D124 & ข้อมูลนักเรียน!E124 & \"   \"& ข้อมูลนักเรียน!F124)","v":""},{"$f":"IF(ข้อมูลนักเรียน!C124=0,\"\",ข้อมูลนักเรียน!G124)","v":""},{"$f":"ข้อมูลนักเรียน!B124","v":0},null,null,null,null,null,null,null,null,null,null,null,null,null,null,null,null,null,null,null,null,null,null,null,null,null,null,"ผ่าน",0,null,"ปรับปรุง",null,22]
[{"$f":"ข้อมูลนักเรียน!A125","v":0},{"$f":"IF(ข้อมูลนักเรียน!B125=0,\"\",ข้อมูลนักเรียน!B125)","v":""},{"$f":"IF(ข้อมูลนักเรียน!C125=0,\"\",ข้อมูลนักเรียน!C125)","v":""},{"$f":"IF(ข้อมูลนักเรียน!C125=0,\"\",ข้อมูลนักเรียน!D125 & ข้อมูลนักเรียน!E125 & \"   \"& ข้อมูลนักเรียน!F125)","v":""},{"$f":"IF(ข้อมูลนักเรียน!C125=0,\"\",ข้อมูลนักเรียน!G125)","v":""},{"$f":"ข้อมูลนักเรียน!B125","v":0},null,null,null,null,null,null,null,null,null,null,null,null,null,null,null,null,null,null,null,null,null,null,null,null,null,null,"ผ่าน",0,null,"ปรับปรุง",null,22]
[{"$f":"ข้อมูลนักเรียน!A126","v":0},{"$f":"IF(ข้อมูลนักเรียน!B126=0,\"\",ข้อมูลนักเรียน!B126)","v":""},{"$f":"IF(ข้อมูลนักเรียน!C126=0,\"\",ข้อมูลนักเรียน!C126)","v":""},{"$f":"IF(ข้อมูลนักเรียน!C126=0,\"\",ข้อมูลนักเรียน!D126 & ข้อมูลนักเรียน!E126 & \"   \"& ข้อมูลนักเรียน!F126)","v":""},{"$f":"IF(ข้อมูลนักเรียน!C126=0,\"\",ข้อมูลนักเรียน!G126)","v":""},{"$f":"ข้อมูลนักเรียน!B126","v":0},null,null,null,null,null,null,null,null,null,null,null,null,null,null,null,null,null,null,null,null,null,null,null,null,null,null,"ผ่าน",0,null,"ปรับปรุง",null,22]
[null,null,null,null,null,null,null,{"$f":"LEFT(H3)","v":"ท"},{"$f":"LEFT(I3)","v":"ค"},"ว","ส","ส","พ","ศ","ง","อ","ง","ล","","","","","","",""]
[null,null,null,"เกรด",null,null,0,{"$f":"COUNTIF(H$7:H$126,$G128)","v":0},0,0,0,0,0,0,0,0,0,0,0,0,0,0,0,0,0]
[null,null,null,null,null,null,1,{"$f":"COUNTIF(H$7:H$126,$G129)","v":0},1,1,0,0,0,0,0,0,0,1,0,0,{"$f":"COUNTIF(U$7:U$126,$G129)","v":0},0,0,0,0]
[null,null,null,null,null,null,1.5,0,0,0,0,0,0,0,0,0,2,0,0,0,0,0,0,0,0]
[null,null,null,null,null,null,2,0,0,0,0,0,0,0,0,0,0,1,0,0,0,0,0,0,0]
[null,null,null,null,null,null,2.5,0,0,0,0,0,0,0,0,1,0,0,0,0,0,0,0,0,0]
[null,null,null,null,null,null,3,1,0,0,0,0,1,0,0,0,0,0,0,0,0,0,0,0,0]
[null,null,null,null,null,null,3.5,0,0,0,0,0,0,0,0,0,0,0,0,0,0,0,0,0,0]
[null,null,null,null,null,null,4,1,1,1,2,2,1,2,2,1,0,0,0,0,0,0,0,0,0]
[null,null,null,null,null,null,"ร",0,0,0,0,0,0,0,0,0,0,0,0,0,0,0,0,0,0]
[null,null,null,null,null,null,"มส",0,0,0,0,0,0,0,0,0,0,0,0,0,0,0,0,0,0]
[null,null,null,null,null,null,"ผ",0,0,0,0,0,0,0,0,0,0,0,0,0,0,0,0,0,0]
[null,null,null,null,null,null,"มผ",0,0,0,0,0,0,0,0,0,0,0,0,0,0,0,0,0,0]

{"sheet":"รายงานผลการเรียน","index":12,"n_rows":40,"n_cols":16,"rows_kept":40,"cut":false,"hidden":false,"merged":[[3,12,7,13],[8,12,9,12],[10,12,11,12],[8,13,9,13],[9,9,9,10],[3,1,3,10],[4,1,4,2],[6,1,7,1],[17,12,18,13],[10,9,10,10],[18,9,18,10],[14,3,14,5],[12,3,12,5],[13,3,13,5],[15,3,15,5],[16,9,16,10],[14,9,14,10],[15,9,15,10],[10,13,11,13],[17,9,17,10],[17,3,17,5],[16,3,16,5],[25,9,25,10],[21,3,21,5],[21,9,21,10],[22,3,22,5],[22,9,22,10],[25,3,25,5],[24,3,24,5],[23,3,23,5],[20,9,20,10],[23,9,23,10],[18,3,18,5],[6,9,7,10],[8,3,8,5],[11,3,11,5],[19,9,19,10],[6,8,7,8],[34,1,34,4],[38,6,38,10],[0,0,3,0],[4,5,4,6],[6,2,7,2],[6,6,7,6],[9,3,9,5],[0,1,0,10],[13,9,13,10],[1,1,1,10],[11,9,11,10],[6,3,7,5],[2,2,2,10],[8,9,8,10],[10,3,10,5],[12,9,12,10],[39,1,39,4],[39,6,39,10],[35,6,35,10],[36,6,36,10],[35,1,35,4],[38,1,38,4],[37,1,37,4],[36,1,36,5],[26,9,26,10],[20,3,20,5],[26,3,26,5],[19,3,19,5],[33,1,33,4],[27,3,27,5],[32,1,32,4],[31,1,31,5],[29,3,29,5],[33,6,33,10],[32,6,32,10],[29,9,29,10],[27,9,27,10],[28,9,28,10],[28,3,28,5],[24,9,24,10]]}
[null,"แบบรายงานผลพัฒนาคุณภาพผู้เรียนรายบุคคล"]
[null,"ประถมศึกษาปีที่ 5   ปีการศึกษา 2554"]
[null,null,{"$f":"\"โรงเรียน\"&ข้อมูลพื้นฐาน!D4","v":"โรงเรียนบ้านหนองคา"}]
[null,{"$f":"\"  สำนักงานเขตพื้นที่การศึกษา\" & ข้อมูลพื้นฐาน!D6 & \"  \" & \" จังหวัด \" &ข้อมูลพื้นฐาน!D9","v":"  สำนักงานเขตพื้นที่การศึกษาประถมศึกษาบุรีรัมย์ เขต 2   จังหวัด บุรีรัมย์"},null,null,null,null,null,null,null,null,null,null,"รายงานผลการเรียนรายบุคคล"]
[null,"รหัสประจำตัวนักเรียน :",null,"00001","ชื่อ - สกุล :","เด็กชายสมชาย   สุขสบาย",null,"ห้อง :",1,"เลขที่ :",1]
[]
[null,"ลำดับ","รหัสวิชา","รายวิชา",null,null,"ประเภท","น้ำหนัก","ระดับผลการเรียน","หมายเหตุ"]
[null,null,null,null,null,null,null,"หน่วยกิต",null,null,null,null,null,null,null,"ชั้นปี"]
[null,1,"ท","ภาษาไทย",null,null,"พื้นฐาน",4,4,null,null,null,"กรุณาระบุชั้นปี : ",5,null,1]
[null,2,"ค15101","คณิตศาสตร์",null,null,"พื้นฐาน",4,1,null,null,null,null,null,null,2]
[null,3,"ว15101","วิทยาศาสตร์",null,null,"พื้นฐาน",2,1,null,null,null,"เลขประจำตัวนักเรียน : ","00001",null,3]
[null,4,"ส15101","สังคมศึกษา ศาสนาและวัฒนธรรม",null,null,"พื้นฐาน",2,4,null,null,null,null,null,null,4]
[null,5,"ส15102","ประวัติศาสตร์",null,null,"พื้นฐาน",1,4,null,null,null,null,null,null,5]
[null,6,"พ15101","สุขศึกษาและพลศึกษา",null,null,"พื้นฐาน",2,4,null,null,null,null,null,null,6]
[null,7,"ศ15101","ศิลปะ",null,null,"พื้นฐาน",2,3]
[null,8,"ง15101","การงานอาชีพและเทคโนโลยี",null,null,"พื้นฐาน",2,3]
[null,9,"อ15101","ภาษาต่างประเทศ",null,null,"พื้นฐาน",2,3]
[null,10,"ง15201","คอมพิวเตอร์",null,null,"เพิ่มเติม",1,1.5,null,null,null,"พิมพ์เป็นช่วง"]
[null,11,"I15201","การศึกษาค้นค้าด้วยตนเอง",null,null,"เพิ่มเติม",1,1.5]
[null,12,"ง15202","คอมพิวเตอร์กราฟิก",null,null,"เพิ่มเติม",1.5,2,null,null,null,"เลขที่เริ่มต้น :",1]
[null,13,"ก1","แนะแนว",null,null,"กิจกรรม",40,"ผ",null,null,null,"เลขที่สุดท้าย :",5,null,"แสดงตัวอย่างก่อนพิมพ์"]
[null,14,"ก2","ลูกเสือ เนตรนารี",null,null,"กิจกรรม",40,"ผ",null,null,null,"ตั้งค่าการพิมพ์","พิมพ์ทันที"]
[null,15,"ก3","ชุมนุมคอมพิวเตอร์",null,null,"กิจกรรม",30,"ผ"]
[null,16,"ก4","กิจกรรมเพื่อสังคมและสาธารณประโยชน์",null,null,"กิจกรรม",10,"ผ",null,null,null,null,null,null,"พิมพ์ทันที"]
[]
[]
[]
[]
[]
[]
[null,null,""]
[null,"สรุปผลการประเมิน"]
[null,"จำนวนหน่วยกิต/น้ำหนักวิชาพื้นฐาน",null,null,null,{"$f":"SUMIF(G9:G30,\"พื้นฐาน\",H9:H30)","v":21},"ลงชื่อ ………………….………………"]
[null,"จำนวนหน่วยกิต/น้ำหนักวิชาเพิ่มเติม",null,null,null,{"$f":"SUMIF(G9:G30,\"เพิ่มเติม\",H9:H30)","v":3.5},"ครูที่ปรึกษา/ครูประจำชั้น"]
[null,"รวมหน่วยกิต/น้ำหนัก",null,null,null,{"$f":"SUM(F33:F34)","v":24.5}]
[null,"ระดับผลการเรียนเฉลี่ย",null,null,null,3.52,"ลงชื่อ ………………………….………"]
[null,"การประเมินคุณลักษณะ",null,null,null,null,"ผู้อำนวยการ"]
[null,"คุณลักษณะอันพึงประสงค์ของสถานศึกษา",null,null,null,"ดีเยี่ยม"]
[null,"การอ่าน คิด วิเคราะห์และเขียน",null,null,null,"ดีเยี่ยม","ลงชื่อ ………………………….………"]
[null,"กิจกรรมพัฒนาผู้เรียน",null,null,null,"ผ่าน","ผู้ปกครอง"]

{"sheet":"สรุปผลสัมฤทธิ์","index":13,"n_rows":147,"n_cols":25,"rows_kept":147,"cut":false,"hidden":false,"merged":[[1,1,1,23],[1,24,1,37],[2,1,2,23],[2,24,2,37],[3,1,4,1],[3,7,3,16],[3,17,4,17],[3,18,4,18],[3,19,4,19],[3,20,4,20],[50,24,50,37],[51,1,51,23],[51,24,51,37],[3,23,4,23],[25,1,25,23],[25,24,25,37],[26,1,26,23],[26,24,26,37],[27,1,28,1],[27,7,27,16],[27,17,28,17],[27,18,28,18],[27,19,28,19],[52,18,53,18],[52,19,53,19],[52,20,53,20],[27,20,28,20],[27,23,28,23],[50,1,50,23],[100,24,100,37],[101,1,101,23],[101,24,101,37],[52,23,53,23],[75,1,75,23],[75,24,75,37],[76,1,76,23],[76,24,76,37],[77,1,78,1],[77,7,77,16],[77,17,78,17],[77,18,78,18],[77,19,78,19],[52,1,53,1],[52,7,52,16],[52,17,53,17],[102,19,103,19],[102,20,103,20],[77,20,78,20],[77,23,78,23],[100,1,100,23],[127,20,128,20],[127,23,128,23],[102,23,103,23],[125,1,125,23],[125,24,125,37],[126,1,126,23],[126,24,126,37],[127,1,128,1],[127,7,127,16],[127,17,128,17],[127,18,128,18],[127,19,128,19],[102,1,103,1],[102,7,102,16],[102,17,103,17],[102,18,103,18]]}
[]
[null,{"$f":" \"รายงานผลสัมฤทธิ์ทางการศึกษาปีการศึกษา  \" & เกรด1!D1","v":"รายงานผลสัมฤทธิ์ทางการศึกษาปีการศึกษา  2550"},null,null,null,null,null,null,null,null,null,null,null,null,null,null,null,null,null,null,null,null,null,null,"แผนภูมิแสดงผลสัมฤทธิ์ทางการศึกษา"]
[null,"ระดับชั้นประถมศึกษาปีที่ 1",null,null,null,null,null,null,null,null,null,null,null,null,null,null,null,null,null,null,null,null,null,null,"ระดับชั้นประถมศึกษาปีที่ 1"]
[null,"กลุ่มสาระ",null,null,null,null,null,"จำนวนนักเรียนที่ได้รับระดับผลการเรียน",null,null,null,null,null,null,null,null,null,"นักเรียนที่ลงทะเบียน","นักเรียนที่ได้ผลการเรียน","ค่าเฉลี่ย","SD","นร.ที่ผ่าน","นร. ได้","นักเรียนที่ไม่ผ่าน"]
[null,null,null,null,null,null,null,0,1,1.5,2,2.5,3,3.5,4,"ร","มส",null,null,null,null,"1-4","3 - 4"]
["ท","ภาษาไทย",null,null,null,null,null,{"$f":"SUMIF(เกรด1!$H$127:$Y$137,$A6,เกรด1!$H$128:$Y$128)","v":0},{"$f":"SUMIF(เกรด1!$H$127:$Y$137,$A6,เกรด1!$H$129:$Y$129)","v":3},{"$f":"SUMIF(เกรด1!$H$127:$Y$137,$A6,เกรด1!$H$130:$Y$130)","v":0},{"$f":"SUMIF(เกรด1!$H$127:$Y$137,$A6,เกรด1!$H$131:$Y$131)","v":0},{"$f":"SUMIF(เกรด1!$H$127:$Y$137,$A6,เกรด1!$H$132:$Y$132)","v":0},{"$f":"SUMIF(เกรด1!$H$127:$Y$137,$A6,เกรด1!$H$133:$Y$133)","v":0},{"$f":"SUMIF(เกรด1!$H$127:$Y$137,$A6,เกรด1!$H$134:$Y$134)","v":0},{"$f":"SUMIF(เกรด1!$H$127:$Y$137,$A6,เกรด1!$H$135:$Y$135)","v":0},{"$f":"SUMIF(เกรด1!$H$127:$Y$137,$A6,เกรด1!$H$136:$Y$136)","v":0},{"$f":"SUMIF(เกรด1!$H$127:$Y$137,$A6,เกรด1!$H$137:$Y$137)","v":0},{"$f":"SUM(H6:Q6)","v":3},{"$f":"SUM(H6:O6)","v":3},{"$f":"SUM(H6*$H$5,I6*$I$5,J6*$J$5,K6*$K$5,L6*$L$5,M6*$M$5,N6*$N$5,O6*$O$5)/S6","v":1},{"$f":"SQRT(T6)","v":1},{"$f":"SUM(I6:O6)","v":3},{"$f":"SUM(M6:O6)","v":0},{"$f":"SUM(H6,P6:Q6)","v":0}]
[null,"ร้อยละ",{"$f":"H6/#REF!*100","v":{"$error":"#REF!"}},{"$f":"I6/#REF!*100","v":{"$error":"#REF!"}},{"$f":"J6/#REF!*100","v":{"$error":"#REF!"}},{"$f":"K6/#REF!*100","v":{"$error":"#REF!"}},{"$f":"L6/#REF!*100","v":{"$error":"#REF!"}},{"$f":"H6/$R6*100","v":0},100,0,0,0,0,0,0,0,0,100,{"$f":"SUM(H7:O7)","v":100},{"$f":"T6/4*100","v":25},null,{"$f":"V6/$R6*100","v":100},{"$f":"W6/$R6*100","v":0},{"$f":"X6/$R6*100","v":0}]
["ค","คณิตศาสตร์",null,null,null,null,null,{"$f":"SUMIF(เกรด1!$H$127:$Y$137,$A8,เกรด1!$H$128:$Y$128)","v":0},{"$f":"SUMIF(เกรด1!$H$127:$Y$137,$A8,เกรด1!$H$129:$Y$129)","v":1},{"$f":"SUMIF(เกรด1!$H$127:$Y$137,$A8,เกรด1!$H$130:$Y$130)","v":0},{"$f":"SUMIF(เกรด1!$H$127:$Y$137,$A8,เกรด1!$H$131:$Y$131)","v":1},{"$f":"SUMIF(เกรด1!$H$127:$Y$137,$A8,เกรด1!$H$132:$Y$132)","v":0},{"$f":"SUMIF(เกรด1!$H$127:$Y$137,$A8,เกรด1!$H$133:$Y$133)","v":0},{"$f":"SUMIF(เกรด1!$H$127:$Y$137,$A8,เกรด1!$H$134:$Y$134)","v":0},{"$f":"SUMIF(เกรด1!$H$127:$Y$137,$A8,เกรด1!$H$135:$Y$135)","v":1},{"$f":"SUMIF(เกรด1!$H$127:$Y$137,$A8,เกรด1!$H$136:$Y$136)","v":0},{"$f":"SUMIF(เกรด1!$H$127:$Y$137,$A8,เกรด1!$H$137:$Y$137)","v":0},3,3,{"$f":"SUM(H8*$H$5,I8*$I$5,J8*$J$5,K8*$K$5,L8*$L$5,M8*$M$5,N8*$N$5,O8*$O$5)/S8","v":2.3333333333333335},{"$f":"SQRT(T8)","v":1.5275252316519468},{"$f":"SUM(I8:O8)","v":3},{"$f":"SUM(M8:O8)","v":1},{"$f":"SUM(H8,P8:Q8)","v":0}]
[null,"ร้อยละ",null,null,null,null,null,{"$f":"H8/$R8*100","v":0},33.333333333333329,0,33.333333333333329,0,0,0,33.333333333333329,0,0,99.999999999999986,{"$f":"SUM(H9:O9)","v":99.999999999999986},{"$f":"T8/4*100","v":58.333333333333336},null,{"$f":"V8/$R8*100","v":100},{"$f":"W8/$R8*100","v":33.333333333333329},{"$f":"X8/$R8*100","v":0}]
["ว","วิทยาศาสตร์",null,null,null,null,null,{"$f":"SUMIF(เกรด1!$H$127:$Y$137,$A10,เกรด1!$H$128:$Y$128)","v":0},{"$f":"SUMIF(เกรด1!$H$127:$Y$137,$A10,เกรด1!$H$129:$Y$129)","v":1},{"$f":"SUMIF(เกรด1!$H$127:$Y$137,$A10,เกรด1!$H$130:$Y$130)","v":0},{"$f":"SUMIF(เกรด1!$H$127:$Y$137,$A10,เกรด1!$H$131:$Y$131)","v":0},{"$f":"SUMIF(เกรด1!$H$127:$Y$137,$A10,เกรด1!$H$132:$Y$132)","v":0},{"$f":"SUMIF(เกรด1!$H$127:$Y$137,$A10,เกรด1!$H$133:$Y$133)","v":1},{"$f":"SUMIF(เกรด1!$H$127:$Y$137,$A10,เกรด1!$H$134:$Y$134)","v":1},{"$f":"SUMIF(เกรด1!$H$127:$Y$137,$A10,เกรด1!$H$135:$Y$135)","v":0},{"$f":"SUMIF(เกรด1!$H$127:$Y$137,$A10,เกรด1!$H$136:$Y$136)","v":0},{"$f":"SUMIF(เกรด1!$H$127:$Y$137,$A10,เกรด1!$H$137:$Y$137)","v":0},3,3,2.5,1.5811388300841898,{"$f":"SUM(I10:O10)","v":3},{"$f":"SUM(M10:O10)","v":2},{"$f":"SUM(H10,P10:Q10)","v":0}]
[null,"ร้อยละ",null,null,null,null,null,{"$f":"H10/$R10*100","v":0},33.333333333333329,0,0,0,33.333333333333329,33.333333333333329,0,0,0,99.999999999999986,99.999999999999986,{"$f":"T10/4*100","v":62.5},null,{"$f":"V10/$R10*100","v":100},{"$f":"W10/$R10*100","v":66.666666666666657},{"$f":"X10/$R10*100","v":0}]
["ส","สังคมศึกษา ฯ",null,null,null,null,null,{"$f":"SUMIF(เกรด1!$H$127:$Y$137,$A12,เกรด1!$H$128:$Y$128)","v":0},{"$f":"SUMIF(เกรด1!$H$127:$Y$137,$A12,เกรด1!$H$129:$Y$129)","v":2},{"$f":"SUMIF(เกรด1!$H$127:$Y$137,$A12,เกรด1!$H$130:$Y$130)","v":0},{"$f":"SUMIF(เกรด1!$H$127:$Y$137,$A12,เกรด1!$H$131:$Y$131)","v":2},{"$f":"SUMIF(เกรด1!$H$127:$Y$137,$A12,เกรด1!$H$132:$Y$132)","v":0},{"$f":"SUMIF(เกรด1!$H$127:$Y$137,$A12,เกรด1!$H$133:$Y$133)","v":1},{"$f":"SUMIF(เกรด1!$H$127:$Y$137,$A12,เกรด1!$H$134:$Y$134)","v":0},{"$f":"SUMIF(เกรด1!$H$127:$Y$137,$A12,เกรด1!$H$135:$Y$135)","v":1},{"$f":"SUMIF(เกรด1!$H$127:$Y$137,$A12,เกรด1!$H$136:$Y$136)","v":0},{"$f":"SUMIF(เกรด1!$H$127:$Y$137,$A12,เกรด1!$H$137:$Y$137)","v":0},6,6,2.1666666666666665,1.4719601443879744,{"$f":"SUM(I12:O12)","v":6},{"$f":"SUM(M12:O12)","v":2},{"$f":"SUM(H12,P12:Q12)","v":0}]
[null,"ร้อยละ",null,null,null,null,null,{"$f":"H12/$R12*100","v":0},33.333333333333329,0,33.333333333333329,0,16.666666666666664,0,16.666666666666664,0,0,99.999999999999972,{"$f":"SUM(H13:O13)","v":99.999999999999972},{"$f":"T12/4*100","v":54.166666666666664},null,{"$f":"V12/$R12*100","v":100},{"$f":"W12/$R12*100","v":33.333333333333329},{"$f":"X12/$R12*100","v":0}]
["พ","สุขศึกษาและพละศึกษา",null,null,null,null,null,{"$f":"SUMIF(เกรด1!$H$127:$Y$137,$A14,เกรด1!$H$128:$Y$128)","v":0},{"$f":"SUMIF(เกรด1!$H$127:$Y$137,$A14,เกรด1!$H$129:$Y$129)","v":0},{"$f":"SUMIF(เกรด1!$H$127:$Y$137,$A14,เกรด1!$H$130:$Y$130)","v":0},{"$f":"SUMIF(เกรด1!$H$127:$Y$137,$A14,เกรด1!$H$131:$Y$131)","v":1},{"$f":"SUMIF(เกรด1!$H$127:$Y$137,$A14,เกรด1!$H$132:$Y$132)","v":0},{"$f":"SUMIF(เกรด1!$H$127:$Y$137,$A14,เกรด1!$H$133:$Y$133)","v":1},{"$f":"SUMIF(เกรด1!$H$127:$Y$137,$A14,เกรด1!$H$134:$Y$134)","v":0},{"$f":"SUMIF(เกรด1!$H$127:$Y$137,$A14,เกรด1!$H$135:$Y$135)","v":1},{"$f":"SUMIF(เกรด1!$H$127:$Y$137,$A14,เกรด1!$H$136:$Y$136)","v":0},{"$f":"SUMIF(เกรด1!$H$127:$Y$137,$A14,เกรด1!$H$137:$Y$137)","v":0},3,3,3,1.7320508075688772,{"$f":"SUM(I14:O14)","v":3},{"$f":"SUM(M14:O14)","v":2},{"$f":"SUM(H14,P14:Q14)","v":0}]
[null,"ร้อยละ",null,null,null,null,null,{"$f":"H14/$R14*100","v":0},0,0,33.333333333333329,0,33.333333333333329,0,33.333333333333329,0,0,99.999999999999986,99.999999999999986,{"$f":"T14/4*100","v":75},null,{"$f":"V14/$R14*100","v":100},{"$f":"W14/$R14*100","v":66.666666666666657},{"$f":"X14/$R14*100","v":0}]
["ศ","ศิลปะ",null,null,null,null,null,{"$f":"SUMIF(เกรด1!$H$127:$Y$137,$A16,เกรด1!$H$128:$Y$128)","v":0},{"$f":"SUMIF(เกรด1!$H$127:$Y$137,$A16,เกรด1!$H$129:$Y$129)","v":1},{"$f":"SUMIF(เกรด1!$H$127:$Y$137,$A16,เกรด1!$H$130:$Y$130)","v":0},{"$f":"SUMIF(เกรด1!$H$127:$Y$137,$A16,เกรด1!$H$131:$Y$131)","v":0},{"$f":"SUMIF(เกรด1!$H$127:$Y$137,$A16,เกรด1!$H$132:$Y$132)","v":0},{"$f":"SUMIF(เกรด1!$H$127:$Y$137,$A16,เกรด1!$H$133:$Y$133)","v":2},{"$f":"SUMIF(เกรด1!$H$127:$Y$137,$A16,เกรด1!$H$134:$Y$134)","v":0},{"$f":"SUMIF(เกรด1!$H$127:$Y$137,$A16,เกรด1!$H$135:$Y$135)","v":0},{"$f":"SUMIF(เกรด1!$H$127:$Y$137,$A16,เกรด1!$H$136:$Y$136)","v":0},{"$f":"SUMIF(เกรด1!$H$127:$Y$137,$A16,เกรด1!$H$137:$Y$137)","v":0},3,3,2.3333333333333335,1.5275252316519468,{"$f":"SUM(I16:O16)","v":3},{"$f":"SUM(M16:O16)","v":2},{"$f":"SUM(H16,P16:Q16)","v":0}]
[null,"ร้อยละ",null,null,null,null,null,{"$f":"H16/$R16*100","v":0},33.333333333333329,0,0,0,66.666666666666657,0,0,0,0,99.999999999999986,{"$f":"SUM(H17:O17)","v":99.999999999999986},{"$f":"T16/4*100","v":58.333333333333336},null,{"$f":"V16/$R16*100","v":100},{"$f":"W16/$R16*100","v":66.666666666666657},{"$f":"X16/$R16*100","v":0}]
["ง","การงานอาชีพฯ",null,null,null,null,null,{"$f":"SUMIF(เกรด1!$H$127:$Y$137,$A18,เกรด1!$H$128:$Y$128)","v":0},{"$f":"SUMIF(เกรด1!$H$127:$Y$137,$A18,เกรด1!$H$129:$Y$129)","v":0},{"$f":"SUMIF(เกรด1!$H$127:$Y$137,$A18,เกรด1!$H$130:$Y$130)","v":3},{"$f":"SUMIF(เกรด1!$H$127:$Y$137,$A18,เกรด1!$H$131:$Y$131)","v":1},{"$f":"SUMIF(เกรด1!$H$127:$Y$137,$A18,เกรด1!$H$132:$Y$132)","v":0},{"$f":"SUMIF(เกรด1!$H$127:$Y$137,$A18,เกรด1!$H$133:$Y$133)","v":1},{"$f":"SUMIF(เกรด1!$H$127:$Y$137,$A18,เกรด1!$H$134:$Y$134)","v":0},{"$f":"SUMIF(เกรด1!$H$127:$Y$137,$A18,เกรด1!$H$135:$Y$135)","v":2},{"$f":"SUMIF(เกรด1!$H$127:$Y$137,$A18,เกรด1!$H$136:$Y$136)","v":0},{"$f":"SUMIF(เกรด1!$H$127:$Y$137,$A18,เกรด1!$H$137:$Y$137)","v":0},7,7,2.5,1.5811388300841898,{"$f":"SUM(I18:O18)","v":7},{"$f":"SUM(M18:O18)","v":3},{"$f":"SUM(H18,P18:Q18)","v":0}]
[null,"ร้อยละ",null,null,null,null,null,{"$f":"H18/$R18*100","v":0},0,42.857142857142854,14.285714285714285,0,14.285714285714285,0,28.571428571428569,0,0,99.999999999999986,99.999999999999986,{"$f":"T18/4*100","v":62.5},null,{"$f":"V18/$R18*100","v":100},{"$f":"W18/$R18*100","v":42.857142857142854},{"$f":"X18/$R18*100","v":0}]
["อ","ภาษาต่างประเทศ",null,null,null,null,null,{"$f":"SUMIF(เกรด1!$H$127:$Y$137,$A20,เกรด1!$H$128:$Y$128)","v":0},{"$f":"SUMIF(เกรด1!$H$127:$Y$137,$A20,เกรด1!$H$129:$Y$129)","v":0},{"$f":"SUMIF(เกรด1!$H$127:$Y$137,$A20,เกรด1!$H$130:$Y$130)","v":0},{"$f":"SUMIF(เกรด1!$H$127:$Y$137,$A20,เกรด1!$H$131:$Y$131)","v":1},{"$f":"SUMIF(เกรด1!$H$127:$Y$137,$A20,เกรด1!$H$132:$Y$132)","v":0},{"$f":"SUMIF(เกรด1!$H$127:$Y$137,$A20,เกรด1!$H$133:$Y$133)","v":1},{"$f":"SUMIF(เกรด1!$H$127:$Y$137,$A20,เกรด1!$H$134:$Y$134)","v":0},{"$f":"SUMIF(เกรด1!$H$127:$Y$137,$A20,เกรด1!$H$135:$Y$135)","v":1},{"$f":"SUMIF(เกรด1!$H$127:$Y$137,$A20,เกรด1!$H$136:$Y$136)","v":0},{"$f":"SUMIF(เกรด1!$H$127:$Y$137,$A20,เกรด1!$H$137:$Y$137)","v":0},3,3,3,1.7320508075688772,{"$f":"SUM(I20:O20)","v":3},{"$f":"SUM(M20:O20)","v":2},{"$f":"SUM(H20,P20:Q20)","v":0}]
[null,"ร้อยละ",null,null,null,null,null,{"$f":"H20/$R20*100","v":0},0,0,33.333333333333329,0,33.333333333333329,0,33.333333333333329,0,0,99.999999999999986,{"$f":"SUM(H21:O21)","v":99.999999999999986},{"$f":"T20/4*100","v":75},null,{"$f":"V20/$R20*100","v":100},{"$f":"W20/$R20*100","v":66.666666666666657},{"$f":"X20/$R20*100","v":0}]
[null,"รวมระดับ",null,null,null,null,null,{"$f":"SUM(H6,H8,H10,H12,H14,H16,H18,H20)","v":0},{"$f":"SUM(I6,I8,I10,I12,I14,I16,I18,I20)","v":8},3,6,0,7,1,6,0,0,31,31,{"$f":"SUM(H22*$H$5,I22*$I$5,J22*$J$5,K22*$K$5,L22*$L$5,M22*$M$5,N22*$N$5,O22*$O$5)/S22","v":2.3548387096774195},1.5345483731956511,31,14,0]
[null,"ร้อยละ",null,null,null,null,null,{"$f":"H22/$R22*100","v":0},25.806451612903224,9.67741935483871,19.35483870967742,0,22.58064516129032,3.225806451612903,19.35483870967742,0,0,{"$f":"SUM(H23:Q23)","v":100},{"$f":"SUM(H23:O23)","v":100},{"$f":"T22/4*100","v":58.870967741935488},null,{"$f":"V22/$R22*100","v":100},{"$f":"W22/$R22*100","v":45.161290322580641},{"$f":"X22/$R22*100","v":0}]
[]
[]
[null,{"$f":" \"รายงานผลสัมฤทธิ์ทางการศึกษาปีการศึกษา  \" & เกรด2!D1","v":"รายงานผลสัมฤทธิ์ทางการศึกษาปีการศึกษา  2551"},null,null,null,null,null,null,null,null,null,null,null,null,null,null,null,null,null,null,null,null,null,null,"แผนภูมิแสดงผลสัมฤทธิ์ทางการศึกษา"]
[null,"ระดับชั้นประถมศึกษาปีที่ 2",null,null,null,null,null,null,null,null,null,null,null,null,null,null,null,null,null,null,null,null,null,null,"ระดับชั้นประถมศึกษาปีที่ 2"]
[null,"กลุ่มสาระ",null,null,null,null,null,"จำนวนนักเรียนที่ได้รับระดับผลการเรียน",null,null,null,null,null,null,null,null,null,"นักเรียนที่ลงทะเบียน","นักเรียนที่ได้ผลการเรียน","ค่าเฉลี่ย","SD","นร.ที่ผ่าน","นร. ได้","นักเรียนที่ไม่ผ่าน"]
[null,null,null,null,null,null,null,0,1,1.5,2,2.5,3,3.5,4,"ร","มส",null,null,null,null,"1-4","3 - 4"]
["ท","ภาษาไทย",null,null,null,null,null,{"$f":"SUMIF(เกรด2!$H$127:$Y$137,$A30,เกรด2!$H$128:$Y$128)","v":0},{"$f":"SUMIF(เกรด2!$H$127:$Y$137,$A30,เกรด2!$H$129:$Y$129)","v":1},{"$f":"SUMIF(เกรด2!$H$127:$Y$137,$A30,เกรด2!$H$130:$Y$130)","v":0},{"$f":"SUMIF(เกรด2!$H$127:$Y$137,$A30,เกรด2!$H$131:$Y$131)","v":1},{"$f":"SUMIF(เกรด2!$H$127:$Y$137,$A30,เกรด2!$H$132:$Y$132)","v":0},{"$f":"SUMIF(เกรด2!$H$127:$Y$137,$A30,เกรด2!$H$133:$Y$133)","v":0},{"$f":"SUMIF(เกรด2!$H$127:$Y$137,$A30,เกรด2!$H$134:$Y$134)","v":0},{"$f":"SUMIF(เกรด2!$H$127:$Y$137,$A30,เกรด2!$H$135:$Y$135)","v":0},{"$f":"SUMIF(เกรด2!$H$127:$Y$137,$A30,เกรด2!$H$136:$Y$136)","v":0},{"$f":"SUMIF(เกรด2!$H$127:$Y$137,$A30,เกรด2!$H$137:$Y$137)","v":0},{"$f":"SUM(H30:Q30)","v":2},{"$f":"SUM(H30:O30)","v":2},{"$f":"SUM(H30*$H$5,I30*$I$5,J30*$J$5,K30*$K$5,L30*$L$5,M30*$M$5,N30*$N$5,O30*$O$5)/S30","v":1.5},{"$f":"SQRT(T30)","v":1.2247448713915889},{"$f":"SUM(I30:O30)","v":2},{"$f":"SUM(M30:O30)","v":0},{"$f":"SUM(H30,P30:Q30)","v":0}]
[null,"ร้อยละ",{"$f":"H30/#REF!*100","v":{"$error":"#REF!"}},{"$f":"I30/#REF!*100","v":{"$error":"#REF!"}},{"$f":"J30/#REF!*100","v":{"$error":"#REF!"}},{"$f":"K30/#REF!*100","v":{"$error":"#REF!"}},{"$f":"L30/#REF!*100","v":{"$error":"#REF!"}},{"$f":"H30/$R30*100","v":0},50,0,50,0,0,0,0,0,0,100,{"$f":"SUM(H31:O31)","v":100},{"$f":"T30/4*100","v":37.5},null,{"$f":"V30/$R30*100","v":100},{"$f":"W30/$R30*100","v":0},{"$f":"X30/$R30*100","v":0}]
["ค","คณิตศาสตร์",null,null,null,null,null,{"$f":"SUMIF(เกรด2!$H$127:$Y$137,$A32,เกรด2!$H$128:$Y$128)","v":0},{"$f":"SUMIF(เกรด2!$H$127:$Y$137,$A32,เกรด2!$H$129:$Y$129)","v":1},{"$f":"SUMIF(เกรด2!$H$127:$Y$137,$A32,เกรด2!$H$130:$Y$130)","v":0},{"$f":"SUMIF(เกรด2!$H$127:$Y$137,$A32,เกรด2!$H$131:$Y$131)","v":1},{"$f":"SUMIF(เกรด2!$H$127:$Y$137,$A32,เกรด2!$H$132:$Y$132)","v":0},{"$f":"SUMIF(เกรด2!$H$127:$Y$137,$A32,เกรด2!$H$133:$Y$133)","v":0},{"$f":"SUMIF(เกรด2!$H$127:$Y$137,$A32,เกรด2!$H$134:$Y$134)","v":0},{"$f":"SUMIF(เกรด2!$H$127:$Y$137,$A32,เกรด2!$H$135:$Y$135)","v":0},{"$f":"SUMIF(เกรด2!$H$127:$Y$137,$A32,เกรด2!$H$136:$Y$136)","v":0},{"$f":"SUMIF(เกรด2!$H$127:$Y$137,$A32,เกรด2!$H$137:$Y$137)","v":0},2,2,{"$f":"SUM(H32*$H$5,I32*$I$5,J32*$J$5,K32*$K$5,L32*$L$5,M32*$M$5,N32*$N$5,O32*$O$5)/S32","v":1.5},{"$f":"SQRT(T32)","v":1.2247448713915889},{"$f":"SUM(I32:O32)","v":2},{"$f":"SUM(M32:O32)","v":0},{"$f":"SUM(H32,P32:Q32)","v":0}]
[null,"ร้อยละ",null,null,null,null,null,{"$f":"H32/$R32*100","v":0},50,0,50,0,0,0,0,0,0,100,100,{"$f":"T32/4*100","v":37.5},null,{"$f":"V32/$R32*100","v":100},{"$f":"W32/$R32*100","v":0},{"$f":"X32/$R32*100","v":0}]
["ว","วิทยาศาสตร์",null,null,null,null,null,{"$f":"SUMIF(เกรด2!$H$127:$Y$137,$A34,เกรด2!$H$128:$Y$128)","v":0},{"$f":"SUMIF(เกรด2!$H$127:$Y$137,$A34,เกรด2!$H$129:$Y$129)","v":1},{"$f":"SUMIF(เกรด2!$H$127:$Y$137,$A34,เกรด2!$H$130:$Y$130)","v":0},{"$f":"SUMIF(เกรด2!$H$127:$Y$137,$A34,เกรด2!$H$131:$Y$131)","v":1},{"$f":"SUMIF(เกรด2!$H$127:$Y$137,$A34,เกรด2!$H$132:$Y$132)","v":0},{"$f":"SUMIF(เกรด2!$H$127:$Y$137,$A34,เกรด2!$H$133:$Y$133)","v":0},{"$f":"SUMIF(เกรด2!$H$127:$Y$137,$A34,เกรด2!$H$134:$Y$134)","v":0},{"$f":"SUMIF(เกรด2!$H$127:$Y$137,$A34,เกรด2!$H$135:$Y$135)","v":0},{"$f":"SUMIF(เกรด2!$H$127:$Y$137,$A34,เกรด2!$H$136:$Y$136)","v":0},{"$f":"SUMIF(เกรด2!$H$127:$Y$137,$A34,เกรด2!$H$137:$Y$137)","v":0},2,2,{"$f":"SUM(H34*$H$5,I34*$I$5,J34*$J$5,K34*$K$5,L34*$L$5,M34*$M$5,N34*$N$5,O34*$O$5)/S34","v":1.5},1.2247448713915889,{"$f":"SUM(I34:O34)","v":2},{"$f":"SUM(M34:O34)","v":0},{"$f":"SUM(H34,P34:Q34)","v":0}]
[null,"ร้อยละ",null,null,null,null,null,{"$f":"H34/$R34*100","v":0},50,0,50,0,0,0,0,0,0,100,100,{"$f":"T34/4*100","v":37.5},null,{"$f":"V34/$R34*100","v":100},{"$f":"W34/$R34*100","v":0},{"$f":"X34/$R34*100","v":0}]
["ส","สังคมศึกษา ฯ",null,null,null,null,null,{"$f":"SUMIF(เกรด2!$H$127:$Y$137,$A36,เกรด2!$H$128:$Y$128)","v":0},{"$f":"SUMIF(เกรด2!$H$127:$Y$137,$A36,เกรด2!$H$129:$Y$129)","v":1},{"$f":"SUMIF(เกรด2!$H$127:$Y$137,$A36,เกรด2!$H$130:$Y$130)","v":0},{"$f":"SUMIF(เกรด2!$H$127:$Y$137,$A36,เกรด2!$H$131:$Y$131)","v":3},{"$f":"SUMIF(เกรด2!$H$127:$Y$137,$A36,เกรด2!$H$132:$Y$132)","v":0},{"$f":"SUMIF(เกรด2!$H$127:$Y$137,$A36,เกรด2!$H$133:$Y$133)","v":0},{"$f":"SUMIF(เกรด2!$H$127:$Y$137,$A36,เกรด2!$H$134:$Y$134)","v":0},{"$f":"SUMIF(เกรด2!$H$127:$Y$137,$A36,เกรด2!$H$135:$Y$135)","v":0},{"$f":"SUMIF(เกรด2!$H$127:$Y$137,$A36,เกรด2!$H$136:$Y$136)","v":0},{"$f":"SUMIF(เกรด2!$H$127:$Y$137,$A36,เกรด2!$H$137:$Y$137)","v":0},4,4,{"$f":"SUM(H36*$H$5,I36*$I$5,J36*$J$5,K36*$K$5,L36*$L$5,M36*$M$5,N36*$N$5,O36*$O$5)/S36","v":1.75},1.3228756555322954,{"$f":"SUM(I36:O36)","v":4},{"$f":"SUM(M36:O36)","v":0},{"$f":"SUM(H36,P36:Q36)","v":0}]
[null,"ร้อยละ",null,null,null,null,null,{"$f":"H36/$R36*100","v":0},25,0,75,0,0,0,0,0,0,100,100,{"$f":"T36/4*100","v":43.75},null,{"$f":"V36/$R36*100","v":100},{"$f":"W36/$R36*100","v":0},{"$f":"X36/$R36*100","v":0}]
["พ","สุขศึกษาและพละศึกษา",null,null,null,null,null,{"$f":"SUMIF(เกรด2!$H$127:$Y$137,$A38,เกรด2!$H$128:$Y$128)","v":0},{"$f":"SUMIF(เกรด2!$H$127:$Y$137,$A38,เกรด2!$H$129:$Y$129)","v":1},{"$f":"SUMIF(เกรด2!$H$127:$Y$137,$A38,เกรด2!$H$130:$Y$130)","v":0},{"$f":"SUMIF(เกรด2!$H$127:$Y$137,$A38,เกรด2!$H$131:$Y$131)","v":1},{"$f":"SUMIF(เกรด2!$H$127:$Y$137,$A38,เกรด2!$H$132:$Y$132)","v":0},{"$f":"SUMIF(เกรด2!$H$127:$Y$137,$A38,เกรด2!$H$133:$Y$133)","v":0},{"$f":"SUMIF(เกรด2!$H$127:$Y$137,$A38,เกรด2!$H$134:$Y$134)","v":0},{"$f":"SUMIF(เกรด2!$H$127:$Y$137,$A38,เกรด2!$H$135:$Y$135)","v":0},{"$f":"SUMIF(เกรด2!$H$127:$Y$137,$A38,เกรด2!$H$136:$Y$136)","v":0},{"$f":"SUMIF(เกรด2!$H$127:$Y$137,$A38,เกรด2!$H$137:$Y$137)","v":0},2,2,{"$f":"SUM(H38*$H$5,I38*$I$5,J38*$J$5,K38*$K$5,L38*$L$5,M38*$M$5,N38*$N$5,O38*$O$5)/S38","v":1.5},1.2247448713915889,{"$f":"SUM(I38:O38)","v":2},{"$f":"SUM(M38:O38)","v":0},{"$f":"SUM(H38,P38:Q38)","v":0}]
[null,"ร้อยละ",null,null,null,null,null,{"$f":"H38/$R38*100","v":0},50,0,50,0,0,0,0,0,0,100,100,{"$f":"T38/4*100","v":37.5},null,{"$f":"V38/$R38*100","v":100},{"$f":"W38/$R38*100","v":0},{"$f":"X38/$R38*100","v":0}]
["ศ","ศิลปะ",null,null,null,null,null,{"$f":"SUMIF(เกรด2!$H$127:$Y$137,$A40,เกรด2!$H$128:$Y$128)","v":0},{"$f":"SUMIF(เกรด2!$H$127:$Y$137,$A40,เกรด2!$H$129:$Y$129)","v":1},{"$f":"SUMIF(เกรด2!$H$127:$Y$137,$A40,เกรด2!$H$130:$Y$130)","v":0},{"$f":"SUMIF(เกรด2!$H$127:$Y$137,$A40,เกรด2!$H$131:$Y$131)","v":1},{"$f":"SUMIF(เกรด2!$H$127:$Y$137,$A40,เกรด2!$H$132:$Y$132)","v":0},{"$f":"SUMIF(เกรด2!$H$127:$Y$137,$A40,เกรด2!$H$133:$Y$133)","v":0},{"$f":"SUMIF(เกรด2!$H$127:$Y$137,$A40,เกรด2!$H$134:$Y$134)","v":0},{"$f":"SUMIF(เกรด2!$H$127:$Y$137,$A40,เกรด2!$H$135:$Y$135)","v":0},{"$f":"SUMIF(เกรด2!$H$127:$Y$137,$A40,เกรด2!$H$136:$Y$136)","v":0},{"$f":"SUMIF(เกรด2!$H$127:$Y$137,$A40,เกรด2!$H$137:$Y$137)","v":0},2,2,{"$f":"SUM(H40*$H$5,I40*$I$5,J40*$J$5,K40*$K$5,L40*$L$5,M40*$M$5,N40*$N$5,O40*$O$5)/S40","v":1.5},1.2247448713915889,{"$f":"SUM(I40:O40)","v":2},{"$f":"SUM(M40:O40)","v":0},{"$f":"SUM(H40,P40:Q40)","v":0}]
[null,"ร้อยละ",null,null,null,null,null,{"$f":"H40/$R40*100","v":0},50,0,50,0,0,0,0,0,0,100,100,{"$f":"T40/4*100","v":37.5},null,{"$f":"V40/$R40*100","v":100},{"$f":"W40/$R40*100","v":0},{"$f":"X40/$R40*100","v":0}]
["ง","การงานอาชีพฯ",null,null,null,null,null,{"$f":"SUMIF(เกรด2!$H$127:$Y$137,$A42,เกรด2!$H$128:$Y$128)","v":0},{"$f":"SUMIF(เกรด2!$H$127:$Y$137,$A42,เกรด2!$H$129:$Y$129)","v":0},{"$f":"SUMIF(เกรด2!$H$127:$Y$137,$A42,เกรด2!$H$130:$Y$130)","v":2},{"$f":"SUMIF(เกรด2!$H$127:$Y$137,$A42,เกรด2!$H$131:$Y$131)","v":2},{"$f":"SUMIF(เกรด2!$H$127:$Y$137,$A42,เกรด2!$H$132:$Y$132)","v":0},{"$f":"SUMIF(เกรด2!$H$127:$Y$137,$A42,เกรด2!$H$133:$Y$133)","v":0},{"$f":"SUMIF(เกรด2!$H$127:$Y$137,$A42,เกรด2!$H$134:$Y$134)","v":0},{"$f":"SUMIF(เกรด2!$H$127:$Y$137,$A42,เกรด2!$H$135:$Y$135)","v":0},{"$f":"SUMIF(เกรด2!$H$127:$Y$137,$A42,เกรด2!$H$136:$Y$136)","v":0},{"$f":"SUMIF(เกรด2!$H$127:$Y$137,$A42,เกรด2!$H$137:$Y$137)","v":0},4,4,{"$f":"SUM(H42*$H$5,I42*$I$5,J42*$J$5,K42*$K$5,L42*$L$5,M42*$M$5,N42*$N$5,O42*$O$5)/S42","v":1.75},1.3228756555322954,{"$f":"SUM(I42:O42)","v":4},{"$f":"SUM(M42:O42)","v":0},{"$f":"SUM(H42,P42:Q42)","v":0}]
[null,"ร้อยละ",null,null,null,null,null,{"$f":"H42/$R42*100","v":0},0,50,50,0,0,0,0,0,0,100,100,{"$f":"T42/4*100","v":43.75},null,{"$f":"V42/$R42*100","v":100},{"$f":"W42/$R42*100","v":0},{"$f":"X42/$R42*100","v":0}]
["อ","ภาษาต่างประเทศ",null,null,null,null,null,{"$f":"SUMIF(เกรด2!$H$127:$Y$137,$A44,เกรด2!$H$128:$Y$128)","v":0},{"$f":"SUMIF(เกรด2!$H$127:$Y$137,$A44,เกรด2!$H$129:$Y$129)","v":1},{"$f":"SUMIF(เกรด2!$H$127:$Y$137,$A44,เกรด2!$H$130:$Y$130)","v":0},{"$f":"SUMIF(เกรด2!$H$127:$Y$137,$A44,เกรด2!$H$131:$Y$131)","v":0},{"$f":"SUMIF(เกรด2!$H$127:$Y$137,$A44,เกรด2!$H$132:$Y$132)","v":0},{"$f":"SUMIF(เกรด2!$H$127:$Y$137,$A44,เกรด2!$H$133:$Y$133)","v":0},{"$f":"SUMIF(เกรด2!$H$127:$Y$137,$A44,เกรด2!$H$134:$Y$134)","v":1},{"$f":"SUMIF(เกรด2!$H$127:$Y$137,$A44,เกรด2!$H$135:$Y$135)","v":0},{"$f":"SUMIF(เกรด2!$H$127:$Y$137,$A44,เกรด2!$H$136:$Y$136)","v":0},{"$f":"SUMIF(เกรด2!$H$127:$Y$137,$A44,เกรด2!$H$137:$Y$137)","v":0},2,2,{"$f":"SUM(H44*$H$5,I44*$I$5,J44*$J$5,K44*$K$5,L44*$L$5,M44*$M$5,N44*$N$5,O44*$O$5)/S44","v":2.25},1.5,{"$f":"SUM(I44:O44)","v":2},{"$f":"SUM(M44:O44)","v":1},{"$f":"SUM(H44,P44:Q44)","v":0}]
[null,"ร้อยละ",null,null,null,null,null,{"$f":"H44/$R44*100","v":0},50,0,0,0,0,50,0,0,0,100,100,{"$f":"T44/4*100","v":56.25},null,{"$f":"V44/$R44*100","v":100},{"$f":"W44/$R44*100","v":50},{"$f":"X44/$R44*100","v":0}]
[null,"รวมระดับ",null,null,null,null,null,{"$f":"SUM(H30,H32,H34,H36,H38,H40,H42,H44)","v":0},{"$f":"SUM(I30,I32,I34,I36,I38,I40,I42,I44)","v":7},2,10,0,0,1,0,0,0,20,20,{"$f":"SUM(H46*$H$5,I46*$I$5,J46*$J$5,K46*$K$5,L46*$L$5,M46*$M$5,N46*$N$5,O46*$O$5)/S46","v":1.675},1.2942179105544784,{"$f":"SUM(V30,V32,V34,V36,V38,V40,V42,V44)","v":20},{"$f":"SUM(W30,W32,W34,W36,W38,W40,W42,W44)","v":1},{"$f":"SUM(X30,X32,X34,X36,X38,X40,X42,X44)","v":0}]
[null,"ร้อยละ",null,null,null,null,null,{"$f":"H46/$R46*100","v":0},35,10,50,0,0,5,0,0,0,{"$f":"SUM(H47:Q47)","v":100},{"$f":"SUM(H47:O47)","v":100},{"$f":"T46/4*100","v":41.875},null,{"$f":"V46/$R46*100","v":100},{"$f":"W46/$R46*100","v":5},{"$f":"X46/$R46*100","v":0}]
[]
[]
[]
[null,{"$f":" \"รายงานผลสัมฤทธิ์ทางการศึกษาปีการศึกษา  \" & เกรด3!D1","v":"รายงานผลสัมฤทธิ์ทางการศึกษาปีการศึกษา  2552"},null,null,null,null,null,null,null,null,null,null,null,null,null,null,null,null,null,null,null,null,null,null,"แผนภูมิแสดงผลสัมฤทธิ์ทางการศึกษา"]
[null,"ระดับชั้นประถมศึกษาปีที่ 3",null,null,null,null,null,null,null,null,null,null,null,null,null,null,null,null,null,null,null,null,null,null,"ระดับชั้นประถมศึกษาปีที่ 3"]
[null,"กลุ่มสาระ",null,null,null,null,null,"จำนวนนักเรียนที่ได้รับระดับผลการเรียน",null,null,null,null,null,null,null,null,null,"นักเรียนที่ลงทะเบียน","นักเรียนที่ได้ผลการเรียน","ค่าเฉลี่ย","SD","นร.ที่ผ่าน","นร. ได้","นักเรียนที่ไม่ผ่าน"]
[null,null,null,null,null,null,null,0,1,1.5,2,2.5,3,3.5,4,"ร","มส",null,null,null,null,"1-4","3 - 4"]
["ท","ภาษาไทย",null,null,null,null,null,{"$f":"SUMIF(เกรด3!$H$127:$Y$137,$A55,เกรด3!$H$128:$Y$128)","v":0},{"$f":"SUMIF(เกรด3!$H$127:$Y$137,$A55,เกรด3!$H$129:$Y$129)","v":2},{"$f":"SUMIF(เกรด3!$H$127:$Y$137,$A55,เกรด3!$H$130:$Y$130)","v":0},{"$f":"SUMIF(เกรด3!$H$127:$Y$137,$A55,เกรด3!$H$131:$Y$131)","v":0},{"$f":"SUMIF(เกรด3!$H$127:$Y$137,$A55,เกรด3!$H$132:$Y$132)","v":0},{"$f":"SUMIF(เกรด3!$H$127:$Y$137,$A55,เกรด3!$H$133:$Y$133)","v":0},{"$f":"SUMIF(เกรด3!$H$127:$Y$137,$A55,เกรด3!$H$134:$Y$134)","v":0},{"$f":"SUMIF(เกรด3!$H$127:$Y$137,$A55,เกรด3!$H$135:$Y$135)","v":0},{"$f":"SUMIF(เกรด3!$H$127:$Y$137,$A55,เกรด3!$H$136:$Y$136)","v":0},{"$f":"SUMIF(เกรด3!$H$127:$Y$137,$A55,เกรด3!$H$137:$Y$137)","v":0},{"$f":"SUM(H55:Q55)","v":2},{"$f":"SUM(H55:O55)","v":2},{"$f":"SUM(H55*$H$5,I55*$I$5,J55*$J$5,K55*$K$5,L55*$L$5,M55*$M$5,N55*$N$5,O55*$O$5)/S55","v":1},{"$f":"SQRT(T55)","v":1},{"$f":"SUM(I55:O55)","v":2},{"$f":"SUM(M55:O55)","v":0},{"$f":"SUM(H55,P55:Q55)","v":0}]
[null,"ร้อยละ",{"$f":"H55/#REF!*100","v":{"$error":"#REF!"}},{"$f":"I55/#REF!*100","v":{"$error":"#REF!"}},{"$f":"J55/#REF!*100","v":{"$error":"#REF!"}},{"$f":"K55/#REF!*100","v":{"$error":"#REF!"}},{"$f":"L55/#REF!*100","v":{"$error":"#REF!"}},{"$f":"H55/$R55*100","v":0},100,0,0,0,0,0,0,0,0,100,{"$f":"SUM(H56:O56)","v":100},{"$f":"T55/4*100","v":25},null,{"$f":"V55/$R55*100","v":100},{"$f":"W55/$R55*100","v":0},{"$f":"X55/$R55*100","v":0}]
["ค","คณิตศาสตร์",null,null,null,null,null,{"$f":"SUMIF(เกรด3!$H$127:$Y$137,$A57,เกรด3!$H$128:$Y$128)","v":0},{"$f":"SUMIF(เกรด3!$H$127:$Y$137,$A57,เกรด3!$H$129:$Y$129)","v":1},{"$f":"SUMIF(เกรด3!$H$127:$Y$137,$A57,เกรด3!$H$130:$Y$130)","v":0},{"$f":"SUMIF(เกรด3!$H$127:$Y$137,$A57,เกรด3!$H$131:$Y$131)","v":1},{"$f":"SUMIF(เกรด3!$H$127:$Y$137,$A57,เกรด3!$H$132:$Y$132)","v":0},{"$f":"SUMIF(เกรด3!$H$127:$Y$137,$A57,เกรด3!$H$133:$Y$133)","v":0},{"$f":"SUMIF(เกรด3!$H$127:$Y$137,$A57,เกรด3!$H$134:$Y$134)","v":0},{"$f":"SUMIF(เกรด3!$H$127:$Y$137,$A57,เกรด3!$H$135:$Y$135)","v":0},{"$f":"SUMIF(เกรด3!$H$127:$Y$137,$A57,เกรด3!$H$136:$Y$136)","v":0},{"$f":"SUMIF(เกรด3!$H$127:$Y$137,$A57,เกรด3!$H$137:$Y$137)","v":0},2,2,{"$f":"SUM(H57*$H$5,I57*$I$5,J57*$J$5,K57*$K$5,L57*$L$5,M57*$M$5,N57*$N$5,O57*$O$5)/S57","v":1.5},{"$f":"SQRT(T57)","v":1.2247448713915889},{"$f":"SUM(I57:O57)","v":2},{"$f":"SUM(M57:O57)","v":0},{"$f":"SUM(H57,P57:Q57)","v":0}]
[null,"ร้อยละ",null,null,null,null,null,{"$f":"H57/$R57*100","v":0},50,0,50,0,0,0,0,0,0,100,100,{"$f":"T57/4*100","v":37.5},null,{"$f":"V57/$R57*100","v":100},{"$f":"W57/$R57*100","v":0},{"$f":"X57/$R57*100","v":0}]
["ว","วิทยาศาสตร์",null,null,null,null,null,{"$f":"SUMIF(เกรด3!$H$127:$Y$137,$A59,เกรด3!$H$128:$Y$128)","v":0},{"$f":"SUMIF(เกรด3!$H$127:$Y$137,$A59,เกรด3!$H$129:$Y$129)","v":1},{"$f":"SUMIF(เกรด3!$H$127:$Y$137,$A59,เกรด3!$H$130:$Y$130)","v":0},{"$f":"SUMIF(เกรด3!$H$127:$Y$137,$A59,เกรด3!$H$131:$Y$131)","v":0},{"$f":"SUMIF(เกรด3!$H$127:$Y$137,$A59,เกรด3!$H$132:$Y$132)","v":0},{"$f":"SUMIF(เกรด3!$H$127:$Y$137,$A59,เกรด3!$H$133:$Y$133)","v":1},{"$f":"SUMIF(เกรด3!$H$127:$Y$137,$A59,เกรด3!$H$134:$Y$134)","v":0},{"$f":"SUMIF(เกรด3!$H$127:$Y$137,$A59,เกรด3!$H$135:$Y$135)","v":0},{"$f":"SUMIF(เกรด3!$H$127:$Y$137,$A59,เกรด3!$H$136:$Y$136)","v":0},{"$f":"SUMIF(เกรด3!$H$127:$Y$137,$A59,เกรด3!$H$137:$Y$137)","v":0},2,2,{"$f":"SUM(H59*$H$5,I59*$I$5,J59*$J$5,K59*$K$5,L59*$L$5,M59*$M$5,N59*$N$5,O59*$O$5)/S59","v":2},1.4142135623730951,{"$f":"SUM(I59:O59)","v":2},{"$f":"SUM(M59:O59)","v":1},{"$f":"SUM(H59,P59:Q59)","v":0}]
[null,"ร้อยละ",null,null,null,null,null,{"$f":"H59/$R59*100","v":0},50,0,0,0,50,0,0,0,0,100,100,{"$f":"T59/4*100","v":50},null,{"$f":"V59/$R59*100","v":100},{"$f":"W59/$R59*100","v":50},{"$f":"X59/$R59*100","v":0}]
["ส","สังคมศึกษา ฯ",null,null,null,null,null,{"$f":"SUMIF(เกรด3!$H$127:$Y$137,$A61,เกรด3!$H$128:$Y$128)","v":0},{"$f":"SUMIF(เกรด3!$H$127:$Y$137,$A61,เกรด3!$H$129:$Y$129)","v":2},{"$f":"SUMIF(เกรด3!$H$127:$Y$137,$A61,เกรด3!$H$130:$Y$130)","v":0},{"$f":"SUMIF(เกรด3!$H$127:$Y$137,$A61,เกรด3!$H$131:$Y$131)","v":1},{"$f":"SUMIF(เกรด3!$H$127:$Y$137,$A61,เกรด3!$H$132:$Y$132)","v":0},{"$f":"SUMIF(เกรด3!$H$127:$Y$137,$A61,เกรด3!$H$133:$Y$133)","v":0},{"$f":"SUMIF(เกรด3!$H$127:$Y$137,$A61,เกรด3!$H$134:$Y$134)","v":0},{"$f":"SUMIF(เกรด3!$H$127:$Y$137,$A61,เกรด3!$H$135:$Y$135)","v":1},{"$f":"SUMIF(เกรด3!$H$127:$Y$137,$A61,เกรด3!$H$136:$Y$136)","v":0},{"$f":"SUMIF(เกรด3!$H$127:$Y$137,$A61,เกรด3!$H$137:$Y$137)","v":0},4,4,{"$f":"SUM(H61*$H$5,I61*$I$5,J61*$J$5,K61*$K$5,L61*$L$5,M61*$M$5,N61*$N$5,O61*$O$5)/S61","v":2},1.4142135623730951,{"$f":"SUM(I61:O61)","v":4},{"$f":"SUM(M61:O61)","v":1},{"$f":"SUM(H61,P61:Q61)","v":0}]
[null,"ร้อยละ",null,null,null,null,null,{"$f":"H61/$R61*100","v":0},50,0,25,0,0,0,25,0,0,100,100,{"$f":"T61/4*100","v":50},null,{"$f":"V61/$R61*100","v":100},{"$f":"W61/$R61*100","v":25},{"$f":"X61/$R61*100","v":0}]
["พ","สุขศึกษาและพละศึกษา",null,null,null,null,null,{"$f":"SUMIF(เกรด3!$H$127:$Y$137,$A63,เกรด3!$H$128:$Y$128)","v":0},{"$f":"SUMIF(เกรด3!$H$127:$Y$137,$A63,เกรด3!$H$129:$Y$129)","v":0},{"$f":"SUMIF(เกรด3!$H$127:$Y$137,$A63,เกรด3!$H$130:$Y$130)","v":0},{"$f":"SUMIF(เกรด3!$H$127:$Y$137,$A63,เกรด3!$H$131:$Y$131)","v":1},{"$f":"SUMIF(เกรด3!$H$127:$Y$137,$A63,เกรด3!$H$132:$Y$132)","v":0},{"$f":"SUMIF(เกรด3!$H$127:$Y$137,$A63,เกรด3!$H$133:$Y$133)","v":1},{"$f":"SUMIF(เกรด3!$H$127:$Y$137,$A63,เกรด3!$H$134:$Y$134)","v":0},{"$f":"SUMIF(เกรด3!$H$127:$Y$137,$A63,เกรด3!$H$135:$Y$135)","v":0},{"$f":"SUMIF(เกรด3!$H$127:$Y$137,$A63,เกรด3!$H$136:$Y$136)","v":0},{"$f":"SUMIF(เกรด3!$H$127:$Y$137,$A63,เกรด3!$H$137:$Y$137)","v":0},2,2,{"$f":"SUM(H63*$H$5,I63*$I$5,J63*$J$5,K63*$K$5,L63*$L$5,M63*$M$5,N63*$N$5,O63*$O$5)/S63","v":2.5},1.5811388300841898,{"$f":"SUM(I63:O63)","v":2},{"$f":"SUM(M63:O63)","v":1},{"$f":"SUM(H63,P63:Q63)","v":0}]
[null,"ร้อยละ",null,null,null,null,null,{"$f":"H63/$R63*100","v":0},0,0,50,0,50,0,0,0,0,100,100,{"$f":"T63/4*100","v":62.5},null,{"$f":"V63/$R63*100","v":100},{"$f":"W63/$R63*100","v":50},{"$f":"X63/$R63*100","v":0}]
["ศ","ศิลปะ",null,null,null,null,null,{"$f":"SUMIF(เกรด3!$H$127:$Y$137,$A65,เกรด3!$H$128:$Y$128)","v":0},{"$f":"SUMIF(เกรด3!$H$127:$Y$137,$A65,เกรด3!$H$129:$Y$129)","v":1},{"$f":"SUMIF(เกรด3!$H$127:$Y$137,$A65,เกรด3!$H$130:$Y$130)","v":0},{"$f":"SUMIF(เกรด3!$H$127:$Y$137,$A65,เกรด3!$H$131:$Y$131)","v":0},{"$f":"SUMIF(เกรด3!$H$127:$Y$137,$A65,เกรด3!$H$132:$Y$132)","v":0},{"$f":"SUMIF(เกรด3!$H$127:$Y$137,$A65,เกรด3!$H$133:$Y$133)","v":1},{"$f":"SUMIF(เกรด3!$H$127:$Y$137,$A65,เกรด3!$H$134:$Y$134)","v":0},{"$f":"SUMIF(เกรด3!$H$127:$Y$137,$A65,เกรด3!$H$135:$Y$135)","v":0},{"$f":"SUMIF(เกรด3!$H$127:$Y$137,$A65,เกรด3!$H$136:$Y$136)","v":0},{"$f":"SUMIF(เกรด3!$H$127:$Y$137,$A65,เกรด3!$H$137:$Y$137)","v":0},2,2,{"$f":"SUM(H65*$H$5,I65*$I$5,J65*$J$5,K65*$K$5,L65*$L$5,M65*$M$5,N65*$N$5,O65*$O$5)/S65","v":2},1.4142135623730951,{"$f":"SUM(I65:O65)","v":2},{"$f":"SUM(M65:O65)","v":1},{"$f":"SUM(H65,P65:Q65)","v":0}]
[null,"ร้อยละ",null,null,null,null,null,{"$f":"H65/$R65*100","v":0},50,0,0,0,50,0,0,0,0,100,100,{"$f":"T65/4*100","v":50},null,{"$f":"V65/$R65*100","v":100},{"$f":"W65/$R65*100","v":50},{"$f":"X65/$R65*100","v":0}]
["ง","การงานอาชีพฯ",null,null,null,null,null,{"$f":"SUMIF(เกรด3!$H$127:$Y$137,$A67,เกรด3!$H$128:$Y$128)","v":0},{"$f":"SUMIF(เกรด3!$H$127:$Y$137,$A67,เกรด3!$H$129:$Y$129)","v":0},{"$f":"SUMIF(เกรด3!$H$127:$Y$137,$A67,เกรด3!$H$130:$Y$130)","v":2},{"$f":"SUMIF(เกรด3!$H$127:$Y$137,$A67,เกรด3!$H$131:$Y$131)","v":1},{"$f":"SUMIF(เกรด3!$H$127:$Y$137,$A67,เกรด3!$H$132:$Y$132)","v":0},{"$f":"SUMIF(เกรด3!$H$127:$Y$137,$A67,เกรด3!$H$133:$Y$133)","v":0},{"$f":"SUMIF(เกรด3!$H$127:$Y$137,$A67,เกรด3!$H$134:$Y$134)","v":0},{"$f":"SUMIF(เกรด3!$H$127:$Y$137,$A67,เกรด3!$H$135:$Y$135)","v":1},{"$f":"SUMIF(เกรด3!$H$127:$Y$137,$A67,เกรด3!$H$136:$Y$136)","v":0},{"$f":"SUMIF(เกรด3!$H$127:$Y$137,$A67,เกรด3!$H$137:$Y$137)","v":0},4,4,{"$f":"SUM(H67*$H$5,I67*$I$5,J67*$J$5,K67*$K$5,L67*$L$5,M67*$M$5,N67*$N$5,O67*$O$5)/S67","v":2.25},1.5,{"$f":"SUM(I67:O67)","v":4},{"$f":"SUM(M67:O67)","v":1},{"$f":"SUM(H67,P67:Q67)","v":0}]
[null,"ร้อยละ",null,null,null,null,null,{"$f":"H67/$R67*100","v":0},0,50,25,0,0,0,25,0,0,100,100,{"$f":"T67/4*100","v":56.25},null,{"$f":"V67/$R67*100","v":100},{"$f":"W67/$R67*100","v":25},{"$f":"X67/$R67*100","v":0}]
["อ","ภาษาต่างประเทศ",null,null,null,null,null,{"$f":"SUMIF(เกรด3!$H$127:$Y$137,$A69,เกรด3!$H$128:$Y$128)","v":0},{"$f":"SUMIF(เกรด3!$H$127:$Y$137,$A69,เกรด3!$H$129:$Y$129)","v":0},{"$f":"SUMIF(เกรด3!$H$127:$Y$137,$A69,เกรด3!$H$130:$Y$130)","v":1},{"$f":"SUMIF(เกรด3!$H$127:$Y$137,$A69,เกรด3!$H$131:$Y$131)","v":0},{"$f":"SUMIF(เกรด3!$H$127:$Y$137,$A69,เกรด3!$H$132:$Y$132)","v":0},{"$f":"SUMIF(เกรด3!$H$127:$Y$137,$A69,เกรด3!$H$133:$Y$133)","v":1},{"$f":"SUMIF(เกรด3!$H$127:$Y$137,$A69,เกรด3!$H$134:$Y$134)","v":0},{"$f":"SUMIF(เกรด3!$H$127:$Y$137,$A69,เกรด3!$H$135:$Y$135)","v":0},{"$f":"SUMIF(เกรด3!$H$127:$Y$137,$A69,เกรด3!$H$136:$Y$136)","v":0},{"$f":"SUMIF(เกรด3!$H$127:$Y$137,$A69,เกรด3!$H$137:$Y$137)","v":0},2,2,{"$f":"SUM(H69*$H$5,I69*$I$5,J69*$J$5,K69*$K$5,L69*$L$5,M69*$M$5,N69*$N$5,O69*$O$5)/S69","v":2.25},1.5,{"$f":"SUM(I69:O69)","v":2},{"$f":"SUM(M69:O69)","v":1},{"$f":"SUM(H69,P69:Q69)","v":0}]
[null,"ร้อยละ",null,null,null,null,null,{"$f":"H69/$R69*100","v":0},0,50,0,0,50,0,0,0,0,100,100,{"$f":"T69/4*100","v":56.25},null,{"$f":"V69/$R69*100","v":100},{"$f":"W69/$R69*100","v":50},{"$f":"X69/$R69*100","v":0}]
[null,"รวมระดับ",null,null,null,null,null,{"$f":"SUM(H55,H57,H59,H61,H63,H65,H67,H69)","v":0},{"$f":"SUM(I55,I57,I59,I61,I63,I65,I67,I69)","v":7},3,4,0,4,0,2,0,0,20,20,{"$f":"SUM(H71*$H$5,I71*$I$5,J71*$J$5,K71*$K$5,L71*$L$5,M71*$M$5,N71*$N$5,O71*$O$5)/S71","v":1.9750000000000001},1.4053469322555197,{"$f":"SUM(V55,V57,V59,V61,V63,V65,V67,V69)","v":20},{"$f":"SUM(W55,W57,W59,W61,W63,W65,W67,W69)","v":6},{"$f":"SUM(X55,X57,X59,X61,X63,X65,X67,X69)","v":0}]
[null,"ร้อยละ",null,null,null,null,null,{"$f":"H71/$R71*100","v":0},35,15,20,0,20,0,10,0,0,{"$f":"SUM(H72:Q72)","v":100},{"$f":"SUM(H72:O72)","v":100},{"$f":"T71/4*100","v":49.375},null,{"$f":"V71/$R71*100","v":100},{"$f":"W71/$R71*100","v":30},{"$f":"X71/$R71*100","v":0}]
[]
[]
[]
[null,{"$f":" \"รายงานผลสัมฤทธิ์ทางการศึกษาปีการศึกษา  \" & เกรด4!D1","v":"รายงานผลสัมฤทธิ์ทางการศึกษาปีการศึกษา  2553"},null,null,null,null,null,null,null,null,null,null,null,null,null,null,null,null,null,null,null,null,null,null,"แผนภูมิแสดงผลสัมฤทธิ์ทางการศึกษา"]
[null,"ระดับชั้นประถมศึกษาปีที่ 4",null,null,null,null,null,null,null,null,null,null,null,null,null,null,null,null,null,null,null,null,null,null,"ระดับชั้นประถมศึกษาปีที่ 4"]
[null,"กลุ่มสาระ",null,null,null,null,null,"จำนวนนักเรียนที่ได้รับระดับผลการเรียน",null,null,null,null,null,null,null,null,null,"นักเรียนที่ลงทะเบียน","นักเรียนที่ได้ผลการเรียน","ค่าเฉลี่ย","SD","นร.ที่ผ่าน","นร. ได้","นักเรียนที่ไม่ผ่าน"]
[null,null,null,null,null,null,null,0,1,1.5,2,2.5,3,3.5,4,"ร","มส",null,null,null,null,"1-4","3 - 4"]
["ท","ภาษาไทย",null,null,null,null,null,{"$f":"SUMIF(เกรด4!$H$127:$Y$137,$A80,เกรด4!$H$128:$Y$128)","v":0},{"$f":"SUMIF(เกรด4!$H$127:$Y$137,$A80,เกรด4!$H$129:$Y$129)","v":0},{"$f":"SUMIF(เกรด4!$H$127:$Y$137,$A80,เกรด4!$H$130:$Y$130)","v":0},{"$f":"SUMIF(เกรด4!$H$127:$Y$137,$A80,เกรด4!$H$131:$Y$131)","v":0},{"$f":"SUMIF(เกรด4!$H$127:$Y$137,$A80,เกรด4!$H$132:$Y$132)","v":0},{"$f":"SUMIF(เกรด4!$H$127:$Y$137,$A80,เกรด4!$H$133:$Y$133)","v":1},{"$f":"SUMIF(เกรด4!$H$127:$Y$137,$A80,เกรด4!$H$134:$Y$134)","v":0},{"$f":"SUMIF(เกรด4!$H$127:$Y$137,$A80,เกรด4!$H$135:$Y$135)","v":1},{"$f":"SUMIF(เกรด4!$H$127:$Y$137,$A80,เกรด4!$H$136:$Y$136)","v":0},{"$f":"SUMIF(เกรด4!$H$127:$Y$137,$A80,เกรด4!$H$137:$Y$137)","v":0},{"$f":"SUM(H80:Q80)","v":2},{"$f":"SUM(H80:O80)","v":2},{"$f":"SUM(H80*$H$5,I80*$I$5,J80*$J$5,K80*$K$5,L80*$L$5,M80*$M$5,N80*$N$5,O80*$O$5)/S80","v":3.5},{"$f":"SQRT(T80)","v":1.8708286933869707},{"$f":"SUM(I80:O80)","v":2},{"$f":"SUM(M80:O80)","v":2},{"$f":"SUM(H80,P80:Q80)","v":0}]
[null,"ร้อยละ",{"$f":"H80/#REF!*100","v":{"$error":"#REF!"}},{"$f":"I80/#REF!*100","v":{"$error":"#REF!"}},{"$f":"J80/#REF!*100","v":{"$error":"#REF!"}},{"$f":"K80/#REF!*100","v":{"$error":"#REF!"}},{"$f":"L80/#REF!*100","v":{"$error":"#REF!"}},{"$f":"H80/$R80*100","v":0},0,0,0,0,50,0,50,0,0,{"$f":"SUM(H81:Q81)","v":100},{"$f":"SUM(H81:O81)","v":100},{"$f":"T80/4*100","v":87.5},null,{"$f":"V80/$R80*100","v":100},{"$f":"W80/$R80*100","v":100},{"$f":"X80/$R80*100","v":0}]
["ค","คณิตศาสตร์",null,null,null,null,null,{"$f":"SUMIF(เกรด4!$H$127:$Y$137,$A82,เกรด4!$H$128:$Y$128)","v":0},{"$f":"SUMIF(เกรด4!$H$127:$Y$137,$A82,เกรด4!$H$129:$Y$129)","v":1},{"$f":"SUMIF(เกรด4!$H$127:$Y$137,$A82,เกรด4!$H$130:$Y$130)","v":0},{"$f":"SUMIF(เกรด4!$H$127:$Y$137,$A82,เกรด4!$H$131:$Y$131)","v":0},{"$f":"SUMIF(เกรด4!$H$127:$Y$137,$A82,เกรด4!$H$132:$Y$132)","v":0},{"$f":"SUMIF(เกรด4!$H$127:$Y$137,$A82,เกรด4!$H$133:$Y$133)","v":0},{"$f":"SUMIF(เกรด4!$H$127:$Y$137,$A82,เกรด4!$H$134:$Y$134)","v":0},{"$f":"SUMIF(เกรด4!$H$127:$Y$137,$A82,เกรด4!$H$135:$Y$135)","v":1},{"$f":"SUMIF(เกรด4!$H$127:$Y$137,$A82,เกรด4!$H$136:$Y$136)","v":0},{"$f":"SUMIF(เกรด4!$H$127:$Y$137,$A82,เกรด4!$H$137:$Y$137)","v":0},2,2,{"$f":"SUM(H82*$H$5,I82*$I$5,J82*$J$5,K82*$K$5,L82*$L$5,M82*$M$5,N82*$N$5,O82*$O$5)/S82","v":2.5},{"$f":"SQRT(T82)","v":1.5811388300841898},{"$f":"SUM(I82:O82)","v":2},{"$f":"SUM(M82:O82)","v":1},{"$f":"SUM(H82,P82:Q82)","v":0}]
[null,"ร้อยละ",null,null,null,null,null,{"$f":"H82/$R82*100","v":0},50,0,0,0,0,0,50,0,0,100,100,{"$f":"T82/4*100","v":62.5},null,{"$f":"V82/$R82*100","v":100},{"$f":"W82/$R82*100","v":50},{"$f":"X82/$R82*100","v":0}]
["ว","วิทยาศาสตร์",null,null,null,null,null,{"$f":"SUMIF(เกรด4!$H$127:$Y$137,$A84,เกรด4!$H$128:$Y$128)","v":0},{"$f":"SUMIF(เกรด4!$H$127:$Y$137,$A84,เกรด4!$H$129:$Y$129)","v":1},{"$f":"SUMIF(เกรด4!$H$127:$Y$137,$A84,เกรด4!$H$130:$Y$130)","v":0},{"$f":"SUMIF(เกรด4!$H$127:$Y$137,$A84,เกรด4!$H$131:$Y$131)","v":0},{"$f":"SUMIF(เกรด4!$H$127:$Y$137,$A84,เกรด4!$H$132:$Y$132)","v":0},{"$f":"SUMIF(เกรด4!$H$127:$Y$137,$A84,เกรด4!$H$133:$Y$133)","v":0},{"$f":"SUMIF(เกรด4!$H$127:$Y$137,$A84,เกรด4!$H$134:$Y$134)","v":0},{"$f":"SUMIF(เกรด4!$H$127:$Y$137,$A84,เกรด4!$H$135:$Y$135)","v":1},{"$f":"SUMIF(เกรด4!$H$127:$Y$137,$A84,เกรด4!$H$136:$Y$136)","v":0},{"$f":"SUMIF(เกรด4!$H$127:$Y$137,$A84,เกรด4!$H$137:$Y$137)","v":0},2,2,{"$f":"SUM(H84*$H$5,I84*$I$5,J84*$J$5,K84*$K$5,L84*$L$5,M84*$M$5,N84*$N$5,O84*$O$5)/S84","v":2.5},1.5811388300841898,{"$f":"SUM(I84:O84)","v":2},{"$f":"SUM(M84:O84)","v":1},{"$f":"SUM(H84,P84:Q84)","v":0}]
[null,"ร้อยละ",null,null,null,null,null,{"$f":"H84/$R84*100","v":0},50,0,0,0,0,0,50,0,0,100,100,{"$f":"T84/4*100","v":62.5},null,{"$f":"V84/$R84*100","v":100},{"$f":"W84/$R84*100","v":50},{"$f":"X84/$R84*100","v":0}]
["ส","สังคมศึกษา ฯ",null,null,null,null,null,{"$f":"SUMIF(เกรด4!$H$127:$Y$137,$A86,เกรด4!$H$128:$Y$128)","v":0},{"$f":"SUMIF(เกรด4!$H$127:$Y$137,$A86,เกรด4!$H$129:$Y$129)","v":0},{"$f":"SUMIF(เกรด4!$H$127:$Y$137,$A86,เกรด4!$H$130:$Y$130)","v":0},{"$f":"SUMIF(เกรด4!$H$127:$Y$137,$A86,เกรด4!$H$131:$Y$131)","v":0},{"$f":"SUMIF(เกรด4!$H$127:$Y$137,$A86,เกรด4!$H$132:$Y$132)","v":0},{"$f":"SUMIF(เกรด4!$H$127:$Y$137,$A86,เกรด4!$H$133:$Y$133)","v":0},{"$f":"SUMIF(เกรด4!$H$127:$Y$137,$A86,เกรด4!$H$134:$Y$134)","v":0},{"$f":"SUMIF(เกรด4!$H$127:$Y$137,$A86,เกรด4!$H$135:$Y$135)","v":4},{"$f":"SUMIF(เกรด4!$H$127:$Y$137,$A86,เกรด4!$H$136:$Y$136)","v":0},{"$f":"SUMIF(เกรด4!$H$127:$Y$137,$A86,เกรด4!$H$137:$Y$137)","v":0},4,4,{"$f":"SUM(H86*$H$5,I86*$I$5,J86*$J$5,K86*$K$5,L86*$L$5,M86*$M$5,N86*$N$5,O86*$O$5)/S86","v":4},2,{"$f":"SUM(I86:O86)","v":4},{"$f":"SUM(M86:O86)","v":4},{"$f":"SUM(H86,P86:Q86)","v":0}]
[null,"ร้อยละ",null,null,null,null,null,{"$f":"H86/$R86*100","v":0},0,0,0,0,0,0,100,0,0,100,100,{"$f":"T86/4*100","v":100},null,{"$f":"V86/$R86*100","v":100},{"$f":"W86/$R86*100","v":100},{"$f":"X86/$R86*100","v":0}]
["พ","สุขศึกษาและพละศึกษา",null,null,null,null,null,{"$f":"SUMIF(เกรด4!$H$127:$Y$137,$A88,เกรด4!$H$128:$Y$128)","v":0},{"$f":"SUMIF(เกรด4!$H$127:$Y$137,$A88,เกรด4!$H$129:$Y$129)","v":0},{"$f":"SUMIF(เกรด4!$H$127:$Y$137,$A88,เกรด4!$H$130:$Y$130)","v":0},{"$f":"SUMIF(เกรด4!$H$127:$Y$137,$A88,เกรด4!$H$131:$Y$131)","v":0},{"$f":"SUMIF(เกรด4!$H$127:$Y$137,$A88,เกรด4!$H$132:$Y$132)","v":0},{"$f":"SUMIF(เกรด4!$H$127:$Y$137,$A88,เกรด4!$H$133:$Y$133)","v":1},{"$f":"SUMIF(เกรด4!$H$127:$Y$137,$A88,เกรด4!$H$134:$Y$134)","v":0},{"$f":"SUMIF(เกรด4!$H$127:$Y$137,$A88,เกรด4!$H$135:$Y$135)","v":1},{"$f":"SUMIF(เกรด4!$H$127:$Y$137,$A88,เกรด4!$H$136:$Y$136)","v":0},{"$f":"SUMIF(เกรด4!$H$127:$Y$137,$A88,เกรด4!$H$137:$Y$137)","v":0},2,2,{"$f":"SUM(H88*$H$5,I88*$I$5,J88*$J$5,K88*$K$5,L88*$L$5,M88*$M$5,N88*$N$5,O88*$O$5)/S88","v":3.5},1.8708286933869707,{"$f":"SUM(I88:O88)","v":2},{"$f":"SUM(M88:O88)","v":2},{"$f":"SUM(H88,P88:Q88)","v":0}]
[null,"ร้อยละ",null,null,null,null,null,{"$f":"H88/$R88*100","v":0},0,0,0,0,50,0,50,0,0,100,100,{"$f":"T88/4*100","v":87.5},null,{"$f":"V88/$R88*100","v":100},{"$f":"W88/$R88*100","v":100},{"$f":"X88/$R88*100","v":0}]
["ศ","ศิลปะ",null,null,null,null,null,{"$f":"SUMIF(เกรด4!$H$127:$Y$137,$A90,เกรด4!$H$128:$Y$128)","v":0},{"$f":"SUMIF(เกรด4!$H$127:$Y$137,$A90,เกรด4!$H$129:$Y$129)","v":0},{"$f":"SUMIF(เกรด4!$H$127:$Y$137,$A90,เกรด4!$H$130:$Y$130)","v":0},{"$f":"SUMIF(เกรด4!$H$127:$Y$137,$A90,เกรด4!$H$131:$Y$131)","v":0},{"$f":"SUMIF(เกรด4!$H$127:$Y$137,$A90,เกรด4!$H$132:$Y$132)","v":0},{"$f":"SUMIF(เกรด4!$H$127:$Y$137,$A90,เกรด4!$H$133:$Y$133)","v":1},{"$f":"SUMIF(เกรด4!$H$127:$Y$137,$A90,เกรด4!$H$134:$Y$134)","v":0},{"$f":"SUMIF(เกรด4!$H$127:$Y$137,$A90,เกรด4!$H$135:$Y$135)","v":1},{"$f":"SUMIF(เกรด4!$H$127:$Y$137,$A90,เกรด4!$H$136:$Y$136)","v":0},{"$f":"SUMIF(เกรด4!$H$127:$Y$137,$A90,เกรด4!$H$137:$Y$137)","v":0},2,2,{"$f":"SUM(H90*$H$5,I90*$I$5,J90*$J$5,K90*$K$5,L90*$L$5,M90*$M$5,N90*$N$5,O90*$O$5)/S90","v":3.5},1.8708286933869707,{"$f":"SUM(I90:O90)","v":2},{"$f":"SUM(M90:O90)","v":2},{"$f":"SUM(H90,P90:Q90)","v":0}]
[null,"ร้อยละ",null,null,null,null,null,{"$f":"H90/$R90*100","v":0},0,0,0,0,50,0,50,0,0,100,100,{"$f":"T90/4*100","v":87.5},null,{"$f":"V90/$R90*100","v":100},{"$f":"W90/$R90*100","v":100},{"$f":"X90/$R90*100","v":0}]
["ง","การงานอาชีพฯ",null,null,null,null,null,{"$f":"SUMIF(เกรด4!$H$127:$Y$137,$A92,เกรด4!$H$128:$Y$128)","v":0},{"$f":"SUMIF(เกรด4!$H$127:$Y$137,$A92,เกรด4!$H$129:$Y$129)","v":0},{"$f":"SUMIF(เกรด4!$H$127:$Y$137,$A92,เกรด4!$H$130:$Y$130)","v":2},{"$f":"SUMIF(เกรด4!$H$127:$Y$137,$A92,เกรด4!$H$131:$Y$131)","v":0},{"$f":"SUMIF(เกรด4!$H$127:$Y$137,$A92,เกรด4!$H$132:$Y$132)","v":0},{"$f":"SUMIF(เกรด4!$H$127:$Y$137,$A92,เกรด4!$H$133:$Y$133)","v":0},{"$f":"SUMIF(เกรด4!$H$127:$Y$137,$A92,เกรด4!$H$134:$Y$134)","v":0},{"$f":"SUMIF(เกรด4!$H$127:$Y$137,$A92,เกรด4!$H$135:$Y$135)","v":2},{"$f":"SUMIF(เกรด4!$H$127:$Y$137,$A92,เกรด4!$H$136:$Y$136)","v":0},{"$f":"SUMIF(เกรด4!$H$127:$Y$137,$A92,เกรด4!$H$137:$Y$137)","v":0},4,4,{"$f":"SUM(H92*$H$5,I92*$I$5,J92*$J$5,K92*$K$5,L92*$L$5,M92*$M$5,N92*$N$5,O92*$O$5)/S92","v":2.75},1.6583123951776999,{"$f":"SUM(I92:O92)","v":4},{"$f":"SUM(M92:O92)","v":2},{"$f":"SUM(H92,P92:Q92)","v":0}]
[null,"ร้อยละ",null,null,null,null,null,{"$f":"H92/$R92*100","v":0},0,50,0,0,0,0,50,0,0,100,100,{"$f":"T92/4*100","v":68.75},null,{"$f":"V92/$R92*100","v":100},{"$f":"W92/$R92*100","v":50},{"$f":"X92/$R92*100","v":0}]
["อ","ภาษาต่างประเทศ",null,null,null,null,null,{"$f":"SUMIF(เกรด4!$H$127:$Y$137,$A94,เกรด4!$H$128:$Y$128)","v":0},{"$f":"SUMIF(เกรด4!$H$127:$Y$137,$A94,เกรด4!$H$129:$Y$129)","v":0},{"$f":"SUMIF(เกรด4!$H$127:$Y$137,$A94,เกรด4!$H$130:$Y$130)","v":0},{"$f":"SUMIF(เกรด4!$H$127:$Y$137,$A94,เกรด4!$H$131:$Y$131)","v":0},{"$f":"SUMIF(เกรด4!$H$127:$Y$137,$A94,เกรด4!$H$132:$Y$132)","v":0},{"$f":"SUMIF(เกรด4!$H$127:$Y$137,$A94,เกรด4!$H$133:$Y$133)","v":0},{"$f":"SUMIF(เกรด4!$H$127:$Y$137,$A94,เกรด4!$H$134:$Y$134)","v":0},{"$f":"SUMIF(เกรด4!$H$127:$Y$137,$A94,เกรด4!$H$135:$Y$135)","v":2},{"$f":"SUMIF(เกรด4!$H$127:$Y$137,$A94,เกรด4!$H$136:$Y$136)","v":0},{"$f":"SUMIF(เกรด4!$H$127:$Y$137,$A94,เกรด4!$H$137:$Y$137)","v":0},2,2,{"$f":"SUM(H94*$H$5,I94*$I$5,J94*$J$5,K94*$K$5,L94*$L$5,M94*$M$5,N94*$N$5,O94*$O$5)/S94","v":4},2,{"$f":"SUM(I94:O94)","v":2},{"$f":"SUM(M94:O94)","v":2},{"$f":"SUM(H94,P94:Q94)","v":0}]
[null,"ร้อยละ",null,null,null,null,null,{"$f":"H94/$R94*100","v":0},0,0,0,0,0,0,100,0,0,100,100,{"$f":"T94/4*100","v":100},null,{"$f":"V94/$R94*100","v":100},{"$f":"W94/$R94*100","v":100},{"$f":"X94/$R94*100","v":0}]
[null,"รวมระดับ",null,null,null,null,null,{"$f":"SUM(H80,H82,H84,H86,H88,H90,H92,H94)","v":0},{"$f":"SUM(I80,I82,I84,I86,I88,I90,I92,I94)","v":2},2,0,0,3,0,13,0,0,20,20,{"$f":"SUM(H96*$H$5,I96*$I$5,J96*$J$5,K96*$K$5,L96*$L$5,M96*$M$5,N96*$N$5,O96*$O$5)/S96","v":3.3},1.8165902124584949,{"$f":"SUM(V80,V82,V84,V86,V88,V90,V92,V94)","v":20},{"$f":"SUM(W80,W82,W84,W86,W88,W90,W92,W94)","v":16},{"$f":"SUM(X80,X82,X84,X86,X88,X90,X92,X94)","v":0}]
[null,"ร้อยละ",null,null,null,null,null,{"$f":"H96/$R96*100","v":0},10,10,0,0,15,0,65,0,0,{"$f":"SUM(H97:Q97)","v":100},{"$f":"SUM(H97:O97)","v":100},{"$f":"T96/4*100","v":82.5},null,{"$f":"V96/$R96*100","v":100},{"$f":"W96/$R96*100","v":80},{"$f":"X96/$R96*100","v":0}]
[]
[]
[]
[null,{"$f":" \"รายงานผลสัมฤทธิ์ทางการศึกษาปีการศึกษา  \" & เกรด5!D1","v":"รายงานผลสัมฤทธิ์ทางการศึกษาปีการศึกษา  2554"},null,null,null,null,null,null,null,null,null,null,null,null,null,null,null,null,null,null,null,null,null,null,"แผนภูมิแสดงผลสัมฤทธิ์ทางการศึกษา"]
[null,"ระดับชั้นประถมศึกษาปีที่ 5",null,null,null,null,null,null,null,null,null,null,null,null,null,null,null,null,null,null,null,null,null,null,"ระดับชั้นประถมศึกษาปีที่ 5"]
[null,"กลุ่มสาระ",null,null,null,null,null,"จำนวนนักเรียนที่ได้รับระดับผลการเรียน",null,null,null,null,null,null,null,null,null,"นักเรียนที่ลงทะเบียน","นักเรียนที่ได้ผลการเรียน","ค่าเฉลี่ย","SD","นร.ที่ผ่าน","นร. ได้","นักเรียนที่ไม่ผ่าน"]
[null,null,null,null,null,null,null,0,1,1.5,2,2.5,3,3.5,4,"ร","มส",null,null,null,null,"1-4","3 - 4"]
["ท","ภาษาไทย",null,null,null,null,null,{"$f":"SUMIF(เกรด5!$H$127:$Y$137,$A105,เกรด5!$H$128:$Y$128)","v":0},{"$f":"SUMIF(เกรด5!$H$127:$Y$137,$A105,เกรด5!$H$129:$Y$129)","v":0},{"$f":"SUMIF(เกรด5!$H$127:$Y$137,$A105,เกรด5!$H$130:$Y$130)","v":0},{"$f":"SUMIF(เกรด5!$H$127:$Y$137,$A105,เกรด5!$H$131:$Y$131)","v":0},{"$f":"SUMIF(เกรด5!$H$127:$Y$137,$A105,เกรด5!$H$132:$Y$132)","v":0},{"$f":"SUMIF(เกรด5!$H$127:$Y$137,$A105,เกรด5!$H$133:$Y$133)","v":1},{"$f":"SUMIF(เกรด5!$H$127:$Y$137,$A105,เกรด5!$H$134:$Y$134)","v":0},{"$f":"SUMIF(เกรด5!$H$127:$Y$137,$A105,เกรด5!$H$135:$Y$135)","v":1},{"$f":"SUMIF(เกรด5!$H$127:$Y$137,$A105,เกรด5!$H$136:$Y$136)","v":0},{"$f":"SUMIF(เกรด5!$H$127:$Y$137,$A105,เกรด5!$H$137:$Y$137)","v":0},{"$f":"SUM(H105:Q105)","v":2},{"$f":"SUM(H105:O105)","v":2},{"$f":"SUM(H105*$H$5,I105*$I$5,J105*$J$5,K105*$K$5,L105*$L$5,M105*$M$5,N105*$N$5,O105*$O$5)/S105","v":3.5},{"$f":"SQRT(T105)","v":1.8708286933869707},{"$f":"SUM(I105:O105)","v":2},{"$f":"SUM(M105:O105)","v":2},{"$f":"SUM(H105,P105:Q105)","v":0}]
[null,"ร้อยละ",{"$f":"H105/#REF!*100","v":{"$error":"#REF!"}},{"$f":"I105/#REF!*100","v":{"$error":"#REF!"}},{"$f":"J105/#REF!*100","v":{"$error":"#REF!"}},{"$f":"K105/#REF!*100","v":{"$error":"#REF!"}},{"$f":"L105/#REF!*100","v":{"$error":"#REF!"}},{"$f":"H105/$R105*100","v":0},0,0,0,0,50,0,50,0,0,100,{"$f":"SUM(H106:O106)","v":100},{"$f":"T105/4*100","v":87.5},null,{"$f":"V105/$R105*100","v":100},{"$f":"W105/$R105*100","v":100},{"$f":"X105/$R105*100","v":0}]
["ค","คณิตศาสตร์",null,null,null,null,null,{"$f":"SUMIF(เกรด5!$H$127:$Y$137,$A107,เกรด5!$H$128:$Y$128)","v":0},{"$f":"SUMIF(เกรด5!$H$127:$Y$137,$A107,เกรด5!$H$129:$Y$129)","v":1},{"$f":"SUMIF(เกรด5!$H$127:$Y$137,$A107,เกรด5!$H$130:$Y$130)","v":0},{"$f":"SUMIF(เกรด5!$H$127:$Y$137,$A107,เกรด5!$H$131:$Y$131)","v":0},{"$f":"SUMIF(เกรด5!$H$127:$Y$137,$A107,เกรด5!$H$132:$Y$132)","v":0},{"$f":"SUMIF(เกรด5!$H$127:$Y$137,$A107,เกรด5!$H$133:$Y$133)","v":1},{"$f":"SUMIF(เกรด5!$H$127:$Y$137,$A107,เกรด5!$H$134:$Y$134)","v":0},{"$f":"SUMIF(เกรด5!$H$127:$Y$137,$A107,เกรด5!$H$135:$Y$135)","v":0},{"$f":"SUMIF(เกรด5!$H$127:$Y$137,$A107,เกรด5!$H$136:$Y$136)","v":0},{"$f":"SUMIF(เกรด5!$H$127:$Y$137,$A107,เกรด5!$H$137:$Y$137)","v":0},2,2,{"$f":"SUM(H107*$H$5,I107*$I$5,J107*$J$5,K107*$K$5,L107*$L$5,M107*$M$5,N107*$N$5,O107*$O$5)/S107","v":2},{"$f":"SQRT(T107)","v":1.4142135623730951},{"$f":"SUM(I107:O107)","v":2},{"$f":"SUM(M107:O107)","v":1},{"$f":"SUM(H107,P107:Q107)","v":0}]
[null,"ร้อยละ",null,null,null,null,null,{"$f":"H107/$R107*100","v":0},50,0,0,0,50,0,0,0,0,100,100,{"$f":"T107/4*100","v":50},null,{"$f":"V107/$R107*100","v":100},{"$f":"W107/$R107*100","v":50},{"$f":"X107/$R107*100","v":0}]
["ว","วิทยาศาสตร์",null,null,null,null,null,{"$f":"SUMIF(เกรด5!$H$127:$Y$137,$A109,เกรด5!$H$128:$Y$128)","v":0},{"$f":"SUMIF(เกรด5!$H$127:$Y$137,$A109,เกรด5!$H$129:$Y$129)","v":1},{"$f":"SUMIF(เกรด5!$H$127:$Y$137,$A109,เกรด5!$H$130:$Y$130)","v":0},{"$f":"SUMIF(เกรด5!$H$127:$Y$137,$A109,เกรด5!$H$131:$Y$131)","v":0},{"$f":"SUMIF(เกรด5!$H$127:$Y$137,$A109,เกรด5!$H$132:$Y$132)","v":0},{"$f":"SUMIF(เกรด5!$H$127:$Y$137,$A109,เกรด5!$H$133:$Y$133)","v":0},{"$f":"SUMIF(เกรด5!$H$127:$Y$137,$A109,เกรด5!$H$134:$Y$134)","v":0},{"$f":"SUMIF(เกรด5!$H$127:$Y$137,$A109,เกรด5!$H$135:$Y$135)","v":1},{"$f":"SUMIF(เกรด5!$H$127:$Y$137,$A109,เกรด5!$H$136:$Y$136)","v":0},{"$f":"SUMIF(เกรด5!$H$127:$Y$137,$A109,เกรด5!$H$137:$Y$137)","v":0},2,2,{"$f":"SUM(H109*$H$5,I109*$I$5,J109*$J$5,K109*$K$5,L109*$L$5,M109*$M$5,N109*$N$5,O109*$O$5)/S109","v":2.5},1.5811388300841898,{"$f":"SUM(I109:O109)","v":2},{"$f":"SUM(M109:O109)","v":1},{"$f":"SUM(H109,P109:Q109)","v":0}]
[null,"ร้อยละ",null,null,null,null,null,{"$f":"H109/$R109*100","v":0},50,0,0,0,0,0,50,0,0,100,100,{"$f":"T109/4*100","v":62.5},null,{"$f":"V109/$R109*100","v":100},{"$f":"W109/$R109*100","v":50},{"$f":"X109/$R109*100","v":0}]
["ส","สังคมศึกษา ฯ",null,null,null,null,null,{"$f":"SUMIF(เกรด5!$H$127:$Y$137,$A111,เกรด5!$H$128:$Y$128)","v":0},{"$f":"SUMIF(เกรด5!$H$127:$Y$137,$A111,เกรด5!$H$129:$Y$129)","v":0},{"$f":"SUMIF(เกรด5!$H$127:$Y$137,$A111,เกรด5!$H$130:$Y$130)","v":0},{"$f":"SUMIF(เกรด5!$H$127:$Y$137,$A111,เกรด5!$H$131:$Y$131)","v":0},{"$f":"SUMIF(เกรด5!$H$127:$Y$137,$A111,เกรด5!$H$132:$Y$132)","v":0},{"$f":"SUMIF(เกรด5!$H$127:$Y$137,$A111,เกรด5!$H$133:$Y$133)","v":0},{"$f":"SUMIF(เกรด5!$H$127:$Y$137,$A111,เกรด5!$H$134:$Y$134)","v":0},{"$f":"SUMIF(เกรด5!$H$127:$Y$137,$A111,เกรด5!$H$135:$Y$135)","v":4},{"$f":"SUMIF(เกรด5!$H$127:$Y$137,$A111,เกรด5!$H$136:$Y$136)","v":0},{"$f":"SUMIF(เกรด5!$H$127:$Y$137,$A111,เกรด5!$H$137:$Y$137)","v":0},4,4,{"$f":"SUM(H111*$H$5,I111*$I$5,J111*$J$5,K111*$K$5,L111*$L$5,M111*$M$5,N111*$N$5,O111*$O$5)/S111","v":4},2,{"$f":"SUM(I111:O111)","v":4},{"$f":"SUM(M111:O111)","v":4},{"$f":"SUM(H111,P111:Q111)","v":0}]
[null,"ร้อยละ",null,null,null,null,null,{"$f":"H111/$R111*100","v":0},0,0,0,0,0,0,100,0,0,100,100,{"$f":"T111/4*100","v":100},null,{"$f":"V111/$R111*100","v":100},{"$f":"W111/$R111*100","v":100},{"$f":"X111/$R111*100","v":0}]
["พ","สุขศึกษาและพละศึกษา",null,null,null,null,null,{"$f":"SUMIF(เกรด5!$H$127:$Y$137,$A113,เกรด5!$H$128:$Y$128)","v":0},{"$f":"SUMIF(เกรด5!$H$127:$Y$137,$A113,เกรด5!$H$129:$Y$129)","v":0},{"$f":"SUMIF(เกรด5!$H$127:$Y$137,$A113,เกรด5!$H$130:$Y$130)","v":0},{"$f":"SUMIF(เกรด5!$H$127:$Y$137,$A113,เกรด5!$H$131:$Y$131)","v":0},{"$f":"SUMIF(เกรด5!$H$127:$Y$137,$A113,เกรด5!$H$132:$Y$132)","v":0},{"$f":"SUMIF(เกรด5!$H$127:$Y$137,$A113,เกรด5!$H$133:$Y$133)","v":0},{"$f":"SUMIF(เกรด5!$H$127:$Y$137,$A113,เกรด5!$H$134:$Y$134)","v":0},{"$f":"SUMIF(เกรด5!$H$127:$Y$137,$A113,เกรด5!$H$135:$Y$135)","v":2},{"$f":"SUMIF(เกรด5!$H$127:$Y$137,$A113,เกรด5!$H$136:$Y$136)","v":0},{"$f":"SUMIF(เกรด5!$H$127:$Y$137,$A113,เกรด5!$H$137:$Y$137)","v":0},2,2,{"$f":"SUM(H113*$H$5,I113*$I$5,J113*$J$5,K113*$K$5,L113*$L$5,M113*$M$5,N113*$N$5,O113*$O$5)/S113","v":4},2,{"$f":"SUM(I113:O113)","v":2},{"$f":"SUM(M113:O113)","v":2},{"$f":"SUM(H113,P113:Q113)","v":0}]
[null,"ร้อยละ",null,null,null,null,null,{"$f":"H113/$R113*100","v":0},0,0,0,0,0,0,100,0,0,100,100,{"$f":"T113/4*100","v":100},null,{"$f":"V113/$R113*100","v":100},{"$f":"W113/$R113*100","v":100},{"$f":"X113/$R113*100","v":0}]
["ศ","ศิลปะ",null,null,null,null,null,{"$f":"SUMIF(เกรด5!$H$127:$Y$137,$A115,เกรด5!$H$128:$Y$128)","v":0},{"$f":"SUMIF(เกรด5!$H$127:$Y$137,$A115,เกรด5!$H$129:$Y$129)","v":0},{"$f":"SUMIF(เกรด5!$H$127:$Y$137,$A115,เกรด5!$H$130:$Y$130)","v":0},{"$f":"SUMIF(เกรด5!$H$127:$Y$137,$A115,เกรด5!$H$131:$Y$131)","v":0},{"$f":"SUMIF(เกรด5!$H$127:$Y$137,$A115,เกรด5!$H$132:$Y$132)","v":0},{"$f":"SUMIF(เกรด5!$H$127:$Y$137,$A115,เกรด5!$H$133:$Y$133)","v":1},{"$f":"SUMIF(เกรด5!$H$127:$Y$137,$A115,เกรด5!$H$134:$Y$134)","v":0},{"$f":"SUMIF(เกรด5!$H$127:$Y$137,$A115,เกรด5!$H$135:$Y$135)","v":1},{"$f":"SUMIF(เกรด5!$H$127:$Y$137,$A115,เกรด5!$H$136:$Y$136)","v":0},{"$f":"SUMIF(เกรด5!$H$127:$Y$137,$A115,เกรด5!$H$137:$Y$137)","v":0},2,2,{"$f":"SUM(H115*$H$5,I115*$I$5,J115*$J$5,K115*$K$5,L115*$L$5,M115*$M$5,N115*$N$5,O115*$O$5)/S115","v":3.5},1.8708286933869707,{"$f":"SUM(I115:O115)","v":2},{"$f":"SUM(M115:O115)","v":2},{"$f":"SUM(H115,P115:Q115)","v":0}]
[null,"ร้อยละ",null,null,null,null,null,{"$f":"H115/$R115*100","v":0},0,0,0,0,50,0,50,0,0,100,100,{"$f":"T115/4*100","v":87.5},null,{"$f":"V115/$R115*100","v":100},{"$f":"W115/$R115*100","v":100},{"$f":"X115/$R115*100","v":0}]
["ง","การงานอาชีพฯ",null,null,null,null,null,{"$f":"SUMIF(เกรด5!$H$127:$Y$137,$A117,เกรด5!$H$128:$Y$128)","v":0},{"$f":"SUMIF(เกรด5!$H$127:$Y$137,$A117,เกรด5!$H$129:$Y$129)","v":0},{"$f":"SUMIF(เกรด5!$H$127:$Y$137,$A117,เกรด5!$H$130:$Y$130)","v":2},{"$f":"SUMIF(เกรด5!$H$127:$Y$137,$A117,เกรด5!$H$131:$Y$131)","v":0},{"$f":"SUMIF(เกรด5!$H$127:$Y$137,$A117,เกรด5!$H$132:$Y$132)","v":0},{"$f":"SUMIF(เกรด5!$H$127:$Y$137,$A117,เกรด5!$H$133:$Y$133)","v":1},{"$f":"SUMIF(เกรด5!$H$127:$Y$137,$A117,เกรด5!$H$134:$Y$134)","v":0},{"$f":"SUMIF(เกรด5!$H$127:$Y$137,$A117,เกรด5!$H$135:$Y$135)","v":1},{"$f":"SUMIF(เกรด5!$H$127:$Y$137,$A117,เกรด5!$H$136:$Y$136)","v":0},{"$f":"SUMIF(เกรด5!$H$127:$Y$137,$A117,เกรด5!$H$137:$Y$137)","v":0},4,4,{"$f":"SUM(H117*$H$5,I117*$I$5,J117*$J$5,K117*$K$5,L117*$L$5,M117*$M$5,N117*$N$5,O117*$O$5)/S117","v":2.5},1.5811388300841898,{"$f":"SUM(I117:O117)","v":4},{"$f":"SUM(M117:O117)","v":2},{"$f":"SUM(H117,P117:Q117)","v":0}]
[null,"ร้อยละ",null,null,null,null,null,{"$f":"H117/$R117*100","v":0},0,50,0,0,25,0,25,0,0,100,100,{"$f":"T117/4*100","v":62.5},null,{"$f":"V117/$R117*100","v":100},{"$f":"W117/$R117*100","v":50},{"$f":"X117/$R117*100","v":0}]
["อ","ภาษาต่างประเทศ",null,null,null,null,null,{"$f":"SUMIF(เกรด5!$H$127:$Y$137,$A119,เกรด5!$H$128:$Y$128)","v":0},{"$f":"SUMIF(เกรด5!$H$127:$Y$137,$A119,เกรด5!$H$129:$Y$129)","v":0},{"$f":"SUMIF(เกรด5!$H$127:$Y$137,$A119,เกรด5!$H$130:$Y$130)","v":0},{"$f":"SUMIF(เกรด5!$H$127:$Y$137,$A119,เกรด5!$H$131:$Y$131)","v":0},{"$f":"SUMIF(เกรด5!$H$127:$Y$137,$A119,เกรด5!$H$132:$Y$132)","v":0},{"$f":"SUMIF(เกรด5!$H$127:$Y$137,$A119,เกรด5!$H$133:$Y$133)","v":1},{"$f":"SUMIF(เกรด5!$H$127:$Y$137,$A119,เกรด5!$H$134:$Y$134)","v":0},{"$f":"SUMIF(เกรด5!$H$127:$Y$137,$A119,เกรด5!$H$135:$Y$135)","v":1},{"$f":"SUMIF(เกรด5!$H$127:$Y$137,$A119,เกรด5!$H$136:$Y$136)","v":0},{"$f":"SUMIF(เกรด5!$H$127:$Y$137,$A119,เกรด5!$H$137:$Y$137)","v":0},2,2,{"$f":"SUM(H119*$H$5,I119*$I$5,J119*$J$5,K119*$K$5,L119*$L$5,M119*$M$5,N119*$N$5,O119*$O$5)/S119","v":3.5},1.8708286933869707,{"$f":"SUM(I119:O119)","v":2},{"$f":"SUM(M119:O119)","v":2},{"$f":"SUM(H119,P119:Q119)","v":0}]
[null,"ร้อยละ",null,null,null,null,null,{"$f":"H119/$R119*100","v":0},0,0,0,0,50,0,50,0,0,100,100,{"$f":"T119/4*100","v":87.5},null,{"$f":"V119/$R119*100","v":100},{"$f":"W119/$R119*100","v":100},{"$f":"X119/$R119*100","v":0}]
[null,"รวมระดับ",null,null,null,null,null,{"$f":"SUM(H105,H107,H109,H111,H113,H115,H117,H119)","v":0},{"$f":"SUM(I105,I107,I109,I111,I113,I115,I117,I119)","v":2},2,0,0,5,0,11,0,0,20,20,{"$f":"SUM(H121*$H$5,I121*$I$5,J121*$J$5,K121*$K$5,L121*$L$5,M121*$M$5,N121*$N$5,O121*$O$5)/S121","v":3.2},1.7888543819998317,{"$f":"SUM(V105,V107,V109,V111,V113,V115,V117,V119)","v":20},{"$f":"SUM(W105,W107,W109,W111,W113,W115,W117,W119)","v":16},{"$f":"SUM(X105,X107,X109,X111,X113,X115,X117,X119)","v":0}]
[null,"ร้อยละ",null,null,null,null,null,{"$f":"H121/$R121*100","v":0},10,10,0,0,25,0,55.000000000000007,0,0,{"$f":"SUM(H122:Q122)","v":100},{"$f":"SUM(H122:O122)","v":100},{"$f":"T121/4*100","v":80},null,{"$f":"V121/$R121*100","v":100},{"$f":"W121/$R121*100","v":80},{"$f":"X121/$R121*100","v":0}]
[]
[]
[]
[null,{"$f":" \"รายงานผลสัมฤทธิ์ทางการศึกษาปีการศึกษา  \" & เกรด6!D1","v":"รายงานผลสัมฤทธิ์ทางการศึกษาปีการศึกษา  2555"},null,null,null,null,null,null,null,null,null,null,null,null,null,null,null,null,null,null,null,null,null,null,"แผนภูมิแสดงผลสัมฤทธิ์ทางการศึกษา"]
[null,"ระดับชั้นประถมศึกษาปีที่ 6",null,null,null,null,null,null,null,null,null,null,null,null,null,null,null,null,null,null,null,null,null,null,"ระดับชั้นประถมศึกษาปีที่ 6"]
[null,"กลุ่มสาระ",null,null,null,null,null,"จำนวนนักเรียนที่ได้รับระดับผลการเรียน",null,null,null,null,null,null,null,null,null,"นักเรียนที่ลงทะเบียน","นักเรียนที่ได้ผลการเรียน","ค่าเฉลี่ย","SD","นร.ที่ผ่าน","นร. ได้","นักเรียนที่ไม่ผ่าน"]
[null,null,null,null,null,null,null,0,1,1.5,2,2.5,3,3.5,4,"ร","มส",null,null,null,null,"1-4","3 - 4"]
["ท","ภาษาไทย",null,null,null,null,null,{"$f":"SUMIF(เกรด6!$H$127:$Y$137,$A130,เกรด6!$H$128:$Y$128)","v":0},{"$f":"SUMIF(เกรด6!$H$127:$Y$137,$A130,เกรด6!$H$129:$Y$129)","v":0},{"$f":"SUMIF(เกรด6!$H$127:$Y$137,$A130,เกรด6!$H$130:$Y$130)","v":0},{"$f":"SUMIF(เกรด6!$H$127:$Y$137,$A130,เกรด6!$H$131:$Y$131)","v":0},{"$f":"SUMIF(เกรด6!$H$127:$Y$137,$A130,เกรด6!$H$132:$Y$132)","v":0},{"$f":"SUMIF(เกรด6!$H$127:$Y$137,$A130,เกรด6!$H$133:$Y$133)","v":1},{"$f":"SUMIF(เกรด6!$H$127:$Y$137,$A130,เกรด6!$H$134:$Y$134)","v":0},{"$f":"SUMIF(เกรด6!$H$127:$Y$137,$A130,เกรด6!$H$135:$Y$135)","v":1},{"$f":"SUMIF(เกรด6!$H$127:$Y$137,$A130,เกรด6!$H$136:$Y$136)","v":0},{"$f":"SUMIF(เกรด6!$H$127:$Y$137,$A130,เกรด6!$H$137:$Y$137)","v":0},{"$f":"SUM(H130:Q130)","v":2},{"$f":"SUM(H130:O130)","v":2},{"$f":"SUM(H130*$H$5,I130*$I$5,J130*$J$5,K130*$K$5,L130*$L$5,M130*$M$5,N130*$N$5,O130*$O$5)/S130","v":3.5},{"$f":"SQRT(T130)","v":1.8708286933869707},{"$f":"SUM(I130:O130)","v":2},{"$f":"SUM(M130:O130)","v":2},{"$f":"SUM(H130,P130:Q130)","v":0}]
[null,"ร้อยละ",{"$f":"H130/#REF!*100","v":{"$error":"#REF!"}},{"$f":"I130/#REF!*100","v":{"$error":"#REF!"}},{"$f":"J130/#REF!*100","v":{"$error":"#REF!"}},{"$f":"K130/#REF!*100","v":{"$error":"#REF!"}},{"$f":"L130/#REF!*100","v":{"$error":"#REF!"}},{"$f":"H130/$R130*100","v":0},0,0,0,0,50,0,50,0,0,100,{"$f":"SUM(H131:O131)","v":100},{"$f":"T130/4*100","v":87.5},null,{"$f":"V130/$R130*100","v":100},{"$f":"W130/$R130*100","v":100},{"$f":"X130/$R130*100","v":0}]
["ค","คณิตศาสตร์",null,null,null,null,null,{"$f":"SUMIF(เกรด6!$H$127:$Y$137,$A132,เกรด6!$H$128:$Y$128)","v":0},{"$f":"SUMIF(เกรด6!$H$127:$Y$137,$A132,เกรด6!$H$129:$Y$129)","v":1},{"$f":"SUMIF(เกรด6!$H$127:$Y$137,$A132,เกรด6!$H$130:$Y$130)","v":0},{"$f":"SUMIF(เกรด6!$H$127:$Y$137,$A132,เกรด6!$H$131:$Y$131)","v":0},{"$f":"SUMIF(เกรด6!$H$127:$Y$137,$A132,เกรด6!$H$132:$Y$132)","v":0},{"$f":"SUMIF(เกรด6!$H$127:$Y$137,$A132,เกรด6!$H$133:$Y$133)","v":0},{"$f":"SUMIF(เกรด6!$H$127:$Y$137,$A132,เกรด6!$H$134:$Y$134)","v":0},{"$f":"SUMIF(เกรด6!$H$127:$Y$137,$A132,เกรด6!$H$135:$Y$135)","v":1},{"$f":"SUMIF(เกรด6!$H$127:$Y$137,$A132,เกรด6!$H$136:$Y$136)","v":0},{"$f":"SUMIF(เกรด6!$H$127:$Y$137,$A132,เกรด6!$H$137:$Y$137)","v":0},2,2,{"$f":"SUM(H132*$H$5,I132*$I$5,J132*$J$5,K132*$K$5,L132*$L$5,M132*$M$5,N132*$N$5,O132*$O$5)/S132","v":2.5},{"$f":"SQRT(T132)","v":1.5811388300841898},{"$f":"SUM(I132:O132)","v":2},{"$f":"SUM(M132:O132)","v":1},{"$f":"SUM(H132,P132:Q132)","v":0}]
[null,"ร้อยละ",null,null,null,null,null,{"$f":"H132/$R132*100","v":0},50,0,0,0,0,0,50,0,0,100,100,{"$f":"T132/4*100","v":62.5},null,{"$f":"V132/$R132*100","v":100},{"$f":"W132/$R132*100","v":50},{"$f":"X132/$R132*100","v":0}]
["ว","วิทยาศาสตร์",null,null,null,null,null,{"$f":"SUMIF(เกรด6!$H$127:$Y$137,$A134,เกรด6!$H$128:$Y$128)","v":0},{"$f":"SUMIF(เกรด6!$H$127:$Y$137,$A134,เกรด6!$H$129:$Y$129)","v":1},{"$f":"SUMIF(เกรด6!$H$127:$Y$137,$A134,เกรด6!$H$130:$Y$130)","v":0},{"$f":"SUMIF(เกรด6!$H$127:$Y$137,$A134,เกรด6!$H$131:$Y$131)","v":0},{"$f":"SUMIF(เกรด6!$H$127:$Y$137,$A134,เกรด6!$H$132:$Y$132)","v":0},{"$f":"SUMIF(เกรด6!$H$127:$Y$137,$A134,เกรด6!$H$133:$Y$133)","v":0},{"$f":"SUMIF(เกรด6!$H$127:$Y$137,$A134,เกรด6!$H$134:$Y$134)","v":0},{"$f":"SUMIF(เกรด6!$H$127:$Y$137,$A134,เกรด6!$H$135:$Y$135)","v":1},{"$f":"SUMIF(เกรด6!$H$127:$Y$137,$A134,เกรด6!$H$136:$Y$136)","v":0},{"$f":"SUMIF(เกรด6!$H$127:$Y$137,$A134,เกรด6!$H$137:$Y$137)","v":0},2,2,{"$f":"SUM(H134*$H$5,I134*$I$5,J134*$J$5,K134*$K$5,L134*$L$5,M134*$M$5,N134*$N$5,O134*$O$5)/S134","v":2.5},1.5811388300841898,{"$f":"SUM(I134:O134)","v":2},{"$f":"SUM(M134:O134)","v":1},{"$f":"SUM(H134,P134:Q134)","v":0}]
[null,"ร้อยละ",null,null,null,null,null,{"$f":"H134/$R134*100","v":0},50,0,0,0,0,0,50,0,0,100,100,{"$f":"T134/4*100","v":62.5},null,{"$f":"V134/$R134*100","v":100},{"$f":"W134/$R134*100","v":50},{"$f":"X134/$R134*100","v":0}]
["ส","สังคมศึกษา ฯ",null,null,null,null,null,{"$f":"SUMIF(เกรด6!$H$127:$Y$137,$A136,เกรด6!$H$128:$Y$128)","v":0},{"$f":"SUMIF(เกรด6!$H$127:$Y$137,$A136,เกรด6!$H$129:$Y$129)","v":0},{"$f":"SUMIF(เกรด6!$H$127:$Y$137,$A136,เกรด6!$H$130:$Y$130)","v":0},{"$f":"SUMIF(เกรด6!$H$127:$Y$137,$A136,เกรด6!$H$131:$Y$131)","v":0},{"$f":"SUMIF(เกรด6!$H$127:$Y$137,$A136,เกรด6!$H$132:$Y$132)","v":0},{"$f":"SUMIF(เกรด6!$H$127:$Y$137,$A136,เกรด6!$H$133:$Y$133)","v":0},{"$f":"SUMIF(เกรด6!$H$127:$Y$137,$A136,เกรด6!$H$134:$Y$134)","v":0},{"$f":"SUMIF(เกรด6!$H$127:$Y$137,$A136,เกรด6!$H$135:$Y$135)","v":4},{"$f":"SUMIF(เกรด6!$H$127:$Y$137,$A136,เกรด6!$H$136:$Y$136)","v":0},{"$f":"SUMIF(เกรด6!$H$127:$Y$137,$A136,เกรด6!$H$137:$Y$137)","v":0},4,4,{"$f":"SUM(H136*$H$5,I136*$I$5,J136*$J$5,K136*$K$5,L136*$L$5,M136*$M$5,N136*$N$5,O136*$O$5)/S136","v":4},2,{"$f":"SUM(I136:O136)","v":4},{"$f":"SUM(M136:O136)","v":4},{"$f":"SUM(H136,P136:Q136)","v":0}]
[null,"ร้อยละ",null,null,null,null,null,{"$f":"H136/$R136*100","v":0},0,0,0,0,0,0,100,0,0,100,100,{"$f":"T136/4*100","v":100},null,{"$f":"V136/$R136*100","v":100},{"$f":"W136/$R136*100","v":100},{"$f":"X136/$R136*100","v":0}]
["พ","สุขศึกษาและพละศึกษา",null,null,null,null,null,{"$f":"SUMIF(เกรด6!$H$127:$Y$137,$A138,เกรด6!$H$128:$Y$128)","v":0},{"$f":"SUMIF(เกรด6!$H$127:$Y$137,$A138,เกรด6!$H$129:$Y$129)","v":0},{"$f":"SUMIF(เกรด6!$H$127:$Y$137,$A138,เกรด6!$H$130:$Y$130)","v":0},{"$f":"SUMIF(เกรด6!$H$127:$Y$137,$A138,เกรด6!$H$131:$Y$131)","v":0},{"$f":"SUMIF(เกรด6!$H$127:$Y$137,$A138,เกรด6!$H$132:$Y$132)","v":0},{"$f":"SUMIF(เกรด6!$H$127:$Y$137,$A138,เกรด6!$H$133:$Y$133)","v":1},{"$f":"SUMIF(เกรด6!$H$127:$Y$137,$A138,เกรด6!$H$134:$Y$134)","v":0},{"$f":"SUMIF(เกรด6!$H$127:$Y$137,$A138,เกรด6!$H$135:$Y$135)","v":1},{"$f":"SUMIF(เกรด6!$H$127:$Y$137,$A138,เกรด6!$H$136:$Y$136)","v":0},{"$f":"SUMIF(เกรด6!$H$127:$Y$137,$A138,เกรด6!$H$137:$Y$137)","v":0},2,2,{"$f":"SUM(H138*$H$5,I138*$I$5,J138*$J$5,K138*$K$5,L138*$L$5,M138*$M$5,N138*$N$5,O138*$O$5)/S138","v":3.5},1.8708286933869707,{"$f":"SUM(I138:O138)","v":2},{"$f":"SUM(M138:O138)","v":2},{"$f":"SUM(H138,P138:Q138)","v":0}]
[null,"ร้อยละ",null,null,null,null,null,{"$f":"H138/$R138*100","v":0},0,0,0,0,50,0,50,0,0,100,100,{"$f":"T138/4*100","v":87.5},null,{"$f":"V138/$R138*100","v":100},{"$f":"W138/$R138*100","v":100},{"$f":"X138/$R138*100","v":0}]
["ศ","ศิลปะ",null,null,null,null,null,{"$f":"SUMIF(เกรด6!$H$127:$Y$137,$A140,เกรด6!$H$128:$Y$128)","v":0},{"$f":"SUMIF(เกรด6!$H$127:$Y$137,$A140,เกรด6!$H$129:$Y$129)","v":0},{"$f":"SUMIF(เกรด6!$H$127:$Y$137,$A140,เกรด6!$H$130:$Y$130)","v":0},{"$f":"SUMIF(เกรด6!$H$127:$Y$137,$A140,เกรด6!$H$131:$Y$131)","v":0},{"$f":"SUMIF(เกรด6!$H$127:$Y$137,$A140,เกรด6!$H$132:$Y$132)","v":0},{"$f":"SUMIF(เกรด6!$H$127:$Y$137,$A140,เกรด6!$H$133:$Y$133)","v":0},{"$f":"SUMIF(เกรด6!$H$127:$Y$137,$A140,เกรด6!$H$134:$Y$134)","v":0},{"$f":"SUMIF(เกรด6!$H$127:$Y$137,$A140,เกรด6!$H$135:$Y$135)","v":2},{"$f":"SUMIF(เกรด6!$H$127:$Y$137,$A140,เกรด6!$H$136:$Y$136)","v":0},{"$f":"SUMIF(เกรด6!$H$127:$Y$137,$A140,เกรด6!$H$137:$Y$137)","v":0},2,2,{"$f":"SUM(H140*$H$5,I140*$I$5,J140*$J$5,K140*$K$5,L140*$L$5,M140*$M$5,N140*$N$5,O140*$O$5)/S140","v":4},2,{"$f":"SUM(I140:O140)","v":2},{"$f":"SUM(M140:O140)","v":2},{"$f":"SUM(H140,P140:Q140)","v":0}]
[null,"ร้อยละ",null,null,null,null,null,{"$f":"H140/$R140*100","v":0},0,0,0,0,0,0,100,0,0,100,100,{"$f":"T140/4*100","v":100},null,{"$f":"V140/$R140*100","v":100},{"$f":"W140/$R140*100","v":100},{"$f":"X140/$R140*100","v":0}]
["ง","การงานอาชีพฯ",null,null,null,null,null,{"$f":"SUMIF(เกรด6!$H$127:$Y$137,$A142,เกรด6!$H$128:$Y$128)","v":0},{"$f":"SUMIF(เกรด6!$H$127:$Y$137,$A142,เกรด6!$H$129:$Y$129)","v":0},{"$f":"SUMIF(เกรด6!$H$127:$Y$137,$A142,เกรด6!$H$130:$Y$130)","v":2},{"$f":"SUMIF(เกรด6!$H$127:$Y$137,$A142,เกรด6!$H$131:$Y$131)","v":0},{"$f":"SUMIF(เกรด6!$H$127:$Y$137,$A142,เกรด6!$H$132:$Y$132)","v":0},{"$f":"SUMIF(เกรด6!$H$127:$Y$137,$A142,เกรด6!$H$133:$Y$133)","v":0},{"$f":"SUMIF(เกรด6!$H$127:$Y$137,$A142,เกรด6!$H$134:$Y$134)","v":0},{"$f":"SUMIF(เกรด6!$H$127:$Y$137,$A142,เกรด6!$H$135:$Y$135)","v":2},{"$f":"SUMIF(เกรด6!$H$127:$Y$137,$A142,เกรด6!$H$136:$Y$136)","v":0},{"$f":"SUMIF(เกรด6!$H$127:$Y$137,$A142,เกรด6!$H$137:$Y$137)","v":0},4,4,{"$f":"SUM(H142*$H$5,I142*$I$5,J142*$J$5,K142*$K$5,L142*$L$5,M142*$M$5,N142*$N$5,O142*$O$5)/S142","v":2.75},1.6583123951776999,{"$f":"SUM(I142:O142)","v":4},{"$f":"SUM(M142:O142)","v":2},{"$f":"SUM(H142,P142:Q142)","v":0}]
[null,"ร้อยละ",null,null,null,null,null,{"$f":"H142/$R142*100","v":0},0,50,0,0,0,0,50,0,0,100,100,{"$f":"T142/4*100","v":68.75},null,{"$f":"V142/$R142*100","v":100},{"$f":"W142/$R142*100","v":50},{"$f":"X142/$R142*100","v":0}]
["อ","ภาษาต่างประเทศ",null,null,null,null,null,{"$f":"SUMIF(เกรด6!$H$127:$Y$137,$A144,เกรด6!$H$128:$Y$128)","v":0},{"$f":"SUMIF(เกรด6!$H$127:$Y$137,$A144,เกรด6!$H$129:$Y$129)","v":0},{"$f":"SUMIF(เกรด6!$H$127:$Y$137,$A144,เกรด6!$H$130:$Y$130)","v":0},{"$f":"SUMIF(เกรด6!$H$127:$Y$137,$A144,เกรด6!$H$131:$Y$131)","v":0},{"$f":"SUMIF(เกรด6!$H$127:$Y$137,$A144,เกรด6!$H$132:$Y$132)","v":1},{"$f":"SUMIF(เกรด6!$H$127:$Y$137,$A144,เกรด6!$H$133:$Y$133)","v":0},{"$f":"SUMIF(เกรด6!$H$127:$Y$137,$A144,เกรด6!$H$134:$Y$134)","v":0},{"$f":"SUMIF(เกรด6!$H$127:$Y$137,$A144,เกรด6!$H$135:$Y$135)","v":1},{"$f":"SUMIF(เกรด6!$H$127:$Y$137,$A144,เกรด6!$H$136:$Y$136)","v":0},{"$f":"SUMIF(เกรด6!$H$127:$Y$137,$A144,เกรด6!$H$137:$Y$137)","v":0},2,2,{"$f":"SUM(H144*$H$5,I144*$I$5,J144*$J$5,K144*$K$5,L144*$L$5,M144*$M$5,N144*$N$5,O144*$O$5)/S144","v":3.25},1.8027756377319946,{"$f":"SUM(I144:O144)","v":2},{"$f":"SUM(M144:O144)","v":1},{"$f":"SUM(H144,P144:Q144)","v":0}]
[null,"ร้อยละ",null,null,null,null,null,{"$f":"H144/$R144*100","v":0},0,0,0,50,0,0,50,0,0,100,100,{"$f":"T144/4*100","v":81.25},null,{"$f":"V144/$R144*100","v":100},{"$f":"W144/$R144*100","v":50},{"$f":"X144/$R144*100","v":0}]
[null,"รวมระดับ",null,null,null,null,null,{"$f":"SUM(H130,H132,H134,H136,H138,H140,H142,H144)","v":0},{"$f":"SUM(I130,I132,I134,I136,I138,I140,I142,I144)","v":2},2,0,1,2,0,13,0,0,20,20,{"$f":"SUM(H146*$H$5,I146*$I$5,J146*$J$5,K146*$K$5,L146*$L$5,M146*$M$5,N146*$N$5,O146*$O$5)/S146","v":3.2749999999999999},1.8096961070853856,{"$f":"SUM(V130,V132,V134,V136,V138,V140,V142,V144)","v":20},{"$f":"SUM(W130,W132,W134,W136,W138,W140,W142,W144)","v":15},{"$f":"SUM(X130,X132,X134,X136,X138,X140,X142,X144)","v":0}]
[null,"ร้อยละ",null,null,null,null,null,{"$f":"H146/$R146*100","v":0},10,10,0,5,10,0,65,0,0,{"$f":"SUM(H147:Q147)","v":100},{"$f":"SUM(H147:O147)","v":100},{"$f":"T146/4*100","v":81.875},null,{"$f":"V146/$R146*100","v":100},{"$f":"W146/$R146*100","v":75},{"$f":"X146/$R146*100","v":0}]

{"sheet":"ใบรับรอง","index":14,"n_rows":114,"n_cols":50,"rows_kept":114,"cut":false,"hidden":false,"merged":[[10,0,10,2],[10,20,10,31],[1,48,2,49],[3,48,4,48],[3,49,4,49],[9,7,9,20],[10,3,10,14],[10,48,11,49],[10,36,10,44],[5,0,5,42],[6,38,6,44],[9,21,9,31],[9,32,9,44],[9,3,9,6],[6,35,6,37],[10,15,10,19],[32,8,32,42],[13,0,13,9],[14,18,14,21],[14,24,14,26],[16,3,16,42],[29,5,29,19],[30,5,30,19],[15,22,15,30],[20,14,20,16],[13,27,13,44],[14,40,14,44],[15,8,15,21],[13,10,13,16],[14,22,14,23],[20,30,20,36],[20,27,20,29],[12,3,12,9],[12,10,12,23],[20,3,20,9],[14,0,14,3],[12,28,12,44],[13,17,13,26],[14,9,14,14],[14,31,14,36],[12,24,12,27],[17,3,17,42],[15,0,15,7],[14,4,14,5],[18,3,18,42],[28,5,28,19],[15,31,15,44],[14,37,14,39],[20,17,20,25],[20,10,20,12],[25,22,25,36],[23,22,23,36],[24,22,24,36]]}
[]
[null,null,null,null,null,null,null,null,null,null,null,null,null,null,null,null,null,null,null,null,null,null,null,null,null,null,null,null,null,null,null,null,null,null,null,null,null,null,null,null,null,null,null,null,null,null,null,null,"ออกใบรับรองผลการเรียน"]
[]
[null,null,null,null,null,null,null,null,null,null,null,null,null,null,null,null,null,null,null,null,null,null,null,null,null,null,null,null,null,null,null,null,null,null,null,null,null,null,null,null,null,null,null,null,null,null,null,null,"เลขประจำตัวนักเรียน : ","00002"]
[]
["    ใบรับรองผลการเรียน"]
[null,null,null,null,null,null,null,null,null,null,null,null,null,null,null,null,null,null,null,null,null,null,null,null,null,null,null,null,null,null,null,null,null,null,null,"เลขที่",null,null,"2/2556"]
[]
[]
[null,null,null,"โรงเรียน",null,null,null,{"$f":"ข้อมูลพื้นฐาน!D4","v":"บ้านหนองคา"},null,null,null,null,null,null,null,null,null,null,null,null,null,"สำนักงานเขตพื้นที่การศึกษา",null,null,null,null,null,null,null,null,null,null,{"$f":"ข้อมูลพื้นฐาน!D6","v":"ประถมศึกษาบุรีรัมย์ เขต 2"}]
[{"$f":"ข้อมูลพื้นฐาน!C7","v":"ตำบล"},null,null,{"$f":"ข้อมูลพื้นฐาน!D7","v":"กระสัง"},null,null,null,null,null,null,null,null,null,null,null,{"$f":"ข้อมูลพื้นฐาน!C8","v":"อำเภอ"},null,null,null,null,{"$f":"ข้อมูลพื้นฐาน!D8","v":"กระสัง"},null,null,null,null,null,null,null,null,null,null,null,"จังหวัด",null,null,null,{"$f":"ข้อมูลพื้นฐาน!D9","v":"บุรีรัมย์"},null,null,null,null,null,null,null,null,null,null,null,"พิมพ์เป็นช่วง"]
[]
[null,null,null,"ขอรับรองว่าชื่อ",null,null,null,null,null,null,"เด็กหญิงสมหวัง",null,null,null,null,null,null,null,null,null,null,null,null,null,"ชื่อสกุล",null,null,null,"ตั้งใจเรียน",null,null,null,null,null,null,null,null,null,null,null,null,null,null,null,null,null,null,null,"เลขที่เริ่มต้น :",1]
["เลขประจำตัวนักเรียน",null,null,null,null,null,null,null,null,null,"00002",null,null,null,null,null,null,"เลขประจำตัวประชาชน",null,null,null,null,null,null,null,null,null,2222222222222,null,null,null,null,null,null,null,null,null,null,null,null,null,null,null,null,null,null,null,null,"เลขที่สุดท้าย :",2]
["เกิดวันที่",null,null,null,25,null,"เดือน",null,null,"กุมภาพันธ์",null,null,null,null,null,"พ.ศ.",null,null,2544,null,null,null,"เพศ",null,"หญิง",null,null,null,"สัญชาติ",null,null,"ไทย",null,null,null,null,null,"ศาสนา",null,null,"พุทธ",null,null,null,null,null,null,null,"ตั้งค่าการพิมพ์","พิมพ์ทันที"]
["ชื่อ - ชื่อสกุลบิดา",null,null,null,null,null,null,null,"นายสมโชค  ตั้งใจเรียน",null,null,null,null,null,null,null,null,null,null,null,null,null,"ชื่อ - ชื่อสกุลมารดา",null,null,null,null,null,null,null,null,"นางสมหญิง  ตั้งใจเรียน"]
[null,null,null,"กำลังศึกษาอยู่ในระดับชั้นประถมศึกษาปีที่ 6"]
[null,null,null,"เป็นนักดนตรี"]
[null,null,null,"มีระดับผลการเรียนระดับดี"]
[]
[null,null,null,"ออกให้ ณ วันที่",null,null,null,null,null,null,"15",null,null,null,"เดือน",null,null,"มกราคม",null,null,null,null,null,null,null,null,null,"พ.ศ.",null,null,"2556"]
[]
[]
[]
[null,null,null,null,null,null,null,null,null,null,null,null,null,null,null,null,null,null,null,null,null,null,{"$f":"\"( \" & ข้อมูลพื้นฐาน!D12 & \"  )\"","v":"( นายสมชาติ  มีสกุล  )"}]
[null,null,null,null,null,null,null,null,null,null,null,null,null,null,null,null,null,null,null,null,null,null,{"$f":"ข้อมูลพื้นฐาน!D13","v":"ผู้อำนวยการโรงเรียน"}]
[]
[]
[]
[null,null,null,null,null,{"$f":"\"( \" & ข้อมูลพื้นฐาน!D10 & \"  )\"","v":"( นายสุริยันต์  แก้วชนะ  )"}]
[null,null,null,null,null,{"$f":"ข้อมูลพื้นฐาน!D11","v":"นายทะเบียน"}]
[]
[null,null,null,"หมายเหตุ",null,null,null,null,"ใบรับรองนี้มีอายุ 120 วัน นับแต่วันที่ออกให้"]
[{"$f":"ข้อมูลนักเรียน!A34","v":0},{"$f":"IF(ข้อมูลนักเรียน!B34=0,\"\",ข้อมูลนักเรียน!B34)","v":""},{"$f":"IF(ข้อมูลนักเรียน!C34=0,\"\",ข้อมูลนักเรียน!C34)","v":""},{"$f":"IF(ข้อมูลนักเรียน!C34=0,\"\",ข้อมูลนักเรียน!D34 & ข้อมูลนักเรียน!E34)","v":""},{"$f":"IF(ข้อมูลนักเรียน!C34=0,\"\",ข้อมูลนักเรียน!F34)","v":""},{"$f":"IF(ข้อมูลนักเรียน!D34=0,\"\",ข้อมูลนักเรียน!G34)","v":""}]
[{"$f":"ข้อมูลนักเรียน!A35","v":0},{"$f":"IF(ข้อมูลนักเรียน!B35=0,\"\",ข้อมูลนักเรียน!B35)","v":""},{"$f":"IF(ข้อมูลนักเรียน!C35=0,\"\",ข้อมูลนักเรียน!C35)","v":""},{"$f":"IF(ข้อมูลนักเรียน!C35=0,\"\",ข้อมูลนักเรียน!D35 & ข้อมูลนักเรียน!E35)","v":""},{"$f":"IF(ข้อมูลนักเรียน!C35=0,\"\",ข้อมูลนักเรียน!F35)","v":""},{"$f":"IF(ข้อมูลนักเรียน!D35=0,\"\",ข้อมูลนักเรียน!G35)","v":""}]
[{"$f":"ข้อมูลนักเรียน!A36","v":0},{"$f":"IF(ข้อมูลนักเรียน!B36=0,\"\",ข้อมูลนักเรียน!B36)","v":""},{"$f":"IF(ข้อมูลนักเรียน!C36=0,\"\",ข้อมูลนักเรียน!C36)","v":""},{"$f":"IF(ข้อมูลนักเรียน!C36=0,\"\",ข้อมูลนักเรียน!D36 & ข้อมูลนักเรียน!E36)","v":""},{"$f":"IF(ข้อมูลนักเรียน!C36=0,\"\",ข้อมูลนักเรียน!F36)","v":""},{"$f":"IF(ข้อมูลนักเรียน!D36=0,\"\",ข้อมูลนักเรียน!G36)","v":""}]
[{"$f":"ข้อมูลนักเรียน!A37","v":0},{"$f":"IF(ข้อมูลนักเรียน!B37=0,\"\",ข้อมูลนักเรียน!B37)","v":""},{"$f":"IF(ข้อมูลนักเรียน!C37=0,\"\",ข้อมูลนักเรียน!C37)","v":""},{"$f":"IF(ข้อมูลนักเรียน!C37=0,\"\",ข้อมูลนักเรียน!D37 & ข้อมูลนักเรียน!E37)","v":""},{"$f":"IF(ข้อมูลนักเรียน!C37=0,\"\",ข้อมูลนักเรียน!F37)","v":""},{"$f":"IF(ข้อมูลนักเรียน!D37=0,\"\",ข้อมูลนักเรียน!G37)","v":""}]
[{"$f":"ข้อมูลนักเรียน!A38","v":0},{"$f":"IF(ข้อมูลนักเรียน!B38=0,\"\",ข้อมูลนักเรียน!B38)","v":""},{"$f":"IF(ข้อมูลนักเรียน!C38=0,\"\",ข้อมูลนักเรียน!C38)","v":""},{"$f":"IF(ข้อมูลนักเรียน!C38=0,\"\",ข้อมูลนักเรียน!D38 & ข้อมูลนักเรียน!E38)","v":""},{"$f":"IF(ข้อมูลนักเรียน!C38=0,\"\",ข้อมูลนักเรียน!F38)","v":""},{"$f":"IF(ข้อมูลนักเรียน!D38=0,\"\",ข้อมูลนักเรียน!G38)","v":""}]
[{"$f":"ข้อมูลนักเรียน!A39","v":0},{"$f":"IF(ข้อมูลนักเรียน!B39=0,\"\",ข้อมูลนักเรียน!B39)","v":""},{"$f":"IF(ข้อมูลนักเรียน!C39=0,\"\",ข้อมูลนักเรียน!C39)","v":""},{"$f":"IF(ข้อมูลนักเรียน!C39=0,\"\",ข้อมูลนักเรียน!D39 & ข้อมูลนักเรียน!E39)","v":""},{"$f":"IF(ข้อมูลนักเรียน!C39=0,\"\",ข้อมูลนักเรียน!F39)","v":""},{"$f":"IF(ข้อมูลนักเรียน!D39=0,\"\",ข้อมูลนักเรียน!G39)","v":""}]
[{"$f":"ข้อมูลนักเรียน!A40","v":0},{"$f":"IF(ข้อมูลนักเรียน!B40=0,\"\",ข้อมูลนักเรียน!B40)","v":""},{"$f":"IF(ข้อมูลนักเรียน!C40=0,\"\",ข้อมูลนักเรียน!C40)","v":""},{"$f":"IF(ข้อมูลนักเรียน!C40=0,\"\",ข้อมูลนักเรียน!D40 & ข้อมูลนักเรียน!E40)","v":""},{"$f":"IF(ข้อมูลนักเรียน!C40=0,\"\",ข้อมูลนักเรียน!F40)","v":""},{"$f":"IF(ข้อมูลนักเรียน!D40=0,\"\",ข้อมูลนักเรียน!G40)","v":""}]
[{"$f":"ข้อมูลนักเรียน!A41","v":0},{"$f":"IF(ข้อมูลนักเรียน!B41=0,\"\",ข้อมูลนักเรียน!B41)","v":""},{"$f":"IF(ข้อมูลนักเรียน!C41=0,\"\",ข้อมูลนักเรียน!C41)","v":""},{"$f":"IF(ข้อมูลนักเรียน!C41=0,\"\",ข้อมูลนักเรียน!D41 & ข้อมูลนักเรียน!E41)","v":""},{"$f":"IF(ข้อมูลนักเรียน!C41=0,\"\",ข้อมูลนักเรียน!F41)","v":""},{"$f":"IF(ข้อมูลนักเรียน!D41=0,\"\",ข้อมูลนักเรียน!G41)","v":""}]
[{"$f":"ข้อมูลนักเรียน!A42","v":0},{"$f":"IF(ข้อมูลนักเรียน!B42=0,\"\",ข้อมูลนักเรียน!B42)","v":""},{"$f":"IF(ข้อมูลนักเรียน!C42=0,\"\",ข้อมูลนักเรียน!C42)","v":""},{"$f":"IF(ข้อมูลนักเรียน!C42=0,\"\",ข้อมูลนักเรียน!D42 & ข้อมูลนักเรียน!E42)","v":""},{"$f":"IF(ข้อมูลนักเรียน!C42=0,\"\",ข้อมูลนักเรียน!F42)","v":""},{"$f":"IF(ข้อมูลนักเรียน!D42=0,\"\",ข้อมูลนักเรียน!G42)","v":""}]
[{"$f":"ข้อมูลนักเรียน!A43","v":0},{"$f":"IF(ข้อมูลนักเรียน!B43=0,\"\",ข้อมูลนักเรียน!B43)","v":""},{"$f":"IF(ข้อมูลนักเรียน!C43=0,\"\",ข้อมูลนักเรียน!C43)","v":""},{"$f":"IF(ข้อมูลนักเรียน!C43=0,\"\",ข้อมูลนักเรียน!D43 & ข้อมูลนักเรียน!E43)","v":""},{"$f":"IF(ข้อมูลนักเรียน!C43=0,\"\",ข้อมูลนักเรียน!F43)","v":""},{"$f":"IF(ข้อมูลนักเรียน!D43=0,\"\",ข้อมูลนักเรียน!G43)","v":""}]
[{"$f":"ข้อมูลนักเรียน!A44","v":0},{"$f":"IF(ข้อมูลนักเรียน!B44=0,\"\",ข้อมูลนักเรียน!B44)","v":""},{"$f":"IF(ข้อมูลนักเรียน!C44=0,\"\",ข้อมูลนักเรียน!C44)","v":""},{"$f":"IF(ข้อมูลนักเรียน!C44=0,\"\",ข้อมูลนักเรียน!D44 & ข้อมูลนักเรียน!E44)","v":""},{"$f":"IF(ข้อมูลนักเรียน!C44=0,\"\",ข้อมูลนักเรียน!F44)","v":""},{"$f":"IF(ข้อมูลนักเรียน!D44=0,\"\",ข้อมูลนักเรียน!G44)","v":""}]
[{"$f":"ข้อมูลนักเรียน!A45","v":0},{"$f":"IF(ข้อมูลนักเรียน!B45=0,\"\",ข้อมูลนักเรียน!B45)","v":""},{"$f":"IF(ข้อมูลนักเรียน!C45=0,\"\",ข้อมูลนักเรียน!C45)","v":""},{"$f":"IF(ข้อมูลนักเรียน!C45=0,\"\",ข้อมูลนักเรียน!D45 & ข้อมูลนักเรียน!E45)","v":""},{"$f":"IF(ข้อมูลนักเรียน!C45=0,\"\",ข้อมูลนักเรียน!F45)","v":""},{"$f":"IF(ข้อมูลนักเรียน!D45=0,\"\",ข้อมูลนักเรียน!G45)","v":""}]
[{"$f":"ข้อมูลนักเรียน!A46","v":0},{"$f":"IF(ข้อมูลนักเรียน!B46=0,\"\",ข้อมูลนักเรียน!B46)","v":""},{"$f":"IF(ข้อมูลนักเรียน!C46=0,\"\",ข้อมูลนักเรียน!C46)","v":""},{"$f":"IF(ข้อมูลนักเรียน!C46=0,\"\",ข้อมูลนักเรียน!D46 & ข้อมูลนักเรียน!E46)","v":""},{"$f":"IF(ข้อมูลนักเรียน!C46=0,\"\",ข้อมูลนักเรียน!F46)","v":""},{"$f":"IF(ข้อมูลนักเรียน!D46=0,\"\",ข้อมูลนักเรียน!G46)","v":""}]
[{"$f":"ข้อมูลนักเรียน!A47","v":0},{"$f":"IF(ข้อมูลนักเรียน!B47=0,\"\",ข้อมูลนักเรียน!B47)","v":""},{"$f":"IF(ข้อมูลนักเรียน!C47=0,\"\",ข้อมูลนักเรียน!C47)","v":""},{"$f":"IF(ข้อมูลนักเรียน!C47=0,\"\",ข้อมูลนักเรียน!D47 & ข้อมูลนักเรียน!E47)","v":""},{"$f":"IF(ข้อมูลนักเรียน!C47=0,\"\",ข้อมูลนักเรียน!F47)","v":""},{"$f":"IF(ข้อมูลนักเรียน!D47=0,\"\",ข้อมูลนักเรียน!G47)","v":""}]
[{"$f":"ข้อมูลนักเรียน!A48","v":0},{"$f":"IF(ข้อมูลนักเรียน!B48=0,\"\",ข้อมูลนักเรียน!B48)","v":""},{"$f":"IF(ข้อมูลนักเรียน!C48=0,\"\",ข้อมูลนักเรียน!C48)","v":""},{"$f":"IF(ข้อมูลนักเรียน!C48=0,\"\",ข้อมูลนักเรียน!D48 & ข้อมูลนักเรียน!E48)","v":""},{"$f":"IF(ข้อมูลนักเรียน!C48=0,\"\",ข้อมูลนักเรียน!F48)","v":""},{"$f":"IF(ข้อมูลนักเรียน!D48=0,\"\",ข้อมูลนักเรียน!G48)","v":""}]
[{"$f":"ข้อมูลนักเรียน!A49","v":0},{"$f":"IF(ข้อมูลนักเรียน!B49=0,\"\",ข้อมูลนักเรียน!B49)","v":""},{"$f":"IF(ข้อมูลนักเรียน!C49=0,\"\",ข้อมูลนักเรียน!C49)","v":""},{"$f":"IF(ข้อมูลนักเรียน!C49=0,\"\",ข้อมูลนักเรียน!D49 & ข้อมูลนักเรียน!E49)","v":""},{"$f":"IF(ข้อมูลนักเรียน!C49=0,\"\",ข้อมูลนักเรียน!F49)","v":""},{"$f":"IF(ข้อมูลนักเรียน!D49=0,\"\",ข้อมูลนักเรียน!G49)","v":""}]
[{"$f":"ข้อมูลนักเรียน!A50","v":0},{"$f":"IF(ข้อมูลนักเรียน!B50=0,\"\",ข้อมูลนักเรียน!B50)","v":""},{"$f":"IF(ข้อมูลนักเรียน!C50=0,\"\",ข้อมูลนักเรียน!C50)","v":""},{"$f":"IF(ข้อมูลนักเรียน!C50=0,\"\",ข้อมูลนักเรียน!D50 & ข้อมูลนักเรียน!E50)","v":""},{"$f":"IF(ข้อมูลนักเรียน!C50=0,\"\",ข้อมูลนักเรียน!F50)","v":""},{"$f":"IF(ข้อมูลนักเรียน!D50=0,\"\",ข้อมูลนักเรียน!G50)","v":""}]
[{"$f":"ข้อมูลนักเรียน!A51","v":0},{"$f":"IF(ข้อมูลนักเรียน!B51=0,\"\",ข้อมูลนักเรียน!B51)","v":""},{"$f":"IF(ข้อมูลนักเรียน!C51=0,\"\",ข้อมูลนักเรียน!C51)","v":""},{"$f":"IF(ข้อมูลนักเรียน!C51=0,\"\",ข้อมูลนักเรียน!D51 & ข้อมูลนักเรียน!E51)","v":""},{"$f":"IF(ข้อมูลนักเรียน!C51=0,\"\",ข้อมูลนักเรียน!F51)","v":""},{"$f":"IF(ข้อมูลนักเรียน!D51=0,\"\",ข้อมูลนักเรียน!G51)","v":""}]
[{"$f":"ข้อมูลนักเรียน!A52","v":0},{"$f":"IF(ข้อมูลนักเรียน!B52=0,\"\",ข้อมูลนักเรียน!B52)","v":""},{"$f":"IF(ข้อมูลนักเรียน!C52=0,\"\",ข้อมูลนักเรียน!C52)","v":""},{"$f":"IF(ข้อมูลนักเรียน!C52=0,\"\",ข้อมูลนักเรียน!D52 & ข้อมูลนักเรียน!E52)","v":""},{"$f":"IF(ข้อมูลนักเรียน!C52=0,\"\",ข้อมูลนักเรียน!F52)","v":""},{"$f":"IF(ข้อมูลนักเรียน!D52=0,\"\",ข้อมูลนักเรียน!G52)","v":""}]
[{"$f":"ข้อมูลนักเรียน!A53","v":0},{"$f":"IF(ข้อมูลนักเรียน!B53=0,\"\",ข้อมูลนักเรียน!B53)","v":""},{"$f":"IF(ข้อมูลนักเรียน!C53=0,\"\",ข้อมูลนักเรียน!C53)","v":""},{"$f":"IF(ข้อมูลนักเรียน!C53=0,\"\",ข้อมูลนักเรียน!D53 & ข้อมูลนักเรียน!E53)","v":""},{"$f":"IF(ข้อมูลนักเรียน!C53=0,\"\",ข้อมูลนักเรียน!F53)","v":""},{"$f":"IF(ข้อมูลนักเรียน!D53=0,\"\",ข้อมูลนักเรียน!G53)","v":""}]
[{"$f":"ข้อมูลนักเรียน!A54","v":0},{"$f":"IF(ข้อมูลนักเรียน!B54=0,\"\",ข้อมูลนักเรียน!B54)","v":""},{"$f":"IF(ข้อมูลนักเรียน!C54=0,\"\",ข้อมูลนักเรียน!C54)","v":""},{"$f":"IF(ข้อมูลนักเรียน!C54=0,\"\",ข้อมูลนักเรียน!D54 & ข้อมูลนักเรียน!E54)","v":""},{"$f":"IF(ข้อมูลนักเรียน!C54=0,\"\",ข้อมูลนักเรียน!F54)","v":""},{"$f":"IF(ข้อมูลนักเรียน!D54=0,\"\",ข้อมูลนักเรียน!G54)","v":""}]
[{"$f":"ข้อมูลนักเรียน!A55","v":0},{"$f":"IF(ข้อมูลนักเรียน!B55=0,\"\",ข้อมูลนักเรียน!B55)","v":""},{"$f":"IF(ข้อมูลนักเรียน!C55=0,\"\",ข้อมูลนักเรียน!C55)","v":""},{"$f":"IF(ข้อมูลนักเรียน!C55=0,\"\",ข้อมูลนักเรียน!D55 & ข้อมูลนักเรียน!E55)","v":""},{"$f":"IF(ข้อมูลนักเรียน!C55=0,\"\",ข้อมูลนักเรียน!F55)","v":""},{"$f":"IF(ข้อมูลนักเรียน!D55=0,\"\",ข้อมูลนักเรียน!G55)","v":""}]
[{"$f":"ข้อมูลนักเรียน!A56","v":0},{"$f":"IF(ข้อมูลนักเรียน!B56=0,\"\",ข้อมูลนักเรียน!B56)","v":""},{"$f":"IF(ข้อมูลนักเรียน!C56=0,\"\",ข้อมูลนักเรียน!C56)","v":""},{"$f":"IF(ข้อมูลนักเรียน!C56=0,\"\",ข้อมูลนักเรียน!D56 & ข้อมูลนักเรียน!E56)","v":""},{"$f":"IF(ข้อมูลนักเรียน!C56=0,\"\",ข้อมูลนักเรียน!F56)","v":""},{"$f":"IF(ข้อมูลนักเรียน!D56=0,\"\",ข้อมูลนักเรียน!G56)","v":""}]
[{"$f":"ข้อมูลนักเรียน!A57","v":0},{"$f":"IF(ข้อมูลนักเรียน!B57=0,\"\",ข้อมูลนักเรียน!B57)","v":""},{"$f":"IF(ข้อมูลนักเรียน!C57=0,\"\",ข้อมูลนักเรียน!C57)","v":""},{"$f":"IF(ข้อมูลนักเรียน!C57=0,\"\",ข้อมูลนักเรียน!D57 & ข้อมูลนักเรียน!E57)","v":""},{"$f":"IF(ข้อมูลนักเรียน!C57=0,\"\",ข้อมูลนักเรียน!F57)","v":""},{"$f":"IF(ข้อมูลนักเรียน!D57=0,\"\",ข้อมูลนักเรียน!G57)","v":""}]
[{"$f":"ข้อมูลนักเรียน!A58","v":0},{"$f":"IF(ข้อมูลนักเรียน!B58=0,\"\",ข้อมูลนักเรียน!B58)","v":""},{"$f":"IF(ข้อมูลนักเรียน!C58=0,\"\",ข้อมูลนักเรียน!C58)","v":""},{"$f":"IF(ข้อมูลนักเรียน!C58=0,\"\",ข้อมูลนักเรียน!D58 & ข้อมูลนักเรียน!E58)","v":""},{"$f":"IF(ข้อมูลนักเรียน!C58=0,\"\",ข้อมูลนักเรียน!F58)","v":""},{"$f":"IF(ข้อมูลนักเรียน!D58=0,\"\",ข้อมูลนักเรียน!G58)","v":""}]
[{"$f":"ข้อมูลนักเรียน!A59","v":0},{"$f":"IF(ข้อมูลนักเรียน!B59=0,\"\",ข้อมูลนักเรียน!B59)","v":""},{"$f":"IF(ข้อมูลนักเรียน!C59=0,\"\",ข้อมูลนักเรียน!C59)","v":""},{"$f":"IF(ข้อมูลนักเรียน!C59=0,\"\",ข้อมูลนักเรียน!D59 & ข้อมูลนักเรียน!E59)","v":""},{"$f":"IF(ข้อมูลนักเรียน!C59=0,\"\",ข้อมูลนักเรียน!F59)","v":""},{"$f":"IF(ข้อมูลนักเรียน!D59=0,\"\",ข้อมูลนักเรียน!G59)","v":""}]
[{"$f":"ข้อมูลนักเรียน!A60","v":0},{"$f":"IF(ข้อมูลนักเรียน!B60=0,\"\",ข้อมูลนักเรียน!B60)","v":""},{"$f":"IF(ข้อมูลนักเรียน!C60=0,\"\",ข้อมูลนักเรียน!C60)","v":""},{"$f":"IF(ข้อมูลนักเรียน!C60=0,\"\",ข้อมูลนักเรียน!D60 & ข้อมูลนักเรียน!E60)","v":""},{"$f":"IF(ข้อมูลนักเรียน!C60=0,\"\",ข้อมูลนักเรียน!F60)","v":""},{"$f":"IF(ข้อมูลนักเรียน!D60=0,\"\",ข้อมูลนักเรียน!G60)","v":""}]
[{"$f":"ข้อมูลนักเรียน!A61","v":0},{"$f":"IF(ข้อมูลนักเรียน!B61=0,\"\",ข้อมูลนักเรียน!B61)","v":""},{"$f":"IF(ข้อมูลนักเรียน!C61=0,\"\",ข้อมูลนักเรียน!C61)","v":""},{"$f":"IF(ข้อมูลนักเรียน!C61=0,\"\",ข้อมูลนักเรียน!D61 & ข้อมูลนักเรียน!E61)","v":""},{"$f":"IF(ข้อมูลนักเรียน!C61=0,\"\",ข้อมูลนักเรียน!F61)","v":""},{"$f":"IF(ข้อมูลนักเรียน!D61=0,\"\",ข้อมูลนักเรียน!G61)","v":""}]
[{"$f":"ข้อมูลนักเรียน!A62","v":0},{"$f":"IF(ข้อมูลนักเรียน!B62=0,\"\",ข้อมูลนักเรียน!B62)","v":""},{"$f":"IF(ข้อมูลนักเรียน!C62=0,\"\",ข้อมูลนักเรียน!C62)","v":""},{"$f":"IF(ข้อมูลนักเรียน!C62=0,\"\",ข้อมูลนักเรียน!D62 & ข้อมูลนักเรียน!E62)","v":""},{"$f":"IF(ข้อมูลนักเรียน!C62=0,\"\",ข้อมูลนักเรียน!F62)","v":""},{"$f":"IF(ข้อมูลนักเรียน!D62=0,\"\",ข้อมูลนักเรียน!G62)","v":""}]
[{"$f":"ข้อมูลนักเรียน!A63","v":0},{"$f":"IF(ข้อมูลนักเรียน!B63=0,\"\",ข้อมูลนักเรียน!B63)","v":""},{"$f":"IF(ข้อมูลนักเรียน!C63=0,\"\",ข้อมูลนักเรียน!C63)","v":""},{"$f":"IF(ข้อมูลนักเรียน!C63=0,\"\",ข้อมูลนักเรียน!D63 & ข้อมูลนักเรียน!E63)","v":""},{"$f":"IF(ข้อมูลนักเรียน!C63=0,\"\",ข้อมูลนักเรียน!F63)","v":""},{"$f":"IF(ข้อมูลนักเรียน!D63=0,\"\",ข้อมูลนักเรียน!G63)","v":""}]
[{"$f":"ข้อมูลนักเรียน!A64","v":0},{"$f":"IF(ข้อมูลนักเรียน!B64=0,\"\",ข้อมูลนักเรียน!B64)","v":""},{"$f":"IF(ข้อมูลนักเรียน!C64=0,\"\",ข้อมูลนักเรียน!C64)","v":""},{"$f":"IF(ข้อมูลนักเรียน!C64=0,\"\",ข้อมูลนักเรียน!D64 & ข้อมูลนักเรียน!E64)","v":""},{"$f":"IF(ข้อมูลนักเรียน!C64=0,\"\",ข้อมูลนักเรียน!F64)","v":""},{"$f":"IF(ข้อมูลนักเรียน!D64=0,\"\",ข้อมูลนักเรียน!G64)","v":""}]
[{"$f":"ข้อมูลนักเรียน!A65","v":0},{"$f":"IF(ข้อมูลนักเรียน!B65=0,\"\",ข้อมูลนักเรียน!B65)","v":""},{"$f":"IF(ข้อมูลนักเรียน!C65=0,\"\",ข้อมูลนักเรียน!C65)","v":""},{"$f":"IF(ข้อมูลนักเรียน!C65=0,\"\",ข้อมูลนักเรียน!D65 & ข้อมูลนักเรียน!E65)","v":""},{"$f":"IF(ข้อมูลนักเรียน!C65=0,\"\",ข้อมูลนักเรียน!F65)","v":""},{"$f":"IF(ข้อมูลนักเรียน!D65=0,\"\",ข้อมูลนักเรียน!G65)","v":""}]
[{"$f":"ข้อมูลนักเรียน!A66","v":0},{"$f":"IF(ข้อมูลนักเรียน!B66=0,\"\",ข้อมูลนักเรียน!B66)","v":""},{"$f":"IF(ข้อมูลนักเรียน!C66=0,\"\",ข้อมูลนักเรียน!C66)","v":""},{"$f":"IF(ข้อมูลนักเรียน!C66=0,\"\",ข้อมูลนักเรียน!D66 & ข้อมูลนักเรียน!E66)","v":""},{"$f":"IF(ข้อมูลนักเรียน!C66=0,\"\",ข้อมูลนักเรียน!F66)","v":""},{"$f":"IF(ข้อมูลนักเรียน!D66=0,\"\",ข้อมูลนักเรียน!G66)","v":""}]
[{"$f":"ข้อมูลนักเรียน!A67","v":0},{"$f":"IF(ข้อมูลนักเรียน!B67=0,\"\",ข้อมูลนักเรียน!B67)","v":""},{"$f":"IF(ข้อมูลนักเรียน!C67=0,\"\",ข้อมูลนักเรียน!C67)","v":""},{"$f":"IF(ข้อมูลนักเรียน!C67=0,\"\",ข้อมูลนักเรียน!D67 & ข้อมูลนักเรียน!E67)","v":""},{"$f":"IF(ข้อมูลนักเรียน!C67=0,\"\",ข้อมูลนักเรียน!F67)","v":""},{"$f":"IF(ข้อมูลนักเรียน!D67=0,\"\",ข้อมูลนักเรียน!G67)","v":""}]
[{"$f":"ข้อมูลนักเรียน!A68","v":0},{"$f":"IF(ข้อมูลนักเรียน!B68=0,\"\",ข้อมูลนักเรียน!B68)","v":""},{"$f":"IF(ข้อมูลนักเรียน!C68=0,\"\",ข้อมูลนักเรียน!C68)","v":""},{"$f":"IF(ข้อมูลนักเรียน!C68=0,\"\",ข้อมูลนักเรียน!D68 & ข้อมูลนักเรียน!E68)","v":""},{"$f":"IF(ข้อมูลนักเรียน!C68=0,\"\",ข้อมูลนักเรียน!F68)","v":""},{"$f":"IF(ข้อมูลนักเรียน!D68=0,\"\",ข้อมูลนักเรียน!G68)","v":""}]
[{"$f":"ข้อมูลนักเรียน!A69","v":0},{"$f":"IF(ข้อมูลนักเรียน!B69=0,\"\",ข้อมูลนักเรียน!B69)","v":""},{"$f":"IF(ข้อมูลนักเรียน!C69=0,\"\",ข้อมูลนักเรียน!C69)","v":""},{"$f":"IF(ข้อมูลนักเรียน!C69=0,\"\",ข้อมูลนักเรียน!D69 & ข้อมูลนักเรียน!E69)","v":""},{"$f":"IF(ข้อมูลนักเรียน!C69=0,\"\",ข้อมูลนักเรียน!F69)","v":""},{"$f":"IF(ข้อมูลนักเรียน!D69=0,\"\",ข้อมูลนักเรียน!G69)","v":""}]
[{"$f":"ข้อมูลนักเรียน!A70","v":0},{"$f":"IF(ข้อมูลนักเรียน!B70=0,\"\",ข้อมูลนักเรียน!B70)","v":""},{"$f":"IF(ข้อมูลนักเรียน!C70=0,\"\",ข้อมูลนักเรียน!C70)","v":""},{"$f":"IF(ข้อมูลนักเรียน!C70=0,\"\",ข้อมูลนักเรียน!D70 & ข้อมูลนักเรียน!E70)","v":""},{"$f":"IF(ข้อมูลนักเรียน!C70=0,\"\",ข้อมูลนักเรียน!F70)","v":""},{"$f":"IF(ข้อมูลนักเรียน!D70=0,\"\",ข้อมูลนักเรียน!G70)","v":""}]
[{"$f":"ข้อมูลนักเรียน!A71","v":0},{"$f":"IF(ข้อมูลนักเรียน!B71=0,\"\",ข้อมูลนักเรียน!B71)","v":""},{"$f":"IF(ข้อมูลนักเรียน!C71=0,\"\",ข้อมูลนักเรียน!C71)","v":""},{"$f":"IF(ข้อมูลนักเรียน!C71=0,\"\",ข้อมูลนักเรียน!D71 & ข้อมูลนักเรียน!E71)","v":""},{"$f":"IF(ข้อมูลนักเรียน!C71=0,\"\",ข้อมูลนักเรียน!F71)","v":""},{"$f":"IF(ข้อมูลนักเรียน!D71=0,\"\",ข้อมูลนักเรียน!G71)","v":""}]
[{"$f":"ข้อมูลนักเรียน!A72","v":0},{"$f":"IF(ข้อมูลนักเรียน!B72=0,\"\",ข้อมูลนักเรียน!B72)","v":""},{"$f":"IF(ข้อมูลนักเรียน!C72=0,\"\",ข้อมูลนักเรียน!C72)","v":""},{"$f":"IF(ข้อมูลนักเรียน!C72=0,\"\",ข้อมูลนักเรียน!D72 & ข้อมูลนักเรียน!E72)","v":""},{"$f":"IF(ข้อมูลนักเรียน!C72=0,\"\",ข้อมูลนักเรียน!F72)","v":""},{"$f":"IF(ข้อมูลนักเรียน!D72=0,\"\",ข้อมูลนักเรียน!G72)","v":""}]
[{"$f":"ข้อมูลนักเรียน!A73","v":0},{"$f":"IF(ข้อมูลนักเรียน!B73=0,\"\",ข้อมูลนักเรียน!B73)","v":""},{"$f":"IF(ข้อมูลนักเรียน!C73=0,\"\",ข้อมูลนักเรียน!C73)","v":""},{"$f":"IF(ข้อมูลนักเรียน!C73=0,\"\",ข้อมูลนักเรียน!D73 & ข้อมูลนักเรียน!E73)","v":""},{"$f":"IF(ข้อมูลนักเรียน!C73=0,\"\",ข้อมูลนักเรียน!F73)","v":""},{"$f":"IF(ข้อมูลนักเรียน!D73=0,\"\",ข้อมูลนักเรียน!G73)","v":""}]
[{"$f":"ข้อมูลนักเรียน!A74","v":0},{"$f":"IF(ข้อมูลนักเรียน!B74=0,\"\",ข้อมูลนักเรียน!B74)","v":""},{"$f":"IF(ข้อมูลนักเรียน!C74=0,\"\",ข้อมูลนักเรียน!C74)","v":""},{"$f":"IF(ข้อมูลนักเรียน!C74=0,\"\",ข้อมูลนักเรียน!D74 & ข้อมูลนักเรียน!E74)","v":""},{"$f":"IF(ข้อมูลนักเรียน!C74=0,\"\",ข้อมูลนักเรียน!F74)","v":""},{"$f":"IF(ข้อมูลนักเรียน!D74=0,\"\",ข้อมูลนักเรียน!G74)","v":""}]
[{"$f":"ข้อมูลนักเรียน!A75","v":0},{"$f":"IF(ข้อมูลนักเรียน!B75=0,\"\",ข้อมูลนักเรียน!B75)","v":""},{"$f":"IF(ข้อมูลนักเรียน!C75=0,\"\",ข้อมูลนักเรียน!C75)","v":""},{"$f":"IF(ข้อมูลนักเรียน!C75=0,\"\",ข้อมูลนักเรียน!D75 & ข้อมูลนักเรียน!E75)","v":""},{"$f":"IF(ข้อมูลนักเรียน!C75=0,\"\",ข้อมูลนักเรียน!F75)","v":""},{"$f":"IF(ข้อมูลนักเรียน!D75=0,\"\",ข้อมูลนักเรียน!G75)","v":""}]
[{"$f":"ข้อมูลนักเรียน!A76","v":0},{"$f":"IF(ข้อมูลนักเรียน!B76=0,\"\",ข้อมูลนักเรียน!B76)","v":""},{"$f":"IF(ข้อมูลนักเรียน!C76=0,\"\",ข้อมูลนักเรียน!C76)","v":""},{"$f":"IF(ข้อมูลนักเรียน!C76=0,\"\",ข้อมูลนักเรียน!D76 & ข้อมูลนักเรียน!E76)","v":""},{"$f":"IF(ข้อมูลนักเรียน!C76=0,\"\",ข้อมูลนักเรียน!F76)","v":""},{"$f":"IF(ข้อมูลนักเรียน!D76=0,\"\",ข้อมูลนักเรียน!G76)","v":""}]
[{"$f":"ข้อมูลนักเรียน!A77","v":0},{"$f":"IF(ข้อมูลนักเรียน!B77=0,\"\",ข้อมูลนักเรียน!B77)","v":""},{"$f":"IF(ข้อมูลนักเรียน!C77=0,\"\",ข้อมูลนักเรียน!C77)","v":""},{"$f":"IF(ข้อมูลนักเรียน!C77=0,\"\",ข้อมูลนักเรียน!D77 & ข้อมูลนักเรียน!E77)","v":""},{"$f":"IF(ข้อมูลนักเรียน!C77=0,\"\",ข้อมูลนักเรียน!F77)","v":""},{"$f":"IF(ข้อมูลนักเรียน!D77=0,\"\",ข้อมูลนักเรียน!G77)","v":""}]
[{"$f":"ข้อมูลนักเรียน!A78","v":0},{"$f":"IF(ข้อมูลนักเรียน!B78=0,\"\",ข้อมูลนักเรียน!B78)","v":""},{"$f":"IF(ข้อมูลนักเรียน!C78=0,\"\",ข้อมูลนักเรียน!C78)","v":""},{"$f":"IF(ข้อมูลนักเรียน!C78=0,\"\",ข้อมูลนักเรียน!D78 & ข้อมูลนักเรียน!E78)","v":""},{"$f":"IF(ข้อมูลนักเรียน!C78=0,\"\",ข้อมูลนักเรียน!F78)","v":""},{"$f":"IF(ข้อมูลนักเรียน!D78=0,\"\",ข้อมูลนักเรียน!G78)","v":""}]
[{"$f":"ข้อมูลนักเรียน!A79","v":0},{"$f":"IF(ข้อมูลนักเรียน!B79=0,\"\",ข้อมูลนักเรียน!B79)","v":""},{"$f":"IF(ข้อมูลนักเรียน!C79=0,\"\",ข้อมูลนักเรียน!C79)","v":""},{"$f":"IF(ข้อมูลนักเรียน!C79=0,\"\",ข้อมูลนักเรียน!D79 & ข้อมูลนักเรียน!E79)","v":""},{"$f":"IF(ข้อมูลนักเรียน!C79=0,\"\",ข้อมูลนักเรียน!F79)","v":""},{"$f":"IF(ข้อมูลนักเรียน!D79=0,\"\",ข้อมูลนักเรียน!G79)","v":""}]
[{"$f":"ข้อมูลนักเรียน!A80","v":0},{"$f":"IF(ข้อมูลนักเรียน!B80=0,\"\",ข้อมูลนักเรียน!B80)","v":""},{"$f":"IF(ข้อมูลนักเรียน!C80=0,\"\",ข้อมูลนักเรียน!C80)","v":""},{"$f":"IF(ข้อมูลนักเรียน!C80=0,\"\",ข้อมูลนักเรียน!D80 & ข้อมูลนักเรียน!E80)","v":""},{"$f":"IF(ข้อมูลนักเรียน!C80=0,\"\",ข้อมูลนักเรียน!F80)","v":""},{"$f":"IF(ข้อมูลนักเรียน!D80=0,\"\",ข้อมูลนักเรียน!G80)","v":""}]
[{"$f":"ข้อมูลนักเรียน!A81","v":0},{"$f":"IF(ข้อมูลนักเรียน!B81=0,\"\",ข้อมูลนักเรียน!B81)","v":""},{"$f":"IF(ข้อมูลนักเรียน!C81=0,\"\",ข้อมูลนักเรียน!C81)","v":""},{"$f":"IF(ข้อมูลนักเรียน!C81=0,\"\",ข้อมูลนักเรียน!D81 & ข้อมูลนักเรียน!E81)","v":""},{"$f":"IF(ข้อมูลนักเรียน!C81=0,\"\",ข้อมูลนักเรียน!F81)","v":""},{"$f":"IF(ข้อมูลนักเรียน!D81=0,\"\",ข้อมูลนักเรียน!G81)","v":""}]
[{"$f":"ข้อมูลนักเรียน!A82","v":0},{"$f":"IF(ข้อมูลนักเรียน!B82=0,\"\",ข้อมูลนักเรียน!B82)","v":""},{"$f":"IF(ข้อมูลนักเรียน!C82=0,\"\",ข้อมูลนักเรียน!C82)","v":""},{"$f":"IF(ข้อมูลนักเรียน!C82=0,\"\",ข้อมูลนักเรียน!D82 & ข้อมูลนักเรียน!E82)","v":""},{"$f":"IF(ข้อมูลนักเรียน!C82=0,\"\",ข้อมูลนักเรียน!F82)","v":""},{"$f":"IF(ข้อมูลนักเรียน!D82=0,\"\",ข้อมูลนักเรียน!G82)","v":""}]
[{"$f":"ข้อมูลนักเรียน!A83","v":0},{"$f":"IF(ข้อมูลนักเรียน!B83=0,\"\",ข้อมูลนักเรียน!B83)","v":""},{"$f":"IF(ข้อมูลนักเรียน!C83=0,\"\",ข้อมูลนักเรียน!C83)","v":""},{"$f":"IF(ข้อมูลนักเรียน!C83=0,\"\",ข้อมูลนักเรียน!D83 & ข้อมูลนักเรียน!E83)","v":""},{"$f":"IF(ข้อมูลนักเรียน!C83=0,\"\",ข้อมูลนักเรียน!F83)","v":""},{"$f":"IF(ข้อมูลนักเรียน!D83=0,\"\",ข้อมูลนักเรียน!G83)","v":""}]
[{"$f":"ข้อมูลนักเรียน!A84","v":0},{"$f":"IF(ข้อมูลนักเรียน!B84=0,\"\",ข้อมูลนักเรียน!B84)","v":""},{"$f":"IF(ข้อมูลนักเรียน!C84=0,\"\",ข้อมูลนักเรียน!C84)","v":""},{"$f":"IF(ข้อมูลนักเรียน!C84=0,\"\",ข้อมูลนักเรียน!D84 & ข้อมูลนักเรียน!E84)","v":""},{"$f":"IF(ข้อมูลนักเรียน!C84=0,\"\",ข้อมูลนักเรียน!F84)","v":""},{"$f":"IF(ข้อมูลนักเรียน!D84=0,\"\",ข้อมูลนักเรียน!G84)","v":""}]
[{"$f":"ข้อมูลนักเรียน!A85","v":0},{"$f":"IF(ข้อมูลนักเรียน!B85=0,\"\",ข้อมูลนักเรียน!B85)","v":""},{"$f":"IF(ข้อมูลนักเรียน!C85=0,\"\",ข้อมูลนักเรียน!C85)","v":""},{"$f":"IF(ข้อมูลนักเรียน!C85=0,\"\",ข้อมูลนักเรียน!D85 & ข้อมูลนักเรียน!E85)","v":""},{"$f":"IF(ข้อมูลนักเรียน!C85=0,\"\",ข้อมูลนักเรียน!F85)","v":""},{"$f":"IF(ข้อมูลนักเรียน!D85=0,\"\",ข้อมูลนักเรียน!G85)","v":""}]
[{"$f":"ข้อมูลนักเรียน!A86","v":0},{"$f":"IF(ข้อมูลนักเรียน!B86=0,\"\",ข้อมูลนักเรียน!B86)","v":""},{"$f":"IF(ข้อมูลนักเรียน!C86=0,\"\",ข้อมูลนักเรียน!C86)","v":""},{"$f":"IF(ข้อมูลนักเรียน!C86=0,\"\",ข้อมูลนักเรียน!D86 & ข้อมูลนักเรียน!E86)","v":""},{"$f":"IF(ข้อมูลนักเรียน!C86=0,\"\",ข้อมูลนักเรียน!F86)","v":""},{"$f":"IF(ข้อมูลนักเรียน!D86=0,\"\",ข้อมูลนักเรียน!G86)","v":""}]
[{"$f":"ข้อมูลนักเรียน!A87","v":0},{"$f":"IF(ข้อมูลนักเรียน!B87=0,\"\",ข้อมูลนักเรียน!B87)","v":""},{"$f":"IF(ข้อมูลนักเรียน!C87=0,\"\",ข้อมูลนักเรียน!C87)","v":""},{"$f":"IF(ข้อมูลนักเรียน!C87=0,\"\",ข้อมูลนักเรียน!D87 & ข้อมูลนักเรียน!E87)","v":""},{"$f":"IF(ข้อมูลนักเรียน!C87=0,\"\",ข้อมูลนักเรียน!F87)","v":""},{"$f":"IF(ข้อมูลนักเรียน!D87=0,\"\",ข้อมูลนักเรียน!G87)","v":""}]
[{"$f":"ข้อมูลนักเรียน!A88","v":0},{"$f":"IF(ข้อมูลนักเรียน!B88=0,\"\",ข้อมูลนักเรียน!B88)","v":""},{"$f":"IF(ข้อมูลนักเรียน!C88=0,\"\",ข้อมูลนักเรียน!C88)","v":""},{"$f":"IF(ข้อมูลนักเรียน!C88=0,\"\",ข้อมูลนักเรียน!D88 & ข้อมูลนักเรียน!E88)","v":""},{"$f":"IF(ข้อมูลนักเรียน!C88=0,\"\",ข้อมูลนักเรียน!F88)","v":""},{"$f":"IF(ข้อมูลนักเรียน!D88=0,\"\",ข้อมูลนักเรียน!G88)","v":""}]
[{"$f":"ข้อมูลนักเรียน!A89","v":0},{"$f":"IF(ข้อมูลนักเรียน!B89=0,\"\",ข้อมูลนักเรียน!B89)","v":""},{"$f":"IF(ข้อมูลนักเรียน!C89=0,\"\",ข้อมูลนักเรียน!C89)","v":""},{"$f":"IF(ข้อมูลนักเรียน!C89=0,\"\",ข้อมูลนักเรียน!D89 & ข้อมูลนักเรียน!E89)","v":""},{"$f":"IF(ข้อมูลนักเรียน!C89=0,\"\",ข้อมูลนักเรียน!F89)","v":""},{"$f":"IF(ข้อมูลนักเรียน!D89=0,\"\",ข้อมูลนักเรียน!G89)","v":""}]
[{"$f":"ข้อมูลนักเรียน!A90","v":0},{"$f":"IF(ข้อมูลนักเรียน!B90=0,\"\",ข้อมูลนักเรียน!B90)","v":""},{"$f":"IF(ข้อมูลนักเรียน!C90=0,\"\",ข้อมูลนักเรียน!C90)","v":""},{"$f":"IF(ข้อมูลนักเรียน!C90=0,\"\",ข้อมูลนักเรียน!D90 & ข้อมูลนักเรียน!E90)","v":""},{"$f":"IF(ข้อมูลนักเรียน!C90=0,\"\",ข้อมูลนักเรียน!F90)","v":""},{"$f":"IF(ข้อมูลนักเรียน!D90=0,\"\",ข้อมูลนักเรียน!G90)","v":""}]
[{"$f":"ข้อมูลนักเรียน!A91","v":0},{"$f":"IF(ข้อมูลนักเรียน!B91=0,\"\",ข้อมูลนักเรียน!B91)","v":""},{"$f":"IF(ข้อมูลนักเรียน!C91=0,\"\",ข้อมูลนักเรียน!C91)","v":""},{"$f":"IF(ข้อมูลนักเรียน!C91=0,\"\",ข้อมูลนักเรียน!D91 & ข้อมูลนักเรียน!E91)","v":""},{"$f":"IF(ข้อมูลนักเรียน!C91=0,\"\",ข้อมูลนักเรียน!F91)","v":""},{"$f":"IF(ข้อมูลนักเรียน!D91=0,\"\",ข้อมูลนักเรียน!G91)","v":""}]
[{"$f":"ข้อมูลนักเรียน!A92","v":0},{"$f":"IF(ข้อมูลนักเรียน!B92=0,\"\",ข้อมูลนักเรียน!B92)","v":""},{"$f":"IF(ข้อมูลนักเรียน!C92=0,\"\",ข้อมูลนักเรียน!C92)","v":""},{"$f":"IF(ข้อมูลนักเรียน!C92=0,\"\",ข้อมูลนักเรียน!D92 & ข้อมูลนักเรียน!E92)","v":""},{"$f":"IF(ข้อมูลนักเรียน!C92=0,\"\",ข้อมูลนักเรียน!F92)","v":""},{"$f":"IF(ข้อมูลนักเรียน!D92=0,\"\",ข้อมูลนักเรียน!G92)","v":""}]
[{"$f":"ข้อมูลนักเรียน!A93","v":0},{"$f":"IF(ข้อมูลนักเรียน!B93=0,\"\",ข้อมูลนักเรียน!B93)","v":""},{"$f":"IF(ข้อมูลนักเรียน!C93=0,\"\",ข้อมูลนักเรียน!C93)","v":""},{"$f":"IF(ข้อมูลนักเรียน!C93=0,\"\",ข้อมูลนักเรียน!D93 & ข้อมูลนักเรียน!E93)","v":""},{"$f":"IF(ข้อมูลนักเรียน!C93=0,\"\",ข้อมูลนักเรียน!F93)","v":""},{"$f":"IF(ข้อมูลนักเรียน!D93=0,\"\",ข้อมูลนักเรียน!G93)","v":""}]
[{"$f":"ข้อมูลนักเรียน!A94","v":0},{"$f":"IF(ข้อมูลนักเรียน!B94=0,\"\",ข้อมูลนักเรียน!B94)","v":""},{"$f":"IF(ข้อมูลนักเรียน!C94=0,\"\",ข้อมูลนักเรียน!C94)","v":""},{"$f":"IF(ข้อมูลนักเรียน!C94=0,\"\",ข้อมูลนักเรียน!D94 & ข้อมูลนักเรียน!E94)","v":""},{"$f":"IF(ข้อมูลนักเรียน!C94=0,\"\",ข้อมูลนักเรียน!F94)","v":""},{"$f":"IF(ข้อมูลนักเรียน!D94=0,\"\",ข้อมูลนักเรียน!G94)","v":""}]
[{"$f":"ข้อมูลนักเรียน!A95","v":0},{"$f":"IF(ข้อมูลนักเรียน!B95=0,\"\",ข้อมูลนักเรียน!B95)","v":""},{"$f":"IF(ข้อมูลนักเรียน!C95=0,\"\",ข้อมูลนักเรียน!C95)","v":""},{"$f":"IF(ข้อมูลนักเรียน!C95=0,\"\",ข้อมูลนักเรียน!D95 & ข้อมูลนักเรียน!E95)","v":""},{"$f":"IF(ข้อมูลนักเรียน!C95=0,\"\",ข้อมูลนักเรียน!F95)","v":""},{"$f":"IF(ข้อมูลนักเรียน!D95=0,\"\",ข้อมูลนักเรียน!G95)","v":""}]
[{"$f":"ข้อมูลนักเรียน!A96","v":0},{"$f":"IF(ข้อมูลนักเรียน!B96=0,\"\",ข้อมูลนักเรียน!B96)","v":""},{"$f":"IF(ข้อมูลนักเรียน!C96=0,\"\",ข้อมูลนักเรียน!C96)","v":""},{"$f":"IF(ข้อมูลนักเรียน!C96=0,\"\",ข้อมูลนักเรียน!D96 & ข้อมูลนักเรียน!E96)","v":""},{"$f":"IF(ข้อมูลนักเรียน!C96=0,\"\",ข้อมูลนักเรียน!F96)","v":""},{"$f":"IF(ข้อมูลนักเรียน!D96=0,\"\",ข้อมูลนักเรียน!G96)","v":""}]
[{"$f":"ข้อมูลนักเรียน!A97","v":0},{"$f":"IF(ข้อมูลนักเรียน!B97=0,\"\",ข้อมูลนักเรียน!B97)","v":""},{"$f":"IF(ข้อมูลนักเรียน!C97=0,\"\",ข้อมูลนักเรียน!C97)","v":""},{"$f":"IF(ข้อมูลนักเรียน!C97=0,\"\",ข้อมูลนักเรียน!D97 & ข้อมูลนักเรียน!E97)","v":""},{"$f":"IF(ข้อมูลนักเรียน!C97=0,\"\",ข้อมูลนักเรียน!F97)","v":""},{"$f":"IF(ข้อมูลนักเรียน!D97=0,\"\",ข้อมูลนักเรียน!G97)","v":""}]
[{"$f":"ข้อมูลนักเรียน!A98","v":0},{"$f":"IF(ข้อมูลนักเรียน!B98=0,\"\",ข้อมูลนักเรียน!B98)","v":""},{"$f":"IF(ข้อมูลนักเรียน!C98=0,\"\",ข้อมูลนักเรียน!C98)","v":""},{"$f":"IF(ข้อมูลนักเรียน!C98=0,\"\",ข้อมูลนักเรียน!D98 & ข้อมูลนักเรียน!E98)","v":""},{"$f":"IF(ข้อมูลนักเรียน!C98=0,\"\",ข้อมูลนักเรียน!F98)","v":""},{"$f":"IF(ข้อมูลนักเรียน!D98=0,\"\",ข้อมูลนักเรียน!G98)","v":""}]
[{"$f":"ข้อมูลนักเรียน!A99","v":0},{"$f":"IF(ข้อมูลนักเรียน!B99=0,\"\",ข้อมูลนักเรียน!B99)","v":""},{"$f":"IF(ข้อมูลนักเรียน!C99=0,\"\",ข้อมูลนักเรียน!C99)","v":""},{"$f":"IF(ข้อมูลนักเรียน!C99=0,\"\",ข้อมูลนักเรียน!D99 & ข้อมูลนักเรียน!E99)","v":""},{"$f":"IF(ข้อมูลนักเรียน!C99=0,\"\",ข้อมูลนักเรียน!F99)","v":""},{"$f":"IF(ข้อมูลนักเรียน!D99=0,\"\",ข้อมูลนักเรียน!G99)","v":""}]
[{"$f":"ข้อมูลนักเรียน!A100","v":0},{"$f":"IF(ข้อมูลนักเรียน!B100=0,\"\",ข้อมูลนักเรียน!B100)","v":""},{"$f":"IF(ข้อมูลนักเรียน!C100=0,\"\",ข้อมูลนักเรียน!C100)","v":""},{"$f":"IF(ข้อมูลนักเรียน!C100=0,\"\",ข้อมูลนักเรียน!D100 & ข้อมูลนักเรียน!E100)","v":""},{"$f":"IF(ข้อมูลนักเรียน!C100=0,\"\",ข้อมูลนักเรียน!F100)","v":""},{"$f":"IF(ข้อมูลนักเรียน!D100=0,\"\",ข้อมูลนักเรียน!G100)","v":""}]
[{"$f":"ข้อมูลนักเรียน!A113","v":0},{"$f":"IF(ข้อมูลนักเรียน!B113=0,\"\",ข้อมูลนักเรียน!B113)","v":""},{"$f":"IF(ข้อมูลนักเรียน!C113=0,\"\",ข้อมูลนักเรียน!C113)","v":""},{"$f":"IF(ข้อมูลนักเรียน!C113=0,\"\",ข้อมูลนักเรียน!D113 & ข้อมูลนักเรียน!E113)","v":""},{"$f":"IF(ข้อมูลนักเรียน!C113=0,\"\",ข้อมูลนักเรียน!F113)","v":""},{"$f":"IF(ข้อมูลนักเรียน!D113=0,\"\",ข้อมูลนักเรียน!G113)","v":""}]
[{"$f":"ข้อมูลนักเรียน!A114","v":0},{"$f":"IF(ข้อมูลนักเรียน!B114=0,\"\",ข้อมูลนักเรียน!B114)","v":""},{"$f":"IF(ข้อมูลนักเรียน!C114=0,\"\",ข้อมูลนักเรียน!C114)","v":""},{"$f":"IF(ข้อมูลนักเรียน!C114=0,\"\",ข้อมูลนักเรียน!D114 & ข้อมูลนักเรียน!E114)","v":""},{"$f":"IF(ข้อมูลนักเรียน!C114=0,\"\",ข้อมูลนักเรียน!F114)","v":""},{"$f":"IF(ข้อมูลนักเรียน!D114=0,\"\",ข้อมูลนักเรียน!G114)","v":""}]
[{"$f":"ข้อมูลนักเรียน!A115","v":0},{"$f":"IF(ข้อมูลนักเรียน!B115=0,\"\",ข้อมูลนักเรียน!B115)","v":""},{"$f":"IF(ข้อมูลนักเรียน!C115=0,\"\",ข้อมูลนักเรียน!C115)","v":""},{"$f":"IF(ข้อมูลนักเรียน!C115=0,\"\",ข้อมูลนักเรียน!D115 & ข้อมูลนักเรียน!E115)","v":""},{"$f":"IF(ข้อมูลนักเรียน!C115=0,\"\",ข้อมูลนักเรียน!F115)","v":""},{"$f":"IF(ข้อมูลนักเรียน!D115=0,\"\",ข้อมูลนักเรียน!G115)","v":""}]
[{"$f":"ข้อมูลนักเรียน!A116","v":0},{"$f":"IF(ข้อมูลนักเรียน!B116=0,\"\",ข้อมูลนักเรียน!B116)","v":""},{"$f":"IF(ข้อมูลนักเรียน!C116=0,\"\",ข้อมูลนักเรียน!C116)","v":""},{"$f":"IF(ข้อมูลนักเรียน!C116=0,\"\",ข้อมูลนักเรียน!D116 & ข้อมูลนักเรียน!E116)","v":""},{"$f":"IF(ข้อมูลนักเรียน!C116=0,\"\",ข้อมูลนักเรียน!F116)","v":""},{"$f":"IF(ข้อมูลนักเรียน!D116=0,\"\",ข้อมูลนักเรียน!G116)","v":""}]
[{"$f":"ข้อมูลนักเรียน!A117","v":0},{"$f":"IF(ข้อมูลนักเรียน!B117=0,\"\",ข้อมูลนักเรียน!B117)","v":""},{"$f":"IF(ข้อมูลนักเรียน!C117=0,\"\",ข้อมูลนักเรียน!C117)","v":""},{"$f":"IF(ข้อมูลนักเรียน!C117=0,\"\",ข้อมูลนักเรียน!D117 & ข้อมูลนักเรียน!E117)","v":""},{"$f":"IF(ข้อมูลนักเรียน!C117=0,\"\",ข้อมูลนักเรียน!F117)","v":""},{"$f":"IF(ข้อมูลนักเรียน!D117=0,\"\",ข้อมูลนักเรียน!G117)","v":""}]
[{"$f":"ข้อมูลนักเรียน!A118","v":0},{"$f":"IF(ข้อมูลนักเรียน!B118=0,\"\",ข้อมูลนักเรียน!B118)","v":""},{"$f":"IF(ข้อมูลนักเรียน!C118=0,\"\",ข้อมูลนักเรียน!C118)","v":""},{"$f":"IF(ข้อมูลนักเรียน!C118=0,\"\",ข้อมูลนักเรียน!D118 & ข้อมูลนักเรียน!E118)","v":""},{"$f":"IF(ข้อมูลนักเรียน!C118=0,\"\",ข้อมูลนักเรียน!F118)","v":""},{"$f":"IF(ข้อมูลนักเรียน!D118=0,\"\",ข้อมูลนักเรียน!G118)","v":""}]
[{"$f":"ข้อมูลนักเรียน!A119","v":0},{"$f":"IF(ข้อมูลนักเรียน!B119=0,\"\",ข้อมูลนักเรียน!B119)","v":""},{"$f":"IF(ข้อมูลนักเรียน!C119=0,\"\",ข้อมูลนักเรียน!C119)","v":""},{"$f":"IF(ข้อมูลนักเรียน!C119=0,\"\",ข้อมูลนักเรียน!D119 & ข้อมูลนักเรียน!E119)","v":""},{"$f":"IF(ข้อมูลนักเรียน!C119=0,\"\",ข้อมูลนักเรียน!F119)","v":""},{"$f":"IF(ข้อมูลนักเรียน!D119=0,\"\",ข้อมูลนักเรียน!G119)","v":""}]
[{"$f":"ข้อมูลนักเรียน!A120","v":0},{"$f":"IF(ข้อมูลนักเรียน!B120=0,\"\",ข้อมูลนักเรียน!B120)","v":""},{"$f":"IF(ข้อมูลนักเรียน!C120=0,\"\",ข้อมูลนักเรียน!C120)","v":""},{"$f":"IF(ข้อมูลนักเรียน!C120=0,\"\",ข้อมูลนักเรียน!D120 & ข้อมูลนักเรียน!E120)","v":""},{"$f":"IF(ข้อมูลนักเรียน!C120=0,\"\",ข้อมูลนักเรียน!F120)","v":""},{"$f":"IF(ข้อมูลนักเรียน!D120=0,\"\",ข้อมูลนักเรียน!G120)","v":""}]
[{"$f":"ข้อมูลนักเรียน!A121","v":0},{"$f":"IF(ข้อมูลนักเรียน!B121=0,\"\",ข้อมูลนักเรียน!B121)","v":""},{"$f":"IF(ข้อมูลนักเรียน!C121=0,\"\",ข้อมูลนักเรียน!C121)","v":""},{"$f":"IF(ข้อมูลนักเรียน!C121=0,\"\",ข้อมูลนักเรียน!D121 & ข้อมูลนักเรียน!E121)","v":""},{"$f":"IF(ข้อมูลนักเรียน!C121=0,\"\",ข้อมูลนักเรียน!F121)","v":""},{"$f":"IF(ข้อมูลนักเรียน!D121=0,\"\",ข้อมูลนักเรียน!G121)","v":""}]
[{"$f":"ข้อมูลนักเรียน!A122","v":0},{"$f":"IF(ข้อมูลนักเรียน!B122=0,\"\",ข้อมูลนักเรียน!B122)","v":""},{"$f":"IF(ข้อมูลนักเรียน!C122=0,\"\",ข้อมูลนักเรียน!C122)","v":""},{"$f":"IF(ข้อมูลนักเรียน!C122=0,\"\",ข้อมูลนักเรียน!D122 & ข้อมูลนักเรียน!E122)","v":""},{"$f":"IF(ข้อมูลนักเรียน!C122=0,\"\",ข้อมูลนักเรียน!F122)","v":""},{"$f":"IF(ข้อมูลนักเรียน!D122=0,\"\",ข้อมูลนักเรียน!G122)","v":""}]
[{"$f":"ข้อมูลนักเรียน!A123","v":0},{"$f":"IF(ข้อมูลนักเรียน!B123=0,\"\",ข้อมูลนักเรียน!B123)","v":""},{"$f":"IF(ข้อมูลนักเรียน!C123=0,\"\",ข้อมูลนักเรียน!C123)","v":""},{"$f":"IF(ข้อมูลนักเรียน!C123=0,\"\",ข้อมูลนักเรียน!D123 & ข้อมูลนักเรียน!E123)","v":""},{"$f":"IF(ข้อมูลนักเรียน!C123=0,\"\",ข้อมูลนักเรียน!F123)","v":""},{"$f":"IF(ข้อมูลนักเรียน!D123=0,\"\",ข้อมูลนักเรียน!G123)","v":""}]
[{"$f":"ข้อมูลนักเรียน!A124","v":0},{"$f":"IF(ข้อมูลนักเรียน!B124=0,\"\",ข้อมูลนักเรียน!B124)","v":""},{"$f":"IF(ข้อมูลนักเรียน!C124=0,\"\",ข้อมูลนักเรียน!C124)","v":""},{"$f":"IF(ข้อมูลนักเรียน!C124=0,\"\",ข้อมูลนักเรียน!D124 & ข้อมูลนักเรียน!E124)","v":""},{"$f":"IF(ข้อมูลนักเรียน!C124=0,\"\",ข้อมูลนักเรียน!F124)","v":""},{"$f":"IF(ข้อมูลนักเรียน!D124=0,\"\",ข้อมูลนักเรียน!G124)","v":""}]
[{"$f":"ข้อมูลนักเรียน!A125","v":0},{"$f":"IF(ข้อมูลนักเรียน!B125=0,\"\",ข้อมูลนักเรียน!B125)","v":""},{"$f":"IF(ข้อมูลนักเรียน!C125=0,\"\",ข้อมูลนักเรียน!C125)","v":""},{"$f":"IF(ข้อมูลนักเรียน!C125=0,\"\",ข้อมูลนักเรียน!D125 & ข้อมูลนักเรียน!E125)","v":""},{"$f":"IF(ข้อมูลนักเรียน!C125=0,\"\",ข้อมูลนักเรียน!F125)","v":""},{"$f":"IF(ข้อมูลนักเรียน!D125=0,\"\",ข้อมูลนักเรียน!G125)","v":""}]
[{"$f":"ข้อมูลนักเรียน!A126","v":0},{"$f":"IF(ข้อมูลนักเรียน!B126=0,\"\",ข้อมูลนักเรียน!B126)","v":""},{"$f":"IF(ข้อมูลนักเรียน!C126=0,\"\",ข้อมูลนักเรียน!C126)","v":""},{"$f":"IF(ข้อมูลนักเรียน!C126=0,\"\",ข้อมูลนักเรียน!D126 & ข้อมูลนักเรียน!E126)","v":""},{"$f":"IF(ข้อมูลนักเรียน!C126=0,\"\",ข้อมูลนักเรียน!F126)","v":""},{"$f":"IF(ข้อมูลนักเรียน!D126=0,\"\",ข้อมูลนักเรียน!G126)","v":""}]

{"sheet":"ปพ.1สำเนา","index":15,"n_rows":116,"n_cols":55,"rows_kept":116,"cut":false,"hidden":false,"merged":[[104,28,104,41],[109,28,112,41],[95,30,95,39],[96,30,96,39],[0,46,4,47],[5,24,5,36],[5,46,6,46],[5,47,6,47],[6,24,6,36],[16,28,16,37],[16,38,16,39],[16,40,16,41],[24,46,26,46],[24,47,26,47],[16,26,16,27],[17,26,17,27],[17,28,17,37],[17,38,17,39],[17,40,17,41],[27,46,29,46],[27,47,29,47],[24,28,24,37],[24,38,24,39],[24,40,24,41],[10,6,10,19],[10,23,10,26],[10,30,10,34],[10,38,10,41],[11,6,11,19],[11,27,11,41],[7,29,7,34],[7,46,8,46],[7,47,8,47],[8,29,8,36],[9,6,9,7],[9,8,9,12],[9,13,9,16],[9,24,9,26],[9,29,9,34],[9,37,9,41],[9,46,10,46],[9,47,10,47],[11,46,12,46],[11,47,12,47],[12,6,12,19],[12,27,12,41],[14,0,14,41],[15,0,15,9],[15,12,15,13],[15,14,15,23],[15,26,15,27],[15,28,15,37],[15,40,15,41],[17,0,17,9],[17,10,17,11],[17,12,17,13],[17,14,17,23],[17,24,17,25],[16,0,16,9],[16,10,16,11],[16,12,16,13],[16,14,16,23],[16,24,16,25],[18,0,18,9],[18,10,18,11],[18,12,18,13],[18,14,18,23],[18,24,18,25],[18,26,18,27],[18,28,18,37],[18,38,18,39],[18,40,18,41],[19,0,19,9],[19,10,19,11],[19,12,19,13],[19,14,19,23],[19,24,19,25],[19,26,19,27],[19,28,19,37],[19,38,19,39],[19,40,19,41],[20,0,20,9],[20,10,20,11],[20,12,20,13],[20,14,20,23],[20,24,20,25],[20,26,20,27],[20,28,20,37],[20,38,20,39],[20,40,20,41],[21,0,21,9],[21,10,21,11],[21,12,21,13],[21,14,21,23],[21,24,21,25],[21,26,21,27],[21,28,21,37],[21,38,21,39],[21,40,21,41],[23,28,23,37],[23,38,23,39],[23,40,23,41],[22,0,22,9],[22,10,22,11],[22,12,22,13],[22,14,22,23],[22,24,22,25],[22,26,22,27],[22,28,22,37],[22,38,22,39],[22,40,22,41],[24,0,24,9],[24,10,24,11],[24,12,24,13],[24,14,24,23],[24,24,24,25],[24,26,24,27],[23,0,23,9],[23,10,23,11],[23,12,23,13],[23,14,23,23],[23,24,23,25],[23,26,23,27],[25,38,25,39],[25,40,25,41],[26,0,26,9],[26,10,26,11],[26,12,26,13],[26,14,26,23],[26,24,26,25],[26,26,26,27],[26,28,26,37],[26,38,26,39],[26,40,26,41],[25,0,25,9],[25,10,25,11],[25,12,25,13],[25,14,25,23],[25,24,25,25],[25,26,25,27],[25,28,25,37],[27,0,27,9],[27,10,27,11],[27,12,27,13],[27,14,27,23],[27,24,27,25],[27,26,27,27],[27,28,27,37],[27,38,27,39],[27,40,27,41],[28,28,28,37],[28,38,28,39],[28,40,28,41],[29,0,29,9],[29,10,29,11],[29,12,29,13],[29,14,29,23],[29,24,29,25],[29,26,29,27],[29,28,29,37],[28,0,28,9],[28,10,28,11],[28,12,28,13],[28,14,28,23],[28,24,28,25],[28,26,28,27],[29,38,29,39],[29,40,29,41],[30,0,30,9],[30,10,30,11],[30,12,30,13],[30,14,30,23],[30,24,30,25],[30,26,30,27],[30,28,30,37],[30,38,30,39],[30,40,30,41],[31,0,31,9],[31,10,31,11],[31,12,31,13],[31,14,31,23],[31,24,31,25],[31,26,31,27],[31,28,31,37],[31,38,31,39],[31,40,31,41],[32,28,32,37],[32,38,32,39],[32,40,32,41],[33,0,33,9],[33,10,33,11],[33,12,33,13],[33,14,33,23],[33,24,33,25],[33,26,33,27],[33,28,33,37],[32,0,32,9],[32,10,32,11],[32,12,32,13],[32,14,32,23],[32,24,32,25],[32,26,32,27],[33,38,33,39],[33,40,33,41],[34,0,34,9],[34,10,34,11],[34,12,34,13],[34,14,34,23],[34,24,34,25],[34,26,34,27],[34,28,34,37],[34,38,34,39],[34,40,34,41],[35,0,35,9],[35,10,35,11],[35,12,35,13],[35,14,35,23],[35,24,35,25],[35,26,35,27],[35,28,35,37],[35,38,35,39],[35,40,35,41],[36,28,36,37],[36,38,36,39],[36,40,36,41],[37,0,37,9],[37,10,37,11],[37,12,37,13],[37,14,37,23],[37,24,37,25],[37,26,37,27],[37,28,37,37],[36,0,36,9],[36,10,36,11],[36,12,36,13],[36,14,36,23],[36,24,36,25],[36,26,36,27],[37,38,37,39],[37,40,37,41],[38,0,38,9],[38,10,38,11],[38,12,38,13],[38,14,38,23],[38,24,38,25],[38,26,38,27],[38,28,38,37],[38,38,38,39],[38,40,38,41],[39,0,39,9],[39,10,39,11],[39,12,39,13],[39,14,39,23],[39,24,39,25],[39,26,39,27],[39,28,39,37],[39,38,39,39],[39,40,39,41],[40,28,40,37],[40,38,40,39],[40,40,40,41],[41,0,41,9],[41,10,41,11],[41,12,41,13],[41,14,41,23],[41,24,41,25],[41,26,41,27],[41,28,41,37],[40,0,40,9],[40,10,40,11],[40,12,40,13],[40,14,40,23],[40,24,40,25],[40,26,40,27],[41,38,41,39],[41,40,41,41],[42,0,42,9],[42,10,42,11],[42,12,42,13],[42,14,42,23],[42,24,42,25],[42,26,42,27],[42,28,42,37],[42,38,42,39],[42,40,42,41],[43,0,43,9],[43,10,43,11],[43,12,43,13],[43,14,43,23],[43,24,43,25],[43,26,43,27],[43,28,43,37],[43,38,43,39],[43,40,43,41],[44,28,44,37],[44,38,44,39],[44,40,44,41],[45,0,45,9],[45,10,45,11],[45,12,45,13],[45,14,45,23],[45,24,45,25],[45,26,45,27],[45,28,45,37],[44,0,44,9],[44,10,44,11],[44,12,44,13],[44,14,44,23],[44,24,44,25],[44,26,44,27],[45,38,45,39],[45,40,45,41],[46,0,46,9],[46,10,46,11],[46,12,46,13],[46,14,46,23],[46,24,46,25],[46,26,46,27],[46,28,46,37],[46,38,46,39],[46,40,46,41],[47,0,47,9],[47,10,47,11],[47,12,47,13],[47,14,47,23],[47,24,47,25],[47,26,47,27],[47,28,47,37],[47,38,47,39],[47,40,47,41],[48,28,48,37],[48,38,48,39],[48,40,48,41],[49,0,49,9],[49,10,49,11],[49,12,49,13],[49,14,49,23],[49,24,49,25],[49,26,49,27],[49,28,49,37],[48,0,48,9],[48,10,48,11],[48,12,48,13],[48,14,48,23],[48,24,48,25],[48,26,48,27],[49,38,49,39],[49,40,49,41],[50,0,50,9],[50,10,50,11],[50,12,50,13],[50,14,50,23],[50,24,50,25],[50,26,50,27],[50,28,50,37],[50,38,50,39],[50,40,50,41],[51,0,51,9],[51,10,51,11],[51,12,51,13],[51,14,51,23],[51,24,51,25],[51,26,51,27],[51,28,51,37],[51,38,51,39],[51,40,51,41],[53,14,53,23],[53,24,53,25],[53,26,53,27],[53,28,53,37],[52,0,52,9],[52,10,52,11],[52,12,52,13],[52,14,52,23],[52,24,52,25],[52,26,52,27],[115,28,115,41],[1,11,1,12],[1,23,1,32],[1,13,1,20],[57,0,57,9],[57,10,57,11],[57,12,57,13],[57,14,57,23],[57,24,57,25],[57,26,57,27],[56,0,56,9],[56,10,56,11],[56,12,56,13],[56,14,56,23],[56,24,56,25],[56,26,56,27],[54,40,54,41],[55,0,55,9],[55,10,55,11],[55,12,55,13],[55,14,55,23],[55,24,55,25],[55,26,55,27],[53,38,53,39],[22,46,23,46],[22,47,23,47],[57,29,58,40],[58,0,58,9],[58,10,58,11],[58,12,58,13],[58,14,58,23],[58,24,58,25],[58,26,58,27],[53,40,53,41],[54,0,54,9],[54,10,54,11],[54,12,54,13],[54,14,54,23],[54,24,54,25],[54,26,54,27],[54,28,54,37],[54,38,54,39],[52,28,52,37],[52,38,52,39],[52,40,52,41],[53,0,53,9],[53,10,53,11],[53,12,53,13],[59,29,59,40],[63,0,63,41],[64,0,64,9],[64,14,64,23],[64,28,64,37],[61,11,61,12],[61,13,61,20],[61,23,61,32],[59,0,59,9],[59,10,59,11],[59,12,59,13],[59,14,59,23],[59,24,59,25],[59,26,59,27],[65,28,65,37],[65,38,65,39],[65,40,65,41],[66,0,66,9],[66,10,66,11],[66,12,66,13],[66,14,66,23],[66,24,66,25],[66,26,66,27],[66,28,66,37],[65,0,65,9],[65,10,65,11],[65,12,65,13],[65,14,65,23],[65,24,65,25],[65,26,65,27],[66,38,66,39],[66,40,66,41],[67,0,67,9],[67,10,67,11],[67,12,67,13],[67,14,67,23],[67,24,67,25],[67,26,67,27],[67,28,67,37],[67,38,67,39],[67,40,67,41],[68,0,68,9],[68,10,68,11],[68,12,68,13],[68,14,68,23],[68,24,68,25],[68,26,68,27],[68,28,68,37],[68,38,68,39],[68,40,68,41],[69,28,69,37],[69,38,69,39],[69,40,69,41],[70,0,70,9],[70,10,70,11],[70,12,70,13],[70,14,70,23],[70,24,70,25],[70,26,70,27],[70,28,70,37],[69,0,69,9],[69,10,69,11],[69,12,69,13],[69,14,69,23],[69,24,69,25],[69,26,69,27],[70,38,70,39],[70,40,70,41],[71,0,71,9],[71,10,71,11],[71,12,71,13],[71,14,71,23],[71,24,71,25],[71,26,71,27],[71,28,71,37],[71,38,71,39],[71,40,71,41],[72,0,72,9],[72,10,72,11],[72,12,72,13],[72,14,72,23],[72,24,72,25],[72,26,72,27],[72,28,72,37],[72,38,72,39],[72,40,72,41],[113,28,113,41],[114,28,114,41],[76,24,76,25],[76,26,76,27],[76,28,76,37],[76,38,76,39],[76,40,76,41],[77,0,77,9],[77,10,77,11],[77,12,77,13],[77,14,77,23],[77,24,77,25],[77,26,77,27],[77,28,77,37],[77,38,77,39],[77,40,77,41],[78,0,78,9],[78,10,78,11],[78,12,78,13],[78,14,78,23],[78,24,78,25],[78,26,78,27],[78,28,78,37],[110,0,110,27],[73,28,73,37],[73,38,73,39],[73,40,73,41],[74,0,74,9],[74,10,74,11],[74,12,74,13],[74,14,74,23],[74,24,74,25],[74,26,74,27],[74,28,74,37],[73,0,73,9],[73,10,73,11],[73,12,73,13],[73,14,73,23],[73,24,73,25],[73,26,73,27],[74,38,74,39],[74,40,74,41],[111,0,111,27],[75,0,75,9],[75,10,75,11],[75,12,75,13],[75,14,75,23],[75,24,75,25],[75,26,75,27],[75,28,75,37],[75,38,75,39],[88,10,88,14],[88,15,88,18],[100,3,100,4],[101,3,101,4],[100,22,100,25],[105,31,105,32],[105,33,105,37],[101,22,101,25],[102,22,102,25],[104,0,104,27],[102,30,103,39],[102,29,103,29],[109,0,109,27],[88,8,88,9],[108,0,108,27],[102,40,103,40],[105,38,105,40],[75,40,75,41],[76,0,76,9],[76,10,76,11],[76,12,76,13],[76,14,76,23],[78,38,78,39],[78,40,78,41],[83,0,83,16],[83,17,83,21],[83,22,83,27],[84,0,84,16],[84,17,84,21],[84,22,84,27],[80,0,80,21],[80,22,80,27],[82,0,82,16],[82,17,82,21],[82,22,82,27],[90,8,90,24],[85,0,85,16],[85,17,85,21],[85,22,85,27],[106,0,107,27],[107,28,108,41],[97,8,97,9],[97,11,97,12],[97,23,97,24],[80,38,82,38],[83,38,83,39],[83,28,83,37],[81,0,81,21],[81,22,81,27],[92,0,92,27],[87,38,87,39],[87,28,87,37],[96,8,96,9],[96,11,96,12],[96,23,96,24],[80,39,82,39],[95,8,95,9],[95,11,95,12],[95,23,95,24],[80,40,82,40],[83,40,83,41],[87,40,87,41],[84,38,84,39],[84,40,84,41],[85,38,85,39],[85,40,85,41],[86,38,86,39],[86,40,86,41],[80,41,82,41],[97,26,97,27],[97,30,98,39],[94,29,95,29],[94,26,94,27],[95,26,95,27],[96,26,96,27],[80,28,82,37],[85,28,85,37],[84,28,84,37],[86,28,86,37],[91,28,91,37],[92,28,92,37],[99,0,99,27],[94,40,95,40],[94,11,94,12],[94,23,94,24],[89,8,89,9],[89,10,89,14],[89,15,89,18],[89,28,89,37],[88,28,88,37],[90,28,90,37],[99,29,99,40],[88,40,88,41],[89,40,89,41],[90,40,90,41],[91,40,91,41],[92,40,92,41],[88,38,88,39],[89,38,89,39],[90,38,90,39],[91,38,91,39],[92,38,92,39],[94,8,94,9]]}
[null,null,null,null,"ระเบียนแสดงผลการเรียนหลักสูตรแกนกลางการศึกษาขั้นพื้นฐาน ระดับประถมศึกษา",null,null,null,null,null,null,null,null,null,null,null,null,null,null,null,null,null,null,null,null,null,null,null,null,null,null,null,null,null,null,null,null,null,null,null,null,null,null,null,null,null,"แบบพิมพ์ ป.พ.1 : ป"]
[null,null,null,null,"ปพ.1:ป",null,null,null,null,null,null,"ชุดที่",null,null,null,null,null,null,null,null,null,"เลขที่"]
[]
["โรงเรียน",null,null,null,{"$f":"ข้อมูลพื้นฐาน!D4","v":"บ้านหนองคา"}]
["สังกัด",null,null,null,{"$f":"ข้อมูลพื้นฐาน!D5","v":"สำนักงานคณะกรรมการการศึกษาขั้นพื้นฐาน"}]
["ตำบล/แขวง",null,null,null,{"$f":"ข้อมูลพื้นฐาน!D7","v":"กระสัง"},null,null,null,null,null,null,null,null,null,null,null,null,null,null,null,null,"ชื่อ",null,null,"เด็กชายสมชาย",null,null,null,null,null,null,null,null,null,null,null,null,null,null,null,null,null,null,null,null,null,"เลือกรูปแบบ ปพ.1","แบ่งคอลัมม์ตามปี",null,"รูปแบบปพ.1"]
["อำเภอ/เขต",null,null,null,{"$f":"ข้อมูลพื้นฐาน!D8","v":"กระสัง"},null,null,null,null,null,null,null,null,null,null,null,null,null,null,null,null,"ชื่อสกุล",null,null,"สุขสบาย",null,null,null,null,null,null,null,null,null,null,null,null,null,null,null,null,null,null,null,null,null,null,null,null,"เรียงกันทุกปี"]
["จังหวัด ",null,null,null,{"$f":"ข้อมูลพื้นฐาน!D9","v":"บุรีรัมย์"},null,null,null,null,null,null,null,null,null,null,null,null,null,null,null,null,"เลขประจำตัวนักเรียน",null,null,null,null,null,null,null,"00001",null,null,null,null,null,null,null,null,null,null,null,null,null,null,null,null,"เลขประจำตัวนักเรียน : ","00001",null,"แบ่งคอลัมม์ตามปี"]
["สำนักงานเขตพื้นที่การศึกษา",null,null,null,null,null,null,null,null,{"$f":"ข้อมูลพื้นฐาน!D6","v":"ประถมศึกษาบุรีรัมย์ เขต 2"},null,null,null,null,null,null,null,null,null,null,null,"เลขประจำตัวประชาชน",null,null,null,null,null,null,null,1111111111111]
["วันเข้าเรียน",null,null,null,null,null,16,null,"พฤษภาคม",null,null,null,null,2550,null,null,null,null,null,null,null,"เกิดวันที่",null,null,10,null,null,"เดือน",null,"มีนาคม",null,null,null,null,null,"พ. ศ. ",null,2544,null,null,null,null,null,null,null,null,"กำหนดค่าร้อยละ O-NET","20"]
["โรงเรียนเดิม",null,null,null,null,null,"-",null,null,null,null,null,null,null,null,null,null,null,null,null,null,"เพศ",null,"ชาย",null,null,null,"สัญชาติ",null,null,"ไทย",null,null,null,null,"ศาสนา",null,null,"พุทธ"]
["จังหวัด",null,null,null,null,null,"ราชบุรี",null,null,null,null,null,null,null,null,null,null,null,null,null,null,"ชื่อ-ชื่อสกุลบิดา",null,null,null,null,null,"นายสมบัติ  สุขสบาย",null,null,null,null,null,null,null,null,null,null,null,null,null,null,null,null,null,null,"กำหนดการแสดงเกรดเฉลี่ย","แสดงเกรดเฉลี่ย",null,"แสดงเกรดเฉลี่ย"]
["ชั้นเรียนสุดท้าย",null,null,null,null,null,"-",null,null,null,null,null,null,null,null,null,null,null,null,null,null,"ชื่อ-ชื่อสกุลมารดา",null,null,null,null,null,"นางสมสวย  สุขสบาย",null,null,null,null,null,null,null,null,null,null,null,null,null,null,null,null,null,null,null,null,null,"ไม่แสดงเกรดเฉลี่ย"]
[]
["ผลการเรียนรายวิชา"]
["รหัส/รายวิชา",null,null,null,null,null,null,null,null,null,"เวลา","(ชั่วโมง)","ผลการเรียน",null,"รหัส/รายวิชา",null,null,null,null,null,null,null,null,null,"เวลา","(ชั่วโมง)","ผลการเรียน",null,"รหัส/รายวิชา",null,null,null,null,null,null,null,null,null,"เวลา","(ชั่วโมง)","ผลการเรียน"]
["ปีการศึกษา 2550 ประถมศึกษาปีที่ 1",null,null,null,null,null,null,null,null,null,null,null,null,null,"ปีการศึกษา 2552 ประถมศึกษาปีที่ 3",null,null,null,null,null,null,null,null,null,null,null,null,null,"ปีการศึกษา 2554 ประถมศึกษาปีที่ 5",null,null,null,null,null,null,null,null,null,null,null,null,null,null,null,null,null,null,null,null,null,null,null,4,null,1]
["รายวิชาพื้นฐาน",null,null,null,null,null,null,null,null,null,null,null,null,null,"รายวิชาพื้นฐาน",null,null,null,null,null,null,null,null,null,null,null,null,null,"รายวิชาพื้นฐาน",null,null,null,null,null,null,null,null,null,null,null,null,null,null,null,null,null,null,null,null,null,null,null,4,null,3]
["ท11101  ภาษาไทย",null,null,null,null,null,null,null,null,null,200,null,"1",null,"ท13101  ภาษาไทย",null,null,null,null,null,null,null,null,null,200,null,"1",null,"ท  ภาษาไทย",null,null,null,null,null,null,null,null,null,160,null,"4",null,null,null,null,null,null,null,null,null,null,null,4,null,2]
["ค11101  คณิตศาสตร์",null,null,null,null,null,null,null,null,null,200,null,"1",null,"ค13101  คณิตศาสตร์",null,null,null,null,null,null,null,null,null,200,null,"1",null,"ค15101  คณิตศาสตร์",null,null,null,null,null,null,null,null,null,160,null,"1",null,null,null,null,null,null,null,null,null,null,null,4,null,1]
["ว11101  วิทยาศาสตร์",null,null,null,null,null,null,null,null,null,80,null,"1",null,"ว13101  วิทยาศาสตร์",null,null,null,null,null,null,null,null,null,80,null,"1",null,"ว15101  วิทยาศาสตร์",null,null,null,null,null,null,null,null,null,80,null,"1",null,null,null,null,null,null,null,null,null,null,null,4,null,2]
["ส11101  สังคมศึกษา ศาสนาและวัฒนธรรม",null,null,null,null,null,null,null,null,null,80,null,"2",null,"ส13101  สังคมศึกษา ศาสนาและวัฒนธรรม",null,null,null,null,null,null,null,null,null,80,null,"1",null,"ส15101  สังคมศึกษา ศาสนาและวัฒนธรรม",null,null,null,null,null,null,null,null,null,80,null,"4",null,null,null,null,null,null,null,null,null,null,null,4,null,3]
["ส11102  ประวัติศาสตร์",null,null,null,null,null,null,null,null,null,40,null,"1",null,"ส13102  ประวัติศาสตร์",null,null,null,null,null,null,null,null,null,40,null,"2",null,"ส15102  ประวัติศาสตร์",null,null,null,null,null,null,null,null,null,40,null,"4",null,null,null,null,null,"เลขที่เริ่มต้น :",1,null,null,null,null,4,null,4]
["พ11101  สุขศึกษาและพลศึกษา",null,null,null,null,null,null,null,null,null,80,null,"2",null,"พ13101  สุขศึกษาและพลศึกษา",null,null,null,null,null,null,null,null,null,80,null,"3",null,"พ15101  สุขศึกษาและพลศึกษา",null,null,null,null,null,null,null,null,null,80,null,"4",null,null,null,null,null,null,null,null,null,null,null,4,null,5]
["ศ11101  ศิลปะ",null,null,null,null,null,null,null,null,null,80,null,"3",null,"ศ13101  ศิลปะ",null,null,null,null,null,null,null,null,null,80,null,"1",null,"ศ15101  ศิลปะ",null,null,null,null,null,null,null,null,null,80,null,"3",null,null,null,null,null,"เลขที่สุดท้าย :",2,null,null,null,null,4,null,3]
["ง11101  การงานอาชีพและเทคโนโลยี",null,null,null,null,null,null,null,null,null,40,null,"4",null,"ง13101  การงานอาชีพและเทคโนโลยี",null,null,null,null,null,null,null,null,null,40,null,"2",null,"ง15101  การงานอาชีพและเทคโนโลยี",null,null,null,null,null,null,null,null,null,80,null,"3",null,null,null,null,null,null,null,null,null,null,null,2,null,2]
["อ11101  ภาษาต่างประเทศ",null,null,null,null,null,null,null,null,null,40,null,"4",null,"อ13101  ภาษาต่างประเทศ",null,null,null,null,null,null,null,null,null,40,null,"3",null,"อ15101  ภาษาต่างประเทศ",null,null,null,null,null,null,null,null,null,80,null,"3",null,null,null,null,null,null,null,null,null,null,null,""]
["รายวิชาเพิ่มเติม",null,null,null,null,null,null,null,null,null,null,null,null,null,"รายวิชาเพิ่มเติม",null,null,null,null,null,null,null,null,null,null,null,null,null,"รายวิชาเพิ่มเติม",null,null,null,null,null,null,null,null,null,null,null,null,null,null,null,null,null,"ตั้งค่าการพิมพ์ :","พิมพ์ทันที",null,null,null,null,""]
["ง11201  คอมพิวเตอร์",null,null,null,null,null,null,null,null,null,40,null,"1.5",null,"ง13201  คอมพิวเตอร์",null,null,null,null,null,null,null,null,null,40,null,1.5,null,"ง15201  คอมพิวเตอร์",null,null,null,null,null,null,null,null,null,40,null,"1.5"]
["ง11202  งานเกษตร",null,null,null,null,null,null,null,null,null,40,null,"ผ",null,"ว่าง  0",null,null,null,null,null,null,null,null,null,0,null,null,null,"I15201  การศึกษาค้นค้าด้วยตนเอง",null,null,null,null,null,null,null,null,null,40,null,1.5]
["ว่าง  0",null,null,null,null,null,null,null,null,null,0,null,"",null,"ว่าง  0",null,null,null,null,null,null,null,null,null,0,null,null,null,"ง15202  คอมพิวเตอร์กราฟิก",null,null,null,null,null,null,null,null,null,60,null,2]
["ปีการศึกษา 2551 ประถมศึกษาปีที่ 2",null,null,null,null,null,null,null,null,null,null,null,null,null,"ปีการศึกษา 2553 ประถมศึกษาปีที่ 4",null,null,null,null,null,null,null,null,null,null,null,null,null,"ปีการศึกษา 2555 ประถมศึกษาปีที่ 6"]
["รายวิชาพื้นฐาน",null,null,null,null,null,null,null,null,null,null,null,null,null,"รายวิชาพื้นฐาน",null,null,null,null,null,null,null,null,null,null,null,null,null,"รายวิชาพื้นฐาน"]
["ท12101  ภาษาไทย",null,null,null,null,null,null,null,null,null,200,null,"1",null,"ท  ภาษาไทย",null,null,null,null,null,null,null,null,null,160,null,3,null,"ท  ภาษาไทย",null,null,null,null,null,null,null,null,null,160,null,4]
["ค12101  คณิตศาสตร์",null,null,null,null,null,null,null,null,null,200,null,"1",null,"ค14101  คณิตศาสตร์",null,null,null,null,null,null,null,null,null,160,null,1,null,"ค16101  คณิตศาสตร์",null,null,null,null,null,null,null,null,null,160,null,1]
["ว12101  วิทยาศาสตร์",null,null,null,null,null,null,null,null,null,80,null,"1",null,"ว14101  วิทยาศาสตร์",null,null,null,null,null,null,null,null,null,80,null,1,null,"ว16101  วิทยาศาสตร์",null,null,null,null,null,null,null,null,null,80,null,1]
["ส12101  สังคมศึกษา ศาสนาและวัฒนธรรม",null,null,null,null,null,null,null,null,null,80,null,"2",null,"ส14101  สังคมศึกษา ศาสนาและวัฒนธรรม",null,null,null,null,null,null,null,null,null,80,null,4,null,"ส16101  สังคมศึกษา ศาสนาและวัฒนธรรม",null,null,null,null,null,null,null,null,null,80,null,4]
["ส12102  ประวัติศาสตร์",null,null,null,null,null,null,null,null,null,40,null,"1",null,"ส14102  ประวัติศาสตร์",null,null,null,null,null,null,null,null,null,40,null,4,null,"ส16102  ประวัติศาสตร์",null,null,null,null,null,null,null,null,null,40,null,4]
["พ12101  สุขศึกษาและพลศึกษา",null,null,null,null,null,null,null,null,null,80,null,"1",null,"พ14101  สุขศึกษาและพลศึกษา",null,null,null,null,null,null,null,null,null,80,null,3,null,"พ16101  สุขศึกษาและพลศึกษา",null,null,null,null,null,null,null,null,null,80,null,4]
["ศ12101  ศิลปะ",null,null,null,null,null,null,null,null,null,80,null,"1",null,"ศ14101  ศิลปะ",null,null,null,null,null,null,null,null,null,80,null,4,null,"ศ16101  ศิลปะ",null,null,null,null,null,null,null,null,null,80,null,4]
["ง12101  การงานอาชีพและเทคโนโลยี",null,null,null,null,null,null,null,null,null,40,null,"2",null,"ง14101  การงานอาชีพและเทคโนโลยี",null,null,null,null,null,null,null,null,null,80,null,4,null,"ง16101  การงานอาชีพและเทคโนโลยี",null,null,null,null,null,null,null,null,null,80,null,4]
["อ12101  ภาษาต่างประเทศ",null,null,null,null,null,null,null,null,null,40,null,"1",null,"อ14101  ภาษาต่างประเทศ",null,null,null,null,null,null,null,null,null,80,null,4,null,"อ16101  ภาษาต่างประเทศ",null,null,null,null,null,null,null,null,null,80,null,2.5]
["รายวิชาเพิ่มเติม",null,null,null,null,null,null,null,null,null,null,null,null,null,"รายวิชาเพิ่มเติม",null,null,null,null,null,null,null,null,null,null,null,null,null,"รายวิชาเพิ่มเติม"]
["ง12201  คอมพิวเตอร์",null,null,null,null,null,null,null,null,null,40,null,"1.5",null,"ง14201  คอมพิวเตอร์",null,null,null,null,null,null,null,null,null,40,null,1.5,null,"ง16201  คอมพิวเตอร์",null,null,null,null,null,null,null,null,null,40,null,1.5]
["อ12201  ภาษาอังกฤษพูด",null,null,null,null,null,null,null,null,null,40,null,"",null,"ง14202  คอมพิวเตอร์ออกแบบ",null,null,null,null,null,null,null,null,null,60,null,1.5,null,"จ16201  ภาษาจีน",null,null,null,null,null,null,null,null,null,60,null,2]
["ว่าง  0",null,null,null,null,null,null,null,null,null,0,null,""]
[]
[]
[]
[]
[]
[]
[]
[]
[]
[]
[]
[null,null,null,null,null,null,null,null,null,null,null,null,null,null,null,null,null,null,null,null,null,null,null,null,null,null,null,null,null,{"$f":"ข้อมูลพื้นฐาน!D10","v":"นายสุริยันต์  แก้วชนะ"}]
[null,null,null,null,null,null,null,null,null,null,null,null,null,null,null,null,null,null,null,null,null,null,null,null,null,null,null,null,"(",null,null,null,null,null,null,null,null,null,null,null,null,")"]
[null,null,null,null,null,null,null,null,null,null,null,null,null,null,null,null,null,null,null,null,null,null,null,null,null,null,null,null,null,{"$f":"ข้อมูลพื้นฐาน!D11","v":"นายทะเบียน"}]
[]
[null,null,null,null,"ปพ.1:ป",null,null,null,null,null,null,"ชุดที่",null,null,null,null,null,null,null,null,null,"เลขที่"]
[]
["ผลการประเมินกิจกรรมพัฒนาผู้เรียน"]
["กิจกรรม",null,null,null,null,null,null,null,null,null,"เวลา","(ชั่วโมง)","ผลการ","ประเมิน","กิจกรรม",null,null,null,null,null,null,null,null,null,"เวลา","(ชั่วโมง)","ผลการ","ประเมิน","กิจกรรม",null,null,null,null,null,null,null,null,null,"เวลา","(ชั่วโมง)","ผลการ","ประเมิน"]
["ปีการศึกษา 2550",null,null,null,null,null,null,null,null,null,null,null,null,null,"ปีการศึกษา 2552",null,null,null,null,null,null,null,null,null,null,null,null,null,"ปีการศึกษา 2554"]
["แนะแนว",null,null,null,null,null,null,null,null,null,40,null,"ผ",null,"แนะแนว",null,null,null,null,null,null,null,null,null,40,null,"ผ",null,"แนะแนว",null,null,null,null,null,null,null,null,null,40,null,"ผ"]
["ลูกเสือ เนตรนารี",null,null,null,null,null,null,null,null,null,40,null,"ผ",null,"ลูกเสือ เนตรนารี",null,null,null,null,null,null,null,null,null,40,null,"ผ",null,"ลูกเสือ เนตรนารี",null,null,null,null,null,null,null,null,null,40,null,"ผ"]
["ชุมนุมคอมพิวเตอร์",null,null,null,null,null,null,null,null,null,30,null,"ผ",null,"ชุมนุมคอมพิวเตอร์",null,null,null,null,null,null,null,null,null,30,null,"ผ",null,"ชุมนุมคอมพิวเตอร์",null,null,null,null,null,null,null,null,null,30,null,"ผ"]
["กิจกรรมเพื่อสังคมและสาธารณประโยชน์",null,null,null,null,null,null,null,null,null,10,null,"ผ",null,"กิจกรรมเพื่อสังคมและสาธารณประโยชน์",null,null,null,null,null,null,null,null,null,10,null,"ผ",null,"กิจกรรมเพื่อสังคมและสาธารณประโยชน์",null,null,null,null,null,null,null,null,null,10,null,"ผ",null,null,null,null,null,null,null,null,null,null,null,2,null,"ผ"]
["ปีการศึกษา 2551",null,null,null,null,null,null,null,null,null,null,null,null,null,"ปีการศึกษา 2553",null,null,null,null,null,null,null,null,null,null,null,null,null,"ปีการศึกษา 2555",null,null,null,null,null,null,null,null,null,null,null,null,null,null,null,null,null,null,null,null,null,null,null,2,null,"ผ"]
["แนะแนว",null,null,null,null,null,null,null,null,null,40,null,"ผ",null,"แนะแนว",null,null,null,null,null,null,null,null,null,40,null,"ผ",null,"แนะแนว",null,null,null,null,null,null,null,null,null,40,null,"ผ",null,null,null,null,null,null,null,null,null,null,null,2,null,"มผ"]
["ลูกเสือ เนตรนารี",null,null,null,null,null,null,null,null,null,40,null,"ผ",null,"ลูกเสือ เนตรนารี",null,null,null,null,null,null,null,null,null,40,null,"ผ",null,"ลูกเสือ เนตรนารี",null,null,null,null,null,null,null,null,null,40,null,"ผ",null,null,null,null,null,null,null,null,null,null,null,""]
["ชุมนุมคอมพิวเตอร์",null,null,null,null,null,null,null,null,null,30,null,"มผ",null,"ชุมนุมคอมพิวเตอร์",null,null,null,null,null,null,null,null,null,30,null,"ผ",null,"ชุมนุมคอมพิวเตอร์",null,null,null,null,null,null,null,null,null,30,null,"ผ",null,null,null,null,null,null,null,null,null,null,null,""]
["กิจกรรมเพื่อสังคมและสาธารณประโยชน์",null,null,null,null,null,null,null,null,null,10,null,"ผ",null,"กิจกรรมเพื่อสังคมและสาธารณประโยชน์",null,null,null,null,null,null,null,null,null,10,null,"ผ",null,"กิจกรรมเพื่อสังคมและสาธารณประโยชน์",null,null,null,null,null,null,null,null,null,10,null,"ผ"]
[]
[]
[]
[]
[]
["สรุปผลการประเมิน",null,null,null,null,null,null,null,null,null,null,null,null,null,null,null,null,null,null,null,null,null,"ผลการตัดสิน",null,null,null,null,null,"กลุ่มสาระการเรียนรู้/\r\n การศึกษาค้นคว้าด้วยตนเอง",null,null,null,null,null,null,null,null,null,"หน่วยน้ำหนัก","รวม (ป.4-6)","ผลการเรียน","เฉลี่ย (ป.4-6)"]
[]
["1.  ผลการประเมินรายวิชาพื้นฐาน"]
["2.  ผลการประเมินการอ่าน คิดวิเคราะห์และเขียน",null,null,null,null,null,null,null,null,null,null,null,null,null,null,null,null,null,null,null,null,null,null,null,null,null,null,null,"ภาษาไทย",null,null,null,null,null,null,null,null,null,12,null,{"$f":"ROUNDDOWN(3.66666666666667,2)","v":3.66}]
["3.  ผลการประเมินคุณลักษณะอันพึงประสงค์",null,null,null,null,null,null,null,null,null,null,null,null,null,null,null,null,null,null,null,null,null,null,null,null,null,null,null,"คณิตศาสตร์",null,null,null,null,null,null,null,null,null,12,null,{"$f":"ROUNDDOWN(1,2)","v":1}]
["4.  ผลการประเมินกิจกรรมพัฒนาผู้เรียน",null,null,null,null,null,null,null,null,null,null,null,null,null,null,null,null,null,null,null,null,null,null,null,null,null,null,null,"วิทยาศาสตร์",null,null,null,null,null,null,null,null,null,6,null,{"$f":"ROUNDDOWN(1,2)","v":1}]
[null,null,null,null,null,null,null,null,null,null,null,null,null,null,null,null,null,null,null,null,null,null,null,null,null,null,null,null,"สังคมศึกษา ศาสนาและวัฒนธรรม",null,null,null,null,null,null,null,null,null,9,null,{"$f":"ROUNDDOWN(4,2)","v":4}]
[null,null,null,null,null,null,null,null,null,null,null,null,null,null,null,null,null,null,null,null,null,null,null,null,null,null,null,null,"สุขศึกษาและพลศึกษา",null,null,null,null,null,null,null,null,null,6,null,{"$f":"ROUNDDOWN(3.66666666666667,2)","v":3.66}]
["วันอนุมัติการจบ",null,null,null,null,null,null,null,25,null,"มีนาคม",null,null,null,null,2557,null,null,null,null,null,null,null,null,null,null,null,null,"ศิลปะ",null,null,null,null,null,null,null,null,null,6,null,{"$f":"ROUNDDOWN(3.66666666666667,2)","v":3.66}]
["วันออกจากโรงเรียน",null,null,null,null,null,null,null,31,null,"มีนาคม",null,null,null,null,2557,null,null,null,null,null,null,null,null,null,null,null,null,"การงานอาชีพและเทคโนโลยี",null,null,null,null,null,null,null,null,null,12,null,{"$f":"ROUNDDOWN(2.64583333333333,2)","v":2.64}]
["สาเหตุที่ออกจากโรงเรียน",null,null,null,null,null,null,null,null,null,null,null,null,null,null,null,null,null,null,null,null,null,null,null,null,null,null,null,"ภาษาต่างประเทศ",null,null,null,null,null,null,null,null,null,8.5,null,{"$f":"ROUNDDOWN(2.76470588235294,2)","v":2.76}]
[null,null,null,null,null,null,null,null,null,null,null,null,null,null,null,null,null,null,null,null,null,null,null,null,null,null,null,null,"การศึกษาค้นคว้าด้วยตนเอง (IS)",null,null,null,null,null,null,null,null,null,"-",null,"-"]
["ผลการทดสอบระดับชาติ",null,null,null,null,null,null,null,null,null,null,null,null,null,null,null,null,null,null,null,null,null,null,null,null,null,null,null,"ผลการเรียนเฉลี่ยตลอด 3 ปี (ป.4-6)",null,null,null,null,null,null,null,null,null,71.5,null,{"$f":"ROUNDDOWN(2.75,2)","v":2.75}]
["O-NET ระดับชั้นประถมศึกษาปีที่ 6"]
["ภาษาไทย",null,null,null,"คะแนนเต็ม",null,null,null,100,null,"ได้","39.20",null,null,"สุขศึกษา ฯ",null,null,null,null,"คะแนนเต็ม",null,null,null,100,null,"ได้","42.50",null,null,"(",null,null,null,null,null,null,null,null,null,null,")"]
["คณิตศาสตร์",null,null,null,"คะแนนเต็ม",null,null,null,100,null,"ได้","25.60",null,null,"ศิลปะ",null,null,null,null,"คะแนนเต็ม",null,null,null,100,null,"ได้","32.50",null,null,null,{"$f":"ข้อมูลพื้นฐาน!D10","v":"นายสุริยันต์  แก้วชนะ"}]
["วิทยาศาสตร์",null,null,null,"คะแนนเต็ม",null,null,null,100,null,"ได้","20.00",null,null,"การงานอาชีพ ฯ",null,null,null,null,"คะแนนเต็ม",null,null,null,100,null,"ได้","50.00",null,null,null,{"$f":"ข้อมูลพื้นฐาน!D11","v":"นายทะเบียน"}]
["สังคมศึกษาฯ",null,null,null,"คะแนนเต็ม",null,null,null,100,null,"ได้","30.00",null,null,"ภาษาอังกฤษ",null,null,null,null,"คะแนนเต็ม",null,null,null,100,null,"ได้","26.00"]
[]
["สัดส่วนผลการเรียนและผลการทดสอบระดับชาติ "]
["1. ร้อยละ",null,null,80,null,"ของผลการเรียนเฉลี่ยตลอด 3 ปี (ป.4-6)",null,null,null,null,null,null,null,null,null,null,null,null,null,null,null,"=",{"$f":"ROUNDDOWN(2.2,2)","v":2.2000000000000002}]
["2. ร้อยละ",null,null,20,null,"ของผลการทดสอบทางการศึกษาระดับชาติขั้นพื้นฐาน",null,null,null,null,null,null,null,null,null,null,null,null,null,null,null,"=",0.3]
["3. ผลการเรียนเฉลี่ยรวม",null,null,null,null,null,null,null,null,null,null,null,null,null,null,null,null,null,null,null,null,"=",{"$f":"ROUNDDOWN(2.5,2)","v":2.5},null,null,null,null,null,null,"(",{"$f":"ข้อมูลพื้นฐาน!D12","v":"นายสมชาติ  มีสกุล"},null,null,null,null,null,null,null,null,null,")"]
[]
["เกณฑ์การประเมินของสถานศึกษา",null,null,null,null,null,null,null,null,null,null,null,null,null,null,null,null,null,null,null,null,null,null,null,null,null,null,null,{"$f":"ข้อมูลพื้นฐาน!D13","v":"ผู้อำนวยการโรงเรียน"}]
["เกณฑ์การจบการศึกษาระดับประถมศึกษา",null,null,null,null,null,null,null,null,null,null,null,null,null,null,null,null,null,null,null,null,null,null,null,null,null,null,null,null,"วันที่",null,31,null,"มีนาคม",null,null,null,null,2557]
["1.  ผู้เรียนเรียนรายวิชาพื้นฐาน จำนวน 5,040 ชั่วโมง และรายวิชาเพิ่มเติม/กิจกรรมเพิ่มเติม จำนวน 240 ชั่วโมง"]
[null,null,null,null,null,null,null,null,null,null,null,null,null,null,null,null,null,null,null,null,null,null,null,null,null,null,null,null,"หมายเหตุ"]
["2.  ผู้เรียนต้องมีผลการประเมินรายวิชาพื้นฐานระดับ 1 ขึ้นไปทุกวิชา"]
["3.  ผู้เรียนมีผลการประเมินการอ่าน คิดวิเคราะห์ และเขียน ผ่านเกณฑ์การประเมินในระดับดีเยี่ยม/ดี/ผ่าน",null,null,null,null,null,null,null,null,null,null,null,null,null,null,null,null,null,null,null,null,null,null,null,null,null,null,null,"\"โรงเรียนมาตรฐานสากลตามประกาศ สพฐ.\"\r\n"]
["4.  ผู้เรียนมีผลการประเมินคุณลักษณะอันพึงประสงค์ ผ่านเกณฑ์การประเมินในระดับดีเยี่ยม/ดี/ผ่าน"]
["5.  ผู้เรียนเข้าร่วมกิจกรรมพัฒนาผู้เรียน และได้ผลการประเมิน \"ผ\" ทุกกิจกรรม"]
["คำอธิบายเกณฑ์ ผลการประเมินรายวิชา"]
[null,4,"หมายถึง",null,"ดีเยี่ยม",null,"2.5","หมายถึง",null,"ค่อนข้างดี",null,null,"1","หมายถึง",null,"ผ่านเกณฑ์ขั้นต่ำ",null,null,null,null,null,"ผ","หมายถึง",null,"ผ่าน",null,null,null,"เอกสารฉบับนี้เป็นเอกสารคู่ฉบับของเอกสารต้นฉบับ"]
[null,"3.5","หมายถึง",null,"ดีมาก",null,2,"หมายถึง",null,"ปานกลาง",null,null,"0","หมายถึง",null,"ต่ำกว่าเกณฑ์",null,null,null,null,null,"มผ","หมายถึง",null,"ไม่ผ่าน",null,null,null,{"$f":"L62 & \"  \" & N62& \"  \" & V62 & \"  \" &X62","v":"ชุดที่    เลขที่  "}]
[null,"3","หมายถึง",null,"ดี",null,"1.5","หมายถึง",null,"พอใช้",null,null,"ร","หมายถึง",null,"รอการตัดสินผลการเรียน"]

{"sheet":"ปพ.1จริง","index":16,"n_rows":116,"n_cols":55,"rows_kept":116,"cut":false,"hidden":false,"merged":[[11,46,12,46],[11,47,12,47],[96,30,96,39],[94,29,95,29],[94,40,95,40],[95,30,95,39],[113,28,113,41],[114,28,114,41],[87,28,87,37],[87,38,87,39],[87,40,87,41],[86,28,86,37],[86,38,86,39],[86,40,86,41],[77,28,77,37],[77,38,77,39],[77,40,77,41],[73,28,73,37],[73,38,73,39],[73,40,73,41],[74,38,74,39],[74,40,74,41],[69,28,69,37],[69,38,69,39],[115,28,115,41],[109,0,109,27],[110,0,110,27],[111,0,111,27],[105,31,105,32],[105,33,105,37],[105,38,105,40],[106,0,107,27],[107,28,108,41],[108,0,108,27],[109,28,112,41],[102,22,102,25],[102,29,103,29],[102,30,103,39],[102,40,103,40],[104,0,104,27],[99,0,99,27],[100,3,100,4],[100,22,100,25],[101,3,101,4],[101,22,101,25],[104,28,104,41],[97,8,97,9],[97,11,97,12],[97,23,97,24],[97,26,97,27],[95,8,95,9],[95,11,95,12],[95,23,95,24],[95,26,95,27],[96,8,96,9],[96,11,96,12],[96,23,96,24],[96,26,96,27],[92,0,92,27],[92,28,92,37],[92,38,92,39],[92,40,92,41],[94,8,94,9],[94,11,94,12],[94,23,94,24],[94,26,94,27],[90,8,90,24],[90,28,90,37],[90,38,90,39],[90,40,90,41],[91,28,91,37],[91,38,91,39],[91,40,91,41],[89,8,89,9],[89,10,89,14],[89,15,89,18],[89,28,89,37],[89,38,89,39],[89,40,89,41],[88,8,88,9],[88,10,88,14],[88,15,88,18],[88,28,88,37],[88,38,88,39],[88,40,88,41],[85,0,85,16],[85,17,85,21],[85,22,85,27],[85,28,85,37],[85,38,85,39],[85,40,85,41],[84,0,84,16],[84,17,84,21],[84,22,84,27],[84,28,84,37],[84,38,84,39],[84,40,84,41],[81,22,81,27],[82,0,82,16],[82,17,82,21],[82,22,82,27],[83,0,83,16],[83,17,83,21],[83,22,83,27],[78,38,78,39],[78,40,78,41],[80,0,80,21],[80,22,80,27],[80,28,82,37],[80,38,82,38],[80,39,82,39],[80,40,82,40],[80,41,82,41],[81,0,81,21],[83,28,83,37],[83,38,83,39],[83,40,83,41],[78,0,78,9],[78,10,78,11],[78,12,78,13],[78,14,78,23],[78,24,78,25],[78,26,78,27],[78,28,78,37],[77,0,77,9],[77,10,77,11],[77,12,77,13],[77,14,77,23],[77,24,77,25],[77,26,77,27],[76,0,76,9],[76,10,76,11],[76,12,76,13],[76,14,76,23],[76,24,76,25],[76,26,76,27],[76,28,76,37],[76,38,76,39],[76,40,76,41],[75,0,75,9],[75,10,75,11],[75,12,75,13],[75,14,75,23],[75,24,75,25],[75,26,75,27],[75,28,75,37],[75,38,75,39],[75,40,75,41],[74,0,74,9],[74,10,74,11],[74,12,74,13],[74,14,74,23],[74,24,74,25],[74,26,74,27],[74,28,74,37],[73,0,73,9],[73,10,73,11],[73,12,73,13],[73,14,73,23],[73,24,73,25],[73,26,73,27],[72,0,72,9],[72,10,72,11],[72,12,72,13],[72,14,72,23],[72,24,72,25],[72,26,72,27],[72,28,72,37],[72,38,72,39],[72,40,72,41],[71,0,71,9],[71,10,71,11],[71,12,71,13],[71,14,71,23],[71,24,71,25],[71,26,71,27],[71,28,71,37],[71,38,71,39],[71,40,71,41],[69,40,69,41],[70,0,70,9],[70,10,70,11],[70,12,70,13],[70,14,70,23],[70,24,70,25],[70,26,70,27],[70,28,70,37],[69,0,69,9],[69,10,69,11],[69,12,69,13],[69,14,69,23],[69,24,69,25],[69,26,69,27],[70,38,70,39],[70,40,70,41],[68,0,68,9],[68,10,68,11],[68,12,68,13],[68,14,68,23],[68,24,68,25],[68,26,68,27],[68,28,68,37],[68,38,68,39],[68,40,68,41],[67,0,67,9],[67,10,67,11],[67,12,67,13],[67,14,67,23],[67,24,67,25],[67,26,67,27],[67,28,67,37],[67,38,67,39],[67,40,67,41],[65,28,65,37],[65,38,65,39],[65,40,65,41],[66,0,66,9],[66,10,66,11],[66,12,66,13],[66,14,66,23],[66,24,66,25],[66,26,66,27],[66,28,66,37],[65,0,65,9],[65,10,65,11],[65,12,65,13],[65,14,65,23],[65,24,65,25],[65,26,65,27],[66,38,66,39],[66,40,66,41],[59,29,59,40],[61,11,61,12],[61,13,61,20],[61,23,61,32],[63,0,63,41],[64,0,64,9],[64,14,64,23],[64,28,64,37],[59,0,59,9],[59,10,59,11],[59,12,59,13],[59,14,59,23],[59,24,59,25],[59,26,59,27],[57,29,58,40],[58,0,58,9],[58,10,58,11],[58,12,58,13],[58,14,58,23],[58,24,58,25],[58,26,58,27],[57,0,57,9],[57,10,57,11],[57,12,57,13],[57,14,57,23],[57,24,57,25],[57,26,57,27],[56,0,56,9],[56,10,56,11],[56,12,56,13],[56,14,56,23],[56,24,56,25],[56,26,56,27],[55,0,55,9],[55,10,55,11],[55,12,55,13],[55,14,55,23],[55,24,55,25],[55,26,55,27],[54,0,54,9],[54,10,54,11],[54,12,54,13],[54,14,54,23],[54,24,54,25],[54,26,54,27],[54,28,54,37],[54,38,54,39],[54,40,54,41],[53,0,53,9],[53,10,53,11],[53,12,53,13],[53,14,53,23],[53,24,53,25],[53,26,53,27],[53,28,53,37],[53,38,53,39],[53,40,53,41],[51,28,51,37],[51,38,51,39],[51,40,51,41],[52,0,52,9],[52,10,52,11],[52,12,52,13],[52,14,52,23],[52,24,52,25],[52,26,52,27],[52,28,52,37],[51,0,51,9],[51,10,51,11],[51,12,51,13],[51,14,51,23],[51,24,51,25],[51,26,51,27],[52,38,52,39],[52,40,52,41],[50,0,50,9],[50,10,50,11],[50,12,50,13],[50,14,50,23],[50,24,50,25],[50,26,50,27],[50,28,50,37],[50,38,50,39],[50,40,50,41],[49,0,49,9],[49,10,49,11],[49,12,49,13],[49,14,49,23],[49,24,49,25],[49,26,49,27],[49,28,49,37],[49,38,49,39],[49,40,49,41],[47,28,47,37],[47,38,47,39],[47,40,47,41],[48,0,48,9],[48,10,48,11],[48,12,48,13],[48,14,48,23],[48,24,48,25],[48,26,48,27],[48,28,48,37],[47,0,47,9],[47,10,47,11],[47,12,47,13],[47,14,47,23],[47,24,47,25],[47,26,47,27],[48,38,48,39],[48,40,48,41],[46,0,46,9],[46,10,46,11],[46,12,46,13],[46,14,46,23],[46,24,46,25],[46,26,46,27],[46,28,46,37],[46,38,46,39],[46,40,46,41],[45,0,45,9],[45,10,45,11],[45,12,45,13],[45,14,45,23],[45,24,45,25],[45,26,45,27],[45,28,45,37],[45,38,45,39],[45,40,45,41],[43,28,43,37],[43,38,43,39],[43,40,43,41],[44,0,44,9],[44,10,44,11],[44,12,44,13],[44,14,44,23],[44,24,44,25],[44,26,44,27],[44,28,44,37],[43,0,43,9],[43,10,43,11],[43,12,43,13],[43,14,43,23],[43,24,43,25],[43,26,43,27],[44,38,44,39],[44,40,44,41],[42,0,42,9],[42,10,42,11],[42,12,42,13],[42,14,42,23],[42,24,42,25],[42,26,42,27],[42,28,42,37],[42,38,42,39],[42,40,42,41],[41,0,41,9],[41,10,41,11],[41,12,41,13],[41,14,41,23],[41,24,41,25],[41,26,41,27],[41,28,41,37],[41,38,41,39],[41,40,41,41],[39,28,39,37],[39,38,39,39],[39,40,39,41],[40,0,40,9],[40,10,40,11],[40,12,40,13],[40,14,40,23],[40,24,40,25],[40,26,40,27],[40,28,40,37],[39,0,39,9],[39,10,39,11],[39,12,39,13],[39,14,39,23],[39,24,39,25],[39,26,39,27],[40,38,40,39],[40,40,40,41],[38,0,38,9],[38,10,38,11],[38,12,38,13],[38,14,38,23],[38,24,38,25],[38,26,38,27],[38,28,38,37],[38,38,38,39],[38,40,38,41],[37,0,37,9],[37,10,37,11],[37,12,37,13],[37,14,37,23],[37,24,37,25],[37,26,37,27],[37,28,37,37],[37,38,37,39],[37,40,37,41],[35,28,35,37],[35,38,35,39],[35,40,35,41],[36,0,36,9],[36,10,36,11],[36,12,36,13],[36,14,36,23],[36,24,36,25],[36,26,36,27],[36,28,36,37],[35,0,35,9],[35,10,35,11],[35,12,35,13],[35,14,35,23],[35,24,35,25],[35,26,35,27],[36,38,36,39],[36,40,36,41],[34,0,34,9],[34,10,34,11],[34,12,34,13],[34,14,34,23],[34,24,34,25],[34,26,34,27],[34,28,34,37],[34,38,34,39],[34,40,34,41],[33,0,33,9],[33,10,33,11],[33,12,33,13],[33,14,33,23],[33,24,33,25],[33,26,33,27],[33,28,33,37],[33,38,33,39],[33,40,33,41],[31,28,31,37],[31,38,31,39],[31,40,31,41],[32,0,32,9],[32,10,32,11],[32,12,32,13],[32,14,32,23],[32,24,32,25],[32,26,32,27],[32,28,32,37],[31,0,31,9],[31,10,31,11],[31,12,31,13],[31,14,31,23],[31,24,31,25],[31,26,31,27],[32,38,32,39],[32,40,32,41],[30,0,30,9],[30,10,30,11],[30,12,30,13],[30,14,30,23],[30,24,30,25],[30,26,30,27],[30,28,30,37],[30,38,30,39],[30,40,30,41],[29,0,29,9],[29,10,29,11],[29,12,29,13],[29,14,29,23],[29,24,29,25],[29,26,29,27],[29,28,29,37],[29,38,29,39],[29,40,29,41],[27,28,27,37],[27,38,27,39],[27,40,27,41],[28,0,28,9],[28,10,28,11],[28,12,28,13],[28,14,28,23],[28,24,28,25],[28,26,28,27],[28,28,28,37],[27,0,27,9],[27,10,27,11],[27,12,27,13],[27,14,27,23],[27,24,27,25],[27,26,27,27],[28,38,28,39],[28,40,28,41],[26,0,26,9],[26,10,26,11],[26,12,26,13],[26,14,26,23],[26,24,26,25],[26,26,26,27],[26,28,26,37],[26,38,26,39],[26,40,26,41],[25,0,25,9],[25,10,25,11],[25,12,25,13],[25,14,25,23],[25,24,25,25],[25,26,25,27],[25,28,25,37],[25,38,25,39],[25,40,25,41],[24,0,24,9],[24,10,24,11],[24,12,24,13],[24,14,24,23],[24,24,24,25],[24,26,24,27],[24,28,24,37],[24,38,24,39],[24,40,24,41],[23,0,23,9],[23,10,23,11],[23,12,23,13],[23,14,23,23],[23,24,23,25],[23,26,23,27],[23,28,23,37],[23,38,23,39],[23,40,23,41],[21,28,21,37],[21,38,21,39],[21,40,21,41],[22,0,22,9],[22,10,22,11],[22,12,22,13],[22,14,22,23],[22,24,22,25],[21,0,21,9],[21,10,21,11],[21,12,21,13],[21,14,21,23],[21,24,21,25],[21,26,21,27],[22,26,22,27],[22,28,22,37],[22,38,22,39],[22,40,22,41],[19,40,19,41],[20,0,20,9],[20,10,20,11],[20,12,20,13],[20,14,20,23],[20,24,20,25],[20,26,20,27],[20,28,20,37],[20,38,20,39],[20,40,20,41],[19,0,19,9],[19,10,19,11],[19,12,19,13],[19,14,19,23],[19,24,19,25],[19,26,19,27],[19,28,19,37],[19,38,19,39],[17,40,17,41],[18,0,18,9],[18,10,18,11],[18,12,18,13],[18,14,18,23],[18,24,18,25],[18,26,18,27],[18,28,18,37],[18,38,18,39],[18,40,18,41],[17,0,17,9],[17,10,17,11],[17,12,17,13],[17,14,17,23],[17,24,17,25],[17,26,17,27],[17,28,17,37],[17,38,17,39],[16,0,16,9],[16,10,16,11],[16,12,16,13],[16,14,16,23],[16,24,16,25],[16,26,16,27],[16,28,16,37],[16,38,16,39],[16,40,16,41],[11,6,11,19],[11,27,11,41],[12,6,12,19],[12,27,12,41],[14,0,14,41],[15,0,15,9],[15,12,15,13],[15,14,15,23],[15,26,15,27],[15,28,15,37],[15,40,15,41],[0,46,4,47],[1,11,1,12],[1,13,1,20],[1,23,1,32],[5,24,5,36],[5,46,6,46],[5,47,6,47],[6,24,6,36],[9,46,10,46],[9,47,10,47],[10,6,10,19],[10,23,10,26],[10,30,10,34],[10,38,10,41],[7,29,7,34],[7,46,8,46],[7,47,8,47],[8,29,8,36],[9,6,9,7],[9,8,9,12],[9,13,9,16],[9,24,9,26],[9,29,9,34],[9,37,9,41]]}
[null,null,null,null,null,null,null,null,null,null,null,null,null,null,null,null,null,null,null,null,null,null,null,null,null,null,null,null,null,null,null,null,null,null,null,null,null,null,null,null,null,null,null,null,null,null,"แบบพิมพ์ ป.พ.1 : ป"]
[]
[]
["โรงเรียน",null,null,null,{"$f":"ข้อมูลพื้นฐาน!D4","v":"บ้านหนองคา"}]
["สังกัด",null,null,null,{"$f":"ข้อมูลพื้นฐาน!D5","v":"สำนักงานคณะกรรมการการศึกษาขั้นพื้นฐาน"}]
["ตำบล/แขวง",null,null,null,{"$f":"ข้อมูลพื้นฐาน!D7","v":"กระสัง"},null,null,null,null,null,null,null,null,null,null,null,null,null,null,null,null,"ชื่อ",null,null,"เด็กหญิงสมหวัง",null,null,null,null,null,null,null,null,null,null,null,null,null,null,null,null,null,null,null,null,null,"เลือกรูปแบบ ปพ.1","แบ่งคอลัมม์ตามปี",null,"รูปแบบปพ.1"]
["อำเภอ/เขต",null,null,null,{"$f":"ข้อมูลพื้นฐาน!D8","v":"กระสัง"},null,null,null,null,null,null,null,null,null,null,null,null,null,null,null,null,"ชื่อสกุล",null,null,"ตั้งใจเรียน",null,null,null,null,null,null,null,null,null,null,null,null,null,null,null,null,null,null,null,null,null,null,null,null,"เรียงกันทุกปี"]
["จังหวัด ",null,null,null,{"$f":"ข้อมูลพื้นฐาน!D9","v":"บุรีรัมย์"},null,null,null,null,null,null,null,null,null,null,null,null,null,null,null,null,"เลขประจำตัวนักเรียน",null,null,null,null,null,null,null,"00002",null,null,null,null,null,null,null,null,null,null,null,null,null,null,null,null,"เลขประจำตัวนักเรียน : ","00002",null,"แบ่งคอลัมม์ตามปี"]
["สำนักงานเขตพื้นที่การศึกษา",null,null,null,null,null,null,null,null,{"$f":"ข้อมูลพื้นฐาน!D6","v":"ประถมศึกษาบุรีรัมย์ เขต 2"},null,null,null,null,null,null,null,null,null,null,null,"เลขประจำตัวประชาชน",null,null,null,null,null,null,null,2222222222222]
["วันเข้าเรียน",null,null,null,null,null,16,null,"พฤษภาคม",null,null,null,null,2550,null,null,null,null,null,null,null,"เกิดวันที่",null,null,25,null,null,"เดือน",null,"กุมภาพันธ์",null,null,null,null,null,"พ. ศ. ",null,2544,null,null,null,null,null,null,null,null,"กำหนดค่าร้อยละ O-NET","20"]
["โรงเรียนเดิม",null,null,null,null,null,"โคกสูง",null,null,null,null,null,null,null,null,null,null,null,null,null,null,"เพศ",null,"หญิง",null,null,null,"สัญชาติ",null,null,"ไทย",null,null,null,null,"ศาสนา",null,null,"พุทธ"]
["จังหวัด",null,null,null,null,null,"ราชบุรี",null,null,null,null,null,null,null,null,null,null,null,null,null,null,"ชื่อ-ชื่อสกุลบิดา",null,null,null,null,null,"นายสมโชค  ตั้งใจเรียน",null,null,null,null,null,null,null,null,null,null,null,null,null,null,null,null,null,null,"กำหนดการแสดงเกรดเฉลี่ย","แสดงเกรดเฉลี่ย",null,"แสดงเกรดเฉลี่ย"]
["ชั้นเรียนสุดท้าย",null,null,null,null,null,"กำลังเรียนชั้นประถมศึกษาปีที่ 4",null,null,null,null,null,null,null,null,null,null,null,null,null,null,"ชื่อ-ชื่อสกุลมารดา",null,null,null,null,null,"นางสมหญิง  ตั้งใจเรียน",null,null,null,null,null,null,null,null,null,null,null,null,null,null,null,null,null,null,null,null,null,"ไม่แสดงเกรดเฉลี่ย"]
[]
["ผลการเรียนรายวิชา"]
["รหัส/รายวิชา",null,null,null,null,null,null,null,null,null,"เวลา","(ชั่วโมง)","ผลการเรียน",null,"รหัส/รายวิชา",null,null,null,null,null,null,null,null,null,"เวลา","(ชั่วโมง)","ผลการเรียน",null,"รหัส/รายวิชา",null,null,null,null,null,null,null,null,null,"เวลา","(ชั่วโมง)","ผลการเรียน"]
["ปีการศึกษา 2550 ประถมศึกษาปีที่ 1",null,null,null,null,null,null,null,null,null,null,null,null,null,"ปีการศึกษา 2552 ประถมศึกษาปีที่ 3",null,null,null,null,null,null,null,null,null,null,null,null,null,"ปีการศึกษา 2554 ประถมศึกษาปีที่ 5",null,null,null,null,null,null,null,null,null,null,null,null,null,null,null,null,null,null,null,null,null,null,null,4,null,1]
["รายวิชาพื้นฐาน",null,null,null,null,null,null,null,null,null,null,null,null,null,"รายวิชาพื้นฐาน",null,null,null,null,null,null,null,null,null,null,null,null,null,"รายวิชาพื้นฐาน",null,null,null,null,null,null,null,null,null,null,null,null,null,null,null,null,null,null,null,null,null,null,null,4,null,3]
["ท11101  ภาษาไทย",null,null,null,null,null,null,null,null,null,5,null,"1",null,"ท13101  ภาษาไทย",null,null,null,null,null,null,null,null,null,5,null,"1",null,"ท  ภาษาไทย",null,null,null,null,null,null,null,null,null,4,null,"3",null,null,null,null,null,null,null,null,null,null,null,4,null,2]
["ค11101  คณิตศาสตร์",null,null,null,null,null,null,null,null,null,5,null,"4",null,"ค13101  คณิตศาสตร์",null,null,null,null,null,null,null,null,null,5,null,"2",null,"ค15101  คณิตศาสตร์",null,null,null,null,null,null,null,null,null,4,null,"3",null,null,null,null,null,null,null,null,null,null,null,4,null,1]
["ว11101  วิทยาศาสตร์",null,null,null,null,null,null,null,null,null,2,null,"3.5",null,"ว13101  วิทยาศาสตร์",null,null,null,null,null,null,null,null,null,2,null,"3",null,"ว15101  วิทยาศาสตร์",null,null,null,null,null,null,null,null,null,2,null,"4",null,null,null,null,null,null,null,null,null,null,null,4,null,2]
["ส11101  สังคมศึกษา ศาสนาและวัฒนธรรม",null,null,null,null,null,null,null,null,null,2,null,"4",null,"ส13101  สังคมศึกษา ศาสนาและวัฒนธรรม",null,null,null,null,null,null,null,null,null,2,null,"4",null,"ส15101  สังคมศึกษา ศาสนาและวัฒนธรรม",null,null,null,null,null,null,null,null,null,2,null,"4",null,null,null,null,null,null,null,null,null,null,null,4,null,3]
["ส11102  ประวัติศาสตร์",null,null,null,null,null,null,null,null,null,1,null,"3",null,"ส13102  ประวัติศาสตร์",null,null,null,null,null,null,null,null,null,1,null,"1",null,"ส15102  ประวัติศาสตร์",null,null,null,null,null,null,null,null,null,1,null,"4",null,null,null,null,null,null,null,null,null,null,null,4,null,4]
["พ11101  สุขศึกษาและพลศึกษา",null,null,null,null,null,null,null,null,null,2,null,"4",null,"พ13101  สุขศึกษาและพลศึกษา",null,null,null,null,null,null,null,null,null,2,null,"2",null,"พ15101  สุขศึกษาและพลศึกษา",null,null,null,null,null,null,null,null,null,2,null,"4",null,null,null,null,null,null,null,null,null,null,null,4,null,5]
["ศ11101  ศิลปะ",null,null,null,null,null,null,null,null,null,2,null,"3",null,"ศ13101  ศิลปะ",null,null,null,null,null,null,null,null,null,2,null,"3",null,"ศ15101  ศิลปะ",null,null,null,null,null,null,null,null,null,2,null,"4",null,null,null,null,null,null,null,null,null,null,null,4,null,3]
["ง11101  การงานอาชีพและเทคโนโลยี",null,null,null,null,null,null,null,null,null,1,null,"4",null,"ง13101  การงานอาชีพและเทคโนโลยี",null,null,null,null,null,null,null,null,null,1,null,"4",null,"ง15101  การงานอาชีพและเทคโนโลยี",null,null,null,null,null,null,null,null,null,2,null,"4",null,null,null,null,null,null,null,null,null,null,null,2,null,2]
["อ11101  ภาษาต่างประเทศ",null,null,null,null,null,null,null,null,null,1,null,"3",null,"อ13101  ภาษาต่างประเทศ",null,null,null,null,null,null,null,null,null,1,null,"1.5",null,"อ15101  ภาษาต่างประเทศ",null,null,null,null,null,null,null,null,null,2,null,"4",null,null,null,null,null,null,null,null,null,null,null,""]
["รายวิชาเพิ่มเติม",null,null,null,null,null,null,null,null,null,null,null,null,null,"รายวิชาเพิ่มเติม",null,null,null,null,null,null,null,null,null,null,null,null,null,"รายวิชาเพิ่มเติม",null,null,null,null,null,null,null,null,null,null,null,null,null,null,null,null,null,null,null,null,null,null,null,""]
["ง11201  คอมพิวเตอร์",null,null,null,null,null,null,null,null,null,1,null,"1.5",null,"ง13201  คอมพิวเตอร์",null,null,null,null,null,null,null,null,null,1,null,1.5,null,"ง15201  คอมพิวเตอร์",null,null,null,null,null,null,null,null,null,1,null,"1.5"]
["ง11202  งานเกษตร",null,null,null,null,null,null,null,null,null,1,null,"มผ",null,"ว่าง  0",null,null,null,null,null,null,null,null,null,0,null,null,null,"I15201  การศึกษาค้นค้าด้วยตนเอง",null,null,null,null,null,null,null,null,null,1,null,1.5]
["ว่าง  0",null,null,null,null,null,null,null,null,null,0,null,"",null,"ว่าง  0",null,null,null,null,null,null,null,null,null,0,null,null,null,"ว15202 วิทยาศาตร์น่ารู้  เลือกเรียน",null,null,null,null,null,null,null,null,null,1.5,null,3]
["ปีการศึกษา 2551 ประถมศึกษาปีที่ 2",null,null,null,null,null,null,null,null,null,null,null,null,null,"ปีการศึกษา 2553 ประถมศึกษาปีที่ 4",null,null,null,null,null,null,null,null,null,null,null,null,null,"ปีการศึกษา 2555 ประถมศึกษาปีที่ 6"]
["รายวิชาพื้นฐาน",null,null,null,null,null,null,null,null,null,null,null,null,null,"รายวิชาพื้นฐาน",null,null,null,null,null,null,null,null,null,null,null,null,null,"รายวิชาพื้นฐาน"]
["ท12101  ภาษาไทย",null,null,null,null,null,null,null,null,null,5,null,"2",null,"ท  ภาษาไทย",null,null,null,null,null,null,null,null,null,4,null,4,null,"ท  ภาษาไทย",null,null,null,null,null,null,null,null,null,4,null,3]
["ค12101  คณิตศาสตร์",null,null,null,null,null,null,null,null,null,5,null,"2",null,"ค14101  คณิตศาสตร์",null,null,null,null,null,null,null,null,null,4,null,4,null,"ค16101  คณิตศาสตร์",null,null,null,null,null,null,null,null,null,4,null,4]
["ว12101  วิทยาศาสตร์",null,null,null,null,null,null,null,null,null,2,null,"2",null,"ว14101  วิทยาศาสตร์",null,null,null,null,null,null,null,null,null,2,null,4,null,"ว16101  วิทยาศาสตร์",null,null,null,null,null,null,null,null,null,2,null,4]
["ส12101  สังคมศึกษา ศาสนาและวัฒนธรรม",null,null,null,null,null,null,null,null,null,2,null,"2",null,"ส14101  สังคมศึกษา ศาสนาและวัฒนธรรม",null,null,null,null,null,null,null,null,null,2,null,4,null,"ส16101  สังคมศึกษา ศาสนาและวัฒนธรรม",null,null,null,null,null,null,null,null,null,2,null,4]
["ส12102  ประวัติศาสตร์",null,null,null,null,null,null,null,null,null,1,null,"2",null,"ส14102  ประวัติศาสตร์",null,null,null,null,null,null,null,null,null,1,null,4,null,"ส16102  ประวัติศาสตร์",null,null,null,null,null,null,null,null,null,1,null,4]
["พ12101  สุขศึกษาและพลศึกษา",null,null,null,null,null,null,null,null,null,2,null,"2",null,"พ14101  สุขศึกษาและพลศึกษา",null,null,null,null,null,null,null,null,null,2,null,4,null,"พ16101  สุขศึกษาและพลศึกษา",null,null,null,null,null,null,null,null,null,2,null,3]
["ศ12101  ศิลปะ",null,null,null,null,null,null,null,null,null,2,null,"2",null,"ศ14101  ศิลปะ",null,null,null,null,null,null,null,null,null,2,null,3,null,"ศ16101  ศิลปะ",null,null,null,null,null,null,null,null,null,2,null,4]
["ง12101  การงานอาชีพและเทคโนโลยี",null,null,null,null,null,null,null,null,null,1,null,"2",null,"ง14101  การงานอาชีพและเทคโนโลยี",null,null,null,null,null,null,null,null,null,2,null,4,null,"ง16101  การงานอาชีพและเทคโนโลยี",null,null,null,null,null,null,null,null,null,2,null,4]
["อ12101  ภาษาต่างประเทศ",null,null,null,null,null,null,null,null,null,1,null,"3.5",null,"อ14101  ภาษาต่างประเทศ",null,null,null,null,null,null,null,null,null,2,null,4,null,"อ16101  ภาษาต่างประเทศ",null,null,null,null,null,null,null,null,null,2,null,4]
["รายวิชาเพิ่มเติม",null,null,null,null,null,null,null,null,null,null,null,null,null,"รายวิชาเพิ่มเติม",null,null,null,null,null,null,null,null,null,null,null,null,null,"รายวิชาเพิ่มเติม"]
["ง12201  คอมพิวเตอร์",null,null,null,null,null,null,null,null,null,1,null,"1.5",null,"ง14201  คอมพิวเตอร์",null,null,null,null,null,null,null,null,null,1,null,1.5,null,"ง16201  คอมพิวเตอร์",null,null,null,null,null,null,null,null,null,1,null,1.5]
["อ12201  ภาษาอังกฤษพูด",null,null,null,null,null,null,null,null,null,1,null,"",null,"  เลือกเรียน",null,null,null,null,null,null,null,null,null,1.5,null,1.5,null,"ง16202  เกษตรเพื่อชีวิต  เลือกเรียน",null,null,null,null,null,null,null,null,null,1.5,null,1]
["ว่าง  0",null,null,null,null,null,null,null,null,null,0,null,""]
[]
[]
[]
[]
[]
[]
[]
[]
[]
[]
[]
[]
[null,null,null,null,null,null,null,null,null,null,null,null,null,null,null,null,null,null,null,null,null,null,null,null,null,null,null,null,"(",null,null,null,null,null,null,null,null,null,null,null,null,")"]
[null,null,null,null,null,null,null,null,null,null,null,null,null,null,null,null,null,null,null,null,null,null,null,null,null,null,null,null,null,{"$f":"ข้อมูลพื้นฐาน!D11","v":"นายทะเบียน"}]
[]
[]
[]
["ผลการประเมินกิจกรรมพัฒนาผู้เรียน"]
["กิจกรรม",null,null,null,null,null,null,null,null,null,"เวลา","(ชั่วโมง)","ผลการ","ประเมิน","กิจกรรม",null,null,null,null,null,null,null,null,null,"เวลา","(ชั่วโมง)","ผลการ","ประเมิน","กิจกรรม",null,null,null,null,null,null,null,null,null,"เวลา","(ชั่วโมง)","ผลการ","ประเมิน"]
["ปีการศึกษา 2550",null,null,null,null,null,null,null,null,null,null,null,null,null,"ปีการศึกษา 2552",null,null,null,null,null,null,null,null,null,null,null,null,null,"ปีการศึกษา 2554"]
["แนะแนว",null,null,null,null,null,null,null,null,null,40,null,"ผ",null,"แนะแนว",null,null,null,null,null,null,null,null,null,40,null,"ผ",null,"แนะแนว",null,null,null,null,null,null,null,null,null,40,null,"ผ"]
["ลูกเสือ เนตรนารี",null,null,null,null,null,null,null,null,null,40,null,"ผ",null,"ลูกเสือ เนตรนารี",null,null,null,null,null,null,null,null,null,40,null,"ผ",null,"ลูกเสือ เนตรนารี",null,null,null,null,null,null,null,null,null,40,null,"ผ"]
["ชุมนุมวิทยาศาสตร์",null,null,null,null,null,null,null,null,null,30,null,"ผ",null,"ชุมนุม",null,null,null,null,null,null,null,null,null,30,null,"ผ",null,"ชุมนุมดนตรี",null,null,null,null,null,null,null,null,null,30,null,"ผ"]
["กิจกรรมเพื่อสังคมและสาธารณประโยชน์",null,null,null,null,null,null,null,null,null,10,null,"ผ",null,"กิจกรรมเพื่อสังคมและสาธารณประโยชน์",null,null,null,null,null,null,null,null,null,10,null,"ผ",null,"กิจกรรมเพื่อสังคมและสาธารณประโยชน์",null,null,null,null,null,null,null,null,null,10,null,"ผ",null,null,null,null,null,null,null,null,null,null,null,2,null,"ผ"]
["ปีการศึกษา 2551",null,null,null,null,null,null,null,null,null,null,null,null,null,"ปีการศึกษา 2553",null,null,null,null,null,null,null,null,null,null,null,null,null,"ปีการศึกษา 2555",null,null,null,null,null,null,null,null,null,null,null,null,null,null,null,null,null,null,null,null,null,null,null,2,null,"ผ"]
["แนะแนว",null,null,null,null,null,null,null,null,null,40,null,"ผ",null,"แนะแนว",null,null,null,null,null,null,null,null,null,40,null,"ผ",null,"แนะแนว",null,null,null,null,null,null,null,null,null,40,null,"ผ",null,null,null,null,null,null,null,null,null,null,null,2,null,"มผ"]
["ลูกเสือ เนตรนารี",null,null,null,null,null,null,null,null,null,40,null,"ผ",null,"ลูกเสือ เนตรนารี",null,null,null,null,null,null,null,null,null,40,null,"ผ",null,"ลูกเสือ เนตรนารี",null,null,null,null,null,null,null,null,null,40,null,"ผ",null,null,null,null,null,null,null,null,null,null,null,""]
["ชุมนุม",null,null,null,null,null,null,null,null,null,30,null,"ผ",null,"ชุมนุมดนตรี",null,null,null,null,null,null,null,null,null,30,null,"ผ",null,"ชุมนุมดนตรี",null,null,null,null,null,null,null,null,null,30,null,"ผ",null,null,null,null,null,null,null,null,null,null,null,""]
["กิจกรรมเพื่อสังคมและสาธารณประโยชน์",null,null,null,null,null,null,null,null,null,10,null,"ผ",null,"กิจกรรมเพื่อสังคมและสาธารณประโยชน์",null,null,null,null,null,null,null,null,null,10,null,"ผ",null,"กิจกรรมเพื่อสังคมและสาธารณประโยชน์",null,null,null,null,null,null,null,null,null,10,null,"ผ"]
[]
[]
[]
[]
[]
["สรุปผลการประเมิน",null,null,null,null,null,null,null,null,null,null,null,null,null,null,null,null,null,null,null,null,null,"ผลการตัดสิน",null,null,null,null,null,"กลุ่มสาระการเรียนรู้/\r\n การศึกษาค้นคว้าด้วยตนเอง",null,null,null,null,null,null,null,null,null,"หน่วยน้ำหนัก","รวม (ป.4-6)","ผลการเรียน","เฉลี่ย (ป.4-6)"]
[]
["1.  ผลการประเมินรายวิชาพื้นฐาน"]
["2.  ผลการประเมินการอ่าน คิดวิเคราะห์และเขียน",null,null,null,null,null,null,null,null,null,null,null,null,null,null,null,null,null,null,null,null,null,null,null,null,null,null,null,"ภาษาไทย",null,null,null,null,null,null,null,null,null,12,null,{"$f":"ROUNDDOWN(3.33333333333333,2)","v":3.33}]
["3.  ผลการประเมินคุณลักษณะอันพึงประสงค์",null,null,null,null,null,null,null,null,null,null,null,null,null,null,null,null,null,null,null,null,null,null,null,null,null,null,null,"คณิตศาสตร์",null,null,null,null,null,null,null,null,null,12,null,{"$f":"ROUNDDOWN(3.66666666666667,2)","v":3.66}]
["4.  ผลการประเมินกิจกรรมพัฒนาผู้เรียน",null,null,null,null,null,null,null,null,null,null,null,null,null,null,null,null,null,null,null,null,null,null,null,null,null,null,null,"วิทยาศาสตร์",null,null,null,null,null,null,null,null,null,7.5,null,{"$f":"ROUNDDOWN(3.8,2)","v":3.8}]
[null,null,null,null,null,null,null,null,null,null,null,null,null,null,null,null,null,null,null,null,null,null,null,null,null,null,null,null,"สังคมศึกษา ศาสนาและวัฒนธรรม",null,null,null,null,null,null,null,null,null,9,null,{"$f":"ROUNDDOWN(4,2)","v":4}]
[null,null,null,null,null,null,null,null,null,null,null,null,null,null,null,null,null,null,null,null,null,null,null,null,null,null,null,null,"สุขศึกษาและพลศึกษา",null,null,null,null,null,null,null,null,null,6,null,{"$f":"ROUNDDOWN(3.66666666666667,2)","v":3.66}]
["วันอนุมัติการจบ",null,null,null,null,null,null,null,null,null,null,null,null,null,null,null,null,null,null,null,null,null,null,null,null,null,null,null,"ศิลปะ",null,null,null,null,null,null,null,null,null,6,null,{"$f":"ROUNDDOWN(3.66666666666667,2)","v":3.66}]
["วันออกจากโรงเรียน",null,null,null,null,null,null,null,null,null,null,null,null,null,null,null,null,null,null,null,null,null,null,null,null,null,null,null,"การงานอาชีพและเทคโนโลยี",null,null,null,null,null,null,null,null,null,10.5,null,{"$f":"ROUNDDOWN(2.85714285714286,2)","v":2.85}]
["สาเหตุที่ออกจากโรงเรียน",null,null,null,null,null,null,null,null,null,null,null,null,null,null,null,null,null,null,null,null,null,null,null,null,null,null,null,"ภาษาต่างประเทศ",null,null,null,null,null,null,null,null,null,7,null,{"$f":"ROUNDDOWN(3.64285714285714,2)","v":3.64}]
[null,null,null,null,null,null,null,null,null,null,null,null,null,null,null,null,null,null,null,null,null,null,null,null,null,null,null,null,"การศึกษาค้นคว้าด้วยตนเอง (IS)",null,null,null,null,null,null,null,null,null,"-",null,"-"]
["ผลการทดสอบระดับชาติ",null,null,null,null,null,null,null,null,null,null,null,null,null,null,null,null,null,null,null,null,null,null,null,null,null,null,null,"ผลการเรียนเฉลี่ยตลอด 3 ปี (ป.4-6)",null,null,null,null,null,null,null,null,null,71.5,null,{"$f":"ROUNDDOWN(3.5,2)","v":3.5}]
["O-NET ระดับชั้นประถมศึกษาปีที่ 6"]
["ภาษาไทย",null,null,null,"คะแนนเต็ม",null,null,null,100,null,"ได้","60.00",null,null,"สุขศึกษา ฯ",null,null,null,null,"คะแนนเต็ม",null,null,null,100,null,"ได้","60.00",null,null,"(",null,null,null,null,null,null,null,null,null,null,")"]
["คณิตศาสตร์",null,null,null,"คะแนนเต็ม",null,null,null,100,null,"ได้","26.40",null,null,"ศิลปะ",null,null,null,null,"คะแนนเต็ม",null,null,null,100,null,"ได้","52.50"]
["วิทยาศาสตร์",null,null,null,"คะแนนเต็ม",null,null,null,100,null,"ได้","42.00",null,null,"การงานอาชีพ ฯ",null,null,null,null,"คะแนนเต็ม",null,null,null,100,null,"ได้","56.00",null,null,null,{"$f":"ข้อมูลพื้นฐาน!D11","v":"นายทะเบียน"}]
["สังคมศึกษาฯ",null,null,null,"คะแนนเต็ม",null,null,null,100,null,"ได้","54.00",null,null,"ภาษาอังกฤษ",null,null,null,null,"คะแนนเต็ม",null,null,null,100,null,"ได้","24.00"]
[]
["สัดส่วนผลการเรียนและผลการทดสอบระดับชาติ "]
["1. ร้อยละ",null,null,80,null,"ของผลการเรียนเฉลี่ยตลอด 3 ปี (ป.4-6)",null,null,null,null,null,null,null,null,null,null,null,null,null,null,null,"=",{"$f":"ROUNDDOWN(2.79,2)","v":2.79}]
["2. ร้อยละ",null,null,20,null,"ของผลการทดสอบทางการศึกษาระดับชาติขั้นพื้นฐาน",null,null,null,null,null,null,null,null,null,null,null,null,null,null,null,"=",0.43]
["3. ผลการเรียนเฉลี่ยรวม",null,null,null,null,null,null,null,null,null,null,null,null,null,null,null,null,null,null,null,null,"=",{"$f":"ROUNDDOWN(3.22,2)","v":3.22},null,null,null,null,null,null,"(",null,null,null,null,null,null,null,null,null,null,")"]
[]
["เกณฑ์การประเมินของสถานศึกษา",null,null,null,null,null,null,null,null,null,null,null,null,null,null,null,null,null,null,null,null,null,null,null,null,null,null,null,"ผู้อำนวยการโรงเรียน"]
["เกณฑ์การจบการศึกษาระดับประถมศึกษา",null,null,null,null,null,null,null,null,null,null,null,null,null,null,null,null,null,null,null,null,null,null,null,null,null,null,null,null,"วันที่"]
["1.  ผู้เรียนเรียนรายวิชาพื้นฐาน จำนวน 5,040 ชั่วโมง และรายวิชาเพิ่มเติม/กิจกรรมเพิ่มเติม จำนวน 240 ชั่วโมง"]
[null,null,null,null,null,null,null,null,null,null,null,null,null,null,null,null,null,null,null,null,null,null,null,null,null,null,null,null,"หมายเหตุ"]
["2.  ผู้เรียนต้องมีผลการประเมินรายวิชาพื้นฐานระดับ 1 ขึ้นไปทุกวิชา"]
["3.  ผู้เรียนมีผลการประเมินการอ่าน คิดวิเคราะห์ และเขียน ผ่านเกณฑ์การประเมินในระดับดีเยี่ยม/ดี/ผ่าน"]
["4.  ผู้เรียนมีผลการประเมินคุณลักษณะอันพึงประสงค์ ผ่านเกณฑ์การประเมินในระดับดีเยี่ยม/ดี/ผ่าน"]
["5.  ผู้เรียนเข้าร่วมกิจกรรมพัฒนาผู้เรียน และได้ผลการประเมิน \"ผ\" ทุกกิจกรรม"]
["คำอธิบายเกณฑ์ ผลการประเมินรายวิชา"]
[null,4,"หมายถึง",null,"ดีเยี่ยม",null,"2.5","หมายถึง",null,"ค่อนข้างดี",null,null,"1","หมายถึง",null,"ผ่านเกณฑ์ขั้นต่ำ",null,null,null,null,null,"ผ","หมายถึง",null,"ผ่าน"]
[null,"3.5","หมายถึง",null,"ดีมาก",null,2,"หมายถึง",null,"ปานกลาง",null,null,"0","หมายถึง",null,"ต่ำกว่าเกณฑ์",null,null,null,null,null,"มผ","หมายถึง",null,"ไม่ผ่าน"]
[null,"3","หมายถึง",null,"ดี",null,"1.5","หมายถึง",null,"พอใช้",null,null,"ร","หมายถึง",null,"รอการตัดสินผลการเรียน"]

{"sheet":"ปพ.3หน้าหลัง","index":17,"n_rows":38,"n_cols":59,"rows_kept":38,"cut":false,"hidden":false,"merged":[[7,20,7,23],[7,24,7,29],[8,12,8,19],[10,12,10,19],[12,12,12,19],[14,12,14,19],[16,12,16,19],[18,12,18,19],[20,12,20,19],[11,20,11,23],[11,24,11,29],[10,24,10,29],[16,21,16,23],[15,12,15,19],[15,20,15,23],[15,24,15,29],[14,24,14,29],[20,24,20,29],[13,24,13,29],[12,24,12,29],[0,3,0,10],[0,12,0,42],[0,56,4,57],[1,13,1,16],[1,17,1,25],[1,26,1,28],[1,29,1,45],[2,41,2,53],[2,3,2,6],[2,7,2,12],[2,13,2,16],[2,17,2,24],[2,25,2,26],[2,27,2,32],[4,45,5,49],[5,2,5,7],[5,8,5,11],[5,12,5,19],[5,20,5,23],[5,24,5,29],[1,50,1,52],[1,9,1,12],[4,0,5,1],[4,2,4,7],[4,8,4,11],[4,12,4,19],[4,20,4,23],[4,24,4,29],[4,30,5,34],[4,35,5,39],[4,40,5,44],[8,0,9,1],[8,2,8,7],[8,8,8,11],[8,21,8,23],[10,56,11,56],[10,57,11,57],[11,2,11,7],[6,0,7,1],[6,2,6,7],[6,8,6,11],[6,21,6,23],[6,24,6,29],[6,30,7,34],[6,35,7,39],[6,40,7,44],[6,45,7,49],[5,56,7,56],[5,57,7,57],[4,50,5,53],[6,50,7,53],[7,2,7,7],[7,8,7,11],[7,12,7,19],[6,12,6,19],[8,56,9,56],[8,57,9,57],[9,2,9,7],[9,8,9,11],[9,12,9,19],[9,20,9,23],[9,24,9,29],[8,24,8,29],[8,30,9,34],[8,35,9,39],[8,40,9,44],[8,45,9,49],[8,50,9,53],[12,0,13,1],[12,2,12,7],[12,8,12,11],[12,21,12,23],[14,56,15,57],[15,2,15,7],[15,8,15,11],[10,30,11,34],[10,35,11,39],[10,40,11,44],[10,45,11,49],[10,0,11,1],[10,2,10,7],[10,8,10,11],[10,21,10,23],[10,50,11,53],[11,8,11,11],[11,12,11,19],[12,56,13,56],[12,57,13,57],[13,2,13,7],[13,8,13,11],[13,12,13,19],[13,20,13,23],[12,30,13,34],[12,35,13,39],[12,40,13,44],[12,45,13,49],[12,50,13,53],[14,30,15,34],[14,35,15,39],[14,40,15,44],[14,45,15,49],[14,50,15,53],[18,0,19,1],[18,2,18,7],[18,8,18,11],[18,21,18,23],[16,0,17,1],[14,0,15,1],[14,2,14,7],[14,8,14,11],[14,21,14,23],[16,56,17,56],[16,57,17,57],[17,2,17,7],[17,8,17,11],[17,12,17,19],[17,20,17,23],[17,24,17,29],[16,24,16,29],[16,30,17,34],[16,35,17,39],[16,40,17,44],[16,45,17,49],[16,50,17,53],[16,2,16,7],[16,8,16,11],[18,57,19,57],[19,2,19,7],[19,8,19,11],[19,12,19,19],[19,20,19,23],[19,24,19,29],[18,24,18,29],[18,30,19,34],[18,35,19,39],[18,40,19,44],[18,45,19,49],[18,50,19,53],[20,30,21,34],[20,35,21,39],[20,40,21,44],[20,45,21,49],[20,50,21,53],[21,24,21,29],[20,0,21,1],[20,2,20,7],[20,8,20,11],[20,21,20,23],[21,2,21,7],[21,8,21,11],[21,12,21,19],[21,20,21,23],[22,24,22,29],[22,12,22,19],[22,30,23,34],[22,35,23,39],[22,40,23,44],[22,45,23,49],[22,50,23,53],[23,24,23,29],[22,0,23,1],[22,2,22,7],[22,8,22,11],[22,21,22,23],[23,2,23,7],[23,8,23,11],[23,12,23,19],[23,20,23,23],[24,24,24,29],[24,30,25,34],[24,35,25,39],[24,40,25,44],[24,45,25,49],[24,50,25,53],[25,24,25,29],[24,0,25,1],[24,2,24,7],[24,8,24,11],[24,21,24,23],[25,2,25,7],[25,8,25,11],[25,12,25,19],[25,20,25,23],[24,12,24,19],[29,40,29,49],[30,37,30,52],[31,39,31,40],[31,41,31,48],[32,17,32,21],[32,22,32,24],[32,27,32,30],[32,31,32,36],[28,2,28,3],[28,4,28,5],[28,6,28,7],[29,2,29,3],[29,4,29,5],[29,6,29,7],[32,50,32,52],[33,3,33,10],[33,11,33,12],[33,26,33,28],[36,0,37,1],[36,2,36,7],[36,8,36,11],[36,12,36,19],[36,20,36,23],[36,24,36,29],[36,30,37,34],[36,35,37,39],[36,40,37,44],[36,45,37,49],[36,50,37,53],[37,2,37,7],[37,8,37,11],[37,12,37,19],[37,20,37,23],[37,24,37,29],[38,24,38,29],[38,30,39,34],[38,35,39,39],[38,40,39,44],[38,45,39,49],[38,50,39,53],[39,24,39,29],[38,0,39,1],[38,2,38,7],[38,8,38,11],[38,21,38,23],[39,2,39,7],[39,8,39,11],[39,12,39,19],[39,20,39,23],[38,12,38,19],[40,24,40,29],[40,30,41,34],[40,35,41,39],[40,40,41,44],[40,45,41,49],[40,50,41,53],[41,24,41,29],[40,0,41,1],[40,2,40,7],[40,8,40,11],[40,21,40,23],[41,2,41,7],[41,8,41,11],[41,12,41,19],[41,20,41,23],[40,12,40,19],[42,24,42,29],[42,30,43,34],[42,35,43,39],[42,40,43,44],[42,45,43,49],[42,50,43,53],[43,24,43,29],[42,0,43,1],[42,2,42,7],[42,8,42,11],[42,21,42,23],[43,2,43,7],[43,8,43,11],[43,12,43,19],[43,20,43,23],[42,12,42,19],[44,24,44,29],[44,30,45,34],[44,35,45,39],[44,40,45,44],[44,45,45,49],[44,50,45,53],[45,24,45,29],[44,0,45,1],[44,2,44,7],[44,8,44,11],[44,21,44,23],[45,2,45,7],[45,8,45,11],[45,12,45,19],[45,20,45,23],[44,12,44,19],[46,24,46,29],[46,30,47,34],[46,35,47,39],[46,40,47,44],[46,45,47,49],[46,50,47,53],[47,24,47,29],[46,0,47,1],[46,2,46,7],[46,8,46,11],[46,21,46,23],[47,2,47,7],[47,8,47,11],[47,12,47,19],[47,20,47,23],[46,12,46,19],[48,24,48,29],[48,30,49,34],[48,35,49,39],[48,40,49,44],[48,45,49,49],[48,50,49,53],[49,24,49,29],[48,0,49,1],[48,2,48,7],[48,8,48,11],[48,21,48,23],[49,2,49,7],[49,8,49,11],[49,12,49,19],[49,20,49,23],[48,12,48,19],[50,24,50,29],[50,30,51,34],[50,35,51,39],[50,40,51,44],[50,45,51,49],[50,50,51,53],[51,24,51,29],[50,0,51,1],[50,2,50,7],[50,8,50,11],[50,21,50,23],[51,2,51,7],[51,8,51,11],[51,12,51,19],[51,20,51,23],[50,12,50,19],[52,24,52,29],[52,30,53,34],[52,35,53,39],[52,40,53,44],[52,45,53,49],[52,50,53,53],[53,24,53,29],[52,0,53,1],[52,2,52,7],[52,8,52,11],[52,21,52,23],[53,2,53,7],[53,8,53,11],[53,12,53,19],[53,20,53,23],[52,12,52,19],[54,24,54,29],[54,30,55,34],[54,35,55,39],[54,40,55,44],[54,45,55,49],[54,50,55,53],[55,24,55,29],[54,0,55,1],[54,2,54,7],[54,8,54,11],[54,21,54,23],[55,2,55,7],[55,8,55,11],[55,12,55,19],[55,20,55,23],[54,12,54,19],[56,24,56,29],[56,30,57,34],[56,35,57,39],[56,40,57,44],[56,45,57,49],[56,50,57,53],[57,24,57,29],[56,0,57,1],[56,2,56,7],[56,8,56,11],[56,21,56,23],[57,2,57,7],[57,8,57,11],[57,12,57,19],[57,20,57,23],[56,12,56,19],[58,45,59,49],[58,50,59,53],[59,24,59,29],[58,0,59,1],[58,2,58,7],[58,8,58,11],[58,21,58,23],[59,2,59,7],[59,8,59,11],[59,12,59,19],[59,20,59,23],[58,12,58,19],[60,0,61,1],[60,2,60,7],[60,8,60,11],[60,21,60,23],[61,2,61,7],[61,8,61,11],[61,12,61,19],[61,20,61,23],[60,12,60,19],[64,0,65,1],[64,2,64,7],[64,8,64,11],[64,21,64,23],[65,2,65,7],[65,8,65,11],[65,12,65,19],[65,20,65,23],[62,24,62,29],[63,24,63,29],[62,0,63,1],[62,2,62,7],[62,8,62,11],[62,21,62,23],[63,2,63,7],[63,8,63,11],[63,12,63,19],[63,20,63,23],[62,12,62,19],[64,12,64,19],[26,37,26,53],[64,24,64,29],[64,30,65,34],[64,35,65,39],[64,40,65,44],[64,45,65,49],[64,50,65,53],[65,24,65,29],[62,30,63,34],[62,35,63,39],[62,40,63,44],[62,45,63,49],[62,50,63,53],[60,24,60,29],[60,30,61,34],[60,35,61,39],[60,40,61,44],[60,45,61,49],[60,50,61,53],[61,24,61,29],[58,24,58,29],[58,30,59,34],[58,35,59,39],[58,40,59,44]]}
[null,null,null,"กระทรวงศึกษาธิการ",null,null,null,null,null,null,null,null,"แบบรายงานผู้สำเร็จการศึกษาตามหลักสูตรแกนกลางการศึกษาขั้นพื้นฐาน ระดับประถมศึกษา",null,null,null,null,null,null,null,null,null,null,null,null,null,null,null,null,null,null,null,null,null,null,null,null,null,null,null,null,null,null,null,null,null,"ปพ.3 : ป",null,null,null,null,null,null,null,null,null,"แบบพิมพ์ \nป.พ.3 : ป"]
[null,null,null,"สำเร็จการศึกษาภาคเรียนที่",null,null,null,null,null,{"$f":"BF9","v":"2"},null,null,null,"ปีการศึกษา",null,null,null,{"$f":"BF11","v":"2555"},null,null,null,null,null,null,null,null,"โรงเรียน",null,null,{"$f":"ข้อมูลพื้นฐาน!D4","v":"บ้านหนองคา"},null,null,null,null,null,null,null,null,null,null,null,null,null,null,null,null,null,null,null,null,"หน้า",null,null,1]
[null,null,null,"ตำบล/แขวง",null,null,null,{"$f":"ข้อมูลพื้นฐาน!D7","v":"กระสัง"},null,null,null,null,null,"อำเภอ/เขต",null,null,null,{"$f":"ข้อมูลพื้นฐาน!D8","v":"กระสัง"},null,null,null,null,null,null,null,"จังหวัด",null,{"$f":"ข้อมูลพื้นฐาน!D9","v":"บุรีรัมย์"},null,null,null,null,null,"สำนักงานเขตพื้นที่การศึกษา",null,null,null,null,null,null,null,{"$f":"ข้อมูลพื้นฐาน!D6","v":"ประถมศึกษาบุรีรัมย์ เขต 2"}]
[]
["ลำดับที่",null,"เลขประจำตัวนักเรียน",null,null,null,null,null,"ชุดที่ ปพ.1 : ป",null,null,null,"ชื่อนักเรียน",null,null,null,null,null,null,null,"วันที่ เดือน",null,null,null,"ชื่อ-ชื่อสกุลบิดา",null,null,null,null,null,"ผลการประเมินรายวิชาพื้นฐาน",null,null,null,null,"ผลการประเมิน\nการอ่าน \nคิดวิเคราะห์\nและเขียน",null,null,null,null,"ผลการประเมินคุณลักษณะ\nอันพึงประสงค์",null,null,null,null,"ผลการประเมินกิจกรรมพัฒนา\nผู้เรียน",null,null,null,null,"หมายเหตุ"]
[null,null,"เลขประจำตัวประชาชน",null,null,null,null,null,"เลขที่ ปพ.1 : ป",null,null,null,"ชื่อสกุลนักเรียน",null,null,null,null,null,null,null,"ปีเกิด",null,null,null,"ชื่อ-ชื่อสกุลมารดา",null,null,null,null,null,null,null,null,null,null,null,null,null,null,null,null,null,null,null,null,null,null,null,null,null,null,null,null,null,null,null,"รูปแบบ","ฉบับจริง (ไม่มีหัว)","ฉบับจริง (ไม่มีหัว)"]
[1,null,"00001",null,null,null,null,null,null,null,null,null,"เด็กชายสมชาย",null,null,null,null,null,null,null,10,"มีนาคม",null,null,"นายสมบัติ  สุขสบาย",null,null,null,null,null,null,null,null,null,null,null,null,null,null,null,null,null,null,null,null,null,null,null,null,null,null,null,null,null,null,null,null,null,"ฉบับสำเนามีหัว"]
[null,null,1111111111111,null,null,null,null,null,null,null,null,null,"สุขสบาย",null,null,null,null,null,null,null,2544,null,null,null,"นางสมสวย  สุขสบาย"]
[2,null,"00002",null,null,null,null,null,null,null,null,null,"เด็กหญิงสมหวัง",null,null,null,null,null,null,null,25,"กุมภาพันธ์",null,null,"นายสมโชค  ตั้งใจเรียน",null,null,null,null,null,null,null,null,null,null,null,null,null,null,null,null,null,null,null,null,null,null,null,null,null,null,null,null,null,null,null,"ภาคเรียนที่","2"]
[null,null,2222222222222,null,null,null,null,null,null,null,null,null,"ตั้งใจเรียน",null,null,null,null,null,null,null,2544,null,null,null,"นางสมหญิง  ตั้งใจเรียน"]
[null,null,null,null,null,null,null,null,null,null,null,null,null,null,null,null,null,null,null,null,null,null,null,null,null,null,null,null,null,null,null,null,null,null,null,null,null,null,null,null,null,null,null,null,null,null,null,null,null,null,null,null,null,null,null,null,"ปีการศึกษา","2555"]
[]
[null,null,null,null,null,null,null,null,null,null,null,null,null,null,null,null,null,null,null,null,null,null,null,null,null,null,null,null,null,null,null,null,null,null,null,null,null,null,null,null,null,null,null,null,null,null,null,null,null,null,null,null,null,null,null,null,"แผ่นที่","1"]
[]
[null,null,null,null,null,null,null,null,null,null,null,null,null,null,null,null,null,null,null,null,null,null,null,null,null,null,null,null,null,null,null,null,null,null,null,null,null,null,null,null,null,null,null,null,null,null,null,null,null,null,null,null,null,null,null,null,"จำนวนผู้สำเร็จการศึกษา"]
[]
[null,null,null,null,null,null,null,null,null,null,null,null,null,null,null,null,null,null,null,null,null,null,null,null,null,null,null,null,null,null,null,null,null,null,null,null,null,null,null,null,null,null,null,null,null,null,null,null,null,null,null,null,null,null,null,null,"ชาย","12"]
[]
[null,null,null,null,null,null,null,null,null,null,null,null,null,null,null,null,null,null,null,null,null,null,null,null,null,null,null,null,null,null,null,null,null,null,null,null,null,null,null,null,null,null,null,null,null,null,null,null,null,null,null,null,null,null,null,null,"หญิง","18"]
[]
[]
[]
[]
[]
[]
[]
[null,null,null,null,null,null,null,null,null,null,null,null,null,null,null,null,null,null,null,null,null,null,null,null,null,null,null,null,null,null,null,null,null,null,null,null,null,"อนุมัติการจบการศึกษา"]
[null,null,"จำนวนผู้สำเร็จการศึกษา",null,null,null,null,null,null,null,null,null,null,null,null,null,null,null,null,null,null,null,"ผู้เขียน/ผู้พิมพ์"]
[null,null,"ชาย",null,"หญิง",null,"รวม",null,null,null,null,null,null,null,null,null,null,null,null,null,null,null,"ผู้ทาน"]
[null,null,{"$f":"BF17","v":"12"},null,{"$f":"BF19","v":"18"},null,{"$f":"C30+E30","v":30},null,null,null,null,null,null,null,null,null,null,null,null,null,null,null,"ผู้ตรวจ",null,null,null,null,null,null,null,null,null,null,null,null,null,null,null,null,"(",{"$f":"ข้อมูลพื้นฐาน!D12","v":"นายสมชาติ  มีสกุล"},null,null,null,null,null,null,null,null,null,")"]
[null,null,null,null,null,null,null,null,null,null,null,null,null,null,null,null,null,null,null,null,null,null,"นายทะเบียน",null,null,null,null,null,null,null,null,null,null,null,null,null,null,"ผู้อำนวยการ/อาจารย์ใหญ่/ครูใหญ่"]
[null,null,null,null,null,null,null,null,null,null,null,null,null,null,null,null,null,null,null,null,null,null,null,null,null,null,null,null,null,null,null,null,null,null,null,null,null,null,null,"วันที่",null,{"$f":"ข้อมูลนักเรียน!Y7 & \"  \" & ข้อมูลนักเรียน!Z7 & \"  \" & ข้อมูลนักเรียน!AA7","v":"25  มีนาคม  2557"}]
[null,null,null,null,null,"แบบรายงานผู้สำเร็จการศึกษา",null,null,null,null,null,null,null,null,null,null,null,"ภาคเรียนที่",null,null,null,null,{"$f":"BF9","v":"2"},null,null,null,null,"ปีการศึกษา",null,null,null,{"$f":"BF11","v":"2555"},null,null,null,null,null,null,null,null,null,null,null,null,null,null,"ปพ.3 : ป",null,null,null,"หน้า",null,null,2]
[]
[]
[]
["ลำดับที่",null,"เลขประจำตัวนักเรียน",null,null,null,null,null,"ชุดที่ ปพ.1 : ป",null,null,null,"ชื่อนักเรียน",null,null,null,null,null,null,null,"วันที่ เดือน",null,null,null,"ชื่อ-ชื่อสกุลบิดา",null,null,null,null,null,"ผลการประเมินรายวิชาพื้นฐาน",null,null,null,null,"ผลการประเมิน\nการอ่าน \nคิดวิเคราะห์\nและเขียน",null,null,null,null,"ผลการประเมินคุณลักษณะ\nอันพึงประสงค์",null,null,null,null,"ผลการประเมินกิจกรรมพัฒนา\nผู้เรียน",null,null,null,null,"หมายเหตุ"]
[null,null,"เลขประจำตัวประชาชน",null,null,null,null,null,"เลขที่ ปพ.1 : ป",null,null,null,"ชื่อสกุลนักเรียน",null,null,null,null,null,null,null,"ปีเกิด",null,null,null,"ชื่อ-ชื่อสกุลมารดา"]

{"sheet":"ปพ2","index":18,"n_rows":25,"n_cols":43,"rows_kept":25,"cut":false,"hidden":true,"merged":[[5,5,5,8],[5,12,5,20],[5,24,5,27],[0,28,0,31],[0,39,1,40],[2,39,3,39],[2,40,3,40],[3,0,3,33],[20,22,20,32],[24,22,24,32],[8,39,8,40],[7,5,7,28],[8,20,8,28],[8,5,8,16],[9,5,9,8],[9,12,9,20],[9,24,9,27]]}
[null,null,null,null,null,null,null,null,null,null,null,null,null,null,null,null,null,null,null,null,null,null,null,null,null,null,null,null,null,null,null,null,null,null,null,null,null,null,null,"ออกใบรับรองการศึกษา"]
[]
[null,null,null,null,null,null,null,null,null,null,null,null,null,null,null,null,null,null,null,null,null,null,null,null,null,null,null,null,null,null,null,null,null,null,null,null,null,null,null,"เลขประจำตัวนักเรียน : ","00001"]
["เด็กชายบัญชา  นิเรืองรัมย์"]
[]
[]
[]
[null,null,null,null,null,{"$f":"ข้อมูลพื้นฐาน!D4","v":"บ้านหนองคา"}]
[null,null,null,null,null,{"$f":"ข้อมูลพื้นฐาน!D8","v":"กระสัง"},null,null,null,null,null,null,null,null,null,null,null,null,null,null,{"$f":"ข้อมูลพื้นฐาน!D9","v":"บุรีรัมย์"},null,null,null,null,null,null,null,null,null,null,null,null,null,null,null,null,null,null,"พิมพ์เป็นช่วง"]
[null,null,null,null,null,null,null,null,null,null,null,null,null,null,null,null,null,null,null,null,null,null,null,null,null,null,null,null,null,null,null,null,null,null,null,null,null,null,null,"เลขที่เริ่มต้น :",1]
[null,null,null,null,null,null,null,null,null,null,null,null,null,null,null,null,null,null,null,null,null,null,null,null,null,null,null,null,null,null,null,null,null,null,null,null,null,null,null,"เลขที่สุดท้าย :",10,null,"ด้านหน้า และ ด้านหลัง"]
[null,null,null,null,null,null,null,null,null,null,null,null,null,null,null,null,null,null,null,null,null,null,null,null,null,null,null,null,null,null,null,null,null,null,null,null,null,null,null,"เลือกรูปแบบการพิมพ์ :","ด้านหน้า และ ด้านหลัง",null,"ด้านหน้า"]
[null,null,null,null,null,null,null,null,null,null,null,null,null,null,null,null,null,null,null,null,null,null,null,null,null,null,null,null,null,null,null,null,null,null,null,null,null,null,null,"ตั้งค่าการพิมพ์","พิมพ์ทันที",null,"ด้านหลัง"]
[]
[]
[]
[]
[]
[]
[]
[null,null,null,null,null,null,null,null,null,null,null,null,null,null,null,null,null,null,null,null,null,null,{"$f":"ข้อมูลพื้นฐาน!D10","v":"นายสุริยันต์  แก้วชนะ"}]
[]
[]
[]
[null,null,null,null,null,null,null,null,null,null,null,null,null,null,null,null,null,null,null,null,null,null,"เด็กชายบัญชา  นิเรืองรัมย์"]